{"text_format":"1","workbook":"xlsx","n_sheets":55,"sheets":["Инф-я","Опись док-в","Соответствие критериям","Баланс энергии","Баланс мощности","УЕ ВЛЭП  2020-2023","УЕ ТП 2020-2023","Подконтрольные расходы","Расчет аморт. max срок","Ввод выбытие ОС  ","Свод по амортизации","Страховые взносы","Расходы рег. орг-ий","Аренда имущества","Плата за землю","Транспортный налог","Негативное возд. на окр. среду ","Налог на имущество","Услуги ФСК","Налог на прибыль","Прочие НР"," КВЛ","Выпадающий доход","Расчет выпадающих до 15 кВт","Расчет выпадающих до 150 кВт","СВОД по % по рассрочке","Заявитель1","Заявитель2","Заявитель3","Заявитель4","Возврат заемных средств","Корр. ПР","Корр. НР","Корр. ПО","∆НВВ сод","Корр. ИП","корр НВВ по факт","Корр. КНК","∆ЭП","Расходы ком. учет","НВВ на потери"," НВВ содержание","НВВ для шаблона ЕИАС отчет","НВВ по данным предпр.","НВВ по данным экспертов","Тарифы","НВВ для шаблона ЕИАС предел","Форма 8.1 предприятие","Форма 8.1 эксперты","Форма 8.3","Форма 3.1-3.2"," анализ НВВ 2019"," анализ НВВ 2020"," анализ НВВ 2021","TEHSHEET"],"not_rendered":{"charts":0,"images":45,"macros":1,"external_links":24,"defined_names":9004,"comments":3,"pivot_tables":0},"unopened":[],"bounds":{"document_bytes":16777216,"sheet_cells":100000,"rows_first":2000,"rows_last":500,"rows_between":2000,"halvings":0,"cell_chars":16384,"cell_head_chars":4096},"cells_cut":0,"cells_raw":0,"read":"whole","date_system":"1900"}

{"sheet":"Инф-я","index":0,"n_rows":131,"n_cols":3,"rows_kept":131,"cut":false,"hidden":false,"merged":[[62,0,62,2],[63,0,64,2],[60,0,60,2],[1,0,2,2],[3,0,3,2],[8,1,8,2],[5,0,5,2],[59,0,59,2],[61,0,61,2]]}
[]
["По вопросам работы электронного формата расчета НВВ обращаться в ООО \"ТОРИ-АУДИТ\"                                "]
[]
["тел. 8-4922-42-32-92"]
[]
["Расчет НВВ на услуги по передаче электрической энергии,  устанавливаемых с применением метода долгосрочной индексации необходимой валовой выручки"]
[]
[]
[null,"Информация об организации"]
[]
["№ п/п","Требуемая информация","Данные об организации"]
["1.","Наименование организации в соответствии с Уставом:","Общество с ограниченной ответстваенностью \"Энергетик\""]
[null,"полное наименование организации ","Общество с ограниченной ответстваенностью \"Энергетик\""]
[null,"сокращенное название организации ","ООО \"Энергетик\""]
["2.","Муниципальное образование, в котором осуществляется регулируемая деятельность","г.Карабаново"]
["3.","Адрес организации:"]
[null,"юридический адрес","601640, Владимирская обл., Александровский р-н, г.Карабаново, ул.Вокзальная, д.9"]
[null,"фактический адрес (месторасположение)","601640, Владимирская обл., Александровский р-н, г.Карабаново, ул.Вокзальная, д.9"]
["4.","ИНН",3311023373]
["5.","КПП",331101001]
["6.","ФИО руководителя организации","Окунев Василий Михайлович"]
[null,"контактный телефон/факс","8(49244)5-23-60"]
[null,"е-mail","oao-energetik@yandex.ru"]
["7.","ФИО начальника ПЭО"]
[null,"контактный телефон/факс"]
["8.","ФИО ответственного за электрохозяйство","Ивановский Михаил Владимирович"]
[null,"контактный телефон/факс","8(49244)5-26-01"]
["9.","ФИО главного бухгалтера","Макарова Галина Юрьевна"]
[null,"контактный телефон/факс","8(49244)5-10-79"]
["10.","ФИО непосредственного исполнителя","Макарова Галина Юрьевна"]
[null,"контактный телефон/факс","8(49244)5-10-79"]
[null,"е-mail","oao-energetik@yandex.ru"]
["11.","Банковские реквизиты:"]
[null,"расчетный счет","40702810710000002518"]
[null,"банк","ВЛАДИМИРСКОЕ ОТДЕЛЕНИЕ №8611 ПАО СБЕРБАНК"]
[null,"корреспондентский счет","30101810000000000602"]
[null,"БИК","041708602 "]
["12.","Официальный сайт регулируемой организации в сети «Интернет»","oao-energetik.ru"]
["13.","Государственное и (или) муниципальное участие в юридическом лице"]
[null,"Наличие (Да, Нет)","да"]
[null,"Сведения о доле, %"]
[null,"Преобладающий тип собственности в юридическом лице (собственность, аренда, концессия, хозяйственное ведение)"]
["14.","Перечень нерегулируемых видов деятельности (других регулируемых видов деятельности кроме передачи электроэнергии) "]
["15.","Наличие раздельного учёта затрат по регулируемым видам деятельности"]
["16.","Плательщик НДС","нет"]
["17.","Наличие записи в едином реестре субъектов малого и среднего предпринимательства"]
["18.","Реквизиты решения, которым установлены действующие тарифы"]
[null,"Наименование"]
[null,"Вид"]
[null,"Номер"]
[null,"Дата принятия"]
["19.","URL-ссылка на утвержденную инвестиционную программу/проект инвестиционной программы"]
["20.","URL-ссылка на программу энергосбережения и повышения энергетической эффективности"]
["21.","Заявление и предложение о размере тарифов"]
[null,"Дата регистрации"]
[null,"Номер входящий"]
[null,"Метод регулирования"]
[null,"URL-ссылка на заявление"]
["22.","Перечень гарантирующих поставщиков электрической энергии (энергосбытовых организаций), у которых осуществляется покупка потерь электрической энергии при ее транспортировке:"]
["Предложение о размере цен (тарифов), долгосрочных параметров регулирования (при применении метода доходности инвестированного капитала или метода долгосрочной необходимой валовой выручки),  подлежит раскрытию на официальных сайтах регулируемых организаций или на ином официальном сайте в сети Интернет, определяемом Правительством Российской Федерации, и (или) в периодическом печатном издании, в котором публикуются нормативные правовые акты органа исполнительной власти в области регулирования тарифов, - за 10 дней до представления в регулирующий орган предложения об установлении цен (тарифов) и (или) их предельных уровней, содержащего такую информацию. ( п. 9 Постановления Правительства РФ от 21.01.2004 г. № 24 \"Об утверждении стандартов раскрытия информации субъектами оптового и розничных рынков электрической энергии\": )"]
["В случае если регулируемая организация не опубликовала предложение о размере цен (тарифов) и долгосрочных параметров регулирования , подлежащих регулированию или указанное опубликованное предложение не соответствует предложению, представляемому в орган регулирования Регулирующий орган отказывает в открытии дела об установлении цены (тарифа).  \n"]
["Организации, осуществляющие регулируемую деятельность, вправе представить в регулирующий орган дополнительные материалы к предложениям об установлении цен (тарифов) по своей инициативе не позднее 30 рабочих дней до даты наступления очередного периода регулирования. Уточненные предложения подлежат опубликованию в порядке, установленном стандартами раскрытия информации субъектами оптового и розничных рынков электрической энергии, утвержденными постановлением Правительства Российской Федерации от 21 января 2004 г. N 24 \"Об утверждении стандартов раскрытия информации субъектами оптового и розничных рынков электрической энергии\". (Пункт 12 Правил государственного регулирования (пересмотра, применения) цен (тарифов) в электроэнергетике Постановления Правительства РФ от 29 декабря 2011 г. N 1178 \"О ценообразовании в области регулируемых цен (тарифов) в электроэнергетике\" (с изменениями и дополнениями)"]
[]
[]
[]
[]
[]
[]
[]
[]
[]
[]
[]
[]
[]
[]
[]
[]
[]
[]
[]
[]
[]
[]
[]
[]
[]
[]
[]
[]
[]
[]
[]
[]
[]
[]
[]
[]
[]
[]
[]
[]
[]
[]
[]
[]
[]
[]
[]
[]
[]
[]
[]
[]
[]
[]
[]
[]
[1,"ООО «Радугагорэнерго»"]
[2,"МУП «Горэлектросеть» г. Муром"]
[3,"МУП «Александровэлектросеть»"]
[4,"ООО «СтройГарант»"]
[5,"ООО «Костеревские городские электрические сети»"]
[6,"ООО «Ковровэлектросетьремонт»"]
[7,"ООО «ПромРЭС»"]
[8,"ООО «ПромЭнерго» г. Судогда"]
[9,"ОАО «Энергетик» г. Карабаново"]
[10,"ООО «Электросистемы» "]
[11,"ООО «Ярцево-Энерго»"]
[12,"ПАО «Ставровский завод АТО»"]
[13,"ООО «ЭнергоАктив»"]

{"sheet":"Опись док-в","index":1,"n_rows":199,"n_cols":6,"rows_kept":199,"cut":false,"hidden":false,"merged":[[28,1,28,2],[2,0,2,2],[0,0,0,2],[1,0,1,2],[3,0,3,2],[8,1,8,2],[39,1,39,2],[58,1,58,2],[59,1,59,2],[83,1,83,2],[130,1,130,2]]}
["Примерный перечень обосновывающих документов"]
["Опись документов, представленных "]
[{"$f":"'Инф-я'!C14","v":"ООО \"Энергетик\""}]
["в рамках предложения об установлении цен (тарифов)"]
["№ п./п.","Наименование ","№ страницы обосновывающих материалов",null,null,"Примечание"]
[1,2,3]
[null,"Заявление и предложение о размере тарифов"]
[null,"Приказ об организации работы по расчетам тарифов"]
["1.","Общие документы"]
["1.1.","Информация об организации","1-5",null,null,"Таблица из электронного формата расчета НВВ"]
["1.2.","Устав","6-11"]
["1.3.","Учетная политика","12-13"]
["1.4.","Бухгалтерская и статистическая отчетность за 2021 год"]
["1.4.1.","Бухгалтерский балан на 31 декабря 2021 года","14-23"]
["1.5.","Критерии отнесения владельцев объектов электросетевого хозяйства к территориальным сетевым организациям","24",null,null,"Таблица из электронного формата расчета НВВ"]
["1.6.","Справка о наличии официального сайта в сети Интернет и выделенного абонентского номера","25"]
["1.7.","Документы, подтверждающие право собственности, или иные права в отношении объектов, используемых для осуществления деятельности"]
["1.7.1.","Договор аренды имущества от 04.09.2019 № 13А-19","26-49"]
["1.7.2.","Договор аренды транспортных средств от 01.11.2019 года №1/О-20/24","50-54"]
["1.7.3.","Договор аренды гаражно-складского помещения от 31.12.2019 № 12А-20","55-59"]
["1.7.3.","Договор субаренды имущества от 01.12.2021 №01С/А-21","60-65"]
["1.8.","Договор с Котлодержателем","66-70"]
["1.9.","Договор с энергосбытовыми организациями на покупку потерь","71-77"]
["1.10.","Проект изменений, вносимых в инвестиционную программу на 2020-2024 гг","78-84",null,null,"с внесенными изменениями"]
["1.11.","Программа энергосбережения","85-87"]
["1.12.","Схемы соединений электрической сети заявителя с обозначением трансформаторных и иных подстанций, а также линий электропередачи","88"]
["1.13.","Положение о закупках, приказ о составе закупочной комиссии","89-91",null,null,"Протоколы заседаний закупочной комиссии"]
["1.14.","Реестры договоров (с реквизитами и контрагентами) с отметкой о наличии/отсутствии проведенной по договору закупочной процедуры за 2021 год",null,null,null,"При закупке у единственного поставщика указать обоснования"]
["2.","Производственные и технико-экономические показатели"]
["2.1.","Баланс электрической энергии по сетям ВН, СН1, СН2, и НН","92-93",null,null,"Таблица из электронного формата расчета НВВ"]
["2.2.","Электрическая мощность по диапазонам напряжения ",94,null,null,"Таблица из электронного формата расчета НВВ"]
["2.3.","Объем воздушных линий электропередач (ВЛЭП) и кабельных линий электропередач (КЛЭП) в условных единицах в зависимости от протяженности, напряжения, конструктивного использования и материала опор в период с 2020 по 2023 годы",95,null,null,"Таблица из электронного формата расчета НВВ"]
["2.4.","Объем подстанций 35-1150 кВ, трансформаторных подстанций (ТП), комплексных трансформаторных подстанций (КТП) и распределительных пунктов(РП) 0,4-20 кВ в условных единицах в период с 2020 по 2023 годы",96,null,null,"Таблица из электронного формата расчета НВВ"]
["2.5.","Пояснительная записка  об изменении условных единиц",null,null,null,"увеличение УЕ по отношению к фактическим данным 2021 года"]
["2.5.","Акты ввода (выбытия) оборудования и договоры аренды, изменившие УЕ"]
["2.5.1.","Договор подряда от 29.12.2018г №02ИП-2020 на строительство ВЛ 10 кВ от ТП №63 до ТП №64, Дополнительное соглашение к договору подряда № 02ИП-2020 от 29.12.2018, Акт о приемке-передаче здания (сооружения) №1 от 30.06.2021г, Акт №78 от 30.06.2021, Справка КС-3 №1 от 30.06.2021, Акт о приемке выполненных работ №1 от 30.06.2021","97-101"]
["2.5.2.","Договор подряда от 29.12.2018г №02ИП-2021 на строительство ВЛ 10 кВ от ТП №76 до ТП №19, Дополнительное соглашение к договору подряда № 02ИП-2021 от 29.12.2018, Акт о приемке-передаче здания (сооружения) №2 от 30.09.2021г, Акт №118 от 30.09.2021, Справка КС-3 №1 от 30.09.2021, Акт о приемке выполненных работ №1 от 30.09.2021","102-106"]
["2.5.3.","Договор подряда от 29.12.2018г №01ИП-2021 на строительство ТП №64 10/0,4-250 кВА, Дополнительное соглашение к договору подряда № 01ИП-2021 от 29.12.2018, Приказ от 30.11.2021 №24-С, Акт о приемке-передаче здания (сооружения) №3 от 30.11.2021г, Акт №146 от 30.11.2021, Справка КС-3 №1 от 30.11.2021, Акт о приемке выполненных работ №1 от 30.11.2021","107-115"]
["2.6.","Сведения об имуществе и форме собственности на объекты имущества, используемые для осуществления регулируемой деятельности","см. п.1.7.",null,null,"Таблицы из электронного формата по активам. Возможно предоставление в электронном виде"]
["3. ","Анализ тарифной выручки"]
["3.1.","Ежемесячные ведомости объемов приема-передачи электроэнергии за 2021 год","116-127"]
["3.2.","Ежемесячные акты оказания услуг «Котлодержателю», письма-разногласия к акту об оказании услуг  по передаче электрической энергии за 2021 год","128-139"]
["3.3.","Счета-фактуры энергосбытовых организаций на покупку потерь за 2021 год","140-146"]
["3.4.","Сведения об отпуске (передаче) электроэнергии распределительными сетевыми организациями отдельным категориям потребителей (форма № 46-ЭЭ (передача)) за 2021 год",147]
["3.5.","Анализ фактических расходов  на содержание электрических сетей за 2019 год",148,null,null,"Таблица из электронного формата расчета НВВ"]
["3.5.1.","Ведомость фактического исполнения ремонтной программы за 2019 год (в сопоставлении с планом) с приложением подтверждающих документов",149]
["3.5.1.1.","Акты о приемке выполненных работ по форме КС-2 (капитальный ремонт за 2019 год)","150-194"]
["3.6.","Анализ фактических расходов на содержание электрических сетей за 2020 год",195,null,null,"Таблица из электронного формата расчета НВВ"]
["3.6.1.","Ведомость фактического исполнения ремонтной программы за 2020 год (в сопоставлении с планом) с приложением подтверждающих документов",196]
["3.6.1.1…","Акты о приемке выполненных работ по форме КС-2 (капитальный ремонт за 2020 год)","197-205"]
["3.7.","Анализ фактических расходов  на содержание электрических сетей за 2021 год",206,null,null,"Таблица из электронного формата расчета НВВ"]
["3.7.1.","Ведомость фактического исполнения ремонтной программы за 2021 год (в сопоставлении с планом) с приложением подтверждающих документов",207]
["3.7.1.1.","Акты о приемке выполненных работ по форме КС-2 (капитальный ремонт за 2021 год)","208-226"]
["3.7.2.","Данные по счетам бухгалтерского учета, подтверждающие фактические расходы на содержание электрических сетей за 2021 год",null,null,null,"Иные документы, подтверждающие фактически понесенные расходы в 2021 году"]
["3.7.2.1…","Оборотно-сальдовая ведомость по счету 20 за 2021 г",227]
["3.7.3.","Оборотно-сальдовая ведомость расходов по счету 26 за 2021 год",228]
["4.","Расчет необходимой валовой выручки на содержание электрических сетей на 2023 год",229,null,null,"Таблица из электронного формата расчета НВВ"]
["4.1.","Подконтрольные расходы на 2023 год долгосрочного периода регулирования 2020 - 2024 гг.",230,null,null,"Таблица из электронного формата расчета НВВ"]
["4.2.","Расчет неподконтрольных расходов на 2023 год "]
["4.2.1.1.","Амортизация основных средств"]
["4.2.1.2.","Расчет амортизационных отчислений основных средств, участвующих в передаче электрической энергии по максимальному сроку использования и расчет среднегодовой стоимости ОС","230-231",null,null,"Таблица из электронного формата расчета НВВ"]
["4.2.1.3.","Оборотно-сальдовая ведомость по счету 02 «Амортизационные отчисления»  за 2021 г. и за 1 квартал 2022 года","233-236"]
["4.2.1.4.","Оборотно-сальдовая ведомость по счету 01 «Основные средства» за 2021 г. и за 1 квартал 2022 года","237-240"]
["4.2.1.5.","Справка о вводе основных средств в 2022 году  (с 01.04.2022 г.), участвующих в передаче электрической энергии",241,null,null,"Таблица из электронного формата расчета НВВ"]
["4.2.1.6.","Акты ввода основных средств в 2022 году /инвентарные карточки","-"]
["4.2.1.6.1.","перечень документов"]
["4.2.1.7.","Сводный расчет амортизационных отчислений на восстановление основных производственных фондов,  участвующих в передаче электрической энергии",242,null,null,"Таблица из электронного формата расчета НВВ"]
["4.2.2.","Расчет расходов на страховые взносы",243,null,null,"Таблица из электронного формата расчета НВВ"]
["4.2.2.1.","Уведомление ФСС РФ о размере страховых взносов на обязательное социальное страхование от несчастных случаев на производстве и профессиональных заболеваний",244]
["4.2.2.2.","Расчет по начисленным и уплаченным страховым взносам на обязательное социальное страхование от несчастных случаев на производстве и профессиональных заболеваний, а также по расходам на выплату страхового обеспечения (форма 4-ФСС) за 2021 год",245]
["4.2.2.3.","Расчет по начисленным и уплаченным страховым взносам а обязательное пенсионное страхование в Пенсионный фонд Российской Федерации и на обязательное медицинское страхование в Федеральный фонд обязательного медицинского страхования плательщиками страховых взносов, производящими выплаты и иные вознаграждения физическим лицам (форма РСВ-1 ПФР) за 2021 год","246-249"]
["4.2.3.","Расходы на оплату услуг организаций, осуществляющих регулируемые виды деятельности",250,null,null,"Таблица из электронного формата расчета НВВ"]
["4.2.3.1.","Договоры с организациями "]
["4.2.3.1.1.","Договор энергосбережения №33300361009094 от 01.04.2018","251-268"]
["4.2.3.1.2.","Договор энергосбережения №33300361009094 от 01.04.2021, дополнительное соглашение","269-280"]
["4.2.3.1.3.","Договор на оказание услуг по обращению с твердыми к5оммунальными отходами № 262 ВЛ/А/2019 от 01.12.2019","281-284"]
["4.2.3.1.4.","Договор холодного вовоснабжения и водоотведения №88 от 01.03.2019","285-298"]
["4.2.3.1.5.","Договор энергосбережения тепловой энергией №36 от 07.08.2020","299-305"]
["4.2.3.2.","Акты выполненных работ за 2021 год"]
["4.2.3.2.1.","ООО \"ЭСВ\"","306-318"]
[null,"ООО \"Хартия\"","319-330"]
[null,"ООО \"Водаканал\"","331-342"]
[null,"МУП \"Возрождение\"","343-351"]
["4.2.4.","Налоги"]
["4.2.4.1.","Плата за землю ",352,null,null,"Таблица из электронного формата расчета НВВ"]
["4.2.4.1.1.","Договоры на аренду земельных участков"]
["4.2.4.1.1.1.","Договор субаренды земельного участка № 02С/А-21 от 01.12.2021","353-355"]
["4.2.4.1.2.","Сообщение об исчислении земельного налога от налогового органа за 2021 год"]
["4.2.4.1.3.","Документы, подтверждающие оплату налога и арендной платы за землю за 2021 год (Акт выполненных работ и услуг)",356]
["4.2.4.2.","Расчет транспортного налога ",357,null,null,"Таблица из электронного формата расчета НВВ"]
["4.2.4.2.1.","Сообщение об исчислении транспортного налога от налогового органа за 2021 год"]
["4.2.4.2.2.","Документы, подтверждающие оплату налога за 2021 год"]
["4.2.4.3.","Налог на имущество",358,null,null,"Таблица из электронного формата расчета НВВ"]
["4.2.4.3.1.","Налоговая декларация по налогу на имущество организаций за 2021 год"]
["4.2.4.4.","Расчет платы за негативное воздействие на окружающую среду",359,null,null,"Таблица из электронного формата расчета НВВ"]
["4.2.4.4.1.","Декларация о плате за негативное воздействие на окружающую среду за 2021 год, платежное поручение","360-367"]
["4.2.4.5.","Налог организаций, применяющих УСНО от деятельности по передаче и технологического присоединения",368,null,null,"Таблица из электронного формата расчета НВВ"]
["4.2.4.5.1.","Декларация по налогу, уплачиваемому в связи  с применением упрощенной системы налогооблажения за 2021 год","369-370"]
["4.2.4.5.2.","Данные бухгалтерского учета по доходам и расходам по видам деятельности за 2021 год","371-401"]
[null,"ТОМ 2"]
["4.2.5.","Расходы по аренде имущества",2,null,null,"Таблица из электронного формата расчета НВВ"]
["4.2.5.1.","Информация о величинах амортизации, налога на имущество, представленных арендодателем  электросетевого имущества ",null,null,null,"К договорам аренды, представленным в п.1.7.                                                                                                                   Должна быть приложена первичная бухгалтерская документация, подтверждающая размер амортизационных начислений, налога на имущество и других обязательных платежей"]
["4.2.5.1.1.","Акты выполненных работ и услуг согласно договорам №13А-19 от 04.09.2019, №12А-20 от 31.12.2019, №1/0-20/24 от 01.11.2019, №01С/А-21 от 01.12.2021","3-69"]
["4.2.5.2.","Анализ рыночных цен по аренде помещений и транспорта, сложившиеся на организованных торговых площадках",null,null,null,"К договорам аренды, представленным в п.1.7"]
["4.2.5.2.1.","перечень документов"]
["4.2.5.3.","Бухгалтерские документы, подтверждающие фактические расходы по аренде имущества за 2021 год"]
["4.2.6.","Оплата услуг ПАО \"ФСК ЕЭС\"",null,null,null,"Таблица из электронного формата расчета НВВ"]
["4.2.6.1.","Договор с ПА \"ФСК ЕЭС\" на предоставление услуг по передаче электрической энергии по единой национальной (общероссийской) электрической сети"]
["4.2.6.2.","Документ о согласовании суммарной величины заявленной мощности на 2023 год"]
["4.2.6.3.","Акты оказания услуг ПАО «ФСК ЕЭС» по передаче электрической энергии по единой национальной (общероссийской) электрической сети  за 2021 год"]
["4.2.7.","Прочие неподконтрольные расходы",null,null,null,"Таблица из электронного формата расчета НВВ"]
["4.2.7.1.","Расчет планируемых расходов и обосновывающие документы к нему"]
["4.2.7.1.1.","перечень документов"]
["4.2.7.2.","Бухгалтерские документы, подтверждающие фактические прочие неподконтрольные расходы за 2021 год"]
["4.2.7.2.1.","перечень документов"]
["4.2.8.","Расходы на капитальные вложения",70,null,null,"Таблица из электронного формата расчета НВВ"]
["4.2.8.1","Оборотно-сальдовая ведомость по счету 08 за 2021 год",71]
["4.2.9.","Расходы, связанные с компенсацией выпадающих доходов от льготного технологического присоединения ",72,null,null,"Таблица из электронного формата расчета НВВ"]
["4.2.9.1.","Отчет по технологическому присоединению к сетям за 2021 год","73-75"]
["4.2.9.2.","Расчет размера расходов, связанных с осуществлением технологического присоединения энергопринимающих устройств максимальной мощностью, не превышающей 15 кВт включительно, не включаемых в состав платы за технологическое присоединение за 2021 год и плановый период 2023 года",76,null,null,"Таблица из электронного формата расчета НВВ"]
["4.2.9.3.","Акты ввода основных средств, построенных для технологического присоединения льготной категории заявителей до 15 кВт за 2021 год"]
["4.2.9.4.","Расчет размера расходов, связанных с осуществлением технологического присоединения к электрическим сетям энергопринимающих устройств максимальной мощностью до 150 кВт включительно, не включаемых в состав платы за технологическое присоединение за 2021 год и плановый период 2023 года",null,null,null,"Таблица из электронного формата расчета НВВ"]
["4.2.9.5.","Акты ввода основных средств, построенных для технологического присоединения заявителей с присоединяемой мощностью энергопринимающих устройств свыше 15 кВт до 150 кВт включительно за 2021 год"]
["4.2.9.6."," Выпадающие доходы сетевой организации от выплаты процентов по кредитным договорам, связанным с рассрочкой по оплате субъектами малого и среднего предпринимательства технологического присоединения энергопринимающих устройств максимальной мощностью свыше 15 кВт и до 150 кВт включительно в 2023 году",null,null,null,"Таблица из электронного формата расчета НВВ"]
["4.2.9.7."," Расчет размера расходов, связанных с предоставлением беспроцентной рассрочки (для конкретного заявителя)",null,null,null,"Таблица из электронного формата расчета НВВ"]
["4.2.9.8.","Договоры, по которым предусмотрена рассрочка по оплате технологического присоединения и акты тех.присоединения"]
["4.2.9.8.1.","перечень документов"]
["4.2.10.","Расходы на возврат и обслуживание долгосрочных заемных средств, направленных на финансирование капитальных вложений",77]
["4.2.10.1.","Кредитное соглашение №КР/002019-000682 ПАО Банк «ВТБ», график погашения кредита и уплаты процентов.","78-80"]
["4.2.10.2.","Кредитное соглашение №КР/002019-000683 ПАО Банк «ВТБ», график погашения кредита и уплаты процентов.","81-84"]
["4.3.","Расчет расходов, связанных с компенсацией незапланированных расходов и полученного избытка, выявленных по итогам 2021 года"]
[null,"Расходы, связанные с необходимостью корректировки валовой выручки регулируемых организаций, указанной в пункте 9, а также расходы в соответствии с пунктом 10 Методических указаний и корректировка необходимой валовой выручки в соответствии с пунктом 32 Основ ценообразования.",85,null,null,"Таблица из электронного формата расчета НВВ"]
["4.3.1.","Корректировка подконтрольных расходов по результатам 2021 года",86,null,null,"Таблица из электронного формата расчета НВВ"]
["4.3.2.","Корректировка неподконтрольных расходов по результатам 2021 года",87,null,null,"Таблица из электронного формата расчета НВВ"]
["4.3.3.","Корректировка необходимой валовой выручки по доходам от осуществления регулируемой деятельности за 2021 год",88,null,null,"Таблица из электронного формата расчета НВВ"]
["4.3.4.","Корректировка расходов по обеспечению коммерческого учета",null,null,null,"Таблица из электронного формата расчета НВВ"]
["4.3.4.1.","Документы, подтверждающие фактические расходы по обеспечению коммерческого учета за 2021 год"]
["4.3.4.","Корректировка НВВ с учетом изменения полезного отпуска и цен на электрическую энергию за 2021 год      ",89,null,null,"Таблица из электронного формата расчета НВВ"]
["4.3.5.","Корректировка НВВ в связи с изменением (неисполнением) инвестиционной программы по результатам 2021 года",90,null,null,"Таблица из электронного формата расчета НВВ"]
["4.3.5.1.","Отчет по выполнению инвестиционных программ сетевых компаний за 2021 год",91]
["4.4.","Расходы, предусмотренные пунктом 5 статьи 37 Федерального закона от 26 марта 2003 г. N 35-ФЗ \"Об электроэнергетике\" по обеспечению коммерческого учета ээ",92,null,null,"Таблица из электронного формата расчета НВВ"]
["4.4.1.","Обосновывающие документы"]
["4.4.1.1.","Акты ООО \"МБИ Групп\"","93-113"]
["4.4.1.2.","Акты приема-передачи работ (оказания услуг), счета-фактуры ФБУ \"Ивановский ЦСМ\"","114-127"]
["4.4.1.3.","Акты, счета-фактуры ООО \"Матрица\"","128-130"]
["4.4.1.4.","Счета-фактуры ООО \"Милур ИС\"","131-133"]
["4.4.1.5.","Счета-фактуры ООО \"Май Энерго\"","134-135"]
["4.5.","Экономия расходов на оплату потерь электрической энергии, полученная сетевой организацией при осуществлении деятельности по передаче электрической энергии в результате проведения мероприятий по сокращению объема используемых энергетических ресурсов, определяемая в соответствии с пунктом 34(3) Основ ценообразования за 2021 год ",136,null,null,"Таблица из электронного формата расчета НВВ"]
["4.6.","Корректировка НВВ с учетом надежности и качества оказываемых услуг по результатам 2021 года",137,null,null,"Таблица из электронного формата расчета НВВ"]
["4.6.1.","Форма_8.1 - Журнал учета данных первичной информации по всем прекращениям передачи электрической энергии произошедших на объектах сетевой организации 2021 год","138-142",null,null,"Таблица из электронного формата расчета НВВ"]
["4.6.2.","Форма 8.3. Расчет индикативного показателя уровня надежности оказываемых услуг для территориальных сетевых организаций и организацией по управлению единой национальной (общероссийской) электрической сетью, чей долгосрочный период регулирования начался после 2019 года.",143,null,null,"Таблица из электронного формата расчета НВВ"]
["4.6.3.","Расчет показателя уровня качества осуществляемого технологического присоединения к сети за 2021 г., Птпр (форма 3.1-3.2)",144,null,null,"Таблица из электронного формата расчета НВВ"]
["5.","Расходы организации на компенсацию потерь на 2023 год",145,null,null,"Таблица из электронного формата расчета НВВ"]
["6.","Расчет необходимой валовой выручки (НВВ) на оказание услуги по передаче электрической энергии на 2023 год долгосрочного периода регулирования 2020- 2024 годы по данным предприятия","146-147",null,null,"Таблица из электронного формата расчета НВВ"]
[null,"Подконтрольные расходы"]
["6.1.","Расходы на оплату труда. Оборотно-сальдовая ведомость по счету 70 за 2020 год","148-149"]
["6.2.","Материалы. Оборотно-сальдовая ведомость по счету 10.05, 10.03,10.06,10.09, 10.01 за 2020 год","150-166"]
["6.3.","Ремонт основных фондов","см. п.3.7.1.1.-3.7.3."]
["6.4.","Работы и услуги производственного характера"]
["6.4.1.","Акт ООО \"Энерго-транс\", счет-фактура,товаро-транспортная накладная","167-168"]
["6.4.2.","Счета, акты ИП Искорин Д.А.","169-170"]
["6.4.3.","Счета-фактуры ООО \"ЖелДорЭкспедиция\"","171-176"]
["6.4.4.","Акты ООО \"МБИ Групп\"","см.п. 4.4.1.1."]
["6.4.5.","Акты ООО \"ПРО-Сервис\"","177-188"]
["6.4.6.","Акты ФГКУ \"УВО ВНГ России по Владимирской области\"","189-200"]
["6.4.7.","Акты приема-передачи работ (оказания услуг), счета-фактуры ФБУ \"Ивановский ЦСМ\"","см. п. 4.4.1.2."]
["6.4.8.","Акты, счета-фактуры ООО \"Матрица\"","см.п. 4.4.1.3."]
["6.5.","Работы и услуги непроизводственного характера."]
[null,"Услуги связи"]
["6.5.1.","Счета-фактуры ООО \"Комеджик\"","201-214"]
["6.5.2.","Акты ООО \"Инфокар\"","215-227"]
["6.5.3.","Счета-фактуры ООО \"Прмрусинжиниринг\"","228-236"]
["6.5.4.","Счета-фактуры ООО \"Новосистем\"","237-251"]
["6.5.5.","Акты, счета-фактуры  ПАО \"Ростелеком\"","252-297"]
["6.5.6.","Счета-фактуры ПАО \"ВымпелКом\"","298-313"]
["6.5.7.","Счета-фактуры АО \"Компания ТрансТелеКом\"","314-329"]
["6.5.8.","Счета-фактуры ПАО \"МегаФон\"","330-355"]
["6.5.9.","Акт ООО \"М2МЭкспресс\"",356]
["6.5.10.","Акт об оказании услуг по комплексному информационно-технологическому обслуживанию программного продукта «Креол\"","357-370"]
["6.5.11.","АО \"Производственная фирма \"СКБ Контур\"",371]
["6.5.12.","Акты ООО \"Компания Тензор\"","372-374"]
["6.5.13.","Акт, счет-фактура АО НИП \"Информзащита\"",375]
["6.5.14.","Акт ООО \"Гранд-Владимир\"",376]
["6.5.15.","Акт ИП Николаенко Е.М.",377]
[null,"Аудиторские и консультационные услуги"]
["6.5.16.","Акт ООО \"АНИТ-Аудиторские услуги\"",378]
["6.5.17.","Акты ООО \"Владрегионэнерго\"","379-380"]
["6.5.18.","Акт ФГБУ \"РЭА\" Минэнерго России",381]
["6.5.19.","Акты АНО \"Управление обеспечения энергоэффективности  и энергосбережения в Южно-Сибирском регионе\"","382-383"]
["6.5.20.","Акт, счет-фактура ООО \"Тори-аудит\"",384]
["6.5.21.","Акт ИП Ширманова Е.В., Акты ООО \"Лига-Олимп\", Неганов А.Ю.","385-404"]
["6.5.22.","Кадастровые работы ИП Андреяк Т.Н.","405-406"]
["6.5.23.","Предрейсовый медицинский осмотр, Акты Злобина Н.Х.","407-417"]
["6.5.24.","Акты ООО \"Новый мир\", Акты ООО\"АИФ-Владимир\", МАУ \"Александровский голос труда\"","418-426"]
["6.6.","Обеспечение нормальных условий труда и техники безопасности"]
["6.6.1.","Счета-фактуры, акты ФБУ \"ГРЦ стандартизации, метрологии и испытаний в Ивановской области\"","427-429"]
["6.7.","Расходы на обучение персонала. Акты ООО \"ИП Управление ЖКХ\"","430-431"]
["6.8.","Расходы на услуги банков. Оборотно-сальдовая ведомость по счету  91.02 за 2021 год",432]
["7.","Расчет индивидуальных тарифов на 2023 год долгосрочного периода регулирования 2020 - 2024 годы",433,null,null,"Таблица из электронного формата расчета НВВ"]

{"sheet":"Соответствие критериям","index":2,"n_rows":19,"n_cols":6,"rows_kept":19,"cut":false,"hidden":false,"merged":[[3,0,3,5],[1,0,1,5],[18,1,18,2],[22,1,22,5],[23,1,23,5],[8,0,12,0],[21,1,21,5],[7,5,16,5],[18,3,18,5]]}
[]
["Критерии\nотнесения владельцев объектов электросетевого хозяйства к территориальным сетевым организациям\n(утв. постановлением Правительства РФ от 28 февраля 2015 г. N 184)"]
[]
[{"$f":"'Инф-я'!C14","v":"ООО \"Энергетик\""}]
[]
["№ п./п.","Наименование показателя","Ед. измерения","По данным организации","По данным экспертов","Представляемые обосновывающие материалы"]
[1,2,3,4,5,6]
["1.","Владение на праве собственности и (или) на ином законном основании на срок не менее долгосрочного периода регулирования трансформаторными и иными подстанциями с установленными силовыми трансформаторами (автотрансформаторами), расположенными и используемыми для осуществления регулируемой деятельности в административных границах субъекта Российской Федерации, сумма номинальных мощностей которых составляет не менее 10 МВА.","МВА",19.513000000000002,null,"Согласно пункта 17  Правил государственного регулирования (пересмотра, применения) цен (тарифов) в электроэнергетике, утвержденных Постановлением Правительства РФ от 29 декабря 2011 г. N 1178:\nК заявлениям, направленным в соответствии с пунктами 12, 14 и 16 настоящих Правил, организации, осуществляющие регулируемую деятельность, и органы исполнительной власти субъектов Российской Федерации в области государственного регулирования тарифов прилагают следующие обосновывающие материалы:\n . . . 13) документы, подтверждающие осуществление (фактическое или планируемое) регулируемой деятельности, - документы, подтверждающие право собственности или иные законные основания владения в отношении объектов, используемых для осуществления деятельности, и (или) договоры на осуществление регулируемой деятельности (при реорганизации юридического лица - передаточные акты);\n . . . 15) справка о наличии официального сайта в сети Интернет и выделенного абонентского номера для обращений потребителей услуг по передаче электрической энергии и (или) технологическому присоединению, подписанная руководителем или иным уполномоченным лицом заявителя и заверенная печатью заявителя;\n16) утвержденные руководителем или иным уполномоченным лицом заявителя и заверенные печатью заявителя (при наличии печати) схемы соединений электрической сети заявителя с обозначением трансформаторных и иных подстанций, а также линий электропередачи, указанных в пунктах 1 и 2 критериев отнесения владельцев объектов электросетевого хозяйства к территориальным сетевым организациям, утвержденных постановлением Правительства Российской Федерации от 28 февраля 2015 г. N 184 \"Об отнесении владельцев объектов электросетевого хозяйства к территориальным сетевым организациям\" (далее - критерии отнесения владельцев объектов электросетевого хозяйства к территориальным сетевым организациям).\n"]
["2.","Владение на праве собственности и (или) на ином законном основании на срок не менее долгосрочного периода регулирования линиями электропередачи (воздушными и (или) кабельными), расположенными и используемыми для осуществления регулируемой деятельности в административных границах субъекта Российской Федерации, непосредственно соединенными с трансформаторными и иными подстанциями, указанными в пункте 1 настоящих критериев, сумма протяженностей которых по трассе составляет не менее 15 км, не менее 2 из следующих проектных номинальных классов напряжения:","км",{"$f":"D12+D13","v":221.87},{"$f":"E10+E11+E12+E13","v":0}]
[null,"110 кВ и выше;","км"]
[null,"35 кВ;","км"]
[null,"1 - 20 кВ;","км",73.38]
[null,"ниже 1 кВ - трехфазных участков линий электропередачи.","км",148.49]
["3.","3. Отсутствие за 3 предшествующих расчетных периода регулирования 3 фактов применения органами исполнительной власти субъектов Российской Федерации в области государственного регулирования тарифов понижающих коэффициентов, позволяющих обеспечить соответствие уровня тарифов, установленных для владельца объектов электросетевого хозяйства, уровню надежности и качества поставляемых товаров и оказываемых услуг, а также корректировки цен (тарифов), установленных на долгосрочный период регулирования, в случае представления владельцем объектов электросетевого хозяйства, для которого такие цены (тарифы) установлены, недостоверных отчетных данных, используемых при расчете фактических значений показателей надежности и качества поставляемых товаров и оказываемых услуг, или непредставления таких данных.","х","нет"]
["4.","4. Наличие выделенного абонентского номера для обращений потребителей услуг по передаче электрической энергии и (или) технологическому присоединению.","х","есть 8-800-450-01-50"]
["5.","5. Наличие официального сайта в информационно-телекоммуникационной сети \"Интернет\".","х","есть oao-energetik.ru"]
["6.","6. Отсутствие во владении и (или) пользовании объектов электросетевого хозяйства, расположенных в административных границах субъекта Российской Федерации и используемых для осуществления регулируемой деятельности в указанных границах, принадлежащих на праве собственности или ином законном основании иному лицу, владеющему объектом по производству электрической энергии (мощности), который расположен в административных границах соответствующего субъекта Российской Федерации и с использованием которого осуществляется производство электрической энергии и мощности с целью ее продажи на оптовом рынке электрической энергии (мощности) и (или) розничных рынках электрической энергии.","х","нет"]
[]
[null,"Руководитель организации",null,{"$f":"'Инф-я'!$C$21","v":"Окунев Василий Михайлович"}]

{"sheet":"Баланс энергии","index":3,"n_rows":27,"n_cols":47,"rows_kept":27,"cut":false,"hidden":false,"merged":[[26,1,26,2],[26,3,26,5],[4,37,4,41],[4,42,4,46],[2,0,2,6],[2,7,2,46],[4,32,4,36],[4,0,5,0],[4,1,5,1],[1,10,1,11],[4,17,4,21],[4,22,4,26],[1,5,1,6],[4,27,4,31],[4,7,4,11],[4,12,4,16],[4,2,4,6]]}
["Заполняется в тыс. кВт.ч. !",null,null,null,null,null,null,null,null,null,null,null,null,null,null,null,null,null,null,null,null,null,null,null,null,null,null,null,null,null,null,"тыс. кВт.ч."]
[]
["Баланс электрической энергии по сетям ВН, СН1, СН2, и НН",null,null,null,null,null,null,{"$f":"'Инф-я'!C14","v":"ООО \"Энергетик\""}]
[]
["№ п.п.","Показатели","Принято регулирующим органом на 2021 год",null,null,null,null,"Факт за 2021 год",null,null,null,null,"Принято регулирующим органом на 2022 год",null,null,null,null,"По данным организации на 2023 год",null,null,null,null,"По данным организации на 1 полугодие 2023 года",null,null,null,null,"По данным организации на 2 полугодие 2023 года",null,null,null,null,"По данным экспертов на 2023 год",null,null,null,null,"По данным экспертов  на 1 полугодие 2023 года",null,null,null,null,"По данным экспертов на 2 полугодие 2023 года"]
[null,null,"Всего","ВН","СН1","СН2","НН","Всего","ВН","СН1","СН2","НН","Всего","ВН","СН1","СН2","НН","Всего","ВН","СН1","СН2","НН","Всего","ВН","СН1","СН2","НН","Всего","ВН","СН1","СН2","НН","Всего","ВН","СН1","СН2","НН","Всего","ВН","СН1","СН2","НН","Всего","ВН","СН1","СН2","НН"]
[1,2,3,4,5,6,7,18,19,20,21,22,33,34,35,36,37,48,49,50,51,52,53,54,55,56,57,58,59,60,61,62,63,64,65,66,67,53,54,55,56,57,58,59,60,61,62]
["1.","Поступление эл.энергии в сеть , ВСЕГО ",{"$f":"C18+C20+C21","v":24276.240000000002},{"$f":"D14+D15+D16+D17","v":24276.240000000002},{"$f":"E9+E14+E15+E16+E17","v":0},{"$f":"F9+F14+F15+F16+F17","v":24276.240000000002},{"$f":"G9+G14+G15+G16+G17","v":16511.948368000001},{"$f":"H18+H20+H21","v":25621.743999999999},{"$f":"I14+I15+I16+I17","v":25621.743999999999},{"$f":"J9+J14+J15+J16+J17","v":0},{"$f":"K9+K14+K15+K16+K17","v":25621.743999999999},{"$f":"L9+L14+L15+L16+L17","v":17273.012000580828},{"$f":"M18+M20+M21","v":25196.335078534041},{"$f":"N14+N15+N16+N17","v":25196.335078534041},{"$f":"O9+O14+O15+O16+O17","v":0},{"$f":"P9+P14+P15+P16+P17","v":25196.335078534041},{"$f":"Q9+Q14+Q15+Q16+Q17","v":17165.125070193459},{"$f":"R18+R20+R21","v":25621.74},{"$f":"S14+S15+S16+S17","v":25621.74},{"$f":"T9+T14+T15+T16+T17","v":0},{"$f":"U9+U14+U15+U16+U17","v":25621.74},{"$f":"V9+V14+V15+V16+V17","v":17272.622556000002},{"$f":"W18+W20+W21","v":12944.370000000003},{"$f":"X14+X15+X16+X17","v":12944.37},{"$f":"Y9+Y14+Y15+Y16+Y17","v":0},{"$f":"Z9+Z14+Z15+Z16+Z17","v":12944.37},{"$f":"AA9+AA14+AA15+AA16+AA17","v":8717.130000000001},{"$f":"AB18+AB20+AB21","v":12677.370000000003},{"$f":"AC14+AC15+AC16+AC17","v":12677.37},{"$f":"AD9+AD14+AD15+AD16+AD17","v":0},{"$f":"AE9+AE14+AE15+AE16+AE17","v":12677.37},{"$f":"AF9+AF14+AF15+AF16+AF17","v":8555.8812472023001},{"$f":"AG18+AG20+AG21","v":0},{"$f":"AH14+AH15+AH16+AH17","v":0},{"$f":"AI9+AI14+AI15+AI16+AI17","v":0},{"$f":"AJ9+AJ14+AJ15+AJ16+AJ17","v":0},{"$f":"AK9+AK14+AK15+AK16+AK17","v":0},{"$f":"AL18+AL20+AL21","v":0},{"$f":"AM14+AM15+AM16+AM17","v":0},{"$f":"AN9+AN14+AN15+AN16+AN17","v":0},{"$f":"AO9+AO14+AO15+AO16+AO17","v":0},{"$f":"AP9+AP14+AP15+AP16+AP17","v":0},{"$f":"AQ18+AQ20+AQ21","v":0},{"$f":"AR14+AR15+AR16+AR17","v":0},{"$f":"AS9+AS14+AS15+AS16+AS17","v":0},{"$f":"AT9+AT14+AT15+AT16+AT17","v":0},{"$f":"AU9+AU14+AU15+AU16+AU17","v":0}]
["1.1.","из смежной сети, всего","х","х",{"$f":"E11","v":0},{"$f":"F11+F12","v":24276.240000000002},{"$f":"G11+G12+G13","v":16511.948368000001},"х","х",{"$f":"J11","v":0},{"$f":"K11+K12","v":25621.743999999999},{"$f":"L11+L12+L13","v":17273.012000580828},"х","х",{"$f":"O11","v":0},{"$f":"P11+P12","v":25196.335078534041},{"$f":"Q11+Q12+Q13","v":17165.125070193459},"х","х",{"$f":"T11","v":0},{"$f":"U11+U12","v":25621.74},{"$f":"V11+V12+V13","v":17272.622556000002},"х","х",{"$f":"Y11","v":0},{"$f":"Z11+Z12","v":12944.37},{"$f":"AA11+AA12+AA13","v":8717.130000000001},"х","х",{"$f":"AD11","v":0},{"$f":"AE11+AE12","v":12677.37},{"$f":"AF11+AF12+AF13","v":8555.8812472023001},"х","х",{"$f":"AI11","v":0},{"$f":"AJ11+AJ12","v":0},{"$f":"AK11+AK12+AK13","v":0},"х","х",{"$f":"AN11","v":0},{"$f":"AO11+AO12","v":0},{"$f":"AP11+AP12+AP13","v":0},"х","х",{"$f":"AS11","v":0},{"$f":"AT11+AT12","v":0},{"$f":"AU11+AU12+AU13","v":0}]
[null,"    в том числе из сети","х","х","х","х","х","х","х","х","х","х","х","х","х","х","х","х","х","х","х","х","х","х","х","х","х","х","х","х","х","х","х","х","х","х","х","х","х","х","х","х","х","х","х","х","х"]
["1.1.1.","ВН","х","х",null,{"$f":"D8-D18-D20-D21-E11-G11","v":24276.240000000002},null,"х","х",null,{"$f":"I8-I18-I20-I21-J11-L11","v":25621.743999999999},null,"х","х",null,{"$f":"N8-N18-N20-N21-O11-Q11","v":25196.335078534041},null,"х","х",null,{"$f":"S8-S18-S20-S21-T11-V11","v":25621.74},null,"х","х",null,{"$f":"X8-X18-X20-X21-Y11-AA11","v":12944.37},null,"х","х",null,{"$f":"AC8-AC18-AC20-AC21-AD11-AF11","v":12677.37},null,"х","х",null,{"$f":"AH8-AH18-AH20-AH21-AI11-AK11","v":0},null,"х","х",null,{"$f":"AM8-AM18-AM20-AM21-AN11-AP11","v":0},null,"х","х",null,{"$f":"AR8-AR18-AR20-AR21-AS11-AU11","v":0}]
["1.1.2.","СН1","х","х","х",{"$f":"E8-E18-E20-E21-G12","v":0},null,"х","х","х",{"$f":"J8-J18-J20-J21-L12","v":0},null,"х","х","х",{"$f":"O8-O18-O20-O21-Q12","v":0},null,"х","х","х",{"$f":"T8-T18-T20-T21-V12","v":0},null,"х","х","х",{"$f":"Y8-Y18-Y20-Y21-AA12","v":0},null,"х","х","х",{"$f":"AD8-AD18-AD20-AD21-AF12","v":0},null,"х","х","х",{"$f":"AI8-AI18-AI20-AI21-AK12","v":0},null,"х","х","х",{"$f":"AN8-AN18-AN20-AN21-AP12","v":0},null,"х","х","х",{"$f":"AS8-AS18-AS20-AS21-AU12","v":0}]
["1.1.3.","СН2","х","х","х","х",{"$f":"F8-F18-F20-F21","v":16511.948368000001},"х","х","х","х",{"$f":"K8-K18-K20-K21","v":17273.012000580828},"х","х","х","х",{"$f":"P8-P18-P20-P21","v":17165.125070193459},"х","х","х","х",{"$f":"U8-U18-U20-U21","v":17272.622556000002},"х","х","х","х",{"$f":"Z8-Z18-Z20-Z21","v":8717.130000000001},"х","х","х","х",{"$f":"AE8-AE18-AE20-AE21","v":8555.8812472023001},"х","х","х","х",{"$f":"AJ8-AJ18-AJ20-AJ21","v":0},"х","х","х","х",{"$f":"AO8-AO18-AO20-AO21","v":0},"х","х","х","х",{"$f":"AT8-AT18-AT20-AT21","v":0}]
["1.2.","от электростанций",{"$f":"SUM(D14:G14)","v":0},null,null,null,null,{"$f":"SUM(I14:L14)","v":0},null,null,null,null,{"$f":"SUM(N14:Q14)","v":0},null,null,null,null,{"$f":"SUM(S14:V14)","v":0},null,null,null,null,{"$f":"SUM(X14:AA14)","v":0},null,null,null,null,{"$f":"SUM(AC14:AF14)","v":0},null,null,null,null,{"$f":"SUM(AH14:AK14)","v":0},null,null,null,null,{"$f":"SUM(AM14:AP14)","v":0},null,null,null,null,{"$f":"SUM(AR14:AU14)","v":0}]
["1.3.","от ОАО \"ФСК ЕЭС\"",{"$f":"SUM(D15:G15)","v":0},null,null,null,null,{"$f":"SUM(I15:L15)","v":0},null,null,null,null,{"$f":"SUM(N15:Q15)","v":0},null,null,null,null,{"$f":"SUM(S15:V15)","v":0},null,null,null,null,{"$f":"SUM(X15:AA15)","v":0},null,null,null,null,{"$f":"SUM(AC15:AF15)","v":0},null,null,null,null,{"$f":"SUM(AH15:AK15)","v":0},null,null,null,null,{"$f":"SUM(AM15:AP15)","v":0},null,null,null,null,{"$f":"SUM(AR15:AU15)","v":0}]
["1.4.","от филиала \"Владимирэнерго\" ОАО \"МРСК Центра и Приволжья\" ",{"$f":"SUM(D16:G16)","v":24276.240000000002},24276.240000000002,0,0,0,{"$f":"SUM(I16:L16)","v":25621.743999999999},25621.743999999999,null,null,null,{"$f":"SUM(N16:Q16)","v":25196.335078534041},25196.335078534041,0,0,0,{"$f":"SUM(S16:V16)","v":25621.74},25621.74,null,null,null,{"$f":"SUM(X16:AA16)","v":12944.37},12944.37,null,null,null,{"$f":"SUM(AC16:AF16)","v":12677.37},12677.37,null,null,null,{"$f":"SUM(AH16:AK16)","v":0},null,null,null,null,{"$f":"SUM(AM16:AP16)","v":0},null,null,null,null,{"$f":"SUM(AR16:AU16)","v":0}]
["1.5.","от других сетевых организаций",{"$f":"SUM(D17:G17)","v":0},null,null,null,null,{"$f":"SUM(I17:L17)","v":0},null,null,null,null,{"$f":"SUM(N17:Q17)","v":0},0,0,0,0,{"$f":"SUM(S17:V17)","v":0},null,null,null,null,{"$f":"SUM(X17:AA17)","v":0},null,null,null,null,{"$f":"SUM(AC17:AF17)","v":0},null,null,null,null,{"$f":"SUM(AH17:AK17)","v":0},null,null,null,null,{"$f":"SUM(AM17:AP17)","v":0},null,null,null,null,{"$f":"SUM(AR17:AU17)","v":0}]
["2.","Потери электроэнергии в сети ",{"$f":"SUM(D18:G18)","v":2782.0398733677462},{"$f":"D8*D19/100","v":0},{"$f":"E8*E19/100","v":0},{"$f":"F8*F19/100","v":1500.2716320000002},{"$f":"G8*G19/100","v":1281.768241367746},{"$f":"SUM(I18:L18)","v":2369.2460939810285},{"$f":"I8*I19/100","v":0},{"$f":"J8*J19/100","v":0},{"$f":"K8*K19/100","v":1552.288999419171},{"$f":"L8*L19/100","v":816.9570945618575},{"$f":"SUM(N18:Q18)","v":2887.5},{"$f":"N8*N19/100","v":0},{"$f":"O8*O19/100","v":0},{"$f":"P8*P19/100","v":1557.1335078534037},{"$f":"Q8*Q19/100","v":1330.3664921465963},{"$f":"SUM(S18:V18)","v":2369.6724908987999},{"$f":"S8*S19/100","v":0},{"$f":"T8*T19/100","v":0},{"$f":"U8*U19/100","v":1552.6774439999999},{"$f":"V8*V19/100","v":816.99504689880018},{"$f":"SUM(X18:AA18)","v":1188.96},{"$f":"X8*X19/100","v":0},{"$f":"Y8*Y19/100","v":0},{"$f":"Z8*Z19/100","v":768.82},{"$f":"AA8*AA19/100","v":420.1400000000001},{"$f":"SUM(AC18:AF18)","v":1180.2858106422564},{"$f":"AC8*AC19/100","v":0},{"$f":"AD8*AD19/100","v":0},{"$f":"AE8*AE19/100","v":783.46875279770097},{"$f":"AF8*AF19/100","v":396.81705784455545},{"$f":"SUM(AH18:AK18)","v":0},{"$f":"AH8*AH19/100","v":0},{"$f":"AI8*AI19/100","v":0},{"$f":"AJ8*AJ19/100","v":0},{"$f":"AK8*AK19/100","v":0},{"$f":"SUM(AM18:AP18)","v":0},{"$f":"AM8*AM19/100","v":0},{"$f":"AN8*AN19/100","v":0},{"$f":"AO8*AO19/100","v":0},{"$f":"AP8*AP19/100","v":0},{"$f":"SUM(AR18:AU18)","v":0},{"$f":"AR8*AR19/100","v":0},{"$f":"AS8*AS19/100","v":0},{"$f":"AT8*AT19/100","v":0},{"$f":"AU8*AU19/100","v":0}]
["2.1.","то же в % (п.2./п.1.)",{"$f":"IF(C8=0,0,C18/C8*100)","v":11.459929022648261},null,null,6.18,7.7626710839999999,{"$f":"IF(H8=0,0,H18/H8*100)","v":9.2470133726300148},null,null,6.05848298,4.7296736350000002,{"$f":"IF(M8=0,0,M18/M8*100)","v":11.459999999999996},0,0,6.18,7.7504037209535026,{"$f":"IF(R8=0,0,R18/R8*100)","v":9.2486790159403682},null,null,6.06,4.7300000000000004,{"$f":"IF(W8=0,0,W18/W8*100)","v":9.1851515369229997},null,null,{"$f":"768.82*100/12944.37","v":5.9394161322644514},{"$f":"420.14*100/8717.13","v":4.819705568231746},{"$f":"IF(AB8=0,0,AB18/AB8*100)","v":9.3101787724287934},null,null,{"$f":"783.469*100/12677.374","v":6.180057478780701},{"$f":"396.817*100/8555.88","v":4.6379448987129317},{"$f":"IF(AG8=0,0,AG18/AG8*100)","v":0},null,null,null,null,{"$f":"IF(AL8=0,0,AL18/AL8*100)","v":0},null,null,null,null,{"$f":"IF(AQ8=0,0,AQ18/AQ8*100)","v":0}]
["3.","Расход электроэнергии на производственные и хознужды",{"$f":"SUM(D20:G20)","v":0},null,null,null,null,{"$f":"SUM(I20:L20)","v":0},null,null,null,null,{"$f":"SUM(N20:Q20)","v":0},null,null,null,null,{"$f":"SUM(S20:V20)","v":0},null,null,null,null,{"$f":"SUM(X20:AA20)","v":0},null,null,null,null,{"$f":"SUM(AC20:AF20)","v":0},null,null,null,null,{"$f":"SUM(AH20:AK20)","v":0},null,null,null,null,{"$f":"SUM(AM20:AP20)","v":0},null,null,null,null,{"$f":"SUM(AR20:AU20)","v":0}]
["4.","Полезный отпуск из сети ",{"$f":"SUM(D21:G21)","v":21494.200126632255},{"$f":"D22+D23+D24","v":0},{"$f":"E22+E23+E24","v":0},{"$f":"F22+F23+F24","v":6264.02},{"$f":"G8-G18-G20","v":15230.180126632255},{"$f":"SUM(I21:L21)","v":23252.497906018969},{"$f":"I22+I23+I24","v":0},{"$f":"J22+J23+J24","v":0},{"$f":"K22+K23+K24","v":6796.4430000000002},{"$f":"L8-L18-L20","v":16456.05490601897},{"$f":"SUM(N21:Q21)","v":22308.835078534041},{"$f":"N22+N23+N24","v":0},{"$f":"O22+O23+O24","v":0},{"$f":"P22+P23+P24","v":6474.0765004871801},{"$f":"Q8-Q18-Q20","v":15834.758578046862},{"$f":"SUM(S21:V21)","v":23252.067509101202},{"$f":"S22+S23+S24","v":0},{"$f":"T22+T23+T24","v":0},{"$f":"U22+U23+U24","v":6796.44},{"$f":"V8-V18-V20","v":16455.627509101203},{"$f":"SUM(X21:AA21)","v":11755.410000000002},{"$f":"X22+X23+X24","v":0},{"$f":"Y22+Y23+Y24","v":0},{"$f":"Z22+Z23+Z24","v":3458.42},{"$f":"AA8-AA18-AA20","v":8296.9900000000016},{"$f":"SUM(AC21:AF21)","v":11497.084189357745},{"$f":"AC22+AC23+AC24","v":0},{"$f":"AD22+AD23+AD24","v":0},{"$f":"AE22+AE23+AE24","v":3338.02},{"$f":"AF8-AF18-AF20","v":8159.0641893577449},{"$f":"SUM(AH21:AK21)","v":0},{"$f":"AH22+AH23+AH24","v":0},{"$f":"AI22+AI23+AI24","v":0},{"$f":"AJ22+AJ23+AJ24","v":0},{"$f":"AK8-AK18-AK20","v":0},{"$f":"SUM(AM21:AP21)","v":0},{"$f":"AM22+AM23+AM24","v":0},{"$f":"AN22+AN23+AN24","v":0},{"$f":"AO22+AO23+AO24","v":0},{"$f":"AP8-AP18-AP20","v":0},{"$f":"SUM(AR21:AU21)","v":0},{"$f":"AR22+AR23+AR24","v":0},{"$f":"AS22+AS23+AS24","v":0},{"$f":"AT22+AT23+AT24","v":0},{"$f":"AU8-AU18-AU20","v":0}]
["4.1.","потребителям, присоединенным к сети",{"$f":"SUM(D22:G22)","v":21494.2},null,null,6264.02,15230.18,{"$f":"SUM(I22:L22)","v":23252.498},null,null,6796.4430000000002,16456.055,{"$f":"SUM(N22:Q22)","v":22308.835078534023},0,0,6474.0765004871801,15834.758578046843,{"$f":"SUM(S22:V22)","v":23252.5},null,null,6796.44,16456.060000000001,{"$f":"SUM(X22:AA22)","v":11755.41},null,null,3458.42,8296.99,{"$f":"SUM(AC22:AF22)","v":11497.09},null,null,3338.02,8159.07,{"$f":"SUM(AH22:AK22)","v":0},null,null,null,null,{"$f":"SUM(AM22:AP22)","v":0},null,null,null,null,{"$f":"SUM(AR22:AU22)","v":0}]
["4.2.","переток в филиал \"Владимирэнерго\" ОАО \"МРСК Центра и Приволжья\" ",{"$f":"SUM(D23:G23)","v":0},null,null,null,null,{"$f":"SUM(I23:L23)","v":0},null,null,null,null,{"$f":"SUM(N23:Q23)","v":0},null,null,null,null,{"$f":"SUM(S23:V23)","v":0},null,null,null,null,{"$f":"SUM(X23:AA23)","v":0},null,null,null,null,{"$f":"SUM(AC23:AF23)","v":0},null,null,null,null,{"$f":"SUM(AH23:AK23)","v":0},null,null,null,null,{"$f":"SUM(AM23:AP23)","v":0},null,null,null,null,{"$f":"SUM(AR23:AU23)","v":0}]
["4.3.","переток в другие сетевые организации",{"$f":"SUM(D24:G24)","v":0},null,null,null,null,{"$f":"SUM(I24:L24)","v":0},null,null,null,null,{"$f":"SUM(N24:Q24)","v":0},null,null,null,null,{"$f":"SUM(S24:V24)","v":0},null,null,null,null,{"$f":"SUM(X24:AA24)","v":0},null,null,null,null,{"$f":"SUM(AC24:AF24)","v":0},null,null,null,null,{"$f":"SUM(AH24:AK24)","v":0},null,null,null,null,{"$f":"SUM(AM24:AP24)","v":0},null,null,null,null,{"$f":"SUM(AR24:AU24)","v":0}]
[null,"Проверка",null,{"$f":"D8-D18-D20-D22-D23-D24-E11-F11-G11","v":0},{"$f":"E8-E18-E20-E22-E23-E24-F12-G12","v":0},{"$f":"F8-F18-F20-F22-F23-F24-G13","v":0},{"$f":"G8-G18-G20-G22-G23-G24","v":1.2663225425058044E-4},null,{"$f":"I8-I18-I20-I22-I23-I24-J11-K11-L11","v":0},{"$f":"J8-J18-J20-J22-J23-J24-K12-L12","v":0},{"$f":"K8-K18-K20-K22-K23-K24-L13","v":0},{"$f":"L8-L18-L20-L22-L23-L24","v":-9.3981030659051612E-5},null,{"$f":"N8-N18-N20-N22-N23-N24-O11-P11-Q11","v":0},{"$f":"O8-O18-O20-O22-O23-O24-P12-Q12","v":0},{"$f":"P8-P18-P20-P22-P23-P24-Q13","v":0},{"$f":"Q8-Q18-Q20-Q22-Q23-Q24","v":1.8189894035458565E-11},null,{"$f":"S8-S18-S20-S22-S23-S24-T11-U11-V11","v":0},{"$f":"T8-T18-T20-T22-T23-T24-U12-V12","v":0},{"$f":"U8-U18-U20-U22-U23-U24-V13","v":0},{"$f":"V8-V18-V20-V22-V23-V24","v":-0.43249089879827807},null,{"$f":"X8-X18-X20-X22-X23-X24-Y11-Z11-AA11","v":0},{"$f":"Y8-Y18-Y20-Y22-Y23-Y24-Z12-AA12","v":0},{"$f":"Z8-Z18-Z20-Z22-Z23-Z24-AA13","v":0},{"$f":"AA8-AA18-AA20-AA22-AA23-AA24","v":1.8189894035458565E-12},null,{"$f":"AC8-AC18-AC20-AC22-AC23-AC24-AD11-AE11-AF11","v":0},{"$f":"AD8-AD18-AD20-AD22-AD23-AD24-AE12-AF12","v":0},{"$f":"AE8-AE18-AE20-AE22-AE23-AE24-AF13","v":0},{"$f":"AF8-AF18-AF20-AF22-AF23-AF24","v":-5.8106422548007686E-3},null,{"$f":"AH8-AH18-AH20-AH22-AH23-AH24-AI11-AJ11-AK11","v":0},{"$f":"AI8-AI18-AI20-AI22-AI23-AI24-AJ12-AK12","v":0},{"$f":"AJ8-AJ18-AJ20-AJ22-AJ23-AJ24-AK13","v":0},{"$f":"AK8-AK18-AK20-AK22-AK23-AK24","v":0},null,{"$f":"AM8-AM18-AM20-AM22-AM23-AM24-AN11-AO11-AP11","v":0},{"$f":"AN8-AN18-AN20-AN22-AN23-AN24-AO12-AP12","v":0},{"$f":"AO8-AO18-AO20-AO22-AO23-AO24-AP13","v":0},{"$f":"AP8-AP18-AP20-AP22-AP23-AP24","v":0},null,{"$f":"AR8-AR18-AR20-AR22-AR23-AR24-AS11-AT11-AU11","v":0},{"$f":"AS8-AS18-AS20-AS22-AS23-AS24-AT12-AU12","v":0},{"$f":"AT8-AT18-AT20-AT22-AT23-AT24-AU13","v":0},{"$f":"AU8-AU18-AU20-AU22-AU23-AU24","v":0}]
[]
[null,"Руководитель организации",null,{"$f":"'Инф-я'!$C$21","v":"Окунев Василий Михайлович"}]

{"sheet":"Баланс мощности","index":4,"n_rows":29,"n_cols":12,"rows_kept":29,"cut":false,"hidden":false,"merged":[[28,1,28,2],[28,3,28,5],[1,1,1,6],[6,2,6,6],[6,7,6,11],[6,0,7,0],[6,1,7,1],[3,1,3,5]]}
[]
[null,"Электрическая мощность по диапазонам напряжения "]
[]
[null,{"$f":"'Инф-я'!C14","v":"ООО \"Энергетик\""}]
[]
[null,null,null,null,null,null,"МВт"]
["№ п.п.","Показатели","По данным организации на 2023 год",null,null,null,null,"По данным экспертов на 2023 год"]
[null,null,"Всего","ВН","СН1","СН2","НН","Всего","ВН","СН1","СН2","НН"]
[1,2,3,4,5,6,7,8,9,10,11,12]
["1.","Поступление мощности в сеть , ВСЕГО ",{"$f":"C20+C22+C23","v":4.47},{"$f":"D16+D17+D18+D19","v":4.47},{"$f":"E11+E16+E17+E18+E19","v":0},{"$f":"F11+F16+F17+F18+F19","v":4.47},{"$f":"G11+G16+G17+G18+G19","v":3.4216540000000002},{"$f":"H20+H22+H23","v":0},{"$f":"I16+I17+I18+I19","v":0},{"$f":"J11+J16+J17+J18+J19","v":0},{"$f":"K11+K16+K17+K18+K19","v":0},{"$f":"L11+L16+L17+L18+L19","v":0}]
["1.1.","из смежной сети, всего","х","х",{"$f":"E13","v":0},{"$f":"F13+F14","v":4.47},{"$f":"G13+G14+G15","v":3.4216540000000002},"х","х",{"$f":"J13","v":0},{"$f":"K13+K14","v":0},{"$f":"L13+L14+L15","v":0}]
[null,"    в том числе из сети","х","х","х","х","х","х","х","х","х","х"]
["1.1.1.","ВН","х","х",null,{"$f":"D10-D20-D22-D23-G13-E13","v":4.47},null,"х","х",null,{"$f":"I10-I20-I22-I23-L13-J13","v":0}]
["1.1.2.","СН1","х","х","х",{"$f":"E10-E20-E22-E23-G14","v":0},null,"х","х","х",{"$f":"J10-J20-J22-J23-L14","v":0}]
["1.1.3.","СН2","х","х","х","х",{"$f":"F10-F20-F22-F23","v":3.4216540000000002},"х","х","х","х",{"$f":"K10-K20-K22-K23","v":0}]
["1.2.","от электростанций",{"$f":"SUM(D16:G16)","v":0},null,null,null,null,{"$f":"SUM(I16:L16)","v":0}]
["1.3.","от ОАО \"ФСК ЕЭС\"",{"$f":"SUM(D17:G17)","v":0},null,null,null,null,{"$f":"SUM(I17:L17)","v":0}]
["1.4.","от филиала \"Владимирэнерго\" ОАО \"МРСК Центра и Приволжья\" ",{"$f":"SUM(D18:G18)","v":4.47},4.47,null,null,null,{"$f":"SUM(I18:L18)","v":0}]
["1.5.","от других сетевых организаций",{"$f":"SUM(D19:G19)","v":0},null,null,null,null,{"$f":"SUM(I19:L19)","v":0}]
["2.","Потери мощности в сети ",{"$f":"SUM(D20:G20)","v":0.69870345373244003},{"$f":"D10*D21/100","v":0},{"$f":"E10*E21/100","v":0},{"$f":"F10*F21/100","v":0.27624599999999999},{"$f":"G10*G21/100","v":0.42245745373244004},{"$f":"SUM(I20:L20)","v":0},{"$f":"I10*I21/100","v":0},{"$f":"J10*J21/100","v":0},{"$f":"K10*K21/100","v":0},{"$f":"L10*L21/100","v":0}]
["2.1.","то же в % (п.2./п.1.)",{"$f":"IF(C10=0,0,C20/C10*100)","v":15.630949747929307},{"$f":"'[22]Баланс энергии'!S19","v":0},{"$f":"'[22]Баланс энергии'!T19","v":0},{"$f":"'[22]Баланс энергии'!U19","v":6.18},12.346586,{"$f":"IF(H10=0,0,H20/H10*100)","v":0},{"$f":"'Баланс энергии'!AH19","v":0},{"$f":"'Баланс энергии'!AI19","v":0},{"$f":"'Баланс энергии'!AJ19","v":0}]
["3.","Расход электроэнергии на производственные и хознужды",{"$f":"SUM(D22:G22)","v":0},null,null,null,null,{"$f":"SUM(I22:L22)","v":0}]
["4.","Полезный отпуск из сети ",{"$f":"SUM(D23:G23)","v":3.7712965462675601},{"$f":"D24+D25+D26","v":0},{"$f":"E24+E25+E26","v":0},{"$f":"F24+F25+F26","v":0.77210000000000001},{"$f":"G10-G20-G22","v":2.99919654626756},{"$f":"SUM(I23:L23)","v":0},{"$f":"I24+I25+I26","v":0},{"$f":"J24+J25+J26","v":0},{"$f":"K24+K25+K26","v":0},{"$f":"L10-L20-L22","v":0}]
["4.1.","потребителям, присоединенным к сети",{"$f":"SUM(D24:G24)","v":3.7713000000000001},null,null,0.77210000000000001,2.9992000000000001,{"$f":"SUM(I24:L24)","v":0}]
["4.2.","переток в филиал \"Владимирэнерго\" ОАО \"МРСК Центра и Приволжья\" ",{"$f":"SUM(D25:G25)","v":0},null,null,null,null,{"$f":"SUM(I25:L25)","v":0}]
["4.3.","переток в другие сетевые организации",{"$f":"SUM(D26:G26)","v":0},null,null,null,null,{"$f":"SUM(I26:L26)","v":0}]
[null,"Проверка",null,{"$f":"D10-D20-D22-D24-D25-D26-E13-F13-G13","v":0},{"$f":"E10-E20-E22-E24-E25-E26-F14-G14","v":0},{"$f":"F10-F20-F22-F24-F25-F26-G15","v":0},{"$f":"G10-G20-G22-G24-G25-G26","v":-3.4537324400396585E-6},null,{"$f":"I10-I20-I22-I24-I25-I26-J13-K13-L13","v":0},{"$f":"J10-J20-J22-J24-J25-J26-K14-L14","v":0},{"$f":"K10-K20-K22-K24-K25-K26-L15","v":0},{"$f":"L10-L20-L22-L24-L25-L26","v":0}]
[]
[null,"Руководитель организации",null,{"$f":"'Инф-я'!$C$21","v":"Окунев Василий Михайлович"}]

{"sheet":"УЕ ВЛЭП  2020-2023","index":5,"n_rows":59,"n_cols":22,"rows_kept":59,"cut":false,"hidden":false,"merged":[[53,4,53,5],[53,6,53,8],[30,0,37,0],[30,1,34,1],[30,2,32,2],[33,2,34,2],[35,1,37,1],[35,2,37,2],[51,0,51,4],[38,0,39,0],[42,0,44,0],[42,1,44,1],[42,2,44,2],[47,0,50,0],[47,1,50,3],[17,1,21,1],[7,14,7,15],[17,2,19,2],[20,2,21,2],[27,0,28,0],[9,0,26,0],[11,1,12,1],[11,2,12,2],[22,1,26,1],[25,2,26,2],[22,2,24,2],[13,1,16,1],[13,2,14,2],[15,2,16,2],[7,18,7,19],[7,6,7,7],[7,8,7,9],[7,10,7,11],[7,12,7,13],[7,16,7,17],[2,0,2,17],[5,0,6,0],[5,1,6,1],[5,2,6,2],[5,3,6,3],[5,4,6,4],[3,1,3,17]]}
[]
[]
["Объем воздушных линий электропередач (ВЛЭП) и кабельных линий электропередач (КЛЭП) в условных единицах в зависимости от протяженности, напряжения, конструктивного использования и материала опор в период с 2020 по 2023 годы"]
[null,{"$f":"'Инф-я'!C14","v":"ООО \"Энергетик\""}]
[]
["ЛЭП","Напряжение, кВ ","Количество цепей на опоре","Материал опор","Наименование","Количество условных единиц (у) на 100 км трассы ЛЭП","Протяженность","Объем условных единиц","Протяженность","Объем условных единиц","Протяженность","Объем условных единиц","Количество единиц измерения","Объем условных единиц","Протяженность","Объем условных единиц","Протяженность","Объем условных единиц","Протяженность","Объем условных единиц"]
[null,null,null,null,null,"у/100км","км","у","ед.изм.","у","ед.изм.","у","ед.изм.","у","км","у","км","у","км","у"]
[null,null,null,null,null,null,"2020 год факт",null,"2021 год утверждено",null,"2021 год факт по данным организации",null,"2021 год факт по данным экспертов",null,"2022 год утверждено",null,"2023 год план по данным организации",null,"2023 год по данным экспертов"]
[1,{"$f":"+A9+1","v":2},{"$f":"+B9+1","v":3},{"$f":"+C9+1","v":4},5,6,7,8,9,10,11,12,13,14,15,16,17,18]
["ВЛЭП",1150,"-","металл","ВЛЭП-1150кВ-металл",800,null,{"$f":"$F10*G10/100","v":0},null,{"$f":"F10*I10/100","v":0},null,{"$f":"K10*F10/100","v":0},null,{"$f":"M10*F10/100","v":0},null,{"$f":"F10*O10/100","v":0},null,{"$f":"F10*Q10/100","v":0},null,{"$f":"$F10*S10/100","v":0}]
[null,750,1,"металл","ВЛЭП-750кВ-цепей:1-металл",600,null,{"$f":"F11*G11/100","v":0},null,0,null,{"$f":"K11*F11/100","v":0},null,{"$f":"M11*F11/100","v":0},null,0,null,0,null,0]
[null,"400-500",1,"металл","ВЛЭП-400-500кВ-цепей:1-металл",400,null,0,null,0,null,0,null,0,null,0,null,0,null,0]
[null,null,null,"ж/бетон","ВЛЭП-400-500кВ-ж/бетон",300,null,0,null,0,null,0,null,0,null,0,null,0,null,0]
[null,330,1,"металл","ВЛЭП-330кВ-цепей:1-металл",230,null,0,null,0,null,0,null,0,null,0,null,0,null,0]
[null,null,null,"ж/бетон","ВЛЭП-330кВ-ж/бетон",170,null,0,null,0,null,0,null,0,null,0,null,0,null,0]
[null,null,2,"металл","ВЛЭП-330кВ-цепей:2-металл",290,null,0,null,0,null,0,null,0,null,0,null,0,null,0]
[null,null,null,"ж/бетон","ВЛЭП-330кВ-ж/бетон",210,null,0,null,0,null,0,null,0,null,0,null,0,null,0]
[null,220,1,"дерево","ВЛЭП-220кВ-цепей:1-дерево",260,null,0,null,0,null,0,null,0,null,0,null,0,null,0]
[null,null,null,"металл","ВЛЭП-220кВ-металл",210,null,0,null,0,null,0,null,0,null,0,null,0,null,0]
[null,null,null,"ж/бетон","ВЛЭП-220кВ-ж/бетон",140,null,0,null,0,null,0,null,0,null,0,null,0,null,0]
[null,null,2,"металл","ВЛЭП-220кВ-цепей:2-металл",270,null,0,null,0,null,0,null,0,null,0,null,0,null,0]
[null,null,null,"ж/бетон","ВЛЭП-220кВ-ж/бетон",180,null,0,null,0,null,0,null,0,null,0,null,0,null,0]
[null,"110-150",1,"дерево","ВЛЭП-110-150кВ-цепей:1-дерево",180,null,0,null,0,null,0,null,0,null,0,null,0,null,0]
[null,null,null,"металл","ВЛЭП-110-150кВ-металл",160,null,0,null,0,null,0,null,0,null,0,null,0,null,0]
[null,null,null,"ж/бетон","ВЛЭП-110-150кВ-ж/бетон",130,null,0,null,0,null,0,null,0,null,0,null,0,null,0]
[null,null,2,"металл","ВЛЭП-110-150кВ-цепей:2-металл",190,null,0,null,0,null,0,null,0,null,0,null,0,null,0]
[null,null,null,"ж/бетон","ВЛЭП-110-150кВ-ж/бетон",160,null,0,null,0,null,0,null,0,null,0,null,0,null,0]
["КЛЭП",220,"-","-","КЛЭП-220кВ",3000,null,0,null,0,null,0,null,0,null,0,null,0,null,0]
[null,110,"-","-","КЛЭП-110кВ",2300,null,0,null,0,null,0,null,0,null,0,null,0,null,0]
["ВН, всего ",null,null,null,"Итого:",null,{"$f":"SUM(G10:G29)","v":0},0,0,0,0,0,{"$f":"SUM(M10:M29)","v":0},{"$f":"SUM(N10:N29)","v":0},0,0,0,0,{"$f":"SUM(S10:S29)","v":0},{"$f":"SUM(T10:T29)","v":0}]
["ВЛЭП",35,1,"дерево","ВЛЭП-35кВ-цепей:1-дерево",170,null,{"$f":"F31*G31/100","v":0},null,{"$f":"F31*I31/100","v":0},null,{"$f":"K31*F31/100","v":0},null,{"$f":"M31*F31/100","v":0},null,{"$f":"F31*O31/100","v":0},null,{"$f":"F31*Q31/100","v":0},null,{"$f":"$F31*S31/100","v":0}]
[null,null,null,"металл","ВЛЭП-35кВ-металл",140,null,0,null,0,null,{"$f":"K32*F32/100","v":0},null,{"$f":"M32*F32/100","v":0},null,0,null,0,null,0]
[null,null,null,"ж/бетон","ВЛЭП-35кВ-ж/бетон",120,null,0,null,0,null,0,null,0,null,0,null,0,null,0]
[null,null,2,"металл","ВЛЭП-35кВ-цепей:2-металл",180,null,0,null,0,null,0,null,0,null,0,null,0,null,0]
[null,null,null,"ж/бетон","ВЛЭП-35кВ-ж/бетон",150,null,0,null,0,null,0,null,0,null,0,null,0,null,0]
[null," 1 - 20 ","-","дерево","ВЛЭП-1-20кВ-дерево",160,null,0,null,0,null,0,null,0,null,0,null,0,null,0]
[null,null,null,"дерево на ж/б пасынках","ВЛЭП-1-20кВ-дерево на ж/б пасынках",140,0,0,7.52,10.527999999999999,null,0,null,0,0,0,null,0,null,0]
[null,null,null,"ж/бетон, металл","ВЛЭП-1-20кВ-ж/бетон,металл",110,52.01,57.210999999999991,42.45,46.695,{"$f":"52.01+0.23+2.746+1.99+1.96","v":58.936},64.829599999999999,null,0,53.37,58.707000000000001,{"$f":"58.94+0.387+0.327+0.227+0.541","v":60.42199999999999},{"$f":"F38*Q38/100","v":66.464199999999991},null,0,null,"21 год факт= 52,01 (шаблоны актив)+строит в 21(0,73+1,26)+ кап рем 2,75"]
["КЛЭП"," 20 -35","-","-","КЛЭП-20-35кВ",470,null,0,null,0,null,0,null,0,null,0,null,{"$f":"F39*Q39/100","v":0},null,0,null,"23 год план= 58,94(факт21) + ИП проект на 22год (0,387+0,327)+проектИП на 23 год(0,227+0,541)"]
[null," 3 - 10","-","-","КЛЭП-3-10кВ",350,14.44,50.54,15.97,55.895000000000003,14.44,50.54,null,0,14.44,50.54,14.44,50.54,null,0]
["СН-1, всего",null,null,null,"Итого:",null,{"$f":"SUM(G31:G35)+G39","v":0},0,0,0,0,0,{"$f":"SUM(M31:M35)+M39","v":0},{"$f":"SUM(N31:N35)+N39","v":0},0,0,{"$f":"SUM(Q31:Q35)+Q39","v":0},0,{"$f":"SUM(S31:S35)+S39","v":0},{"$f":"SUM(T31:T35)+T39","v":0}]
["СН-2, всего",null,null,null,"Итого:",null,{"$f":"SUM(G36:G38)+G40","v":66.45},107.75099999999999,65.94,113.11799999999999,73.376000000000005,115.36959999999999,{"$f":"SUM(M36:M38)+M40","v":0},{"$f":"SUM(N36:N38)+N40","v":0},67.81,109.247,{"$f":"SUM(Q36:Q38)+Q40","v":74.861999999999995},117.0042,{"$f":"SUM(S36:S38)+S40","v":0},{"$f":"SUM(T36:T38)+T40","v":0}]
["ВЛЭП","0,4 кВ ","-","дерево","ВЛЭП-0,4кВ-дерево",260,null,{"$f":"F43*G43/100","v":0},null,{"$f":"F43*I43/100","v":0},null,{"$f":"K43*F43/100","v":0},null,{"$f":"M43*F43/100","v":0},null,{"$f":"F43*O43/100","v":0},null,{"$f":"F43*Q43/100","v":0},null,{"$f":"$F43*S43/100","v":0}]
[null,null,null,"дерево на ж/б пасынках","ВЛЭП-0,4кВ-дерево на ж/б пасынках",220,0,{"$f":"F44*G44/100","v":0},122.81,{"$f":"F44*I44/100","v":270.18200000000002},null,{"$f":"K44*F44/100","v":0},null,{"$f":"M44*F44/100","v":0},0,{"$f":"F44*O44/100","v":0},0,{"$f":"F44*Q44/100","v":0},null,{"$f":"$F44*S44/100","v":0},null,"21 факт= 144,99"]
[null,null,null,"ж/бетон, металл","ВЛЭП-0,4кВ-ж/бетон,металл",150,144.988,{"$f":"F45*G45/100","v":217.482},15.662000000000001,{"$f":"F45*I45/100","v":23.493000000000002},{"$f":"144.99","v":144.99},{"$f":"K45*F45/100","v":217.48500000000001},null,{"$f":"M45*F45/100","v":0},144.988,{"$f":"F45*O45/100","v":217.482},144.99,{"$f":"F45*Q45/100","v":217.48500000000001},null,{"$f":"$F45*S45/100","v":0}]
["КЛЭП","до 1 кВ ","-","-","КЛЭП-до1кВ",270,3.4999999999999996,{"$f":"F46*G46/100","v":9.4499999999999993},12.4,{"$f":"F46*I46/100","v":33.479999999999997},3.5,{"$f":"K46*F46/100","v":9.4499999999999993},null,{"$f":"M46*F46/100","v":0},3.4999999999999996,{"$f":"F46*O46/100","v":9.4499999999999993},3.5,{"$f":"F46*Q46/100","v":9.4499999999999993},null,{"$f":"$F46*S46/100","v":0}]
["НН, всего",null,null,null,"Итого:",null,{"$f":"SUM(G43:G46)","v":148.488},226.93199999999999,150.87200000000001,327.15500000000003,148.49,226.935,0,0,148.488,226.93199999999999,148.49,226.935,0,0]
[null,"Итого по уровням напряжения:",null,null,"ВН",null,{"$f":"G30","v":0},{"$f":"H30","v":0},{"$f":"I30","v":0},{"$f":"J30","v":0},0,0,0,0,0,0,0,0,0,0]
[null,null,null,null,"СН1",null,{"$f":"G41","v":0},0,0,{"$f":"J41","v":0},0,0,0,0,0,0,0,0,0,0]
[null,null,null,null,"СН2",null,66.45,107.75099999999999,65.94,{"$f":"J42","v":113.11799999999999},73.376000000000005,115.36959999999999,0,0,67.81,109.247,74.861999999999995,117.0042,0,0]
[null,null,null,null,"НН",null,{"$f":"G47","v":148.488},{"$f":"H47","v":226.93199999999999},{"$f":"I47","v":150.87200000000001},{"$f":"J47","v":327.15500000000003},148.49,226.935,0,0,148.488,226.93199999999999,148.49,226.935,0,0]
["ВСЕГО:",null,null,null,null,null,{"$f":"SUM(G48:G51)","v":214.93799999999999},{"$f":"SUM(H48:H51)","v":334.68299999999999},216.81200000000001,440.27300000000002,221.86600000000001,342.30459999999999,0,0,216.298,336.17899999999997,223.352,343.93920000000003,0,0]
[]
[null,null,null,null,"Руководитель организации",null,{"$f":"'Инф-я'!$C$21","v":"Окунев Василий Михайлович"}]
[]
[]
[]
["Примечание:"]
["Сведения должны соответствовать данным отраженным в электронном формате по активам организации"]

{"sheet":"УЕ ТП 2020-2023","index":6,"n_rows":69,"n_cols":20,"rows_kept":69,"cut":false,"hidden":false,"merged":[[61,2,61,3],[61,4,61,6],[24,0,31,0],[7,18,7,19],[9,0,15,0],[54,1,54,3],[9,1,15,1],[9,3,15,3],[7,8,7,9],[32,0,35,0],[32,1,35,1],[32,3,35,3],[16,0,23,0],[16,1,23,1],[16,3,23,3],[36,0,40,0],[44,0,45,0],[50,0,53,0],[50,1,53,3],[44,1,45,1],[44,3,45,3],[2,0,2,19],[5,0,6,0],[5,1,6,2],[5,3,6,3],[5,4,6,4],[3,1,3,17],[7,14,7,15],[7,16,7,17],[55,1,58,3],[59,1,59,3],[7,12,7,13],[24,1,31,1],[24,3,31,3],[7,1,7,2],[7,6,7,7],[7,10,7,11],[36,1,40,1],[36,3,40,3]]}
[]
[]
["Объем подстанций 35-1150 кВ, трансформаторных подстанций (ТП), комплексных трансформаторных подстанций (КТП) и распределительных пунктов(РП) 0,4-20 кВ в условных единицах в период с 2020 по 2023 годы"]
[null,{"$f":"'Инф-я'!C14","v":"ООО \"Энергетик\""}]
[]
["№ п.п.","Наименование",null,"Единица измерения","Напряжение, кВ ","Количество условных единиц (у) на единицу измерения","Количество единиц измерения","Объем условных единиц","Количество единиц измерения","Объем условных единиц","Количество единиц измерения","Объем условных единиц","Количество единиц измерения","Объем условных единиц","Количество единиц измерения","Объем условных единиц","Количество единиц измерения","Объем условных единиц","Количество единиц измерения","Объем условных единиц"]
[null,null,null,null,null,"у/ед.изм.","ед.изм.","у","ед.изм.","у","ед.изм.","у","ед.изм.","у","ед.изм.","у","ед.изм.","у","ед.изм.","у"]
[null,null,null,null,null,null,"2020 год факт",null,"2021 год утверждено",null,"2021 год факт по данным организации",null,"2021 год факт по данным экспертов",null,"2022 год утверждено",null,"2023 год план по данным организации",null,"2023 год по данным экспертов"]
[1,{"$f":"+A9+1","v":2},3,4,5,6,7,8,9,10,11,12,13,14,15,16,17,18,19,20]
[1,"Подстанция",{"$f":"B10","v":"Подстанция"},"П/ст",1150,1000,null,{"$f":"F10*G10","v":0},null,{"$f":"F10*I10","v":0},null,{"$f":"K10*F10","v":0},null,{"$f":"M10*F10","v":0},null,{"$f":"F10*O10","v":0},null,{"$f":"F10*Q10","v":0},null,{"$f":"$F10*S10","v":0}]
[null,null,{"$f":"B10","v":"Подстанция"},null,750,600,null,0,null,0,null,{"$f":"K11*F11","v":0},null,{"$f":"M11*F11","v":0},null,0,null,0,null,{"$f":"$F11*S11","v":0}]
[null,null,{"$f":"B10","v":"Подстанция"},null,"400-500",500,null,0,null,0,null,0,null,0,null,0,null,0,null,0]
[null,null,{"$f":"B10","v":"Подстанция"},null,330,250,null,0,null,0,null,0,null,0,null,0,null,0,null,0]
[null,null,{"$f":"B10","v":"Подстанция"},null,220,210,null,0,null,0,null,0,null,0,null,0,null,0,null,0]
[null,null,{"$f":"B10","v":"Подстанция"},null,"110-150",105,null,0,null,0,null,0,null,0,null,0,null,0,null,0]
[null,null,{"$f":"B10","v":"Подстанция"},null,35,75,null,0,null,0,null,0,null,0,null,0,null,0,null,0]
[2,"Силовой трансформатор или реактор (одно- или трехфазный), или вольтодобавочный трансформатор",{"$f":"B17","v":"Силовой трансформатор или реактор (одно- или трехфазный), или вольтодобавочный трансформатор"},"Ед. оборуд.",1150,60,null,0,null,0,null,0,null,0,null,0,null,0,null,0]
[null,null,{"$f":"B17","v":"Силовой трансформатор или реактор (одно- или трехфазный), или вольтодобавочный трансформатор"},null,750,43,null,0,null,0,null,0,null,0,null,0,null,0,null,0]
[null,null,{"$f":"B17","v":"Силовой трансформатор или реактор (одно- или трехфазный), или вольтодобавочный трансформатор"},null,"400-500",28,null,0,null,0,null,0,null,0,null,0,null,0,null,0]
[null,null,{"$f":"B17","v":"Силовой трансформатор или реактор (одно- или трехфазный), или вольтодобавочный трансформатор"},null,330,18,null,0,null,0,null,0,null,0,null,0,null,0,null,0]
[null,null,{"$f":"B17","v":"Силовой трансформатор или реактор (одно- или трехфазный), или вольтодобавочный трансформатор"},null,220,14,null,0,null,0,null,0,null,0,null,0,null,0,null,0]
[null,null,{"$f":"B17","v":"Силовой трансформатор или реактор (одно- или трехфазный), или вольтодобавочный трансформатор"},null,"110-150",7.8,null,0,null,0,null,0,null,0,null,0,null,0,null,0]
[null,null,{"$f":"B17","v":"Силовой трансформатор или реактор (одно- или трехфазный), или вольтодобавочный трансформатор"},null,35,2.1,null,0,null,0,null,0,null,0,null,0,null,0,null,0]
[null,null,{"$f":"B17","v":"Силовой трансформатор или реактор (одно- или трехфазный), или вольтодобавочный трансформатор"},null,"1-20",1,null,0,null,0,null,0,null,0,null,0,null,0,null,0]
[3,"Воздушный выключатель",{"$f":"B25","v":"Воздушный выключатель"},"3 фазы",1150,180,null,0,null,0,null,0,null,0,null,0,null,0,null,0]
[null,null,{"$f":"B25","v":"Воздушный выключатель"},null,750,130,null,0,null,0,null,0,null,0,null,0,null,0,null,0]
[null,null,{"$f":"B25","v":"Воздушный выключатель"},null,"400-500",88,null,0,null,0,null,0,null,0,null,0,null,0,null,0]
[null,null,{"$f":"B25","v":"Воздушный выключатель"},null,330,66,null,0,null,0,null,0,null,0,null,0,null,0,null,0]
[null,null,{"$f":"B25","v":"Воздушный выключатель"},null,220,43,null,0,null,0,null,0,null,0,null,0,null,0,null,0]
[null,null,{"$f":"B25","v":"Воздушный выключатель"},null,"110-150",26,null,0,null,0,null,0,null,0,null,0,null,0,null,0]
[null,null,{"$f":"B25","v":"Воздушный выключатель"},null,35,11,null,0,null,0,null,0,null,0,null,0,null,0,null,0]
[null,null,{"$f":"B25","v":"Воздушный выключатель"},null,"1-20",5.5,null,0,null,0,null,0,null,0,null,0,null,0,null,0]
[4,"Масляный (вакуумный) выключатель",{"$f":"B33","v":"Масляный (вакуумный) выключатель"}," - \" -",220,23,null,0,null,0,null,0,null,0,null,0,null,0,null,0]
[null,null,{"$f":"B33","v":"Масляный (вакуумный) выключатель"},null,"110-150",14,null,0,null,0,null,0,null,0,null,0,null,0,null,0]
[null,null,{"$f":"B33","v":"Масляный (вакуумный) выключатель"},null,35,6.4,null,0,null,0,null,0,null,0,null,0,null,0,null,0]
[null,null,{"$f":"B33","v":"Масляный (вакуумный) выключатель"},null,"1-20",3.1,13.000000000000002,40.300000000000004,13,40.300000000000004,13,40.300000000000004,null,0,13.000000000000002,40.300000000000004,13,40.300000000000004,null,0]
[5,"Отделитель с короткозамыкателем",{"$f":"B37","v":"Отделитель с короткозамыкателем"},"Ед. оборуд.","400-500",35,null,0,null,0,null,0,null,0,null,0,null,0,null,0]
[null,null,{"$f":"B37","v":"Отделитель с короткозамыкателем"},null,330,24,null,0,null,0,null,0,null,0,null,0,null,0,null,0]
[null,null,{"$f":"B37","v":"Отделитель с короткозамыкателем"},null,220,19,null,0,null,0,null,0,null,0,null,0,null,0,null,0]
[null,null,{"$f":"B37","v":"Отделитель с короткозамыкателем"},null,"110-150",9.5,null,0,null,0,null,0,null,0,null,0,null,0,null,0]
[null,null,{"$f":"B37","v":"Отделитель с короткозамыкателем"},null,35,4.7,null,0,null,0,null,0,null,0,null,0,null,0,null,0]
[6,"Выключатель нагрузки",{"$f":"B42","v":"Выключатель нагрузки"}," - \" -","1-20",2.2999999999999998,219.00000000000003,503.70000000000005,219,503.7,219,503.7,null,0,219.00000000000003,503.70000000000005,219,503.7,null,0]
[7,"Синхронный компенсатор мощн. до 50 Мвар",{"$f":"B43","v":"Синхронный компенсатор мощн. до 50 Мвар"}," - \" -","1-20",26,null,0,null,0,null,0,null,0,null,0,null,0,null,0]
[8,"То же, 50 Мвар и более","Синхронный компенсатор мощн. 50 Мвар и выше"," - \" -","1-20",48,null,0,null,0,null,0,null,0,null,0,null,0,null,0]
[9,"Статические конденсаторы",{"$f":"B45","v":"Статические конденсаторы"},"100 конд.",35,2.4,null,0,null,0,null,0,null,0,null,0,null,0,null,0]
[null,null,{"$f":"B45","v":"Статические конденсаторы"},null,"1-20",2.4,null,0,null,0,null,0,null,0,null,0,null,0,null,0]
[10,"Мачтовая (столбовая) ТП",{"$f":"B47","v":"Мачтовая (столбовая) ТП"},"ТП","1-20",2.5,18,45,13,32.5,14,35,null,0,18,45,14,35,null,0]
[11,"Однотрансфор-маторная ТП, КТП",{"$f":"B48","v":"Однотрансфор-маторная ТП, КТП"},"ТП, КТП","1-20",2.2999999999999998,26,59.8,34,78.199999999999989,33,75.899999999999991,null,0,26,59.8,33,75.899999999999991,null,0]
[12,"Двухтрансформаторная ТП, КТП",{"$f":"B49","v":"Двухтрансформаторная ТП, КТП"},"ТП, КТП","1-20",3,11,33,11,33,10,30,null,0,11,33,10,30,null,0]
[13,"Однотрансфор-маторная подстанция 34/0,4 кВ ",{"$f":"B50","v":"Однотрансфор-маторная подстанция 34/0,4 кВ "},"п/ст",35,3.5,null,0,null,0,null,0,null,0,null,0,null,0,null,0]
[null,"Итого по уровням напряжения:",null,null,"ВН",null,"х",{"$f":"H10+H11+H12+H13+H17+H18+H19+H20+H25+H26+H27+H28+H37+H38+H40+H39+H34+H33+H30+H29+H22+H21+H15+H14","v":0},"х",0,"х",0,"х",{"$f":"N10+N11+N12+N13+N17+N18+N19+N20+N25+N26+N27+N28+N37+N38+N40+N39+N34+N33+N30+N29+N22+N21+N15+N14","v":0},"х",0,"х",0,"х",{"$f":"T10+T11+T12+T13+T17+T18+T19+T20+T25+T26+T27+T28+T37+T38+T40+T39+T34+T33+T30+T29+T22+T21+T15+T14","v":0}]
[null,null,null,null,"СН1",null,"х",{"$f":"H16+H23+H31+H35+H41+H45+H50","v":0},"х",0,"х",0,"х",{"$f":"N16+N23+N31+N35+N41+N45+N50","v":0},"х",0,"х",0,"х",{"$f":"T16+T23+T31+T35+T41+T45+T50","v":0}]
[null,null,null,null,"СН2",null,"х",{"$f":"H24+H32+H36+H42+H43+H44+H46+H47+H48+H49","v":681.8},"х",687.7,"х",684.9,"х",{"$f":"N24+N32+N36+N42+N43+N44+N46+N47+N48+N49","v":0},"х",681.8,"х",684.9,"х",{"$f":"T24+T32+T36+T42+T43+T44+T46+T47+T48+T49","v":0}]
[null,null,null,null,"НН",null,"х",{"$f":"SUM(H10:H50) - H51-H52-H53","v":0},"х",0,"х",0,"х",{"$f":"SUM(N10:N50) - N51-N52-N53","v":0},"х",0,"х",0,"х",{"$f":"SUM(T10:T50) - T51-T52-T53","v":0}]
[null,"Итого по оборудованию",null,null,null,null,"х",{"$f":"SUM(H51:H54)","v":681.8},"х",687.7,"х",684.9,"х",{"$f":"SUM(N51:N54)","v":0},"х",681.8,"х",684.9,"х",{"$f":"SUM(T51:T54)","v":0}]
[null,"Всего активов по уровням напряжения:",null,null,"ВН",null,"х",{"$f":"H51+'УЕ ВЛЭП  2020-2023'!H48","v":0},"х",{"$f":"J51+'УЕ ВЛЭП  2020-2023'!J48","v":0},"х",{"$f":"L51+'УЕ ВЛЭП  2020-2023'!L48","v":0},"х",{"$f":"N51+'УЕ ВЛЭП  2020-2023'!N48","v":0},"х",{"$f":"P51+'УЕ ВЛЭП  2020-2023'!P48","v":0},"х",{"$f":"R51+'УЕ ВЛЭП  2020-2023'!R48","v":0},"х",{"$f":"T51+'УЕ ВЛЭП  2020-2023'!T48","v":0}]
[null,null,null,null,"СН1",null,"х",{"$f":"H52+'УЕ ВЛЭП  2020-2023'!H49","v":0},"х",{"$f":"J52+'УЕ ВЛЭП  2020-2023'!J49","v":0},"х",{"$f":"L52+'УЕ ВЛЭП  2020-2023'!L49","v":0},"х",{"$f":"N52+'УЕ ВЛЭП  2020-2023'!N49","v":0},"х",{"$f":"P52+'УЕ ВЛЭП  2020-2023'!P49","v":0},"х",{"$f":"R52+'УЕ ВЛЭП  2020-2023'!R49","v":0},"х",{"$f":"T52+'УЕ ВЛЭП  2020-2023'!T49","v":0}]
[null,null,null,null,"СН2",null,"х",{"$f":"H53+'УЕ ВЛЭП  2020-2023'!H50","v":789.55099999999993},"х",{"$f":"J53+'УЕ ВЛЭП  2020-2023'!J50","v":800.81799999999998},"х",{"$f":"L53+'УЕ ВЛЭП  2020-2023'!L50","v":800.26959999999997},"х",{"$f":"N53+'УЕ ВЛЭП  2020-2023'!N50","v":0},"х",{"$f":"P53+'УЕ ВЛЭП  2020-2023'!P50","v":791.04699999999991},"х",{"$f":"R53+'УЕ ВЛЭП  2020-2023'!R50","v":801.90419999999995},"х",{"$f":"T53+'УЕ ВЛЭП  2020-2023'!T50","v":0}]
[null,null,null,null,"НН",null,"х",{"$f":"H54+'УЕ ВЛЭП  2020-2023'!H51","v":226.93199999999999},"х",{"$f":"J54+'УЕ ВЛЭП  2020-2023'!J51","v":327.15500000000003},"х",{"$f":"L54+'УЕ ВЛЭП  2020-2023'!L51","v":226.935},"х",{"$f":"N54+'УЕ ВЛЭП  2020-2023'!N51","v":0},"х",{"$f":"P54+'УЕ ВЛЭП  2020-2023'!P51","v":226.93199999999999},"х",{"$f":"R54+'УЕ ВЛЭП  2020-2023'!R51","v":226.935},"х",{"$f":"T54+'УЕ ВЛЭП  2020-2023'!T51","v":0}]
[null,"Количество активов - всего",null,null,null,null,"х",{"$f":"H56+H57+H58+H59","v":1016.4829999999999},"х",{"$f":"J56+J57+J58+J59","v":1127.973},"х",{"$f":"L56+L57+L58+L59","v":1027.2046},"х",{"$f":"N56+N57+N58+N59","v":0},"х",{"$f":"P56+P57+P58+P59","v":1017.9789999999999},"х",{"$f":"R56+R57+R58+R59","v":1028.8391999999999},"х",{"$f":"T56+T57+T58+T59","v":0}]
[]
[null,null,"Руководитель организации",null,{"$f":"'Инф-я'!$C$21","v":"Окунев Василий Михайлович"}]
[]
[]
[]
[]
[]
[null,"Примечание:"]
[null,"Сведения должны соответствовать данным отраженным в электронном формате по активам организации"]

{"sheet":"Подконтрольные расходы","index":7,"n_rows":34,"n_cols":6,"rows_kept":34,"cut":false,"hidden":false,"merged":[[33,3,33,5],[1,0,1,5],[3,0,3,5],[15,0,15,5],[8,0,8,5],[5,0,6,0],[5,1,6,1],[5,2,6,2],[5,4,5,5]]}
[]
["Подконтрольные расходы на 2023 год долгосрочного периода регулирования 2020 - 2024 гг."]
[]
[{"$f":"'Инф-я'!C14","v":"ООО \"Энергетик\""}]
[]
["№ п.п.","Наименование","Ед.изм.","2022 год","2023 год"]
[null,null,null,"Утверждено","По данным организации","По данным экспертов"]
[1,2,3,4,5,6]
["Показатели для расчета подконтрольных расходов"]
[1,"Индекс эффективности подконтрольных расходов (Хэф)","%",0.05,0.05,{"$f":"E10","v":0.05}]
[2,"Коэффициент эластичности подконтрольных расходов по количеству активов (К эл)","знач.",0.75,0.75,0.75]
[3,"Индекс потребительских цен (ИПЦ)","%","х",0.2]
[4,"Количество активов (УЕ)","усл.ед.",{"$f":"'УЕ ТП 2020-2023'!P60","v":1017.9789999999999},{"$f":"'УЕ ТП 2020-2023'!R60","v":1028.8391999999999},{"$f":"'УЕ ТП 2020-2023'!T60","v":0}]
[5,"Индекс изменения количества активов (ИКА)","%","Х",{"$f":"IF(D13=0,0,(E13-D13)/D13)","v":1.0668392962919632E-2},{"$f":"IF(D13=0,0,(F13-D13)/D13)","v":-1}]
[6,"Общий коэффициент индексации подконтрольных расходов ПР= ИПЦ*(1+(Кэл*ИКА))*(1-Хэф)","знач.","Х",{"$f":"(1+E12)*(1+(E11*E14))*(1-E10)","v":1.1491214759832962},{"$f":"(1+F12)*(1+(F11*F14))*(1-F10)","v":0.23749999999999999}]
["Подконтрольные расходы организации (ПР)"]
[1,"Расходы на оплату труда","тыс.руб.",14353.030412321375,{"$f":"D17*$E$15","v":16493.375492239877},{"$f":"D17*$F$15","v":3408.8447229263265}]
[2,"Материалы","тыс.руб.",7679.7950864250806,{"$f":"D18*$E$15","v":8825.0174649620549},{"$f":"D18*$F$15","v":1823.9513330259565}]
[3,"Ремонт основных фондов","тыс.руб.",6814.5884512299426,7830.7899392960762,{"$f":"D19*$F$15","v":1618.4647571671112}]
["4","Другие обоснованные подконтрольные расходы, в том числе:","тыс.руб.",{"$f":"D21+D22+D23+D24+D25+D26+D27+D28","v":1110.5390555655281},1276.1442786685554,263.75302569681293]
["4.1","Работы и услуги производственного характера","тыс.руб.",117.26425991390823,134.75087943235911,27.850261729553203]
["4.2","Работы и услуги непроизводственного характера","тыс.руб.",572.07213353081374,657.38037445184193,135.86713171356826]
["4.3","Обеспечение нормальных условий труда и техники безопасности","тыс.руб.",354.14974119399932,406.96107331995086,84.110563533574833]
["4.4.","Расходы на командировки","тыс.руб.",0,0,0]
["4.5","Расходы на обучение персонала","тыс.руб.",0,0,0]
["4.6","Расходы на страхование","тыс.руб.",0,0,0]
["4.7","Расходы на услуги банков","тыс.руб.",67.052920926806848,77.05195146440353,15.925068720116625]
["4.8","Прочие обоснованные подконтрольные расходы","тыс.руб.",null,0,0]
["5","Расходы из прибыли, в том числе:","тыс.руб.",{"$f":"D30+D31","v":728.02145638293837},836.58509050627106,172.90509589094785]
["5.1","Расходы по коллективным договорам","тыс.руб.",728.02145638293837,836.58509050627106,172.90509589094785]
["5.2","Прочие обоснованные расходы из прибыли","тыс.руб.",0,0,0]
[null,"Итого ПР ","тыс.руб.",{"$f":"D17+D18+D19+D20+D29","v":30685.974461924867},35261.912265672836,{"$f":"D32*F$15","v":7287.9189347071551}]
[]
[null,"Руководитель организации",null,{"$f":"'Инф-я'!$C$21","v":"Окунев Василий Михайлович"}]

{"sheet":"Расчет аморт. max срок","index":8,"n_rows":130,"n_cols":23,"rows_kept":130,"cut":false,"hidden":false,"merged":[[1,0,1,19],[2,0,2,19],[4,0,5,0],[4,1,5,1],[4,2,4,3],[4,4,4,6],[4,7,4,10],[4,11,4,13],[4,14,5,14],[4,15,5,15],[21,0,21,22],[4,16,5,16],[4,17,4,18],[4,19,5,19],[4,20,5,20],[4,21,4,22],[6,0,6,22],[10,0,10,22],[11,0,11,22],[15,0,15,22],[16,0,16,22],[20,0,20,22],[99,0,99,22],[25,0,25,22],[26,0,26,22],[31,0,31,22],[32,0,32,22],[77,0,77,22],[78,0,78,22],[84,0,84,22],[85,0,85,22],[89,0,89,22],[90,0,90,22],[98,0,98,22],[119,0,119,22],[120,0,120,22],[126,0,126,22],[129,0,129,2],[129,5,129,7]]}
["Заполняется в Рублях !"]
["Расчет амортизационных отчислений основных средств, участвующих в передаче электрической энергии по максимальному сроку использования и расчет среднегодовой стоимости ОС"]
[{"$f":"'[23]Инф-я'!C13","v":0}]
[]
["Группа учета ОС \\ Амортизационная группа \\ Основное средство, Инвентарный номер, Дата принятия к учету","Год ввода","Срок полезного использования, мес.",null,"На начало 01.01.2022 г.",null,null,"За 1 квартал 2022 года",null,null,null,"На конец 31.03.2022 г.",null,null,"Амортизация (2-4 квартал 2022)","Амортизация (2022 год)","Остаточная стоимость на начало 2023 года","Амортизация на 2023 год",null,"Остаточная стоимость на начало 2024 года","Налоговая ставка (%)","Среднегодовая остаточная стоимость ОС"]
[null,null,"бух.учет","Максимальный срок по группе ","Стоимость","Накопленная амортизация (износ)","Остаточная стоимость","Увеличение стоимости","Начисление амортизации (износа)","Уменьшение стоимости","Списание амортизации (износа)","Стоимость","Накопленная амортизация (износ)","Остаточная стоимость",null,"Амортизация (2015 год)","Остаточная стоимость на начало 2016 года","бух.учет","Максимальный срок по группе",null,null,"облагаемых по ставке 2,2 %"," необлагаемых налогом (движимое имущество)"]
["Первая группа (от 1 года до 2 лет включительно)"]
[null,null,null,24,null,null,null,null,null,null,null,null,null,null,{"$f":"IF(C8>0,IF(N8>L8/C8*9,(L8/C8*9),N8),0)","v":0},{"$f":"I8+O8","v":0},{"$f":"IF((N8-O8)>0,(N8-O8),0)","v":0},{"$f":"IF(C8>0,IF(Q8>L8/C8*12,(L8/C8*12),Q8),0)","v":0},{"$f":"IF(D8>0,IF(Q8>L8/D8*12,(L8/D8*12),Q8),0)","v":0},{"$f":"IF((Q8-R8)>0,(Q8-R8),0)","v":0},null,{"$f":"IF(U8=2.2,(T8+Q8)/2,0)","v":0},{"$f":"IF(U8=0,(T8+Q8)/2,0)","v":0}]
[null,null,null,{"$f":"$D$8","v":24},null,null,null,null,null,null,null,null,null,null,0,{"$f":"I9+O9","v":0},{"$f":"IF((N9-O9)>0,(N9-O9),0)","v":0},{"$f":"IF(C9>0,IF(Q9>L9/C9*12,(L9/C9*12),Q9),0)","v":0},{"$f":"IF(D9>0,IF(Q9>L9/D9*12,(L9/D9*12),Q9),0)","v":0},{"$f":"IF((Q9-R9)>0,(Q9-R9),0)","v":0},null,{"$f":"IF(U9=2.2,(T9+Q9)/2,0)","v":0},{"$f":"IF(U9=0,(T9+Q9)/2,0)","v":0}]
[null,null,null,{"$f":"$D$8","v":24},null,null,null,null,null,null,null,null,null,null,0,{"$f":"I10+O10","v":0},{"$f":"IF((N10-O10)>0,(N10-O10),0)","v":0},{"$f":"IF(C10>0,IF(Q10>L10/C10*12,(L10/C10*12),Q10),0)","v":0},{"$f":"IF(D10>0,IF(Q10>L10/D10*12,(L10/D10*12),Q10),0)","v":0},{"$f":"IF((Q10-R10)>0,(Q10-R10),0)","v":0},null,{"$f":"IF(U10=2.2,(T10+Q10)/2,0)","v":0},{"$f":"IF(U10=0,(T10+Q10)/2,0)","v":0}]
["Добавить"]
["Вторая группа (свыше 2 лет до 3 лет включительно)"]
[null,null,null,36,null,null,null,null,null,null,null,null,null,null,{"$f":"IF(C13>0,IF(N13>L13/C13*9,(L13/C13*9),N13),0)","v":0},{"$f":"I13+O13","v":0},{"$f":"IF((N13-O13)>0,(N13-O13),0)","v":0},{"$f":"IF(C13>0,IF(Q13>L13/C13*12,(L13/C13*12),Q13),0)","v":0},{"$f":"IF(D13>0,IF(Q13>L13/D13*12,(L13/D13*12),Q13),0)","v":0},{"$f":"IF((Q13-R13)>0,(Q13-R13),0)","v":0},null,{"$f":"IF(U13=2.2,(T13+Q13)/2,0)","v":0},{"$f":"IF(U13=0,(T13+Q13)/2,0)","v":0}]
[null,null,null,{"$f":"$D$13","v":36},null,null,null,null,null,null,null,null,null,null,{"$f":"IF(C14>0,IF(N14>L14/C14*9,(L14/C14*9),N14),0)","v":0},{"$f":"I14+O14","v":0},{"$f":"IF((N14-O14)>0,(N14-O14),0)","v":0},{"$f":"IF(C14>0,IF(Q14>L14/C14*12,(L14/C14*12),Q14),0)","v":0},{"$f":"IF(D14>0,IF(Q14>L14/D14*12,(L14/D14*12),Q14),0)","v":0},{"$f":"IF((Q14-R14)>0,(Q14-R14),0)","v":0},null,{"$f":"IF(U14=2.2,(T14+Q14)/2,0)","v":0},{"$f":"IF(U14=0,(T14+Q14)/2,0)","v":0}]
[null,null,null,{"$f":"$D$13","v":36},null,null,null,null,null,null,null,null,null,null,0,{"$f":"I15+O15","v":0},{"$f":"IF((N15-O15)>0,(N15-O15),0)","v":0},{"$f":"IF(C15>0,IF(Q15>L15/C15*12,(L15/C15*12),Q15),0)","v":0},{"$f":"IF(D15>0,IF(Q15>L15/D15*12,(L15/D15*12),Q15),0)","v":0},{"$f":"IF((Q15-R15)>0,(Q15-R15),0)","v":0},null,{"$f":"IF(U15=2.2,(T15+Q15)/2,0)","v":0},{"$f":"IF(U15=0,(T15+Q15)/2,0)","v":0}]
["Добавить"]
["Третья группа (свыше 3 лет до 5 лет включительно)"]
[null,null,null,60,null,null,null,null,null,null,null,null,null,null,{"$f":"IF(C18>0,IF(N18>L18/C18*9,(L18/C18*9),N18),0)","v":0},{"$f":"I18+O18","v":0},{"$f":"IF((N18-O18)>0,(N18-O18),0)","v":0},{"$f":"IF(C18>0,IF(Q18>L18/C18*12,(L18/C18*12),Q18),0)","v":0},{"$f":"IF(D18>0,IF(Q18>L18/D18*12,(L18/D18*12),Q18),0)","v":0},{"$f":"IF((Q18-R18)>0,(Q18-R18),0)","v":0},null,{"$f":"IF(U18=2.2,(T18+Q18)/2,0)","v":0},{"$f":"IF(U18=0,(T18+Q18)/2,0)","v":0}]
[null,null,null,{"$f":"$D$18","v":60},null,null,null,null,null,null,null,null,null,null,0,{"$f":"I19+O19","v":0},{"$f":"IF((N19-O19)>0,(N19-O19),0)","v":0},{"$f":"IF(C19>0,IF(Q19>L19/C19*12,(L19/C19*12),Q19),0)","v":0},{"$f":"IF(D19>0,IF(Q19>L19/D19*12,(L19/D19*12),Q19),0)","v":0},{"$f":"IF((Q19-R19)>0,(Q19-R19),0)","v":0},null,{"$f":"IF(U19=2.2,(T19+Q19)/2,0)","v":0},{"$f":"IF(U19=0,(T19+Q19)/2,0)","v":0}]
[null,null,null,{"$f":"$D$18","v":60},null,null,null,null,null,null,null,null,null,null,0,{"$f":"I20+O20","v":0},{"$f":"IF((N20-O20)>0,(N20-O20),0)","v":0},{"$f":"IF(C20>0,IF(Q20>L20/C20*12,(L20/C20*12),Q20),0)","v":0},{"$f":"IF(D20>0,IF(Q20>L20/D20*12,(L20/D20*12),Q20),0)","v":0},{"$f":"IF((Q20-R20)>0,(Q20-R20),0)","v":0},null,{"$f":"IF(U20=2.2,(T20+Q20)/2,0)","v":0},{"$f":"IF(U20=0,(T20+Q20)/2,0)","v":0}]
["Добавить"]
["Четвертая группа (свыше 5 лет до 7 лет включительно)"]
[null,null,null,84,null,null,null,null,null,null,null,null,null,null,{"$f":"IF(C23>0,IF(N23>L23/C23*9,(L23/C23*9),N23),0)","v":0},{"$f":"I23+O23","v":0},{"$f":"IF((N23-O23)>0,(N23-O23),0)","v":0},{"$f":"IF(C23>0,IF(Q23>L23/C23*12,(L23/C23*12),Q23),0)","v":0},{"$f":"IF(D23>0,IF(Q23>L23/D23*12,(L23/D23*12),Q23),0)","v":0},{"$f":"IF((Q23-R23)>0,(Q23-R23),0)","v":0},null,{"$f":"IF(U23=2.2,(T23+Q23)/2,0)","v":0},{"$f":"IF(U23=0,(T23+Q23)/2,0)","v":0}]
[null,null,null,{"$f":"$D$23","v":84},null,null,null,null,null,null,null,null,null,null,0,{"$f":"I24+O24","v":0},{"$f":"IF((N24-O24)>0,(N24-O24),0)","v":0},{"$f":"IF(C24>0,IF(Q24>L24/C24*12,(L24/C24*12),Q24),0)","v":0},{"$f":"IF(D24>0,IF(Q24>L24/D24*12,(L24/D24*12),Q24),0)","v":0},{"$f":"IF((Q24-R24)>0,(Q24-R24),0)","v":0},null,{"$f":"IF(U24=2.2,(T24+Q24)/2,0)","v":0},{"$f":"IF(U24=0,(T24+Q24)/2,0)","v":0}]
[null,null,null,{"$f":"$D$23","v":84},null,null,null,null,null,null,null,null,null,null,0,{"$f":"I25+O25","v":0},{"$f":"IF((N25-O25)>0,(N25-O25),0)","v":0},{"$f":"IF(C25>0,IF(Q25>L25/C25*12,(L25/C25*12),Q25),0)","v":0},{"$f":"IF(D25>0,IF(Q25>L25/D25*12,(L25/D25*12),Q25),0)","v":0},{"$f":"IF((Q25-R25)>0,(Q25-R25),0)","v":0},null,{"$f":"IF(U25=2.2,(T25+Q25)/2,0)","v":0},{"$f":"IF(U25=0,(T25+Q25)/2,0)","v":0}]
["Добавить"]
["Пятая группа (свыше 7 лет до 10 лет включительно)"]
[null,null,null,120,null,null,null,null,null,null,null,null,null,null,{"$f":"IF(C28>0,IF(N28>L28/C28*9,(L28/C28*9),N28),0)","v":0},{"$f":"I28+O28","v":0},{"$f":"IF((N28-O28)>0,(N28-O28),0)","v":0},{"$f":"IF(C28>0,IF(Q28>L28/C28*12,(L28/C28*12),Q28),0)","v":0},{"$f":"IF(D28>0,IF(Q28>L28/D28*12,(L28/D28*12),Q28),0)","v":0},{"$f":"IF((Q28-R28)>0,(Q28-R28),0)","v":0},null,{"$f":"IF(U28=2.2,(T28+Q28)/2,0)","v":0},{"$f":"IF(U28=0,(T28+Q28)/2,0)","v":0}]
[null,null,null,{"$f":"$D$28","v":120},null,null,null,null,null,null,null,null,null,null,0,{"$f":"I29+O29","v":0},{"$f":"IF((N29-O29)>0,(N29-O29),0)","v":0},{"$f":"IF(C29>0,IF(Q29>L29/C29*12,(L29/C29*12),Q29),0)","v":0},{"$f":"IF(D29>0,IF(Q29>L29/D29*12,(L29/D29*12),Q29),0)","v":0},{"$f":"IF((Q29-R29)>0,(Q29-R29),0)","v":0},null,{"$f":"IF(U29=2.2,(T29+Q29)/2,0)","v":0},{"$f":"IF(U29=0,(T29+Q29)/2,0)","v":0}]
[null,null,null,{"$f":"$D$28","v":120},null,null,null,null,null,null,null,null,null,null,{"$f":"IF(C30>0,IF(N30>L30/C30*9,(L30/C30*9),N30),0)","v":0},{"$f":"I30+O30","v":0},{"$f":"IF((N30-O30)>0,(N30-O30),0)","v":0},{"$f":"IF(C30>0,IF(Q30>L30/C30*12,(L30/C30*12),Q30),0)","v":0},{"$f":"IF(D30>0,IF(Q30>L30/D30*12,(L30/D30*12),Q30),0)","v":0},{"$f":"IF((Q30-R30)>0,(Q30-R30),0)","v":0},null,{"$f":"IF(U30=2.2,(T30+Q30)/2,0)","v":0},{"$f":"IF(U30=0,(T30+Q30)/2,0)","v":0}]
[null,null,null,{"$f":"$D$28","v":120},null,null,null,null,null,null,null,null,null,null,0,{"$f":"I31+O31","v":0},{"$f":"IF((N31-O31)>0,(N31-O31),0)","v":0},{"$f":"IF(C31>0,IF(Q31>L31/C31*12,(L31/C31*12),Q31),0)","v":0},{"$f":"IF(D31>0,IF(Q31>L31/D31*12,(L31/D31*12),Q31),0)","v":0},{"$f":"IF((Q31-R31)>0,(Q31-R31),0)","v":0},null,{"$f":"IF(U31=2.2,(T31+Q31)/2,0)","v":0},{"$f":"IF(U31=0,(T31+Q31)/2,0)","v":0}]
["Добавить"]
["Шестая группа (свыше 10 лет до 15 лет включительно)"]
["Возд. двухц(ВЛ)10кВ от ПС\"Караб.\"доТП13 ф1003,1005",2012,180,180,1398812.18,823901.06,{"$f":"E34-F34","v":574911.11999999988},null,21293.01,null,null,{"$f":"E34","v":1398812.18},{"$f":"F34+I34","v":845194.07000000007},{"$f":"L34-M34","v":553618.10999999987},{"$f":"IF(C34>0,IF(N34>L34/C34*9,(L34/C34*9),N34),0)","v":69940.608999999997},{"$f":"I34+O34","v":91233.618999999992},{"$f":"IF((N34-O34)>0,(N34-O34),0)","v":483677.50099999987},{"$f":"IF(C34>0,IF(Q34>L34/C34*12,(L34/C34*12),Q34),0)","v":93254.145333333319},{"$f":"IF(D34>0,IF(Q34>L34/D34*12,(L34/D34*12),Q34),0)","v":93254.145333333319},{"$f":"IF((Q34-R34)>0,(Q34-R34),0)","v":390423.35566666652},null,{"$f":"IF(U34=2.2,(T34+Q34)/2,0)","v":0},{"$f":"IF(U34=0,(T34+Q34)/2,0)","v":437050.42833333323}]
["Возд. одноц(ВЛ)10кВ от ТП 2 до ТП 62 ф1003",2011,180,180,659289.64,439526.40000000002,{"$f":"E35-F35","v":219763.24},null,10988.16,null,null,{"$f":"E35","v":659289.64},{"$f":"F35+I35","v":450514.56},{"$f":"L35-M35","v":208775.08000000002},32964.482000000004,{"$f":"I35+O35","v":43952.642000000007},{"$f":"IF((N35-O35)>0,(N35-O35),0)","v":175810.598},{"$f":"IF(C35>0,IF(Q35>L35/C35*12,(L35/C35*12),Q35),0)","v":43952.642666666667},{"$f":"IF(D35>0,IF(Q35>L35/D35*12,(L35/D35*12),Q35),0)","v":43952.642666666667},{"$f":"IF((Q35-R35)>0,(Q35-R35),0)","v":131857.95533333335},null,{"$f":"IF(U35=2.2,(T35+Q35)/2,0)","v":0},{"$f":"IF(U35=0,(T35+Q35)/2,0)","v":153834.27666666667}]
["Возд. одноц(ВЛ)10кВ от ТП 55 до ТП 41 ф1022",2012,180,180,748971.92,470188.48,278783.44000000006,null,12482.85,null,null,748971.92,482671.32999999996,266300.59000000008,37448.596000000005,49931.446000000004,228851.99400000006,49931.46133333334,49931.46133333334,178920.53266666672,null,0,203886.26333333339]
["Возд. одноц(ВЛ)10кВ от ТП 55 до ТП3 ф1022",2011,180,180,558227.64,372151.2,186076.44,null,9303.81,null,null,558227.64,381455.01,176772.63,27911.382000000001,37215.192000000003,148861.24799999999,37215.176000000007,37215.176000000007,111646.07199999999,null,0,130253.65999999999]
[" Возд. одноц(ВЛ)10кВ от ТП 55 до ТП54ф1022",2011,180,180,400737.9,267158.40000000002,133579.5,null,6678.98,null,null,400737.9,273837.38,126900.52000000002,20036.895,26715.875,106863.62500000001,26715.86,26715.86,80147.765000000014,null,0,93505.695000000007]
["Возд-каб. двухц(ВЛ)10кВ от ТП 1 до ТП 63ф1003,1005",2013,180,180,2303696.7200000002,1299436.47,1004260.2500000002,null,37194.81,null,null,2303696.7200000002,1336631.28,967065.44000000018,115184.83600000001,152379.64600000001,851880.60400000017,153579.78133333335,153579.78133333335,698300.82266666682,null,0,775090.71333333349]
[" Возд-каб. двухц(ВЛ+КЛ)10кВотПС\"Караб\"доТП51",2013,180,180,8415145.5199999996,4487989.03,3927156.4899999993,null,140255.57999999999,null,null,8415145.5199999996,4628244.6100000003,3786900.9099999992,420757.27599999995,561012.85599999991,3366143.6339999991,561009.70133333327,561009.70133333327,2805133.9326666659,null,0,3085638.7833333323]
["Воздушн. одноц.(ВЛ)10кВ от ТП8 до ТП83,84 ф1001",2013,180,180,616520.09,328810.56,287709.52999999997,null,10275.33,null,null,616520.09,339085.89,277434.19999999995,30826.004499999999,41101.334499999997,246608.19549999994,41101.33933333333,41101.33933333333,205506.85616666661,null,0,226057.52583333326]
["Воздушн. одноцеп. (ВЛ) 10кВ от ТП39 до ТП40 ф1004",2013,180,180,700537.25,385295.13,315242.12,null,11675.64,null,null,700537.25,396970.77,303566.48,35026.862500000003,46702.502500000002,268539.61749999999,46702.483333333337,46702.483333333337,221837.13416666666,null,0,245188.37583333332]
[" Воздушн. одноцеп. (ВЛ) 10кВ отТП38 доТП39 ф1004",2013,180,180,1096068.19,602837.73,493230.45999999996,null,18267.79,null,null,1096068.19,621105.52,474962.66999999993,54803.409499999994,73071.199499999988,420159.26049999992,73071.212666666659,73071.212666666659,347088.04783333326,null,0,383623.65416666656]
[" Воздушн. одноцеп. (ВЛ) 10кВ отТП40 доТП58/37 ф1004",2013,180,180,537327.69999999995,295529.84999999998,241797.84999999998,null,8955.48,null,null,537327.69999999995,304485.32999999996,232842.37,26866.384999999998,35821.864999999998,205975.98499999999,35821.846666666665,35821.846666666665,170154.13833333331,null,0,188065.06166666665]
["Воздушн. одноцеп. (ВЛ) 10кВ отТП55 доТП56 ф1022",2013,180,180,833308.07,458319.51,374988.55999999994,null,13888.47,null,null,833308.07,472207.98,361100.08999999997,41665.4035,55553.873500000002,319434.68649999995,55553.871333333329,55553.871333333329,263880.81516666664,null,0,291657.7508333333]
[" Воздушн. одноцеп. (ВЛ) 10кВ отТП56 доТП20 ф1022",2013,180,180,429493.27,236220.93,193272.34000000003,null,7158.24,null,null,429493.27,243379.16999999998,186114.10000000003,21474.663500000002,28632.9035,164639.43650000004,28632.884666666669,28632.884666666669,136006.55183333336,null,0,150322.9941666667]
["Воздушн. одноцеп.(ВЛ)10кВ от опоры №16доТП44 ф1001",2013,180,180,187578.58,100041.60000000001,87536.979999999981,null,3126.33,null,null,187578.58,103167.93000000001,84410.64999999998,9378.9290000000001,12505.259,75031.720999999976,12505.238666666668,12505.238666666668,62526.482333333304,null,0,68779.10166666664]
[" Воздушная двухц(ВЛ)10кВ от ТП1 до ТП61 ф1003,1005",2011,180,180,641304.05000000005,427536,213768.05000000005,null,10688.4,null,null,641304.05000000005,438224.4,203079.65000000002,32065.202499999999,42753.602500000001,171014.44750000001,42753.603333333333,42753.603333333333,128260.84416666668,null,0,149637.64583333334]
[" Воздушная двухц(ВЛ)10кВ от ТП13 до ТП1 ф1003,1005",2013,180,180,2130397.7200000002,1204954.28,925443.44000000018,null,34275.69,null,null,2130397.7200000002,1239229.97,891167.75000000023,106519.886,140795.576,784647.86400000029,142026.51466666668,142026.51466666668,642621.34933333355,null,0,713634.60666666692]
[" Воздушная двухц(ВЛ)10кВ от ТП72-ТП8-ТП32-ТП18 ф1001,1005",2014,180,180,4547113.62,2273556.6,2273557.02,null,75785.22,null,null,4547113.62,2349341.8200000003,2197771.7999999998,227355.68100000001,303140.90100000001,1970416.1189999997,303140.90800000005,303140.90800000005,1667275.2109999997,null,0,1818845.6649999996]
["ВЛ 10кВ ТП №11-ТП №66 Ф 1001",2015,180,180,2604937.89,1085391,1519546.8900000001,null,43415.64,null,null,2604937.89,1128806.6399999999,1476131.2500000002,130246.89450000001,173662.53450000001,1345884.3555000003,173662.52600000001,173662.52600000001,1172221.8295000002,null,0,1259053.0925000003]
["ВЛ 10кВ ТП №12-ТП №11 Ф 1001",2015,180,180,1804578.12,781983.54,1022594.5800000001,null,30076.32,null,null,1804578.12,812059.86,992518.26000000013,90228.906000000017,120305.22600000002,902289.35400000005,120305.20800000001,120305.20800000001,781984.14600000007,null,0,842136.75]
["ВЛ 0,4 кВ и мачтовые подстанции №94 ул.Первомайская, №90 ул.Пионерская, №97 ВРУ 0,4 кВ",2017,180,180,8559056.2200000007,2626227.0099999998,5932829.2100000009,null,144703.14000000001,null,null,8559056.2200000007,2770930.15,5788126.0700000003,427952.81099999999,572655.951,5360173.2590000005,570603.74800000002,570603.74800000002,4789569.5110000009,null,0,5074871.3850000007]
["ВЛ 10 кВ и мачтовые подстанции №93 СНТ \"Заря\" и №92 ул.Красногорская",2017,180,180,1460815.16,453647.56,1007167.5999999999,null,24565.05,null,null,1460815.16,478212.61,982602.54999999993,73040.758000000002,97605.808000000005,909561.7919999999,97387.677333333326,97387.677333333326,812174.1146666666,null,0,860867.95333333325]
["ВЛ 0,4 кВ от ТП 41 до ул. Мира 30А",2015,180,180,171464.46,74301.240000000005,97163.219999999987,null,2857.74,null,null,171464.46,77158.98000000001,94305.479999999981,8573.223,11430.963,85732.256999999983,11430.964,11430.964,74301.292999999976,null,0,80016.77499999998]
["ВЛ от ТП 32 по ул. Красноармейская с подкл. В ТП 18",2015,180,180,245516.82,106390.44,139126.38,null,4091.94,null,null,245516.82,110482.38,135034.44,12275.841,16367.781000000001,122758.599,16367.788,16367.788,106390.811,null,0,114574.705]
["Воздушная линия 10 кВ Ф1004",2017,180,180,5287101.45,1674249.03,3612852.42,null,88118.34,null,null,5287101.45,1762367.37,3524734.08,264355.07250000001,352473.41249999998,3260379.0075000003,352473.43000000005,352473.43000000005,2907905.5775000001,null,0,3084142.2925000004]
["Воздушная двухц(ВЛ)10кВ от ТП2 до ТП22 ф1003,1005",2011,180,180,192147.14,128097.60000000001,64049.540000000008,null,3202.47,null,null,192147.14,131300.07,60847.070000000007,9607.357,12809.826999999999,51239.713000000003,12809.809333333335,12809.809333333335,38429.903666666665,null,0,44834.808333333334]
["ВЛ 10кВ энергетический комплекс \"Больница\" Ф 1001",2018,180,180,4726559.22,1234157.02,3492402.1999999997,null,78775.98,null,null,4726559.22,1312933,3413626.2199999997,236327.96100000001,315103.94099999999,3177298.2589999996,315103.94799999997,315103.94799999997,2862194.3109999998,null,0,3019746.2849999997]
["Воздушная линия 0,4 кВ от ТП45",2018,180,180,4600845.55,920169,3680676.55,null,76680.75,null,null,4600845.55,996849.75,3603995.8,230042.27749999997,306723.02749999997,3373953.5225,306723.03666666662,306723.03666666662,3067230.4858333333,null,0,3220592.0041666664]
["ВЛ 10 кВ ТП72-ТП62",2018,180,180,1554512.01,328174.84000000003,1226337.17,null,25908.54,null,null,1554512.01,354083.38,1200428.6299999999,77725.6005,103634.14050000001,1122703.0294999999,103634.13399999999,103634.13399999999,1019068.8955,null,0,1070885.9624999999]
["ВЛ 10 кВ (двухцепная) от ПС \"Карабаново\" до ТП12 Ф1001 ул.Иванова",2019,180,180,3604938.1,660905.18999999994,2944032.91,null,60082.29,null,null,3604938.1,720987.48,2883950.62,180246.905,240329.19500000001,2703703.7150000003,240329.20666666667,240329.20666666667,2463374.5083333338,null,0,2583539.1116666673]
["ВЛ 10 кВ (двухцепная) от ТП10 до ТП27 Ф1001 ул.Горького-Больничный городок",2019,180,180,2138149.4,391994.13,1746155.27,null,35635.83,null,null,2138149.4,427629.96,1710519.44,106907.47,142543.29999999999,1603611.97,142543.29333333333,142543.29333333333,1461068.6766666668,null,0,1532340.3233333332]
["ВЛ 10 кВ (двухцепная) от ТП12 до ТП62 Ф1001 ул.Иванова-2я Школьная",2019,180,180,1783832.9,327035.94,1456796.96,null,29730.54,null,null,1783832.9,356766.48,1427066.42,89191.645000000004,118922.185,1337874.7749999999,118922.19333333333,118922.19333333333,1218952.5816666665,null,0,1278413.6783333332]
["КРУН (10 кВ) на выходе из ПС\"Карабаново\" Ф1003 (2 ячейки)",2019,180,180,2341653.73,131718.15,2209935.58,null,14635.33,null,null,2341653.73,146353.47999999998,2195300.25,117082.68650000001,131718.0165,2078217.5634999999,156110.24866666668,156110.24866666668,1922107.3148333333,null,0,2000162.4391666665]
["КРУН (10 кВ) на выходе из ПС\"Карабаново\" Ф1001 (1 ячейка)",2019,180,180,1010134.84,56820.15,953314.69,null,6313.35,null,null,1010134.84,63133.5,947001.34,50506.741999999998,56820.091999999997,896494.598,67342.32266666666,67342.32266666666,829152.27533333329,null,0,862823.43666666665]
["КРУН (10 кВ) на выходе из ПС\"Карабаново\" Ф1022 (2 ячейки)",2019,180,180,2240770.81,121375.02,2119395.79,null,14035.74,null,null,2240770.81,135410.76,2105360.0499999998,112038.5405,126074.28050000001,1993321.5094999997,149384.72066666666,149384.72066666666,1843936.7888333329,null,0,1918629.1491666664]
["ВЛ 0,4 кВ и мачтовые подстанции от ТП №11",2017,180,180,5742091.2599999998,1882130.09,3859961.17,null,31900.51,null,null,5742091.2599999998,1914030.6,3828060.6599999997,287104.56299999997,319005.07299999997,3540956.0969999996,382806.08399999997,382806.08399999997,3158150.0129999998,null,0,3349553.0549999997]
["ВЛ 0,4 кВ ул.Почтовая",2017,180,180,788791.59,258548.62,530242.97,null,4382.17,null,null,788791.59,262930.78999999998,525860.80000000005,39439.579499999993,43821.749499999991,486421.22050000005,52586.105999999992,52586.105999999992,433835.11450000008,null,0,460128.1675000001]
["ВЛ 0,4 кВ ул.Зеленая и мачтовая подстанция №100",2017,180,180,1295023.1200000001,424479.63,870543.49000000011,null,7194.57,null,null,1295023.1200000001,431674.2,863348.92000000016,64751.15600000001,71945.72600000001,798597.7640000002,86334.87466666667,86334.87466666667,712262.88933333359,null,0,755430.32666666689]
["ВЛ 0,4 кВ и мачтовые трансформаторные подстанции от ТП№8",2017,180,180,7584542.8899999997,2486044.65,5098498.24,null,42136.35,null,null,7584542.8899999997,2528181,5056361.8899999997,379227.14449999994,421363.49449999991,4677134.7455000002,505636.19266666658,505636.19266666658,4171498.5528333336,null,0,4424316.6491666669]
["ВЛ 0,4 кВ от ТП №102 ул.Строителей, ул.Красноармейская",2017,180,180,2063779.82,653530.07999999996,1410249.7400000002,null,11465.45,null,null,2063779.82,664995.52999999991,1398784.29,103188.99100000001,114654.44100000001,1295595.2990000001,137585.32133333333,137585.32133333333,1158009.9776666667,null,0,1226802.6383333334]
["ВЛ 0,4 кВ от ТП №35 1-ый Садовый пер., Баня, Детский Дом ул.Гагарина",2017,180,180,1747422.6,553350.30000000005,1194072.3,null,9707.9,null,null,1747422.6,563058.20000000007,1184364.3999999999,87371.13,97079.03,1096993.27,116494.84,116494.84,980498.43,null,0,1038745.8500000001]
["ВЛ 0,4 кВ от ТП №40 с тех.прис. Ул.1я Воронцова,2я Воронцова",2020,180,180,2055747.5,201122.43,1854625.07,null,34344.9,null,null,2055747.5,235467.33,1820280.17,102787.375,137132.27499999999,1717492.7949999999,137049.83333333334,137049.83333333334,1580442.9616666667,null,0,1648967.8783333334]
["ВЛ 10кВ (двухцепная) от ТП 72 до ж/д перехода Ф 1003,1005",2020,180,180,408180.19,34015.050000000003,374165.14,null,6803.01,null,null,408180.19,40818.060000000005,367362.13,20409.0095,27212.019500000002,346953.12050000002,27212.012666666669,27212.012666666669,319741.10783333337,null,0,333347.1141666667]
["ВЛ 10кВ (двуцепная) от ТП63 до ТП64 Ф1003,1005",2021,180,{"$f":"$D$34","v":180},1958259.3,65275.32,1892983.98,null,32637.66,null,null,1958259.3,97912.98,1860346.32,97912.965000000011,{"$f":"I76+O76","v":130550.62500000001},{"$f":"IF((N76-O76)>0,(N76-O76),0)","v":1762433.355},{"$f":"IF(C76>0,IF(Q76>L76/C76*12,(L76/C76*12),Q76),0)","v":130550.62000000001},{"$f":"IF(D76>0,IF(Q76>L76/D76*12,(L76/D76*12),Q76),0)","v":130550.62000000001},{"$f":"IF((Q76-R76)>0,(Q76-R76),0)","v":1631882.7349999999},null,{"$f":"IF(U76=2.2,(T76+Q76)/2,0)","v":0},{"$f":"IF(U76=0,(T76+Q76)/2,0)","v":1697158.0449999999}]
["ВЛ 10кВ (двуцепная) от ТП76 до ТП19 Ф1003,1005",2021,180,{"$f":"$D$34","v":180},1279460,21324.33,1258135.67,null,21324.33,null,null,1279460,42648.66,1236811.3400000001,63973,{"$f":"I77+O77","v":85297.33},{"$f":"IF((N77-O77)>0,(N77-O77),0)","v":1172838.3400000001},{"$f":"IF(C77>0,IF(Q77>L77/C77*12,(L77/C77*12),Q77),0)","v":85297.333333333343},{"$f":"IF(D77>0,IF(Q77>L77/D77*12,(L77/D77*12),Q77),0)","v":85297.333333333343},{"$f":"IF((Q77-R77)>0,(Q77-R77),0)","v":1087541.0066666668},null,{"$f":"IF(U77=2.2,(T77+Q77)/2,0)","v":0},{"$f":"IF(U77=0,(T77+Q77)/2,0)","v":1130189.6733333333}]
["Добавить"]
["Седьмая группа (свыше 15 лет до 20 лет включительно)"]
[" Трансформаторная подстанция ТП 61 10/0,4-250кВА",2011,240,240,1636018.1,818008.8,{"$f":"E80-F80","v":818009.3},null,{"$f":"6816.74*3","v":20450.22},null,null,{"$f":"E80","v":1636018.1},{"$f":"F80+I80","v":838459.02},{"$f":"L80-M80","v":797559.08000000007},{"$f":"IF(C80>0,IF(N80>L80/C80*9,(L80/C80*9),N80),0)","v":61350.678749999999},{"$f":"I80+O80","v":81800.898749999993},{"$f":"IF((N80-O80)>0,(N80-O80),0)","v":736208.40125000011},{"$f":"IF(C80>0,IF(Q80>L80/C80*12,(L80/C80*12),Q80),0)","v":81800.904999999999},{"$f":"IF(D80>0,IF(Q80>L80/D80*12,(L80/D80*12),Q80),0)","v":81800.904999999999},{"$f":"IF((Q80-R80)>0,(Q80-R80),0)","v":654407.49625000008},null,{"$f":"IF(U80=2.2,(T80+Q80)/2,0)","v":0},{"$f":"IF(U80=0,(T80+Q80)/2,0)","v":695307.9487500001}]
[" Трансформаторная подстанция ТП 66 10/0,4-250кВА",2011,240,{"$f":"$D$80","v":240},1653625.37,744131.88,{"$f":"E81-F81","v":909493.49000000011},null,{"$f":"7579.11*3","v":22737.329999999998},null,null,{"$f":"E81","v":1653625.37},{"$f":"F81+I81","v":766869.21},{"$f":"L81-M81","v":886756.16000000015},62010.951375000004,{"$f":"I81+O81","v":84748.281375000006},{"$f":"IF((N81-O81)>0,(N81-O81),0)","v":824745.2086250002},{"$f":"IF(C81>0,IF(Q81>L81/C81*12,(L81/C81*12),Q81),0)","v":82681.268500000006},{"$f":"IF(D81>0,IF(Q81>L81/D81*12,(L81/D81*12),Q81),0)","v":82681.268500000006},{"$f":"IF((Q81-R81)>0,(Q81-R81),0)","v":742063.9401250002},null,{"$f":"IF(U81=2.2,(T81+Q81)/2,0)","v":0},{"$f":"IF(U81=0,(T81+Q81)/2,0)","v":783404.5743750002}]
[" Мачтовая ТП 95 10/0,4-100кВА",2014,240,{"$f":"$D$80","v":240},334555.90999999997,125458.2,209097.70999999996,null,{"$f":"1393.98*3","v":4181.9400000000005},null,null,334555.90999999997,129640.14,204915.76999999996,{"$f":"IF(C82>0,IF(N82>L82/C82*9,(L82/C82*9),N82),0)","v":12545.846625},{"$f":"I82+O82","v":16727.786625000001},{"$f":"IF((N82-O82)>0,(N82-O82),0)","v":192369.92337499995},{"$f":"IF(C82>0,IF(Q82>L82/C82*12,(L82/C82*12),Q82),0)","v":16727.7955},{"$f":"IF(D82>0,IF(Q82>L82/D82*12,(L82/D82*12),Q82),0)","v":16727.7955},{"$f":"IF((Q82-R82)>0,(Q82-R82),0)","v":175642.12787499995},null,{"$f":"IF(U82=2.2,(T82+Q82)/2,0)","v":0},{"$f":"IF(U82=0,(T82+Q82)/2,0)","v":184006.02562499995}]
[" Мачтовая ТП 96 10/0,4-100кВА",2014,240,{"$f":"$D$80","v":240},334555.90999999997,125458.2,209097.70999999996,null,{"$f":"1393.98*3","v":4181.9400000000005},null,null,334555.90999999997,129640.14,204915.76999999996,12545.846625,{"$f":"I83+O83","v":16727.786625000001},{"$f":"IF((N83-O83)>0,(N83-O83),0)","v":192369.92337499995},{"$f":"IF(C83>0,IF(Q83>L83/C83*12,(L83/C83*12),Q83),0)","v":16727.7955},{"$f":"IF(D83>0,IF(Q83>L83/D83*12,(L83/D83*12),Q83),0)","v":16727.7955},{"$f":"IF((Q83-R83)>0,(Q83-R83),0)","v":175642.12787499995},null,{"$f":"IF(U83=2.2,(T83+Q83)/2,0)","v":0},{"$f":"IF(U83=0,(T83+Q83)/2,0)","v":184006.02562499995}]
["Мачтовая ТП 88 10/0,4-100кВА ул. Чулкова",2017,240,{"$f":"$D$80","v":240},296331.11,72847.89,223483.21999999997,null,1234.71,null,null,296331.11,74082.600000000006,222248.50999999998,11112.416625,{"$f":"I84+O84","v":12347.126625000001},{"$f":"IF((N84-O84)>0,(N84-O84),0)","v":211136.09337499997},{"$f":"IF(C84>0,IF(Q84>L84/C84*12,(L84/C84*12),Q84),0)","v":14816.555499999999},{"$f":"IF(D84>0,IF(Q84>L84/D84*12,(L84/D84*12),Q84),0)","v":14816.555499999999},{"$f":"IF((Q84-R84)>0,(Q84-R84),0)","v":196319.53787499998},null,{"$f":"IF(U84=2.2,(T84+Q84)/2,0)","v":0},{"$f":"IF(U84=0,(T84+Q84)/2,0)","v":203727.81562499999}]
["Добавить"]
["Восьмая группа (свыше 20 лет до 25 лет включительно)"]
[null,null,null,300,null,null,null,null,null,null,null,null,null,null,{"$f":"IF(C87>0,IF(N87>L87/C87*9,(L87/C87*9),N87),0)","v":0},{"$f":"I87+O87","v":0},{"$f":"IF((N87-O87)>0,(N87-O87),0)","v":0},{"$f":"IF(C87>0,IF(Q87>L87/C87*12,(L87/C87*12),Q87),0)","v":0},{"$f":"IF(D87>0,IF(Q87>L87/D87*12,(L87/D87*12),Q87),0)","v":0},{"$f":"IF((Q87-R87)>0,(Q87-R87),0)","v":0},null,{"$f":"IF(U87=2.2,(T87+Q87)/2,0)","v":0},{"$f":"IF(U87=0,(T87+Q87)/2,0)","v":0}]
[null,null,null,{"$f":"$D$87","v":300},null,null,null,null,null,null,null,null,null,null,0,{"$f":"I88+O88","v":0},{"$f":"IF((N88-O88)>0,(N88-O88),0)","v":0},{"$f":"IF(C88>0,IF(Q88>L88/C88*12,(L88/C88*12),Q88),0)","v":0},{"$f":"IF(D88>0,IF(Q88>L88/D88*12,(L88/D88*12),Q88),0)","v":0},{"$f":"IF((Q88-R88)>0,(Q88-R88),0)","v":0},null,{"$f":"IF(U88=2.2,(T88+Q88)/2,0)","v":0},{"$f":"IF(U88=0,(T88+Q88)/2,0)","v":0}]
[null,null,null,{"$f":"$D$87","v":300},null,null,null,null,null,null,null,null,null,null,0,{"$f":"I89+O89","v":0},{"$f":"IF((N89-O89)>0,(N89-O89),0)","v":0},{"$f":"IF(C89>0,IF(Q89>L89/C89*12,(L89/C89*12),Q89),0)","v":0},{"$f":"IF(D89>0,IF(Q89>L89/D89*12,(L89/D89*12),Q89),0)","v":0},{"$f":"IF((Q89-R89)>0,(Q89-R89),0)","v":0},null,{"$f":"IF(U89=2.2,(T89+Q89)/2,0)","v":0},{"$f":"IF(U89=0,(T89+Q89)/2,0)","v":0}]
["Добавить"]
["Девятая группа (свыше 25 лет до 30 лет включительно)"]
[" Трансформаторная подстанция ТП 44 10/0,4-250кВА",2013,360,360,298798.03000000003,79679.039999999994,{"$f":"E92-F92","v":219118.99000000005},null,{"$f":"830*3","v":2490},null,null,{"$f":"E92","v":298798.03000000003},{"$f":"F92+I92","v":82169.039999999994},{"$f":"L92-M92","v":216628.99000000005},{"$f":"IF(C92>0,IF(N92>L92/C92*9,(L92/C92*9),N92),0)","v":7469.9507500000009},{"$f":"I92+O92","v":9959.95075},{"$f":"IF((N92-O92)>0,(N92-O92),0)","v":209159.03925000006},{"$f":"IF(C92>0,IF(Q92>L92/C92*12,(L92/C92*12),Q92),0)","v":9959.9343333333345},{"$f":"IF(D92>0,IF(Q92>L92/D92*12,(L92/D92*12),Q92),0)","v":9959.9343333333345},{"$f":"IF((Q92-R92)>0,(Q92-R92),0)","v":199199.10491666672},null,{"$f":"IF(U92=2.2,(T92+Q92)/2,0)","v":0},{"$f":"IF(U92=0,(T92+Q92)/2,0)","v":204179.07208333339}]
[null,null,null,{"$f":"$D$92","v":360},null,null,null,null,null,null,null,null,null,null,0,0,0,0,0,0,null,0,0]
[null,null,null,360,null,null,null,null,null,null,null,null,null,null,{"$f":"IF(C94>0,IF(N94>L94/C94*9,(L94/C94*9),N94),0)","v":0},0,0,0,0,0,null,0,0]
[null,null,null,360,null,null,null,null,null,null,null,null,null,null,0,0,0,0,0,0,null,0,0]
[null,null,null,360,null,null,null,null,null,null,null,null,null,null,0,0,0,0,0,0,null,0,0]
[null,null,null,360,null,null,null,null,null,null,null,null,null,null,0,0,0,0,0,0,null,0,0]
[null,null,null,360,null,null,null,null,null,null,null,null,null,null,0,0,0,0,0,0,null,0,0]
["Добавить"]
["Десятая группа (свыше 30 лет)"]
[" Трансформаторная подстанция ТП 38 10/0,4-250кВА",2013,479.99956400174403,{"$f":"MAX(361,C101)","v":479.99956400174403},1200003.71,240000.96,{"$f":"E101-F101","v":960002.75},null,{"$f":"2500.01*3","v":7500.0300000000007},null,null,{"$f":"E101","v":1200003.71},{"$f":"F101+I101","v":247500.99},{"$f":"L101-M101","v":952502.72},{"$f":"IF(C101>0,IF(N101>L101/C101*9,(L101/C101*9),N101),0)","v":22500.089999999997},{"$f":"I101+O101","v":30000.119999999995},{"$f":"IF((N101-O101)>0,(N101-O101),0)","v":930002.63},{"$f":"IF(C101>0,IF(Q101>L101/C101*12,(L101/C101*12),Q101),0)","v":30000.119999999995},{"$f":"IF(D101>0,IF(Q101>L101/D101*12,(L101/D101*12),Q101),0)","v":30000.119999999995},{"$f":"IF((Q101-R101)>0,(Q101-R101),0)","v":900002.51},null,{"$f":"IF(U101=2.2,(T101+Q101)/2,0)","v":0},{"$f":"IF(U101=0,(T101+Q101)/2,0)","v":915002.57000000007}]
[" Трансформаторная подстанция ТП 39 10/0,4-250кВА",2013,479.99999165287079,{"$f":"MAX(361,C102)","v":479.99999165287079},1725143.97,345028.8,{"$f":"E102-F102","v":1380115.17},null,{"$f":"3594.05*3","v":10782.150000000001},null,null,{"$f":"E102","v":1725143.97},{"$f":"F102+I102","v":355810.95},{"$f":"L102-M102","v":1369333.02},32346.449999999993,43128.599999999991,1336986.57,43128.599999999991,43128.599999999991,1293857.97,null,0,1315422.27]
[" Трансформаторная подстанция ТП 45 10/0,4-250кВА",2013,600.00067556451631,600.00067556451631,1714123.93,356940.84,1357183.0899999999,null,{"$f":"2692.82*3","v":8078.4600000000009},null,null,1714123.93,365019.30000000005,1349104.63,25711.83,33790.29,1323392.7999999998,34282.44,34282.44,1289110.3599999999,null,0,1306251.5799999998]
[" Трансформаторная подстанция ТП 51 Очистные сооружения",2013,599.99971256149593,{"$f":"MAX(361,C104)","v":599.99971256149593},4153930.01,664629.12,3489300.8899999997,null,{"$f":"6923.22*3","v":20769.66},null,null,4153930.01,685398.78,3468531.2299999995,{"$f":"IF(C104>0,IF(N104>L104/C104*9,(L104/C104*9),N104),0)","v":62308.98},83078.64,3406222.2499999995,83078.64,83078.64,3323143.6099999994,null,0,3364682.9299999997]
[" Трансформаторная подстанция ТП 54 10/0,4-250кВА",2013,479.99990465669839,479.99990465669839,1459986.91,429382.2,1030604.71,null,{"$f":"2683.87*3","v":8051.61},null,null,1459986.91,437433.81,1022553.0999999999,27374.759999999995,35426.369999999995,995178.33999999985,36499.679999999993,36499.679999999993,958678.65999999992,null,0,976928.49999999988]
[" Трансформаторная подстанция ТП 55 10/0,4-400кВА",2013,480.00002044724948,480.00002044724948,2112753.69,523512.56,1589241.13,null,{"$f":"4138.65*3","v":12415.949999999999},null,null,2112753.69,535928.51,1576825.18,39614.129999999997,52030.079999999994,1537211.05,52818.84,52818.84,1484392.21,null,0,1510801.63]
[" Трансформаторная подстанция ТП 56 10/0,4-400кВА*2",2013,599.9999424645664,599.9999424645664,3337073.68,533931.84,2803141.8400000003,null,{"$f":"5561.79*3","v":16685.37},null,null,3337073.68,550617.21,2786456.47,50056.109999999993,66741.48,2736400.3600000003,66741.479999999981,66741.479999999981,2669658.8800000004,null,0,2703029.62]
[" Трансформаторная подстанция ТП 62 10/0,4-400кВА",2013,600.00037774829059,600.00037774829059,4367990.75,872310.14,3495680.61,null,{"$f":"6935.87*3","v":20807.61},null,null,4367990.75,893117.75,3474873,65519.819999999992,86327.43,3409353.18,87359.76,87359.76,3321993.4200000004,null,0,3365673.3000000003]
[" Трансформаторная подстанция ТП 63 10/0,4-400кВА*2",2013,599.99966758940081,599.99966758940081,4241739.6500000004,678678.72,3563060.9300000006,null,{"$f":"7069.57*3","v":21208.71},null,null,4241739.6500000004,699887.42999999993,3541852.2200000007,63626.13,84834.84,3478226.0900000008,84834.84,84834.84,3393391.2500000009,null,0,3435808.6700000009]
[" Трансформаторная подстанция ТП 91 10/0,4-250кВА",2013,479.99976604428809,479.99976604428809,1702885.57,340577.28000000003,1362308.29,null,{"$f":"3547.68*3","v":10643.039999999999},null,null,1702885.57,351220.32,1351665.25,31929.120000000003,42572.160000000003,1319736.1299999999,42572.160000000003,42572.160000000003,1277163.97,null,0,1298450.0499999998]
[" Трансформаторная подстанция ТП 10 10/0,4-100кВА",2015,599.99941718394518,599.99941718394518,1708942.34,205073.28,1503869.06,null,{"$f":"2848.24*3","v":8544.7199999999993},null,null,1708942.34,213618,1495324.34,25634.160000000003,34178.880000000005,1469690.1800000002,34178.880000000005,34178.880000000005,1435511.3000000003,null,0,1452600.7400000002]
[" Трансформаторная подстанция ТП 11 10/0,4-250кВА",2015,600.00084675522498,600.00084675522498,1339231.8899999999,160707.6,1178524.2899999998,null,{"$f":"2232.05*3","v":6696.1500000000005},null,null,1339231.8899999999,167403.75,1171828.1399999999,20088.449999999997,26784.6,1151739.69,26784.6,26784.6,1124955.0899999999,null,0,1138347.3899999999]
[" Трансформаторная подстанция ТП 58/37 10/0,4-250кВА*2",2015,599.9992536559198,599.9992536559198,2315283.12,277834.32,2037448.8,null,{"$f":"3858.8*3","v":11576.400000000001},null,null,2315283.12,289410.72000000003,2025872.4000000001,34729.29,46305.69,1991143.11,46305.72,46305.72,1944837.3900000001,null,0,1967990.25]
["Подстанция ТП-13",2015,600.00210828592708,600.00210828592708,660254.31999999995,79230.240000000005,581024.07999999996,null,{"$f":"1100.42*3","v":3301.26},null,null,660254.31999999995,82531.5,577722.81999999995,9903.7800000000007,13205.04,567819.03999999992,13205.04,13205.04,554613.99999999988,null,0,561216.5199999999]
["Подстанция ТП-2",2015,599.99929441906033,599.99929441906033,875872.97,105104.88,770768.09,null,{"$f":"1459.79*3","v":4379.37},null,null,875872.97,109484.25,766388.72,13138.109999999997,17517.479999999996,753250.61,17517.479999999996,17517.479999999996,735733.13,null,0,744491.87]
["КТП 41 ул. Мира",2018,480,480,5933777.6699999999,581015.88,5352761.79,null,{"$f":"12362.04*3","v":37086.120000000003},null,null,5933777.6699999999,618102,5315675.67,111258.3313125,148344.45131249999,5204417.3386875,148344.44175,148344.44175,5056072.8969374998,null,0,5130245.1178124994]
[" Трансформаторная подстанция ТП 40 10/0,4-250кВА ул.1-я Воронцова",2017,480,480,2028474.33,249333.41,1779140.9200000002,null,4225.99,null,null,2028474.33,253559.4,1774914.9300000002,38033.8936875,42259.883687499998,1736881.0363125002,50711.858250000005,50711.858250000005,1686169.1780625002,null,0,1711525.1071875002]
[" Трансформаторная подстанция ТП 72 10/0,4-400кВА*2",2020,480,480,7627241.5199999996,282177.33,{"$f":"E118-F118","v":7345064.1899999995},null,{"$f":"15898.41*3","v":47695.229999999996},null,null,{"$f":"E118","v":7627241.5199999996},329872.56,{"$f":"L118-M118","v":7297368.96},143010.77849999999,190706.0085,7154358.1814999999,190681.038,190681.038,6963677.1435000002,null,0,7059017.6624999996]
[" Трансформаторная подстанция ТП 64 10/0,4-250кВА",2020,480,480,6633690.1399999997,13820.19,6619869.9499999993,null,{"$f":"13820.19*3","v":41460.57},null,null,6633690.1399999997,55280.76,6578409.3799999999,124381.69012499999,165842.260125,6454027.6898750002,165842.25349999999,165842.25349999999,6288185.4363750005,null,0,6371106.5631250003]
["Добавить"]
["Неамортизируемое имущество (Земельные участки)"]
[null,null,null,null,null,null,null,null,null,null,null,null,null,null,"х","х","х","х","х",{"$f":"Q122","v":"х"},"х","х","х"]
[null,null,null,null,null,null,null,null,null,null,null,null,null,null,"х","х","х","х","х",{"$f":"Q123","v":"х"},"х","х","х"]
[null,null,null,null,null,null,null,null,null,null,null,null,null,null,"х","х","х","х","х",{"$f":"Q124","v":"х"},"х","х","х"]
[null,null,null,null,null,null,null,null,null,null,null,null,null,null,"х","х","х","х","х",{"$f":"Q125","v":"х"},"х","х","х"]
[null,null,null,null,null,null,null,null,null,null,null,null,null,null,"х","х","х","х","х",{"$f":"Q126","v":"х"},"х","х","х"]
["Добавить"]
["Итого","x","x","x",{"$f":"SUM(E7:E126)","v":155147126.75},41060784.190000013,114086342.56000003,0,1674204.17,0,0,155147126.75,42734988.360000007,112412138.39000002,{"$f":"SUM(O8:O10)+SUM(O13:O15)+SUM(O18:O20)+SUM(O23:O25)+SUM(O28:O31)+SUM(O34:O77)+SUM(O80:O84)+SUM(O87:O89)+SUM(O92:O98)+SUM(O101:O119)+SUM(O122:O126)","v":5880943.7018750003},7555147.8718750011,106531194.68812498,7841258.2691666652,7841258.2691666652,98689936.418958336,"х",{"$f":"SUM(V8:V10)+SUM(V13:V15)+SUM(V18:V20)+SUM(V23:V25)+SUM(V28:V31)+SUM(V34:V77)+SUM(V80:V84)+SUM(V87:V89)+SUM(V92:V98)+SUM(V101:V119)","v":0},{"$f":"SUM(W8:W10)+SUM(W13:W15)+SUM(W18:W20)+SUM(W23:W25)+SUM(W28:W31)+SUM(W34:W77)+SUM(W80:W84)+SUM(W87:W89)+SUM(W92:W98)+SUM(W101:W119)+SUM(W122:W126)","v":102610565.55354168}]
[]
["Руководитель организации                          В.М.Окунев",null,null,null,null,{"$f":"'[23]Инф-я'!$C$21","v":0}]

{"sheet":"Ввод выбытие ОС  ","index":9,"n_rows":31,"n_cols":21,"rows_kept":31,"cut":false,"hidden":false,"merged":[[11,0,11,20],[1,0,1,16],[3,0,3,16],[5,0,6,0],[5,1,5,10],[5,11,5,20],[28,0,28,4],[30,0,31,16],[15,0,15,16],[15,17,15,23],[18,0,19,0],[25,0,25,20],[18,11,18,20],[18,1,18,10]]}
[]
["Справка о вводе основных средств в 2022 году  (с 01.04.2022 г.), участвующих в передаче электрической энергии"]
[]
[{"$f":"'Инф-я'!C14","v":"ООО \"Энергетик\""}]
[]
["Наименование вводимых  объектов основных фондов","По данным организации",null,null,null,null,null,null,null,null,null,"По данным экспертов"]
[null,"Является ли  ОС недвижимым имуществом? (да/нет)","Амортизационная группа","Порядковый номер месяца ввода","Первоначальная стоимость, тыс. руб. ","Норма амортизационных отчислений, %","Корректировка годовой суммы амортизационных отчислений по вводимым объектам (тыс. руб.)","Амортизация  2022 год","Остаточная стоимость на 01.01.2023","Остаточная стоимость на 01.01.2024","Среднегодовая остаточная стоимость ОС за 2023 год","Является ли  ОС недвижимым имуществом? (да/нет)","Амортизационная группа","Порядковый номер месяца ввода","Первоначальная стоимость, тыс. руб. ","Норма амортизационных отчислений, %","Корректировка годовой суммы амортизационных отчислений по вводимым объектам (тыс. руб.)","Амортизация  2022 год","Остаточная стоимость на 01.01.2023","Остаточная стоимость на 01.01.2024","Среднегодовая остаточная стоимость ОС за 2023 год"]
[1,2,3,4,5,6,7,8,9,10,11,12,13,14,15,16,17,18,19,20,21]
["Строительство ТП №76  ","да",10,7,7613.86,2.5000000000000001E-2,{"$f":"E9*F9","v":190.34649999999999},{"$f":"(12-D9)*E9/12*F9","v":79.311041666666654},{"$f":"E9-H9","v":7534.5489583333328},{"$f":"I9-G9","v":7344.2024583333332},{"$f":"IF(B9=\"да\",(I9+J9)/2,\"\")","v":7439.375708333333},null,null,null,null,null,{"$f":"O9*P9","v":0},{"$f":"(12-N9)*O9/12*P9","v":0},{"$f":"O9-R9","v":0},{"$f":"S9-Q9","v":0},{"$f":"IF(L9=\"да\",(S9+T9)/2,\"\")","v":""}]
["ВЛ 10кВ от ТП 34 до ТП 58 Ф 1022","да",6,9,956.87199999999996,6.6699999999999995E-2,{"$f":"E10*F10","v":63.823362399999993},{"$f":"(12-D10)*E10/12*F10","v":15.955840599999998},{"$f":"E10-H10","v":940.91615939999997},{"$f":"I10-G10","v":877.09279700000002},{"$f":"IF(B10=\"да\",(I10+J10)/2,\"\")","v":909.00447819999999},null,null,null,null,null,{"$f":"O10*P10","v":0},{"$f":"(12-N10)*O10/12*P10","v":0},{"$f":"O10-R10","v":0},{"$f":"S10-Q10","v":0},{"$f":"IF(L10=\"да\",(S10+T10)/2,\"\")","v":""}]
["ВЛ 10кВ от ТП 41 до ТП 34 Ф 1023","да",6,9,967.78800000000001,6.6699999999999995E-2,{"$f":"E11*F11","v":64.551459600000001},{"$f":"(12-D11)*E11/12*F11","v":16.1378649},{"$f":"E11-H11","v":951.65013510000006},{"$f":"I11-G11","v":887.09867550000001},{"$f":"IF(B11=\"да\",(I11+J11)/2,\"\")","v":919.37440530000003},null,null,null,null,null,{"$f":"O11*P11","v":0},{"$f":"(12-N11)*O11/12*P11","v":0},{"$f":"O11-R11","v":0},{"$f":"S11-Q11","v":0},{"$f":"IF(L11=\"да\",(S11+T11)/2,\"\")","v":""}]
["Добавить"]
["Всего по вводимым объектам в 2022 году  (с 01.04.2022 г.), участвующим в передаче электрической энергии","х","х","х",{"$f":"SUM(E9:E11)","v":9538.52},"х",{"$f":"SUM(G9:G11)","v":318.72132199999999},{"$f":"SUM(H9:H11)","v":111.40474716666665},{"$f":"SUM(I9:I11)","v":9427.1152528333332},{"$f":"SUM(J9:J11)","v":9108.393930833332},{"$f":"SUM(K9:K11)","v":9267.7545918333344},"х","х","х","х","х",{"$f":"SUM(Q9:Q11)","v":0},{"$f":"SUM(R9:R11)","v":0},{"$f":"SUM(S9:S11)","v":0},{"$f":"SUM(T9:T11)","v":0},{"$f":"SUM(U9:U11)","v":0}]
[]
[]
["Справка о выбытии не полностью самортизированных основных средств в 2022 году  (с 01.04.2022 г.), участвующих в передаче электрической энергии"]
[]
[]
["Наименование вводимых  объектов основных фондов","По данным организации",null,null,null,null,null,null,null,null,null,"По данным экспертов"]
[null,"Является ли  ОС недвижимым имуществом? (да/нет)","Амортизационная группа","Остаточная стоимость на начало 2022 года, тыс. руб. ","Первоначальная стоимость, тыс. руб. ","Норма амортизационных отчислений, %","Корректировка годовой суммы амортизационных отчислений по выбывающим объектам (тыс. руб.)","Амортизация  2022 год","Остаточная стоимость на 01.01.2023","Остаточная стоимость на 01.01.2024","Среднегодовая остаточная стоимость ОС за 2023 год","Является ли  ОС недвижимым имуществом? (да/нет)","Амортизационная группа","Остаточная стоимость на начало 2022 года, тыс. руб. ","Первоначальная стоимость, тыс. руб. ","Норма амортизационных отчислений, %","Корректировка годовой суммы амортизационных отчислений по вводимым объектам (тыс. руб.)","Амортизация  2022 год","Остаточная стоимость на 01.01.2023","Остаточная стоимость на 01.01.2024","Среднегодовая остаточная стоимость ОС за 2023 год"]
[1,2,3,4,5,6,7,8,9,10,11,12,13,14,15,16,17,18,19,20,21]
[null,null,null,null,null,null,{"$f":"E22*F22","v":0},{"$f":"E22*F22","v":0},{"$f":"IF(D22>H22,D22-H22,0)","v":0},{"$f":"IF(I22>H22,I22-H22,0)","v":0},{"$f":"IF(B22=\"да\",(I22+J22)/2,\"\")","v":""},null,null,null,null,null,{"$f":"O22*P22","v":0},{"$f":"O22*P22","v":0},{"$f":"IF(N22>R22,N22-R22,0)","v":0},{"$f":"IF(S22>R22,S22-R22,0)","v":0},{"$f":"IF(L22=\"да\",(S22+T22)/2,\"\")","v":""}]
[null,null,null,null,null,null,{"$f":"E23*F23","v":0},{"$f":"E23*F23","v":0},{"$f":"IF(D23>H23,D23-H23,0)","v":0},{"$f":"IF(I23>H23,I23-H23,0)","v":0},{"$f":"IF(B23=\"да\",(I23+J23)/2,\"\")","v":""},null,null,null,null,null,{"$f":"O23*P23","v":0},{"$f":"O23*P23","v":0},{"$f":"IF(N23>R23,N23-R23,0)","v":0},{"$f":"IF(S23>R23,S23-R23,0)","v":0},{"$f":"IF(L23=\"да\",(S23+T23)/2,\"\")","v":""}]
[null,null,null,null,null,null,{"$f":"E24*F24","v":0},{"$f":"E24*F24","v":0},{"$f":"IF(D24>H24,D24-H24,0)","v":0},{"$f":"IF(I24>H24,I24-H24,0)","v":0},{"$f":"IF(B24=\"да\",(I24+J24)/2,\"\")","v":""},null,null,null,null,null,{"$f":"O24*P24","v":0},{"$f":"O24*P24","v":0},{"$f":"IF(N24>R24,N24-R24,0)","v":0},{"$f":"IF(S24>R24,S24-R24,0)","v":0},{"$f":"IF(L24=\"да\",(S24+T24)/2,\"\")","v":""}]
[null,null,null,null,null,null,{"$f":"E25*F25","v":0},{"$f":"E25*F25","v":0},{"$f":"IF(D25>H25,D25-H25,0)","v":0},{"$f":"IF(I25>H25,I25-H25,0)","v":0},{"$f":"IF(B25=\"да\",(I25+J25)/2,\"\")","v":""},null,null,null,null,null,{"$f":"O25*P25","v":0},{"$f":"O25*P25","v":0},{"$f":"IF(N25>R25,N25-R25,0)","v":0},{"$f":"IF(S25>R25,S25-R25,0)","v":0},{"$f":"IF(L25=\"да\",(S25+T25)/2,\"\")","v":""}]
["Добавить"]
["Всего по выбывающим объектам в 2022 году  (с 01.04.2022 г.), участвующим в передаче электрической энергии","х","х","х",{"$f":"SUM(E22:E25)","v":0},"х",{"$f":"SUM(G22:G25)","v":0},"х","х","х",{"$f":"SUM(K22:K25)","v":0},"х","х","х","х","х",{"$f":"SUM(Q22:Q25)","v":0},"х","х","х",{"$f":"SUM(U22:U25)","v":0}]
[]
["Руководитель организации",null,null,null,null,null,{"$f":"'Инф-я'!$C$21","v":"Окунев Василий Михайлович"}]
[]
["В справке о выбытии основных средств указывается информация о выбывающих объектах (продажа, ликвидация)"]

{"sheet":"Свод по амортизации","index":10,"n_rows":15,"n_cols":8,"rows_kept":15,"cut":false,"hidden":false,"merged":[[1,0,1,6],[3,0,3,6],[14,3,14,5],[5,0,6,0],[5,1,5,2],[5,3,5,4],[5,5,5,6]]}
[]
["Сводный расчет амортизационных отчислений на восстановление основных производственных фондов,  участвующих в передаче электрической энергии"]
[]
[{"$f":"'Инф-я'!C14","v":"ООО \"Энергетик\""}]
[]
["Наименование","2021 год",null,"2022 год",null,"2023 год",null,"2021 год"]
[null,"Утверждено","Факт","Утверждено","Ожидаемые","По данным организации","По данным экспертов","Факт по данным экспертов"]
[1,2,3,4,5,6,7,7]
["Амортизационные отчисления на 2023 год по основным средствам по состоянию на 01.04.2022 г.","х","х","х","х",{"$f":"'Расчет аморт. max срок'!S128/1000","v":7841.2582691666648},null,"х"]
["Корректировка годовой суммы амортизационных отчислений, в том числе:","х","х","х","х",{"$f":"F11-F12","v":318.72132199999999},{"$f":"G11-G12","v":0},"х"]
["по вводимым объектам основных средств после 01.04.2022 г. (+)","х","х","х","х",{"$f":"'Ввод выбытие ОС  '!G13","v":318.72132199999999},{"$f":"'Ввод выбытие ОС  '!Q13","v":0},"х"]
["по выбывающим объектам основных средств  после 01.04.2022 г.(-)","х","х","х","х",{"$f":"'Ввод выбытие ОС  '!G27","v":0},{"$f":"'Ввод выбытие ОС  '!Q27","v":0},"х"]
["Годовая сумма амортизационных отчислений",7399.2293150213327,7322.2960499999999,7437.6886703297132,7779.6431000000002,{"$f":"F9+F10","v":8159.9795911666652},{"$f":"G9+G10","v":0}]
[]
["Руководитель организации",null,null,{"$f":"'Инф-я'!C21","v":"Окунев Василий Михайлович"}]

{"sheet":"Страховые взносы","index":11,"n_rows":25,"n_cols":27,"rows_kept":25,"cut":false,"hidden":false,"merged":[[24,4,24,6],[1,1,1,8],[3,1,3,8],[5,0,6,0],[5,1,6,1],[5,2,6,2],[5,3,5,4],[5,5,5,6],[5,7,5,8],[8,0,8,2]]}
[null,null,null,null,null,null,null,null,null,null,null,null,null,null,null,null,null,null,null,null,null,null,null,null,null,null,"да"]
[null,"Расчет расходов на страховые взносы",null,null,null,null,null,null,null,null,null,null,null,null,null,null,null,null,null,null,null,null,null,null,null,null,"нет"]
[]
[null,{"$f":"'Инф-я'!C14","v":"ООО \"Энергетик\""}]
[null,null,null,null,null,null,null,null,"тыс. руб."]
["№ п/п","Наименование","Ед.изм.","2021 год",null,"2022 год",null,"2023 год",null,"2021 год"]
[null,null,null,"Утверждено","Факт","Утверждено","Ожидаемые","По данным организации","По данным экспертов","Факт по данным экспертов"]
[1,2,3,4,5,6,7,8,9,10]
["Является ли организация субъектом малого и среднего предпринимательства?",null,null,"х","х","да","да","да","нет"]
["1.","Сумма выплат и иных вознаграждений, начисленных в пользу физических лиц, в соответствии со статьей 420 НК РФ","тыс. руб.","х","х",{"$f":"F11+F12","v":15081.051868704313},{"$f":"G11","v":18242.524189750002},{"$f":"H11+H12","v":17329.960582746149},{"$f":"I11+I12","v":3581.7498188172744},"х",null,"фот"]
["1.1.","Расходы из фонда оплаты труда","тыс. руб.","х","х",14353.030412321375,{"$f":"16813.38635*1.085","v":18242.524189750002},{"$f":"'Подконтрольные расходы'!E17","v":16493.375492239877},{"$f":"'Подконтрольные расходы'!F17","v":3408.8447229263265},"х"]
["1.2.","Расходы по коллективным договорам","тыс. руб.","х","х",728.02145638293837,0,{"$f":"'Подконтрольные расходы'!E30","v":836.58509050627106},{"$f":"'Подконтрольные расходы'!F30","v":172.90509589094785},"х"]
["2.","Суммы, не подлежащие обложению страховыми взносами, в соответствии со статьей 422 НК РФ","тыс. руб.","х","х",126.53919403380785,0,{"$f":"F13*'Подконтрольные расходы'!E15","v":145.40890541786598},null,"х"]
["3.","Тарифы страховых взносов:","%","х","х","х","х","х","х","х"]
["3.1.","на обязательное пенсионное страхование","%","х","х",0.22,0.22,0.22,0.22,"х"]
["3.2.","на обязательное медицинское страхование ","%","х","х",5.0999999999999997E-2,5.0999999999999997E-2,5.0999999999999997E-2,5.0999999999999997E-2,"х"]
["3.3.","на обязательное социальное страхование на случай временной нетрудоспособности и в связи с материнством","%","х","х",2.9000000000000001E-2,2.9000000000000001E-2,2.9000000000000001E-2,2.9000000000000001E-2,"х"]
["3.4.","на обязательное страхование от несчастных случаев","%","х","х",4.0000000000000001E-3,4.0000000000000001E-3,4.0000000000000001E-3,null,"х"]
["3.5.","Пониженная суммарная ставка страховых взносов для микропредприятий","%",null,null,0.15,0.15,0.15,0.15]
["4.","Утвержденная численность всего персонала на первый год долгосрочного опериода ","чел.",null,null,38,38,38.738322321794662]
["5.","Минимальный размер оплаты труда (МРОТ)","тыс. руб.",null,null,13.89,13.89,13.89,13.89]
["6.","Расходы на страховые взносы:","тыс. руб.",4584.3007805621746,3403.5241500000002,{"$f":"'[24]Страховые взносы'!$Q$18","v":3245.0992366397704},{"$f":"IF(G9=\"нет\",(G10-G13)*(G15+G16+G17+G18),(G20*G21*12)*(G15+G16+G17+G18)+(G10-G13-G20*G21*12)*(G19+G18))","v":3759.4247252215005},3614.9564929980661,1074.5249456451825]
[null,"Страховые взносы, относимые на услугу по передаче электрической энергии","тыс. руб.",4584.3007805621746,3403.5241500000002,{"$f":"F22","v":3245.0992366397704},{"$f":"G22","v":3759.4247252215005},{"$f":"H22","v":3614.9564929980661},null,null,null,"Условное форматирование: если в ячейке не указано значение -форматируется красным цветом"]
[]
[null,"Руководитель организации",null,null,{"$f":"'Инф-я'!$C$21","v":"Окунев Василий Михайлович"}]

{"sheet":"Расходы рег. орг-ий","index":12,"n_rows":25,"n_cols":10,"rows_kept":25,"cut":false,"hidden":false,"merged":[[11,0,11,7],[15,0,15,7],[20,0,20,7],[24,3,24,4],[1,0,1,6],[3,0,3,6],[6,0,7,0],[6,1,6,2],[6,3,6,4],[6,5,6,6]]}
[]
["Расходы на оплату услуг организаций, осуществляющих регулируемые виды деятельности"]
[]
[{"$f":"'Инф-я'!C14","v":"ООО \"Энергетик\""}]
[]
[null,null,null,null,null,null,"тыс. руб."]
["Наименование","2021 год",null,"2022 год",null,"2023 год",null,"2021 год"]
[null,"Утверждено","Факт","Утверждено","Ожидаемые","По данным организации","По данным экспертов","Факт по данным экспертов"]
[1,2,3,4,5,6,7,8]
["Тепловая энергия",244.44890327424002,{"$f":"SUM(C11:C11)","v":247.50046},207.57671550000003,{"$f":"SUM(E11:E11)","v":268.29049864000001},{"$f":"SUM(F11:F11)","v":268.29049864000001},{"$f":"SUM(G11:G11)","v":0},{"$f":"SUM(H11:H11)","v":0}]
["договор  с МУП \"Возрождение\" от 07.08.2020 №36  на___________",null,247.50046,null,{"$f":"247.50046*1.084","v":268.29049864000001},{"$f":"C11*1.084","v":268.29049864000001}]
["Добавить"]
["Водоснабжение и канализация",14.670433317120004,{"$f":"SUM(C14:C15)","v":8.1219999999999999},26.867572200000005,{"$f":"SUM(E14:E15)","v":8.8042480000000012},{"$f":"SUM(F14:F15)","v":8.8042480000000012},{"$f":"SUM(G14:G15)","v":0},{"$f":"SUM(H14:H15)","v":0}]
["договор  с _ООО \"ВодаКанал\" от 01.03.2019 г. №88  на_________","х",8.1219999999999999,"х",{"$f":"8.122*1.084","v":8.8042480000000012},{"$f":"C14*1.084","v":8.8042480000000012}]
["договор  с _____ от_____№  __ на_________","х",null,"х"]
["Добавить"]
["Прочие услуги по регулируемым тарифам ",13.876609340160002,{"$f":"SUM(C18:C20)","v":186.77846},8.8421635007999981,{"$f":"SUM(E18:E20)","v":32.588552160000006},{"$f":"SUM(F18:F20)","v":202.46785063999999},{"$f":"SUM(G18:G20)","v":0},{"$f":"SUM(H18:H20)","v":0}]
["договор  с ООО \"Хартия\" от 01.12.2019 №262  Вл/А/2019  на_________","х",10.02108,"х",{"$f":"10.02108*1.084","v":10.862850720000001},{"$f":"C18*1.084","v":10.862850720000001}]
["договор  с ООО \"ЭСВ\" от 01.04.2021 № 33300361009094","х",103.93823,"х",{"$f":"10.02108*1.084","v":10.862850720000001},{"$f":"C19*1.084","v":112.66904132000002}]
["договор  с ООО \"ЭСВ\" от 01.04.2018 № 33300361009094","х",72.819149999999993,"х",10.862850720000001,78.935958599999992]
["Добавить"]
["Всего  расходы на оплату услуг организаций, осуществляющих регулируемые виды деятельности, в том числе:",{"$f":"B10+B13+B17","v":272.99594593152005},442.40091999999999,243.28645120080006,309.68329880000005,479.56259728000003,0,0]
["относимые на услугу по передаче электрической энергии",{"$f":"B22","v":272.99594593152005},{"$f":"C22","v":442.40091999999999},{"$f":"D22","v":243.28645120080006},{"$f":"E22","v":309.68329880000005},287.95999999999998,null,null,null,"Условное форматирование: если в ячейке не указано значение -форматируется красным цветом"]
[]
["Руководитель организации",null,null,{"$f":"'Инф-я'!C21","v":"Окунев Василий Михайлович"}]

{"sheet":"Аренда имущества","index":13,"n_rows":50,"n_cols":25,"rows_kept":50,"cut":false,"hidden":false,"merged":[[5,0,8,0],[5,1,7,2],[5,3,7,4],[5,5,5,20],[1,0,1,20],[3,0,3,20],[5,21,8,21],[6,5,6,12],[6,13,6,20],[7,5,8,5],[7,6,8,6],[7,7,7,12],[7,13,8,13],[7,14,8,14],[7,15,7,20],[15,0,15,21],[21,0,21,21],[28,0,28,21],[35,0,35,21],[44,3,44,5]]}
[]
["Расходы по аренде имущества"]
[]
[{"$f":"'Инф-я'!C14","v":"ООО \"Энергетик\""}]
[]
["Наименование","2021 год",null,"2022 год",null,"2023 год",null,null,null,null,null,null,null,null,null,null,null,null,null,null,null,"2021 год Факт по данным экспертов"]
[null,null,null,null,null,"По данным организации",null,null,null,null,null,null,null,"По расчету экспертов"]
[null,null,null,null,null,"Сумма арендной платы для включения в тариф","Стоимость арендной платы по договору","Стоимость арендной платы в соответствии с требованиями п. 28 Основ ценообразования",null,null,null,null,null,"Сумма арендной платы для включения в тариф","Стоимость арендной платы по договору","Стоимость арендной платы расчитанной в соответствии с требованиями п. 28 Основ ценообразования"]
[null,"Утверждено","Факт","Утверждено","Ожидаемые",null,null,"Всего","амортизационные отчисления","налог на имущество","транспортный налог","плата за землю","иные обязательные платежи предусмотренные законодательством, связанные с арендуемым имуществом",null,null,"Всего","амортизационные отчисления","налог на имущество","транспортный налог","плата за землю","иные обязательные платежи предусмотренные законодательством, связанные с арендуемым имуществом"]
[1,2,3,4,5,6,7,8,9,10,11,12,13,14,15,16,17,18,19,20,21,22]
["Аренда объектов электроэнергетики, иных объектов производственного назначения, участвующих в процессе передачи электроэнергии",{"$f":"SUM(B12:B15)","v":2976},{"$f":"SUM(C12:C15)","v":2976},2976,2976,2976,2976,2976,2976,0,0,0,0,{"$f":"SUM(N12:N15)","v":0},{"$f":"SUM(O12:O15)","v":0},0,0,0,0,0,0,0]
["договор  с ООО \"Техстройэнерго\" от 04.09.2019 № 13А-19",2976,{"$f":"248+248+248+248+248+248+248+248+248+248+248+248","v":2976},2976,2976,{"$f":"MIN(G12,H12)","v":2976},2976,{"$f":"I12+J12+K12+L12+M12","v":2976},2976,null,null,null,null,{"$f":"MIN(O12,P12)","v":0},null,{"$f":"Q12+R12+S12+T12+U12","v":0}]
[null,null,null,null,null,{"$f":"MIN(G13,H13)","v":0},null,{"$f":"I13+J13+K13+L13+M13","v":0},null,null,null,null,null,{"$f":"MIN(O13,P13)","v":0},null,{"$f":"Q13+R13+S13+T13+U13","v":0}]
["договор  с _____ от_____№  __ ",null,null,null,null,{"$f":"MIN(G14,H14)","v":0},null,{"$f":"I14+J14+K14+L14+M14","v":0},null,null,null,null,null,{"$f":"MIN(O14,P14)","v":0},null,{"$f":"Q14+R14+S14+T14+U14","v":0}]
["договор  с _____ от_____№  __ ",null,null,null,null,{"$f":"MIN(G15,H15)","v":0},null,{"$f":"I15+J15+K15+L15+M15","v":0},null,null,null,null,null,{"$f":"MIN(O15,P15)","v":0},null,{"$f":"Q15+R15+S15+T15+U15","v":0}]
["Добавить "]
["Аренда помещений",{"$f":"SUM(B18:B21)","v":228.48},{"$f":"SUM(C18:C21)","v":460.89202999999992},3017.42,228.48,228.48,"х","х","х","х","х","х","х",0,"х","х","х","х","х","х","х",{"$f":"SUM(V18:V21)","v":0}]
["договор  с ООО \"Техстройэнерго\" от 31.12.2019 № 12А-20",228.48,{"$f":"19.04+19.04+19.04+19.04+19.04+19.04+19.04+19.04+19.04+19.04+19.04+19.04","v":228.47999999999993},228.48,228.48,228.48,"х","х","х","х","х","х","х",null,"х","х","х","х","х","х","х"]
["договор  с ООО \"Техстройэнерго\" от 01.12.2021 № 01С/А-21",null,{"$f":"232.41203","v":232.41202999999999},2788.94,null,null,"х","х","х","х","х","х","х",null,"х","х","х","х","х","х","х"]
["договор  с _____ от_____ № ___",null,null,null,null,null,"х","х","х","х","х","х","х",null,"х","х","х","х","х","х","х"]
["договор  с _____ от_____№  __ ",null,null,null,null,null,"х","х","х","х","х","х","х",null,"х","х","х","х","х","х","х"]
["Добавить"]
["Аренда транспортных средств",{"$f":"SUM(B24:B28)","v":1530.8},{"$f":"SUM(C24:C28)","v":1566.01956},1530.8,1530.8,1530.8,"х","х","х","х","х","х","х",0,"х","х","х","х","х","х","х",{"$f":"SUM(V24:V28)","v":0}]
["договор  с ООО \"Техстройэнерго\" от 01.11.2019г. № 1/О-20/24 на аренду транспортных средств",1530.8,{"$f":"130.50163+130.50163+130.50163+130.50163+130.50163+130.50163+130.50163+130.50163+130.50163+130.50163+130.50163+130.50163","v":1566.01956},1530.8,1530.8,1530.8,"х","х","х","х","х","х","х",null,"х","х","х","х","х","х","х"]
["договор  с _____от_____№  __ ",null,null,null,null,null,"х","х","х","х","х","х","х",null,"х","х","х","х","х","х","х"]
["договор  с _____ от_____№  __ ",null,null,null,null,null,"х","х","х","х","х","х","х",null,"х","х","х","х","х","х","х"]
["договор  с _____ от_____№  __ ",null,null,null,null,null,"х","х","х","х","х","х","х",null,"х","х","х","х","х","х","х"]
["договор  с _____ от_____№  __ ",null,null,null,null,null,"х","х","х","х","х","х","х",null,"х","х","х","х","х","х","х"]
["Добавить"]
["Лизинг",{"$f":"SUM(B31:B35)","v":0},{"$f":"SUM(C31:C35)","v":0},{"$f":"SUM(D31:D35)","v":0},{"$f":"SUM(E31:E35)","v":0},{"$f":"SUM(F31:F35)","v":0},"х","х","х","х","х","х","х",{"$f":"SUM(N31:N35)","v":0},"х","х","х","х","х","х","х",{"$f":"SUM(V31:V35)","v":0}]
["объектов электросетевого хозяйства договор  с _____ от_____№  __ ",null,null,null,null,null,"х","х","х","х","х","х","х",null,"х","х","х","х","х","х","х"]
["иного имущества договор  с _____ от_____№  __ ",null,null,null,null,null,"х","х","х","х","х","х","х",null,"х","х","х","х","х","х","х"]
["договор  с _____ от_____№  __ ",null,null,null,null,null,"х","х","х","х","х","х","х",null,"х","х","х","х","х","х","х"]
["договор  с _____ от_____№  __ ",null,null,null,null,null,"х","х","х","х","х","х","х",null,"х","х","х","х","х","х","х"]
["договор  с _____ от_____№  __ ",null,null,null,null,null,"х","х","х","х","х","х","х",null,"х","х","х","х","х","х","х"]
["Добавить"]
["ИТОГО расходы по аренде имущества, всего в том числе",{"$f":"B11+B17+B23+B30","v":4735.28},{"$f":"C11+C17+C23+C30","v":5002.9115899999997},7524.22,4735.28,4735.28,"х","х","х","х","х","х","х",{"$f":"N11+N17+N23+N30","v":0},"х","х","х","х","х","х","х",{"$f":"V11+V17+V23+V30","v":0}]
["Расходы по аренде имущества,  относимые на услугу по передаче электрической энергии",4735.28,{"$f":"C37","v":5002.9115899999997},{"$f":"D37","v":7524.22},{"$f":"E37","v":4735.28},{"$f":"F37","v":4735.28},"х","х","х","х","х","х","х",null,"х","х","х","х","х","х","х",null,null,null,"Условное форматирование: если в ячейке не указано значение -форматируется красным цветом"]
["в т.ч. по уровням напряжения:  ВН","х","х",null,"х",null,"х","х","х","х","х","х","х",null,"х","х","х","х","х","х","х"]
["СН1","х","х",null,"х",null,"х","х","х","х","х","х","х",null,"х","х","х","х","х","х","х"]
["СН2","х","х",null,"х",null,"х","х","х","х","х","х","х",null,"х","х","х","х","х","х","х"]
["НН","х","х",null,"х",null,"х","х","х","х","х","х","х",null,"х","х","х","х","х","х","х"]
["Для проверки прибыли на капитальные вложения (аренда и лизинг  объектов электросетевого хозяйства)",{"$f":"B11+B31","v":2976},{"$f":"C11+C31","v":2976},{"$f":"D11+D31","v":2976},{"$f":"E11+E31","v":2976},{"$f":"F11+F31","v":2976},"х","х","х","х","х","х","х",{"$f":"N11+N31","v":0},"х","х","х","х","х","х","х",{"$f":"V11+V31","v":0}]
[]
["Руководитель организации",null,null,{"$f":"'Инф-я'!$C$21","v":"Окунев Василий Михайлович"}]
[]
[]
[]
["Примечание:"]
["Сведения должны соответствовать данным отраженным в электронном формате по активам организации"]

{"sheet":"Плата за землю","index":14,"n_rows":20,"n_cols":10,"rows_kept":20,"cut":false,"hidden":false,"merged":[[1,0,1,7],[3,0,3,6],[15,0,15,7],[19,0,19,1],[19,3,19,5],[5,0,6,0],[5,1,5,2],[5,3,5,4],[5,5,5,6]]}
[]
["Плата за землю "]
[]
[{"$f":"'Инф-я'!C14","v":"ООО \"Энергетик\""}]
[null,null,null,null,null,null,"тыс. руб."]
["Наименование","2021 год",null,"2022 год",null,"2023 год",null,"2021 год"]
[null,"Утверждено","Факт","Утверждено","Ожидаемые","По данным организации","По данным экспертов","Факт по данным экспертов"]
[1,2,3,4,5,6,7,8]
["Земельный налог"]
[]
["Аренда земельных участков",240.76193260224005,{"$f":"SUM(C12:C15)","v":1.4296500000000001},17.16,{"$f":"SUM(E12:E15)","v":1.4296500000000001},{"$f":"SUM(F12:F15)","v":1.4296500000000001},{"$f":"SUM(G12:G15)","v":0},{"$f":"SUM(H12:H15)","v":0}]
["договор № 02С/А-21 от 01.12.2021","x",1.4296500000000001,"x",1.4296500000000001,1.4296500000000001]
[null,"x",null,"x"]
[null,"x",null,"x"]
[null,"x",null,"x"]
["Добавить"]
["Всего плата за землю, в том числе ",{"$f":"B9+B11","v":240.76193260224005},{"$f":"C9+C11","v":1.4296500000000001},17.16,1.4296500000000001,1.4296500000000001,0,0]
["относимая на услугу по передаче электрической энергии",{"$f":"B17","v":240.76193260224005},1.43,{"$f":"D17","v":17.16},1.4296500000000001,1.4296500000000001,null,null,null,"Условное форматирование: если в ячейке не указано значение -форматируется красным цветом"]
[]
["Руководитель организации",null,null,{"$f":"'Инф-я'!$C$21","v":"Окунев Василий Михайлович"}]

{"sheet":"Транспортный налог","index":15,"n_rows":21,"n_cols":14,"rows_kept":21,"cut":false,"hidden":false,"merged":[[1,0,1,11],[3,0,3,10],[6,11,7,11],[16,0,16,11],[20,0,20,1],[20,3,20,6],[5,0,7,0],[5,1,7,1],[5,2,7,2],[5,3,6,4],[5,5,6,6],[5,7,5,10],[6,7,6,8],[6,9,6,10]]}
[]
["Расчет транспортного налога "]
[]
[{"$f":"'Инф-я'!C14","v":"ООО \"Энергетик\""}]
[null,null,null,null,null,null,null,null,"тыс. руб."]
["Объект налогообложения (вид и марка транспортного средства)","Налоговая база, (л.с.)","Налоговая ставка, руб.","2021 год",null,"2022 год",null,"2023 год",null,null,null,"2021 год"]
[null,null,null,null,null,null,null,"По расчету организации",null,"По расчету экспертов",null,"Факт по данным экспертов"]
[null,null,null,"Утверждено","Факт","Утверждено","Ожидаемые","Коэф. использ.","Годовая сумма налога,  тыс.руб.","Коэф. использ.","Годовая сумма налога, тыс. руб."]
[1,2,3,4,5,6,7,8,9,10,11]
[null,null,null,"х",null,"х",null,null,{"$f":"B10*C10*H10/1000","v":0},null,{"$f":"B10*C10*J10/1000","v":0}]
[null,null,null,"х",null,"х",null,null,{"$f":"B11*C11*H11/1000","v":0},null,{"$f":"B11*C11*J11/1000","v":0}]
[null,null,null,"х",null,"х",null,null,{"$f":"B12*C12*H12/1000","v":0},null,{"$f":"B12*C12*J12/1000","v":0}]
[null,null,null,"х",null,"х",null,null,{"$f":"B13*C13*H13/1000","v":0},null,{"$f":"B13*C13*J13/1000","v":0}]
[null,null,null,"х",null,"х",null,null,0,null,0]
[null,null,null,"х",null,"х",null,null,0,null,0]
[null,null,null,"х",null,"х",null,null,0,null,0]
["Добавить"]
["Транспортный налог всего, в т.ч.","х","х",null,{"$f":"SUM(E10:E16)","v":0},null,{"$f":"SUM(G10:G16)","v":0},"х",{"$f":"SUM(I10:I16)","v":0},"х",{"$f":"SUM(K10:K16)","v":0},{"$f":"SUM(L10:L16)","v":0}]
[" относимый на услугу по передаче электрической энергии","х","х",0,0,"-",0,"х",0,"х",null,null,null,"Условное форматирование: если в ячейке не указано значение -форматируется красным цветом"]
[]
["Руководитель организации",null,null,{"$f":"'Инф-я'!$C$21","v":"Окунев Василий Михайлович"}]

{"sheet":"Негативное возд. на окр. среду ","index":16,"n_rows":60,"n_cols":10,"rows_kept":60,"cut":false,"hidden":false,"merged":[[1,0,1,8],[3,1,3,7],[28,0,28,1],[30,1,30,2],[30,4,30,6],[5,0,6,0],[5,1,6,1],[5,2,5,3],[5,4,5,5],[5,6,5,7],[27,0,27,1]]}
[]
["Расчет платы за негативное воздействие на окружающую среду"]
[]
[null,{"$f":"'Инф-я'!C14","v":"ООО \"Энергетик\""}]
[null,null,null,null,null,null,"тыс.руб.","тыс. руб."]
["№ п./п.","Наименование","2021 год",null,"2022 год",null,"2023 год",null,"2021 год"]
[null,null,"Утверждено","Факт","Утверждено","Ожидаемые","По данным организации","По данным экспертов","Факт по данным экспертов"]
[1,2,3,4,5,6,7,8,9]
["1.","Плата за выбросы загрязняющих веществ в атмосферный воздух стационарными объектами, исчисленная без учета корректировки, в том числе:","x",{"$f":"SUM(D10:D12)","v":0},"x","x",{"$f":"SUM(G10:G12)","v":0},{"$f":"SUM(H10:H12)","v":0},{"$f":"SUM(I10:I12)","v":0}]
["1.1.","плата за выбросы в пределах предельно-допустимых выбросов (ПДВ) ","x",null,"x","x"]
["1.2.","плата за выбросы в пределах лимитов на выбросы загрязняющих веществ (временно согласованные выбросы ВСВ)","x",null,"x","x"]
["1.3.","плата за выбросы, превышающие установленные разрешениями на выброс загрязняющих веществ в атмосферный воздух ","x",null,"x","x"]
["2.","Плата за сбросы загрязняющих веществ в водные объекты  ","x",{"$f":"SUM(D14:D16)","v":0},"x","x",{"$f":"SUM(G14:G16)","v":0},{"$f":"SUM(H14:H16)","v":0},{"$f":"SUM(I14:I16)","v":0}]
["2.1.","плата за сбросы в пределах нормативов допустимых сбросов (НДС)","x",null,"x","x"]
["2.2.","плата за сбросы в пределах лимитов на сбросы загрязняющих веществ (временно согласованный сбор ВСС)","x",null,"x","x"]
["2.3.","плата за сбросы, превышающие установленные разрешениями  на сброс загрязняющих веществ (сверх лимита на сбросы)","x",null,"x","x"]
["3.","Плата за размещение отходов производства и потребления, исчисленная без учета корректировки, в том числе:","x",{"$f":"SUM(D18:D19)","v":0.15082999999999999},"x","x",{"$f":"SUM(G18:G19)","v":0},{"$f":"SUM(H18:H19)","v":0},{"$f":"SUM(I18:I19)","v":0}]
["3.1.","плата за размещение отходов в пределах установленного лимита на их размещение  ","x",0.15082999999999999,"x","x"]
["3.2.","плата за размещение отходов сверх установленного лимита на их размещение","x",null,"x","x"]
["4.","Сумма средств на выполнение мероприятий по снижению негативного воздействия на окружающую среду, всего (п.4.1.+п.4.2.+п.4.3.), в том числе","x",{"$f":"D21+D23+D25","v":0},"x","x",{"$f":"G21+G23+G25","v":0},{"$f":"H21+H23+H25","v":0},{"$f":"I21+I23+I25","v":0}]
["4.1.","платы за выбросы","x",null,"x","x"]
["4.1.1.","средства, уменьшающие плату за выбросы в части предельно допустимых выбросов","x",{"$f":"IF(D9=0,0,D21*((D10+D11)/D9))","v":0},"x","x",{"$f":"IF(G9=0,0,G21*((G10+G11)/G9))","v":0},{"$f":"IF(H9=0,0,H21*((H10+H11)/H9))","v":0},{"$f":"IF(I9=0,0,I21*((I10+I11)/I9))","v":0}]
["4.2.","платы за сбросы","x",null,"x","x"]
["4.2.1.","средства, уменьшающие плату за сбросы в части нормативов сбросов","x",{"$f":"IF(D13=0,0,D23*((D14+D15)/D13))","v":0},"x","x",{"$f":"IF(G13=0,0,G23*((G14+G15)/G13))","v":0},{"$f":"IF(H13=0,0,H23*((H14+H15)/H13))","v":0},{"$f":"IF(I13=0,0,I23*((I14+I15)/I13))","v":0}]
["4.3.","платы за размещение отходов","x",null,"x","x"]
["4.3.1.","средства, уменьшающие плату за размещение отходов в части лимита","x",{"$f":"IF(D17=0,0,D25*(D18/D17))","v":0},"x","x",{"$f":"IF(G17=0,0,G25*(G18/G17))","v":0},{"$f":"IF(H17=0,0,H25*(H18/H17))","v":0},{"$f":"IF(I17=0,0,I25*(I18/I17))","v":0}]
["5.","Сумма платы, подлежащей внесению в бюджет, всего (п.1+п.2+п.3-п.4), в том числе","x",{"$f":"D9+D13+D17-D20","v":0.15082999999999999},"x","x",{"$f":"G9+G13+G17-G20","v":0},{"$f":"H9+H13+H17-H20","v":0},{"$f":"I9+I13+I17-I20","v":0}]
["Плата за негативное воздействие на окружающую среду в пределах лимитов всего, в т.ч.",null,null,{"$f":"D10+D11-D22+D14+D15-D24+D18-D26","v":0.15082999999999999},null,null,{"$f":"G10+G11-G22+G14+G15-G24+G18-G26","v":0},{"$f":"H10+H11-H22+H14+H15-H24+H18-H26","v":0},{"$f":"I10+I11-I22+I14+I15-I24+I18-I26","v":0}]
["Плата за негативное воздействие на окружающую среду, относимая на услугу по передаче электрической энергии",null,0,0.15082999999999999,0,0.15082999999999999,0.15082999999999999,null,null,"Условное форматирование: если в ячейке не указано значение -форматируется красным цветом"]
[]
[null,"Руководитель организации",null,null,{"$f":"'Инф-я'!$C$21","v":"Окунев Василий Михайлович"}]
[]
[]
[]
[null,"Плата вносится раздельно по четырем компонентам окружающей среды: плата за выбросы, плата за выбросы ПНГ, плата за сбросы в водные объекты и плата за размещение отходов. Каждая по своему КБК (коду бюджетной классификации)"]
[null,"1. Плата за выбросы загрязняющих веществ в атмосферный воздух стационарными объектами, исчисленная без учета корректировки, в том числе:"]
[null,"1.1. плата за выбросы в пределах предельно-допустимых выбросов (ПДВ) "]
[null,"1.2. плата за выбросы в пределах лимитов на выбросы загрязняющих веществ (временно согласованные выбросы ВСВ)"]
[null,"1.3. плата за выбросы, превышающие установленные разрешениями на выброс загрязняющих веществ в атмосферный воздух "]
[null,"2. Плата за выбросы загрязняющих веществ при сжигании и (или) рассеивании попутного нефтяного газа"]
[null,"2.1. плата за выбросы ПНГ в пределах ПДВ"]
[null,"2.2. плата за выбросы ПНГ в пределах лимитов  на выбросы загрязняющих веществ (ВСВ)"]
[null,"2.3. плата за выбросы ПНГ сверх лимита на выбросы"]
[null,"3. Плата за сбросы загрязняющих веществ в водные объекты  "]
[null,"3.1. плата за сбросы в пределах НДС"]
[null,"3.2. плата за сбросы в пределах лимитов на сбросы загрязняющих веществ (ВСС)"]
[null,"3.3. плата за сбросы, превышающие установленные разрешениями  на сброс загрязняющих веществ (сверх лимита на сбросы)"]
[null,"4. Плата за размещение отходов производства и потребления, исчисленная без учета корректировки, в том числе:"]
[null,"4.1. плата за размещение отходов в пределах установленного лимита на их размещение  "]
[null,"4.2. плата за размещение отходов сверх установленного лимита на их размещение"]
[null,"5. Сумма средств на выполнение мероприятий по снижению негативного воздействия на окружающую среду, всего    "]
[null,"5.1. платы за выбросы "]
[null,"5.2. платы за выбросы ПНГ"]
[null,"5.3. платы за сбросы"]
[null,"5.4. платы за размещение отходов"]
[null,"Сумма платы, подлежащей внесению в бюджет, всего (п.1+п.2+п.3+п.4-п.5)"]
[]
[null,"НК, Статья 270. Расходы, не учитываемые в целях налогообложения"]
[null,"4) в виде суммы налога, а также суммы платежей за выбросы загрязняющих веществ в атмосферный воздух, сбросы загрязняющих веществ в составе сточных вод в водные объекты, "]
[null,"осуществляемые с превышением нормативов допустимых сбросов, за размещение отходов производства и потребления с превышением установленных лимитов на их размещение;"]

{"sheet":"Налог на имущество","index":17,"n_rows":15,"n_cols":11,"rows_kept":15,"cut":false,"hidden":false,"merged":[[1,0,1,7],[3,0,3,6],[14,0,14,1],[14,3,14,5],[5,0,6,0],[5,1,5,2],[5,3,5,4],[5,5,5,6]]}
[]
["Налог на имущество"]
[]
[{"$f":"'Инф-я'!C14","v":"ООО \"Энергетик\""}]
[null,null,null,null,null,null,"тыс. руб."]
["Наименование","2021 год",null,"2022 год",null,"2023 год",null,"2021 год"]
[null,"Утверждено","Факт","Утверждено","Ожидаемые","По данным организации","По данным экспертов","Факт по данным экспертов"]
[1,2,3,4,5,6,7,8]
["Среднегодовая остаточная стоимость основных средств, всего, в том числе:","х",{"$f":"C10+C11","v":0},"х",{"$f":"E10+E11","v":0},{"$f":"F10+F11","v":111878.32014537501},{"$f":"G10+G11","v":0},{"$f":"H10+H11","v":0}]
["-облагаемых по ставке 2,2 %","х",null,"х",null,{"$f":"'Расчет аморт. max срок'!V128/1000+'Ввод выбытие ОС  '!K13-'Ввод выбытие ОС  '!K27","v":9267.7545918333344}]
["- необлагаемых (движимое имущество)","х",null,null,null,{"$f":"'Расчет аморт. max срок'!W128/1000","v":102610.56555354167}]
["Налог на имущество всего, в т.ч.",null,{"$f":"C10*2.2%","v":0},null,{"$f":"E10*2.2%","v":0},{"$f":"F10*2.2%","v":203.89060102033338},{"$f":"G10*2.2%","v":0},{"$f":"H10*2.2%","v":0}]
["Налог на имущество, относимый на услугу по передаче электрической энергии",0,0,0,0,0,null,null,null,null,"Условное форматирование: если в ячейке не указано значение -форматируется красным цветом"]
[]
["Руководитель организации",null,null,{"$f":"'Инф-я'!$C$21","v":"Окунев Василий Михайлович"}]

{"sheet":"Услуги ФСК","index":18,"n_rows":33,"n_cols":16,"rows_kept":33,"cut":false,"hidden":false,"merged":[[1,0,1,15],[2,0,2,15],[5,15,6,15],[18,0,18,1],[18,3,18,4],[20,0,20,14],[4,0,6,0],[4,1,4,4],[4,5,4,8],[4,9,4,14],[5,2,5,4],[5,6,5,8],[5,9,5,11],[5,12,5,14]]}
[]
["Оплата услуг ПАО \"ФСК ЕЭС\""]
[{"$f":"'Инф-я'!C14","v":"ООО \"Энергетик\""}]
[null,null,null,null,null,null,null,null,null,null,null,"тыс. руб."]
["Показатели","2021 год",null,null,null,"2022 год",null,null,null,"2023 год",null,null,null,null,null,"2021 год"]
[null,"Утверждено","Факт",null,null,"Утверждено","Ожидаемые",null,null,"По данным организации",null,null,"По данным экспертов",null,null,"Факт по данным экспертов"]
[null,"год","1 полугодие","2 полугодие","год","год","1 полугодие","2 полугодие","год","1 полугодие","2 полугодие","год","1 полугодие","2 полугодие","год"]
[1,2,3,4,5,6,7,8,9,10,11,12,13,14,15,16]
["Расходы на содержание сетей, тыс. руб.","х",{"$f":"O26","v":0},{"$f":"P26","v":0},{"$f":"D9+C9","v":0},"х",{"$f":"G10*G11*6/1000","v":0},{"$f":"H10*H11*6/1000","v":0},{"$f":"H9+G9","v":0},{"$f":"J10*J11*6/1000","v":0},{"$f":"K10*K11*6/1000","v":0},{"$f":"K9+J9","v":0},{"$f":"M10*M11*6/1000","v":0},{"$f":"N10*N11*6/1000","v":0},{"$f":"M9+N9","v":0},"х"]
["Заявленная мощность в точках присоединения к сетям ПАО \"ФСК ЕЭС\", МВт","х",{"$f":"B24","v":0},{"$f":"H24","v":0},"х","х",null,null,"х",null,null,"х",null,null,"х","х"]
["Ставка тарифа услуги по передаче электрической энергии на содержание объектов электросетевого хозяйства, входящих в ЕНЭС, руб. МВт/мес.","х",{"$f":"B25","v":0},{"$f":"H25","v":0},"х","х",null,null,"х",null,null,"х",null,null,"х","х"]
["Расходы на компенсацию потерь, тыс. руб.","х",{"$f":"C13*C16","v":{"$error":"#DIV/0!"}},{"$f":"D13*D16","v":{"$error":"#DIV/0!"}},{"$f":"D12+C12","v":{"$error":"#DIV/0!"}},"х",{"$f":"G13*G16","v":0},{"$f":"H13*H16","v":0},{"$f":"G12+H12","v":0},{"$f":"J13*J16","v":0},{"$f":"K13*K16","v":0},{"$f":"J12+K12","v":0},{"$f":"M13*M16","v":0},{"$f":"N13*N16","v":0},{"$f":"M12+N12","v":0},"х"]
["Объем технологических потерь электрической энергии при ее передаче по ЕНЭС, млн. кВт.ч","х",{"$f":"C14*C15%","v":0},{"$f":"D14*D15%","v":0},{"$f":"E14*E15%","v":0},"х",{"$f":"G14*G15%","v":0},0,0,0,0,0,0,0,0,"х"]
["Объем отпуска электроэнергии из сети ПАО \"ФСК ЕЭС\" в сеть организации, млн. кВт.ч","х",{"$f":"O28/1000","v":0},{"$f":"P28/1000","v":0},{"$f":"D14+C14","v":0},"х",null,null,{"$f":"H14+G14","v":0},null,null,{"$f":"K14+J14","v":0},null,null,{"$f":"N14+M14","v":0},"х"]
["Норматив технологических потерь электрической энергии при ее передаче по ЕНЭС, применяемый к отпуску электроэнергии из сети ПАО \"ФСК ЕЭС\", %","х",{"$f":"B29","v":3.89},{"$f":"B29","v":3.89},3.89,"х",3.45,3.45,3.45,3.45,3.45,3.45,3.45,3.45,3.89,"х"]
["Ставка тарифа на оплату нормативных технологических потерь электрической энергии в ЕНЭС, руб./МВт.ч","х",{"$f":"O31","v":{"$error":"#DIV/0!"}},{"$f":"P31","v":{"$error":"#DIV/0!"}},"х","х",null,null,"х",null,null,"х",null,null,"х","х"]
["ИТОГО оплата услуг ПАО \"ФСК ЕЭС\"",null,{"$f":"C9+C12","v":{"$error":"#DIV/0!"}},{"$f":"D9+D12","v":{"$error":"#DIV/0!"}},{"$f":"IFERROR(E9+E12,0)","v":0},null,{"$f":"G9+G12","v":0},0,0,0,0,0,0,0,0]
[]
["Руководитель организации",null,null,{"$f":"'Инф-я'!$C$21","v":"Окунев Василий Михайлович"}]
[]
["Факт по данным организации за 2021 год"]
[]
[null,"янв","фев","мар","апр","май","июн","июль","авг","сент","окт","ноя","дек","Итого","1 полуг","2 полуг"]
["Заявленная мощность в точках присоединения к сетям ПАО \"ФСК ЕЭС\", МВт",null,null,null,null,null,null,null,null,null,null,null,null,"х","х","х"]
["Ставка тарифа услуги по передаче электрической энергии на содержание объектов электросетевого хозяйства, входящих в ЕНЭС, руб. МВт/мес.",null,{"$f":"B25","v":0},{"$f":"C25","v":0},{"$f":"D25","v":0},{"$f":"E25","v":0},{"$f":"F25","v":0},null,{"$f":"H25","v":0},{"$f":"I25","v":0},{"$f":"J25","v":0},{"$f":"K25","v":0},{"$f":"L25","v":0},"х","х","х"]
["Стоимость услуги по передаче электрической энергии на содержание объектов элкутросетевого хозяйства, тыс. руб.",{"$f":"B24*B25/1000","v":0},{"$f":"C24*C25/1000","v":0},0,0,0,0,0,0,0,0,0,{"$f":"M24*M25/1000","v":0},{"$f":"SUM(B26:M26)","v":0},{"$f":"SUM(B26:G26)","v":0},{"$f":"SUM(H26:M26)","v":0}]
[null,"янв","фев","мар","апр","май","июн","июль","авг","сент","окт","ноя","дек","Итого","1 полуг","2 полуг"]
["Отпуск электрической энергии из сетей ПАО \"ФСК ЕЭС\" напряжением 220 кВ и ниже, МВт.ч",null,null,null,null,null,null,null,null,null,null,null,null,{"$f":"SUM(B28:M28)","v":0},{"$f":"SUM(B28:G28)","v":0},{"$f":"SUM(H28:M28)","v":0}]
["Норматив технологических потерь электрической энергии при ее передаче по ЕНЭС, применяемый к отпуску электроэнергии из сети ПАО \"ФСК ЕЭС\" , %",3.89,{"$f":"B29","v":3.89},{"$f":"C29","v":3.89},3.89,3.89,3.89,3.89,3.89,3.89,3.89,3.89,{"$f":"L29","v":3.89},"х","х","х"]
["Объем технологических потерь электрической энергии при ее передаче по ЕНЭС, МВт.ч",{"$f":"ROUND(B28*B29/100,3)","v":0},{"$f":"ROUND(C28*C29/100,3)","v":0},0,0,0,0,0,0,0,0,0,{"$f":"ROUND(M28*M29/100,3)","v":0},{"$f":"SUM(B30:M30)","v":0},{"$f":"SUM(B30:G30)","v":0},{"$f":"SUM(H30:M30)","v":0}]
["Ставка тарифа на оплату нормативных технологических потерь электрической энергии в ЕНЭС, руб./МВт.ч",null,null,null,null,null,null,null,null,null,null,null,null,{"$f":"N32/N30*1000","v":{"$error":"#DIV/0!"}},{"$f":"O32/O30*1000","v":{"$error":"#DIV/0!"}},{"$f":"P32/P30*1000","v":{"$error":"#DIV/0!"}}]
["Расходы на компенсацию потерь, тыс. руб.",{"$f":"B30*B31/1000","v":0},{"$f":"C30*C31/1000","v":0},0,0,0,0,0,0,0,0,0,{"$f":"M30*M31/1000","v":0},{"$f":"SUM(B32:M32)","v":0},{"$f":"SUM(B32:G32)","v":0},{"$f":"SUM(H32:M32)","v":0}]
["Итого расходы на услуги ФСК, тыс. руб.",{"$f":"B26+B32","v":0},{"$f":"C26+C32","v":0},0,0,0,0,0,0,0,0,0,{"$f":"M26+M32","v":0},{"$f":"N26+N32","v":0},{"$f":"O26+O32","v":0},{"$f":"P26+P32","v":0}]

{"sheet":"Налог на прибыль","index":19,"n_rows":12,"n_cols":8,"rows_kept":12,"cut":false,"hidden":false,"merged":[[1,1,1,6],[3,1,3,6],[11,0,11,6],[9,0,9,1],[5,0,6,0],[5,1,6,1],[5,2,5,3],[5,5,5,6]]}
[]
[null,"Налог организаций, применяющих УСНО от деятельности по передаче и технологического присоединения "]
[]
[null,{"$f":"'Инф-я'!C14","v":"ООО \"Энергетик\""}]
[null,null,null,null,null,null,"тыс. руб."]
["№ п/п","Наименование","2021 год",null,"2022 год","2023 год",null,"2021 год"]
[null,null,"Утверждено","Факт","Утверждено","По данным организации","По данным экспертов","Факт по данным экспертов"]
[1,2,3,4,5,6,7,8]
["5.3.","прочие услуги","х",1170.664,"х","х","х"]
["Итого налог на прибыль от услуги по передаче и от технологического присоединения (п.5.1.+п.5.2)",null,1138.1320000000001,{"$f":"D9","v":1170.664},778.50699999999995,{"$f":"D10","v":1170.664},{"$f":"H10","v":0},{"$f":"H9","v":0}]
[]
["Постановлением Правительства РФ от 11 июня 2014 года № 542 внесены изменения в п. 20 Основ ценообразования в области регулируемых цен (тарифов) в электроэнергетике, утвержденных постановлением Правительства РФ от 29 декабря 2011 г. № 1178 в части определения налога на прибыль:\n«В необходимую валовую выручку включается величина налога на прибыль организаций по регулируемому виду деятельности, сформированная по данным бухгалтерского учета за последний истекший период.\nПри установлении тарифов на услуги по передаче электрической энергии учитывается величина налога на прибыль организаций, которая относится по данным раздельного учета к деятельности по оказанию услуг по передаче электрической энергии и осуществлению технологического присоединения к электрическим сетям»."]

{"sheet":"Прочие НР","index":20,"n_rows":17,"n_cols":8,"rows_kept":17,"cut":false,"hidden":false,"merged":[[1,0,1,7],[2,0,2,7],[13,0,13,7],[16,0,16,1],[16,3,16,5],[4,0,5,0],[4,1,4,2],[4,3,4,4],[4,5,4,6]]}
[]
["Прочие обоснованные неподконтрольные расходы"]
[{"$f":"'Инф-я'!C14","v":"ООО \"Энергетик\""}]
[]
["Наименование","2021 год",null,"2022 год",null,"2023 год",null,"2021 год"]
[null,"Утверждено","Факт","Утверждено","Ожидаемые","По данным организации","По данным экспертов","Факт по данным экспертов"]
[1,2,3,4,5,6,7,8]
["Расходы на компенсацию потерь электрической энергии собственников или иных законных владельцев электросетевого хозяйства, возникших в объектах,  через которые опосредованно присоединены потребители электрической энергии"]
[]
[]
[]
[]
[]
["Добавить"]
["ИТОГО прочие обоснованные неподконтрольные расходы",{"$f":"SUM(B8:B13)","v":0},0,0,0,0,0,0]
[]
["Руководитель организации",null,null,{"$f":"'Инф-я'!$C$21","v":"Окунев Василий Михайлович"}]

{"sheet":" КВЛ","index":21,"n_rows":32,"n_cols":9,"rows_kept":32,"cut":false,"hidden":false,"merged":[[1,0,2,6],[3,0,3,6],[27,0,27,1],[27,3,27,5],[5,0,6,0],[5,1,5,2],[5,3,5,4],[5,5,5,6],[21,0,21,7]]}
[]
["Расходы на капитальные вложения"]
[]
[{"$f":"'Инф-я'!C14","v":"ООО \"Энергетик\""}]
[]
["Наименование капитальных вложений","2021 год",null,"2022 год",null,"2023 год",null,"2021 год"]
[null,"Утверждено","Факт","Утверждено","Ожидаемые","По данным организации","По данным экспертов","Факт"]
[1,2,3,4,5,6,7,8]
["Строительство ТП 64  10/0,4-250кВаА",6633.6862971023802,6633.6904100000002]
["Строительство ВЛ 10 кВ (одноцепная) от ТП 76 до ТП 19 фидер 1005",1279.46044459687,1279.46]
["Строительство ВЛ 10 кВ (двухцепная) от ТП 72 до железнодорожного перехода фидер 1003,1005",408.25697863242601,0]
["Реконструкция здания производственной базы (2 этап)",2647.6364939178402,2647.64]
["Строительство двуцепной ВЛ-10 кВ от ТП№63 до ТП№64 ф.1003, 1005",0,1958.2592999999999]
["Строительство ВЛ-0,4 кВ от ТП40 для подключения потребителей ул.1-я и 2-я Воронцова",null,null,1924.66,0]
["Реконструкция ВЛ-10 кВ от ТП34 до ТП58, ф.1022 (проект кор.ИП)",null,null,0,956.87199999999996,null,null,null,"вносим изменения в ИП"]
["Реконструкция ВЛ-10 кВ от ТП41 до ТП34, ф.1022 (проект кор.ИП)",null,null,0,967.78800000000001,null,null,null,"вносим изменения в ИП"]
["Строительство трансформаторной подстанции №76",null,null,7613.86,7613.86]
["Реконструкция здания производственной базы, 3 этап",null,null,1154.56,1154.56]
["Строительство многофункционального пункта (диспетчерской) , 1,2,3 этап",0,1168.7937300000001,null,null,6215.99]
["Строительство ВЛ 10 кВ (двухцепная) от ТП19 до ТП64 ",null,null,null,null,597.78]
["Реконструкция здания производственной базы, 4 этап",null,null,null,null,4717.8999999999996]
["Добавить"]
["ИТОГО капитальных вложений",{"$f":"SUM(B9:B21)","v":10969.040214249517},13687.843439999999,10693.08,10693.08,11531.669999999998,0,0]
[" - амортизация",{"$f":"'[24] КВЛ'!$E$23","v":7399.2293150213327},{"$f":"'Свод по амортизации'!C13","v":7322.2960499999999},{"$f":"'[24] КВЛ'!$H$23","v":7437.6886703297132},{"$f":"'Свод по амортизации'!E13","v":7779.6431000000002},{"$f":"'Свод по амортизации'!F13","v":8159.9795911666652},{"$f":"'Свод по амортизации'!G13","v":0}]
[" - прочие средства "]
[" - прибыль",{"$f":"IF((B23-B24-B25)<=0,0,(B23-B24-B25))","v":3569.8108992281841},{"$f":"IF((C23-C24-C25)<=0,0,(C23-C24-C25))","v":6365.5473899999988},3255.3913296702867,2913.4368999999997,{"$f":"IF((F23-F24-F25)<=0,0,(F23-F24-F25))","v":3371.6904088333331},0]
[]
["Руководитель организации",null,null,{"$f":"'Инф-я'!$C$21","v":"Окунев Василий Михайлович"}]
[]
[]
[]
[null,null,null,"согл.выписке из протокола ДЦТ кап.вложения 3 493,4 т.р."]

{"sheet":"Выпадающий доход","index":22,"n_rows":26,"n_cols":5,"rows_kept":26,"cut":false,"hidden":false,"merged":[[25,0,25,1],[25,2,25,3],[1,0,1,4],[3,0,3,4],[5,0,6,0],[5,3,5,4],[23,0,23,4]]}
[]
["Расходы, связанные с компенсацией выпадающих доходов по льготному технологическому присоединению"]
[]
[{"$f":"'Инф-я'!C14","v":"ООО \"Энергетик\""}]
[null,null,null,"тыс. руб."]
["Наименование","2021 год","2022 год","2023 год"]
[null,"Утверждено","Утверждено","По данным организации","По данным экспертов"]
[1,2,3,4,5]
["   выпадающие доходы сетевой организации от присоединения энергопринимающих устройств максимальной мощностью, не превышающей 15 кВт включительно, исходя из стоимости мероприятий по технологическому присоединению в размере не более 550 рублей;",{"$f":"SUM(B10:B14)","v":1070.72},{"$f":"SUM(C10:C14)","v":1793.01},{"$f":"SUM(D10:D14)","v":1170.2000819999998},{"$f":"SUM(E10:E14)","v":0}]
["             за 2019 год",{"$f":"'Расчет выпадающих до 15 кВт'!C52","v":795.56},"х","х","х"]
["             за 2020 год","х",{"$f":"'[24]Выпадающий доход'!$E$12","v":994.2},"х","х"]
["             за 2021 год",{"$f":"'Расчет выпадающих до 15 кВт'!C53","v":275.16000000000003},"х",{"$f":"'Расчет выпадающих до 15 кВт'!C55","v":385.65709200000003}]
["             за 2022 год","х",{"$f":"'[24]Выпадающий доход'!$E$14","v":798.81},"х","х"]
["             за 2023 год","х","х",{"$f":"'Расчет выпадающих до 15 кВт'!C56","v":784.54298999999992}]
["   выпадающие доходы сетевой организации от присоединения энергопринимающих устройств максимальной мощностью не более, чем 150 кВт на покрытие расходов на строительство объектов электросетевого хозяйства ",{"$f":"SUM(B16:B20)","v":0},{"$f":"SUM(C16:C20)","v":0},{"$f":"SUM(D16:D20)","v":0},{"$f":"SUM(E16:E20)","v":0}]
["             за 2019 год",{"$f":"'Расчет выпадающих до 150 кВт'!C57","v":0},"х","х","х"]
["             за 2020 год","х",null,"х","х"]
["             за 2021 год",{"$f":"'Расчет выпадающих до 150 кВт'!C58","v":0},"х",{"$f":"'Расчет выпадающих до 150 кВт'!C60","v":0}]
["             за 2022 год","х",null,"х","х"]
["             за 2023 год","х","х",{"$f":"'Расчет выпадающих до 150 кВт'!C61","v":0}]
["   выпадающие доходы сетевой организации от выплаты процентов по кредитным договорам, связанным с рассрочкой по оплате субъектами малого и среднего предпринимательства технологического присоединения энергопринимающих устройств максимальной мощностью свыше 15 кВт и до 150 кВт включительно",null,null,{"$f":"'СВОД по % по рассрочке'!J18","v":0}]
["Итого расходы, связанные с компенсацией выпадающих доходов по льготному технологическому присоединению",{"$f":"B9+B21+B15","v":1070.72},{"$f":"C9+C21+C15","v":1793.01},{"$f":"D9+D21+D15","v":1170.2000819999998},{"$f":"E9+E21+E15","v":0}]
[]
[]
[]
["Руководитель организации",null,{"$f":"'Инф-я'!$C$21","v":"Окунев Василий Михайлович"}]

{"sheet":"Расчет выпадающих до 15 кВт","index":23,"n_rows":92,"n_cols":11,"rows_kept":92,"cut":false,"hidden":false,"merged":[[19,0,19,10],[55,2,55,4],[45,2,45,4],[50,2,50,4],[56,2,56,4],[22,0,22,10],[24,0,24,10],[27,0,27,10],[30,0,30,10],[33,0,33,10],[40,1,40,7],[42,2,42,4],[58,1,58,2],[58,3,58,5],[42,5,42,7],[43,2,43,4],[43,5,43,7],[53,6,53,7],[54,2,54,4],[51,2,51,4],[52,2,52,4],[53,2,53,4],[45,5,45,7],[46,2,46,4],[46,5,46,7],[48,1,48,7],[44,2,44,4],[44,5,44,7],[3,0,3,10],[4,0,4,10],[6,0,6,9],[8,0,10,0],[8,1,10,1],[8,2,9,4],[8,5,9,7],[8,8,9,10]]}
[null,null,null,null,null,null,"Приложение 1"]
[null,null,null,null,null,null,"к Методическим указаниям, "]
[null,null,null,null,null,null,"утвержденным приказом ФСТ от 11.09.2014 г. №215-э/1"]
[]
["Расчет размера расходов, связанных с осуществлением технологического присоединения энергопринимающих устройств максимальной мощностью, не превышающей 15 кВт включительно, не включаемых в состав платы за технологическое присоединение за 2021 год и плановый период 2023 года"]
[]
[{"$f":"'Инф-я'!$C$14","v":"ООО \"Энергетик\""}]
[]
["№ п./п.","Показатели","Фактические данные за 2021 год",null,null,"Расчетные (фактические) данные за 2021 год",null,null,"Плановые показатели на 2023 год"]
[]
[null,null,"фактически сложившаяся ставка платы (руб./кВт, руб./км)","мощность, длина линий, количество (кВт, км, шт.)","Сумма,   тыс. руб. ","стандартизированная ставка платы (руб./кВт, руб./км, руб./шт.)","мощность, длина линий, количество (кВт, км, шт.)","Сумма,   тыс. руб. ","стандартизированная ставка платы (руб./кВт, руб./км, руб./шт.)","мощность, длина линий, количество (кВт, км, шт.)","Сумма,   тыс. руб. "]
[1,2,3,4,5,6,7,8,9,10,11]
["1.","Расходы на выполнение организационно-технических мероприятий, связанные с осуществлением технологического присоединения [п. 1.1 + п. 1.2]:",{"$f":"SUM(C14:C15)","v":25314.201250000002},{"$f":"F46","v":24},{"$f":"SUM(E14:E15)","v":607.54083000000003},{"$f":"SUM(F14:F15)","v":7738.59},{"$f":"D13","v":24},{"$f":"SUM(H14:H15)","v":185.72615999999999},{"$f":"I14+I15","v":24232.36},{"$f":"F47","v":33},{"$f":"I13*J13/1000","v":799.66787999999997}]
["1.1.","подготовка и выдача сетевой организацией технических условий (ТУ) Заявителю",{"$f":"IF(D14=0,0,E14/D14*1000)","v":4877.63},{"$f":"D13","v":24},117.06312,7738.59,{"$f":"G13","v":24},{"$f":"F14*G14/1000","v":185.72615999999999},5338.28,"х","х"]
["1.2.","проверка сетевой организацией выполнения Заявителем ТУ",{"$f":"IF(D15=0,0,E15/D15*1000)","v":20436.571250000001},{"$f":"D13","v":24},490.47771,0,{"$f":"G13","v":24},{"$f":"F15*G15/1000","v":0},18894.080000000002,"х","х"]
["2.","Расходы по мероприятиям \"последней мили\", связанные с осуществлением технологического присоединения ","х","х",{"$f":"SUM(E17:E34)","v":0},{"$f":"C16","v":"х"},{"$f":"D16","v":"х"},{"$f":"SUM(H17:H34)","v":0},{"$f":"F16","v":"х"},{"$f":"G16","v":"х"},{"$f":"SUM(K17:K34)","v":0}]
["2.1.","строительство воздушных линий, на уровне напряжения i и (или) диапазоне мощности j",{"$f":"IF(D17=0,0,E17/D17*1000)","v":0},null,null,null,{"$f":"D17","v":0},{"$f":"F17*G17/1000","v":0},null,null,{"$f":"I17*J17/1000","v":0}]
[null,"строительство воздушных линий, на уровне напряжения i и (или) диапазоне мощности j",{"$f":"IF(D18=0,0,E18/D18*1000)","v":0},null,null,null,{"$f":"D18","v":0},{"$f":"F18*G18/1000","v":0},null,null,{"$f":"I18*J18/1000","v":0}]
[null,"строительство воздушных линий, на уровне напряжения i и (или) диапазоне мощности j",{"$f":"IF(D19=0,0,E19/D19*1000)","v":0},null,null,null,{"$f":"D19","v":0},{"$f":"F19*G19/1000","v":0},null,null,{"$f":"I19*J19/1000","v":0}]
["Добавить"]
["2.2.","строительство кабельных линий, на уровне напряжения i и (или) диапазоне мощности j",{"$f":"IF(D21=0,0,E21/D21*1000)","v":0},null,null,null,{"$f":"D21","v":0},{"$f":"F21*G21/1000","v":0},null,null,{"$f":"I21*J21/1000","v":0}]
[null,"строительство кабельных линий, на уровне напряжения i и (или) диапазоне мощности j",{"$f":"IF(D22=0,0,E22/D22*1000)","v":0},null,null,null,{"$f":"D22","v":0},{"$f":"F22*G22/1000","v":0},null,null,{"$f":"I22*J22/1000","v":0}]
["Добавить"]
["2.3.","строительством пунктов секционирования, на уровне напряжения i и (или) диапазоне мощности j",{"$f":"IF(D24=0,0,E24/D24*1000)","v":0},null,null,null,{"$f":"D24","v":0},{"$f":"F24*G24/1000","v":0},null,null,{"$f":"I24*J24/1000","v":0}]
["Добавить"]
["2.4.","строительство комплектных трансформаторных подстанций (КТП) с уровнем напряжения до 35 кВ, на уровне напряжения i и (или) диапазоне мощности j",{"$f":"IF(D26=0,0,E26/D26*1000)","v":0},null,null,null,{"$f":"D26","v":0},{"$f":"F26*G26/1000","v":0},null,null,{"$f":"I26*J26/1000","v":0}]
["2.4.","строительство комплектных трансформаторных подстанций (КТП) с уровнем напряжения до 35 кВ, на уровне напряжения i и (или) диапазоне мощности j",{"$f":"IF(D27=0,0,E27/D27*1000)","v":0},null,null,null,{"$f":"D27","v":0},{"$f":"F27*G27/1000","v":0},null,null,{"$f":"I27*J27/1000","v":0}]
["Добавить"]
["2.5.","строительство распределительных трансформаторных подстанций (РТП) с уровнем напряжения до 35 кВ, на уровне напряжения i и (или) диапазоне мощности j",{"$f":"IF(D29=0,0,E29/D29*1000)","v":0},null,null,null,{"$f":"D29","v":0},{"$f":"F29*G29/1000","v":0},null,null,{"$f":"I29*J29/1000","v":0}]
["2.5.","строительство распределительных трансформаторных подстанций (РТП) с уровнем напряжения до 35 кВ, на уровне напряжения i и (или) диапазоне мощности j",{"$f":"IF(D30=0,0,E30/D30*1000)","v":0},null,null,null,{"$f":"D30","v":0},{"$f":"F30*G30/1000","v":0},null,null,{"$f":"I30*J30/1000","v":0}]
["Добавить"]
["2.6.","строительство центров питания, подстанций уровнем напряжения 35 кВ и выше (ПС), на уровне напряжения i и (или) диапазоне мощности j",{"$f":"IF(D32=0,0,E32/D32*1000)","v":0},null,null,null,{"$f":"D32","v":0},{"$f":"F32*G32/1000","v":0},null,null,{"$f":"I32*J32/1000","v":0}]
["2.7.","Обеспечение средствами коммерческого учета электрической энергии (мощности)\n8(1).j\nоднофазный (j = 1),\nтрехфазный (j = 2)\n8(1).j.k\nпрямого включения (k = 1), \nполукосвенного включения (k = 2), \nкосвенного включения (k = 3)",{"$f":"IF(D33=0,0,E33/D33*1000)","v":0},null,null,null,{"$f":"D33","v":0},{"$f":"F33*G33/1000","v":0},null,null,{"$f":"I33*J33/1000","v":0}]
["Добавить"]
["3.","Суммарный размер платы за технологическое присоединение [п. 3.1 * п. 3.2 / 1000]:","х","х",{"$f":"E36*E37/1000","v":10.999919999999999},"х","х",{"$f":"H36*H37/1000","v":10.999919999999999},"х","х",{"$f":"K36*K37/1000","v":15.124889999999999}]
["3.1.","Размер платы за технологическое присоединение (руб. без НДС)","х","х",458.33,"х","х",458.33,"х","х",458.33]
["3.2.","Плановое количество договоров на осуществление технологическое присоединение к электрическим сетям (плановое количество членов объединений (организаций), указанных в п. 9 Методических указаний по определению размера платы за технологическое присоединение к электрическим сетям, утвержденных приказом ФАС России от 29 августа 2017 года, N 1135/17) (шт.)","х","х",{"$f":"C46","v":24},"х","х",{"$f":"C46","v":24},"х","х",{"$f":"C47","v":33}]
["4.","Размер расходов, связанных с осуществлением технологического присоединения к электрическим сетям, не включаемых в состав платы за технологическое присоединение (п. 1 + п. 2 - п. 3)","х","х",{"$f":"E13+E16-E35","v":596.54091000000005},"х","х",{"$f":"H13+H16-H35","v":174.72623999999999},"х","х",{"$f":"K13+K16-K35","v":784.54298999999992}]
[]
[]
[null,"Фактические средние данные по выполненым договорам технологического присоединения за 3 предыдущих года "]
[]
[null,"Год","Количество членов объединений (организаций) технологического присоединения, ед. (для расчета Доходов)",null,null,"Количество  технологических присоединений (договоров), ед. (для расчета Расходов)"]
[null,"Факт 2019 г.",33,null,null,33]
[null,"Факт 2020 г.",42,null,null,42]
[null,"Факт 2021 г.",24,null,null,24]
[null,"План 2022 г. (расчет плановых значений исходя из данных за 3 предыдущих периода)",{"$f":"ROUND((C44+C45+C46)/3,0)","v":33},null,null,{"$f":"ROUND((F44+F45+F46)/3,0)","v":33}]
[]
[null,"Сводный расчет выпадающих  доходов от льготного ТП, подлежащих учету в 2023 году, тыс. руб."]
[]
[null,"Выпадающие доходы, учтенные при тарифном регулировании на 2021 год  всего в т.ч.",{"$f":"C52+C53","v":1070.72}]
[null,"фактические по итогам 2019 года",795.56]
[null,"планового периода 2021 года",275.16000000000003]
[null,"Выпадающие доходы по итогам 2021 года за минусом плановых показателей 2021 года, подлежащие учету в 2023 году, тыс. руб.",{"$f":"E38-C53","v":321.38091000000003},null,null,null,"ИПЦ, %"]
[null,"Выпадающие доходы по итогам 2021 года c учетом ИПЦ, подлежащие учету в 2023 году, тыс. руб.",{"$f":"C54*(1+H55)*(1+H56)","v":385.65709200000003},null,null,null,"2022 г. к 2021 г."]
[null,"Плановые выпадающие доходы на 2023 год",{"$f":"K38","v":784.54298999999992},null,null,null,"2023 г. к 2022 г.",{"$f":"'Подконтрольные расходы'!E12","v":0.2}]
[null,"Итого выпадающие доходы от льготного ТП подлежащие учету в 2023 году, тыс. руб.",{"$f":"C56+C55","v":1170.2000819999998}]
[]
[null,"Руководитель организации",null,{"$f":"'Инф-я'!$C$21","v":"Окунев Василий Михайлович"}]
[]
[]
[]
[]
[]
[]
[]
[]
["Виды строительства по МУ"]
[]
[3,"Строительство воздушных линий"]
["3. j","Материал опоры (деревянные (j = 1), металлические (j = 2), железобетонные (j = 3)"]
["3. j.k","Тип провода (изолированный провод (k = 1), неизолированный провод (k = 2)"]
["3. j.k.l","Материал провода (медный (l=1), стальной (l = 2), сталеалюминиевый (l = 3), алюминиевый (l = 4)"]
["3. j.k.l.m","Сечение провода (диапазон до 50 квадратных мм включительно (m = 1), от 50 до 100 квадратных мм включительно (m = 2), от 100 до 200 квадратных мм включительно (m = 3), от 200 до 500 квадратных мм включительно (m = 4), от 500 до 800 квадратных мм включительно (m = 5), свыше 800 квадратных мм (m = 6)"]
[4,"Строительство кабельных линий"]
["4. j","Способ прокладки кабельных линий (в траншеях (j = 1), в блоках (j = 2), в каналах (j = 3), в туннелях и коллекторах (j = 4), в галереях и эстакадах (j = 5), горизонтальное наклонное бурение (j = 6)"]
["4. j.k","Одножильные (k = 1) и многожильные (k = 2)"]
["4. j.k.l","Кабели с резиновой и пластмассовой изоляцией (l=1), бумажной изоляцией (l = 2)"]
["4. j.k.l.m","Сечение провода (диапазон до 50 квадратных мм включительно (m = 1), от 50 до 100 квадратных мм включительно (m = 2), от 100 до 200 квадратных мм включительно (m = 3), от 200 до 500 квадратных мм включительно (m = 4), от 500 до 800 квадратных мм включительно (m = 5), свыше 800 квадратных мм (m = 6)"]
[5,"Строительство пунктов секционирования"]
["5. j","Реклоузеры (j = 1 распределительные пункты (РП) (j = 2), переключательные пункты (ПП) (j = 3)"]
["5. j.k","Номинальный ток до 100 А включительно (k = 1), от 100 до 250 А включительно (k = 2), от 250 до 500 А включительно (k = 3), от 500 А до 1 000 А включительно (k = 4), свыше 1 000 А (k = 5)"]
[6,"Строительство трансформаторных подстанций (ТП), за исключением распределительных трансформаторных подстанций (РТП), с уровнем напряжения до 35 кВ"]
["6. j","Трансформаторные подстанции (ТП), за исключением распределительных трансформаторных подстанций (РТП)"]
["6. j.k","Однотрансформаторные (k=1), двухтрансформаторные и более (k = 2)"]
["6. j.k.l","Трансформаторная мощность до 25 кВА включительно (l = 1), от 25 до 100 кВА включительно (l = 2), от 100 до 250 кВА включительно (l = 3), от 250 до 500 кВА (l = 4), от 500 до 900 кВА включительно (l = 5), свыше 1000 кВА (l = 6)"]
[7,"Строительство распределительных трансформаторных подстанций (РТП) с уровнем напряжения до 35 кВ"]
["7. j","Распределительные трансформаторные подстанции (РТП)"]
["7. j.k","Однотрансформаторные (k=1), двухтрансформаторные и более (k = 2)"]
["7. j.k.l","Трансформаторная мощность до 25 кВА включительно (l=1), от 25 до 100 кВ А включительно (l = 2), от 100 до 250 кВА включительно (l = 3), от 250 до 500 кВА (l = 4), от 500 до 900 кВА включительно (l = 5), свыше 1000 кВА (l = 6)"]
[8,"Строительство центров питания, подстанций уровнем напряжения 35 кВ и выше (ПС)"]
["8. j","ПС 35 кВ (j = 1), ПС 110 кВ и выше (j = 2)"]

{"sheet":"Расчет выпадающих до 150 кВт","index":24,"n_rows":97,"n_cols":11,"rows_kept":97,"cut":false,"hidden":false,"merged":[[3,0,3,10],[6,0,6,9],[8,0,10,0],[8,1,10,1],[8,2,9,4],[8,5,9,7],[8,8,9,10],[20,0,20,10],[22,0,22,10],[24,0,24,10],[45,1,45,7],[41,0,41,10],[33,0,33,10],[39,0,39,10],[37,0,37,10],[35,0,35,10],[63,1,63,2],[63,3,63,5],[4,0,4,10],[31,0,31,10],[58,2,58,4],[58,6,58,7],[59,2,59,4],[60,2,60,4],[61,2,61,4],[26,0,26,10],[53,1,53,7],[55,2,55,4],[56,2,56,4],[57,2,57,4],[16,0,16,10],[18,0,18,10]]}
[null,null,null,null,null,null,"Приложение 1"]
[null,null,null,null,null,null,"к Методическим указаниям, "]
[null,null,null,null,null,null,"утвержденным приказом ФСТ от 11.09.2014 г. №215-э/1"]
[]
["Расчет размера расходов, связанных с осуществлением технологического присоединения к электрическим сетям энергопринимающих устройств максимальной мощностью до 150 кВт включительно, не включаемых в состав платы за технологическое присоединение за 2021 год и плановый период 2023 года"]
[]
[{"$f":"'Инф-я'!$C$14","v":"ООО \"Энергетик\""}]
[]
["№ п./п.","Показатели","Фактические данные за 2021 год",null,null,"Расчетные (фактические) данные за 2021 год",null,null,"Плановые показатели на 2023 год"]
[]
[null,null,"фактически сложившаяся ставка платы (руб./кВт, руб./км)","мощность, длина линий, количество (кВт, км, шт.)","Расходы на строительство объекта, тыс. руб. ","стандартизированная ставка платы (руб./кВт, руб./км, руб./шт.)","мощность, длина линий, количество (кВт, км, шт.)","Расходы на строительство объекта, тыс. руб. ","стандартизированная ставка платы (руб./кВт, руб./км, руб./шт.)","мощность, длина линий, количество (кВт, км, шт.)","Расходы на строительство объекта, тыс. руб. "]
[1,2,3,4,5,6,7,8,9,10,11]
["1.","Расходы по мероприятиям \"последней мили\", связанные с осуществлением технологического присоединения к электрическим сетям [п.1.1 + п.1.2 + п.1.3 + п.1.4+ п.1.5+ п.1.6]:","х","х",{"$f":"SUM(E14:E27)","v":0},{"$f":"C13","v":"х"},{"$f":"D13","v":"х"},{"$f":"SUM(H14:H27)","v":0},{"$f":"F13","v":"х"},{"$f":"G13","v":"х"},{"$f":"SUM(K14:K27)","v":0}]
["1.1.","строительство воздушных линий, на уровне напряжения i и (или) диапазоне мощности j",{"$f":"IF(D14=0,0,E14/D14*1000)","v":0},null,null,null,{"$f":"D14","v":0},{"$f":"F14*G14/1000","v":0},null,null,{"$f":"I14*J14/1000","v":0}]
[null,"строительство воздушных линий, на уровне напряжения i и (или) диапазоне мощности j",{"$f":"IF(D15=0,0,E15/D15*1000)","v":0},null,null,null,{"$f":"D15","v":0},{"$f":"F15*G15/1000","v":0},null,null,{"$f":"I15*J15/1000","v":0}]
[null,"строительство воздушных линий, на уровне напряжения i и (или) диапазоне мощности j",{"$f":"IF(D16=0,0,E16/D16*1000)","v":0},null,null,null,{"$f":"D16","v":0},{"$f":"F16*G16/1000","v":0},null,null,{"$f":"I16*J16/1000","v":0}]
["Добавить"]
["1.2.","строительство кабельных линий, на уровне напряжения i и (или) диапазоне мощности j",{"$f":"IF(D18=0,0,E18/D18*1000)","v":0},null,null,null,{"$f":"D18","v":0},{"$f":"F18*G18/1000","v":0},null,null,{"$f":"I18*J18/1000","v":0}]
["Добавить"]
["1.3.","строительством пунктов секционирования, на уровне напряжения i и (или) диапазоне мощности j",{"$f":"IF(D20=0,0,E20/D20*1000)","v":0},null,null,null,{"$f":"D20","v":0},{"$f":"F20*G20/1000","v":0},null,null,{"$f":"I20*J20/1000","v":0}]
["Добавить"]
["1.4.","строительство комплектных трансформаторных подстанций (КТП) с уровнем напряжения до 35 кВ, на уровне напряжения i и (или) диапазоне мощности j",{"$f":"IF(D22=0,0,E22/D22*1000)","v":0},null,null,null,{"$f":"D22","v":0},{"$f":"F22*G22/1000","v":0},null,null,{"$f":"I22*J22/1000","v":0}]
["Добавить"]
["1.5.","строительство распределительных трансформаторных подстанций (РТП) с уровнем напряжения до 35 кВ, на уровне напряжения i и (или) диапазоне мощности j",{"$f":"IF(D24=0,0,E24/D24*1000)","v":0},null,null,null,{"$f":"D24","v":0},{"$f":"F24*G24/1000","v":0},null,null,{"$f":"I24*J24/1000","v":0}]
["Добавить"]
["1.6.","строительство центров питания, подстанций уровнем напряжения 35 кВ и выше (ПС), на уровне напряжения i и (или) диапазоне мощности j",{"$f":"IF(D26=0,0,E26/D26*1000)","v":0},null,null,null,{"$f":"D26","v":0},{"$f":"F26*G26/1000","v":0},null,null,{"$f":"I26*J26/1000","v":0}]
["Добавить"]
["2.","Суммарный размер платы за технологическое присоединение в части мероприятий \"последней мили\" [n.2.1 + п.2.2 + п.2.3 + п.2.4 + п.2.5+ п.2.6]:","х","х",{"$f":"SUM(E29:E42)","v":0},{"$f":"C28","v":"х"},{"$f":"D28","v":"х"},{"$f":"SUM(H29:H42)","v":0},{"$f":"F28","v":"х"},{"$f":"G28","v":"х"},{"$f":"SUM(K29:K42)","v":0}]
["2.1.","строительство воздушных линий, на уровне напряжения i и (или) диапазоне мощности j",{"$f":"IF(D29=0,0,E29/D29*1000)","v":0},null,null,null,{"$f":"D29","v":0},{"$f":"F29*G29/1000","v":0},null,null,{"$f":"I29*J29/1000","v":0}]
[null,"строительство воздушных линий, на уровне напряжения i и (или) диапазоне мощности j",{"$f":"IF(D30=0,0,E30/D30*1000)","v":0},null,null,null,{"$f":"D30","v":0},{"$f":"F30*G30/1000","v":0},null,null,{"$f":"I30*J30/1000","v":0}]
[null,"строительство воздушных линий, на уровне напряжения i и (или) диапазоне мощности j",{"$f":"IF(D31=0,0,E31/D31*1000)","v":0},null,null,null,{"$f":"D31","v":0},{"$f":"F31*G31/1000","v":0},null,null,{"$f":"I31*J31/1000","v":0}]
["Добавить"]
["2.2.","строительство кабельных линий, на уровне напряжения i и (или) диапазоне мощности j",{"$f":"IF(D33=0,0,E33/D33*1000)","v":0},null,null,null,{"$f":"D33","v":0},{"$f":"F33*G33/1000","v":0},null,null,{"$f":"I33*J33/1000","v":0}]
["Добавить"]
["2.3.","строительством пунктов секционирования, на уровне напряжения i и (или) диапазоне мощности j",{"$f":"IF(D35=0,0,E35/D35*1000)","v":0},null,null,null,{"$f":"D35","v":0},{"$f":"F35*G35/1000","v":0},null,null,{"$f":"I35*J35/1000","v":0}]
["Добавить"]
["2.4.","строительство комплектных трансформаторных подстанций (КТП) с уровнем напряжения до 35 кВ, на уровне напряжения i и (или) диапазоне мощности j",{"$f":"IF(D37=0,0,E37/D37*1000)","v":0},null,null,null,{"$f":"D37","v":0},{"$f":"F37*G37/1000","v":0},null,null,{"$f":"I37*J37/1000","v":0}]
["Добавить"]
["2.5.","строительство распределительных трансформаторных подстанций (РТП) с уровнем напряжения до 35 кВ, на уровне напряжения i и (или) диапазоне мощности j",{"$f":"IF(D39=0,0,E39/D39*1000)","v":0},null,null,null,{"$f":"D39","v":0},{"$f":"F39*G39/1000","v":0},null,null,{"$f":"I39*J39/1000","v":0}]
["Добавить"]
["2.6.","строительство центров питания, подстанций уровнем напряжения 35 кВ и выше (ПС), на уровне напряжения i и (или) диапазоне мощности j",{"$f":"IF(D41=0,0,E41/D41*1000)","v":0},null,null,null,{"$f":"D41","v":0},{"$f":"F41*G41/1000","v":0},null,null,{"$f":"I41*J41/1000","v":0}]
["Добавить"]
["3.","Размер расходов по мероприятиям \"последней мили\", связанных с осуществлением технологического присоединения к электрическим сетям, не включаемых в плату за технологическое присоединение [п.1 - п.2]","х","х",{"$f":"E13-E28","v":0},"х","х",{"$f":"H13-H28","v":0},"х","х",{"$f":"K13-K28","v":0}]
[]
[]
[null,"Фактические средние данные по выполненым договорам технологического присоединения за 3 предыдущих года "]
[]
[null,"Год","строительство ВЛ, км","строительство КЛ, км","строительство пунктов секционирования, шт","строительство КТП с уровнем напряжения до 35 кВ, шт.","строительство РТП с уровнем напряжения до 35 кВ, шт.","строительство ПС, шт."]
[null,"Факт 2019 г."]
[null,"Факт 2020 г."]
[null,"Факт 2021 г."]
[null,"План 2022 г. (расчет плановых значений исходя из данных за 3 предыдущих периода)",{"$f":"(C49+C50+C51)/3","v":0},0,0,0,0,0]
[]
[null,"Сводный расчет выпадающих  доходов от льготного ТП, подлежащих учету в 2023 году, тыс. руб."]
[]
[null,"Выпадающие доходы, учтенные при тарифном регулировании на 2021 год  всего в т.ч.",{"$f":"C57+C58","v":0}]
[null,"фактические по итогам 2019 года"]
[null,"планового периода 2021 года"]
[null,"Выпадающие доходы по итогам 2021 года за минусом плановых показателей 2021 года, подлежащие учету в 2023 году, тыс. руб.",{"$f":"E43-C58","v":0},null,null,null,"ИПЦ, %"]
[null,"Выпадающие доходы по итогам 2021 года c учетом ИПЦ, подлежащие учету в 2023 году, тыс. руб.",{"$f":"C59*(1+H60)*(1+H61)","v":0},null,null,null,"2022 г. к 2021 г."]
[null,"Плановые выпадающие доходы на 2023 год",{"$f":"K43","v":0},null,null,null,"2023 г. к 2022 г."]
[null,"Итого выпадающие доходы от льготного ТП подлежащие учету в 2023 году, тыс. руб.",{"$f":"C61+C60","v":0}]
[]
[null,"Руководитель организации",null,{"$f":"'Инф-я'!$C$21","v":"Окунев Василий Михайлович"}]
[]
[]
[]
[]
[]
[]
[]
[]
["Виды строительства по МУ"]
[]
[3,"Строительство воздушных линий"]
["3. j","Материал опоры (деревянные (j = 1), металлические (j = 2), железобетонные (j = 3)"]
["3. j.k","Тип провода (изолированный провод (k = 1), неизолированный провод (k = 2)"]
["3. j.k.l","Материал провода (медный (l=1), стальной (l = 2), сталеалюминиевый (l = 3), алюминиевый (l = 4)"]
["3. j.k.l.m","Сечение провода (диапазон до 50 квадратных мм включительно (m = 1), от 50 до 100 квадратных мм включительно (m = 2), от 100 до 200 квадратных мм включительно (m = 3), от 200 до 500 квадратных мм включительно (m = 4), от 500 до 800 квадратных мм включительно (m = 5), свыше 800 квадратных мм (m = 6)"]
[4,"Строительство кабельных линий"]
["4. j","Способ прокладки кабельных линий (в траншеях (j = 1), в блоках (j = 2), в каналах (j = 3), в туннелях и коллекторах (j = 4), в галереях и эстакадах (j = 5), горизонтальное наклонное бурение (j = 6)"]
["4. j.k","Одножильные (k = 1) и многожильные (k = 2)"]
["4. j.k.l","Кабели с резиновой и пластмассовой изоляцией (l=1), бумажной изоляцией (l = 2)"]
["4. j.k.l.m","Сечение провода (диапазон до 50 квадратных мм включительно (m = 1), от 50 до 100 квадратных мм включительно (m = 2), от 100 до 200 квадратных мм включительно (m = 3), от 200 до 500 квадратных мм включительно (m = 4), от 500 до 800 квадратных мм включительно (m = 5), свыше 800 квадратных мм (m = 6)"]
[5,"Строительство пунктов секционирования"]
["5. j","Реклоузеры (j = 1 распределительные пункты (РП) (j = 2), переключательные пункты (ПП) (j = 3)"]
["5. j.k","Номинальный ток до 100 А включительно (k = 1), от 100 до 250 А включительно (k = 2), от 250 до 500 А включительно (k = 3), от 500 А до 1 000 А включительно (k = 4), свыше 1 000 А (k = 5)"]
[6,"Строительство трансформаторных подстанций (ТП), за исключением распределительных трансформаторных подстанций (РТП), с уровнем напряжения до 35 кВ"]
["6. j","Трансформаторные подстанции (ТП), за исключением распределительных трансформаторных подстанций (РТП)"]
["6. j.k","Однотрансформаторные (k=1), двухтрансформаторные и более (k = 2)"]
["6. j.k.l","Трансформаторная мощность до 25 кВА включительно (l = 1), от 25 до 100 кВА включительно (l = 2), от 100 до 250 кВА включительно (l = 3), от 250 до 500 кВА (l = 4), от 500 до 900 кВА включительно (l = 5), свыше 1000 кВА (l = 6)"]
[7,"Строительство распределительных трансформаторных подстанций (РТП) с уровнем напряжения до 35 кВ"]
["7. j","Распределительные трансформаторные подстанции (РТП)"]
["7. j.k","Однотрансформаторные (k=1), двухтрансформаторные и более (k = 2)"]
["7. j.k.l","Трансформаторная мощность до 25 кВА включительно (l=1), от 25 до 100 кВ А включительно (l = 2), от 100 до 250 кВА включительно (l = 3), от 250 до 500 кВА (l = 4), от 500 до 900 кВА включительно (l = 5), свыше 1000 кВА (l = 6)"]
[8,"Строительство центров питания, подстанций уровнем напряжения 35 кВ и выше (ПС)"]
["8. j","ПС 35 кВ (j = 1), ПС 110 кВ и выше (j = 2)"]

{"sheet":"СВОД по % по рассрочке","index":25,"n_rows":45,"n_cols":20,"rows_kept":45,"cut":false,"hidden":false,"merged":[[1,1,1,9],[3,0,3,9],[5,0,7,0],[5,1,7,4],[5,5,7,5],[5,6,7,6],[5,7,7,7],[5,8,7,8],[5,9,7,9],[31,0,31,16],[8,1,8,4],[9,1,9,4],[10,1,10,4],[11,1,11,4],[12,1,12,4],[13,1,13,4],[14,1,14,4],[15,1,15,4],[16,0,16,9],[17,0,17,7],[27,5,29,9],[44,0,44,9],[33,1,33,16],[35,0,36,0],[35,1,36,4],[35,5,35,9],[35,10,35,14],[35,15,35,19],[37,1,37,4],[38,1,38,4],[40,1,40,2],[40,3,40,4],[43,0,43,9]]}
[]
[null," Выпадающие доходы сетевой организации от выплаты процентов по кредитным договорам, связанным с рассрочкой по оплате субъектами малого и среднего предпринимательства технологического присоединения энергопринимающих устройств максимальной мощностью свыше 15 кВт и до 150 кВт включительно в 2023 году"]
[]
[{"$f":"'Инф-я'!$C$14","v":"ООО \"Энергетик\""}]
[]
["N п/п","Информация о договоре технологического присоединения (Контрагент (наименование), № договора ТП, Дата заключения договора)",null,null,null,"Ставка рефинансирования Центрального банка Российской Федерации ","Год закрытия","Квартал закрытия","Сумма договора,тыс. руб. с НДС","Размер расходов, связанных с предоставлением беспроцентной рассрочки в 2023 году, тыс. руб. "]
[]
[]
[1,2,null,null,null,3,4,5,6,7]
[1,{"$f":"Заявитель1!A4","v":0},null,null,null,{"$f":"Заявитель1!B31","v":0},{"$f":"Заявитель1!B34","v":0},{"$f":"Заявитель1!B32","v":0},{"$f":"Заявитель1!B33","v":0},{"$f":"Заявитель1!G36","v":0}]
[2,{"$f":"Заявитель2!A4","v":0},null,null,null,{"$f":"Заявитель2!B31","v":0},{"$f":"Заявитель2!B34","v":0},{"$f":"Заявитель2!B32","v":0},{"$f":"Заявитель2!B33","v":0},{"$f":"Заявитель2!G36","v":0}]
[3,{"$f":"Заявитель3!A4","v":0},null,null,null,{"$f":"Заявитель3!B31","v":0},{"$f":"Заявитель3!B34","v":0},{"$f":"Заявитель3!B32","v":0},{"$f":"Заявитель3!B33","v":0},{"$f":"Заявитель3!G36","v":0}]
[4,{"$f":"Заявитель4!A4","v":0},null,null,null,{"$f":"Заявитель4!B31","v":0},{"$f":"Заявитель4!B34","v":0},{"$f":"Заявитель4!B32","v":0},{"$f":"Заявитель4!B33","v":0},{"$f":"Заявитель4!G36","v":0}]
[]
[]
[]
["Добавить"]
["ИТОГО",null,null,null,null,null,null,null,{"$f":"SUM(I10:I17)","v":0},{"$f":"SUM(J10:J17)","v":0}]
[]
[null,"Свод по кварталам ","Сумма по договорам"]
[null,1,{"$f":"SUMIF(H$6:H$22,B21,I$6:I$22)","v":0}]
[null,2,{"$f":"SUMIF(H$6:H$22,B22,I$6:I$22)","v":0}]
[null,3,{"$f":"SUMIF(H$6:H$22,B23,I$6:I$22)","v":0}]
[null,4,{"$f":"SUMIF(H$6:H$22,B24,I$6:I$22)","v":0}]
[null,"ГОД",{"$f":"SUM(C21:C24)","v":0}]
[null,null,{"$f":"C25-I18","v":0}]
[]
[null,null,null,null,null,"Приложение 2 к Методическим указаниям,  утвержденным приказом ФСТ от 11.09.2014 г. №215-э/1"]
[]
[]
[]
["Таблица 1. Расчет суммарного размера платы за технологическое присоединение, подлежащего беспроцентной рассрочке"]
[]
[null,{"$f":"'Инф-я'!C14","v":"ООО \"Энергетик\""}]
[null,null,null,null,null,null,null,null,null,null,null,null,null,null,null,null,"тыс. руб. с НДС"]
["N п/п","Показатель",null,null,null,"Фактические данные за предыдущий период регулирования",null,null,null,null,"Ожидаемые данные за текущий период регулирования",null,null,null,null,"Плановые показатели на следующий период регулирования"]
[null,null,null,null,null,"1 кв.","2 кв.","3 кв.","4 кв.","всего за год","1 кв.","2 кв.","3 кв.","4 кв.","всего за год","1 кв.","2 кв.","3 кв.","4 кв.","всего за год"]
[1,"Суммарный размер платы за технологическое присоединение, тыс. руб., в т.ч.:",null,null,null,null,null,null,null,{"$f":"SUM(F38:I38)","v":0},null,null,null,null,{"$f":"SUM(K38:N38)","v":0},{"$f":"C21","v":0},{"$f":"C22","v":0},{"$f":"C23","v":0},{"$f":"C24","v":0},{"$f":"SUM(P38:S38)","v":0}]
[2,"Суммарный размер платы за технологическое присоединение, подлежащий беспроцентной рассрочке",null,null,null,null,null,null,null,{"$f":"SUM(F39:I39)","v":0},null,null,null,null,{"$f":"SUM(K39:N39)","v":0},{"$f":"P38*0.95","v":0},{"$f":"Q38*0.95","v":0},{"$f":"R38*0.95","v":0},{"$f":"S38*0.95","v":0},{"$f":"T38*0.95","v":0}]
[]
[null,"Руководитель организации",null,{"$f":"'Инф-я'!C21","v":"Окунев Василий Михайлович"}]
[]
["Примечание:"]
["1) Суммарный размер платы за технологическое присоединение (п. 1) за каждый квартал следующего расчетного периода регулирования представляет собой прогнозную величину платы за технологическое присоединение для заявителей, обращающихся за беспроцентной рассрочкой, определенную на основе фактических данных о заявителях, обратившихся за рассрочкой за последний год, но не ниже документально подтвержденных данных о заявителях, обратившихся за рассрочкой на следующий период регулирования."]
["2) Суммарный размер платы за технологическое присоединение, подлежащий беспроцентной рассрочке (п. 2), за каждый квартал определяется как суммарный размер платы за технологическое присоединение (п. 1) за каждый квартал, умноженный на 0,95."]

{"sheet":"Заявитель1","index":26,"n_rows":53,"n_cols":10,"rows_kept":53,"cut":false,"hidden":false,"merged":[[0,2,0,7],[2,0,2,6],[3,0,3,6],[4,1,4,6],[6,0,7,0],[6,1,7,1],[6,2,6,6],[6,7,7,7],[52,0,52,6],[35,0,35,5],[37,0,37,6],[42,0,42,6],[43,0,43,6],[44,0,44,6],[45,0,45,6],[46,0,46,6],[48,0,48,6],[49,0,49,6],[50,0,50,6],[51,0,51,6]]}
[null,null,"Приложение 2 к Методическим указаниям,  утвержденным приказом ФСТ от 11.09.2014 г. №215-э/1"]
[]
[" Расчет размера расходов, связанных с предоставлением беспроцентной рассрочки (для конкретного заявителя)\n"]
[]
[null,"(Контрагент (наименование), № договора ТП, Дата заключения договора)"]
[]
["N п/п","Квартал, на который рассчитывается размер расходов, связанных с предоставлением беспроцентной рассрочки","Расходы, связанные с предоставлением беспроцентной рассрочки, тыс. руб. (с учетом НДС)",null,null,null,null,"Номер квартала i"]
[null,null,"в отношении суммарного размера платы за технологическое присоединение в 1 квартале","в отношении суммарного размера платы за технологическое присоединение во 2 квартале","в отношении суммарного размера платы за технологическое присоединение в 3 квартале","в отношении суммарного размера платы за технологическое присоединение в 4 квартале","всего в год",null,null,"  "]
[1,{"$f":"CONCATENATE(\"1 год (\",$B$34,\"г.):\")","v":"1 год (г.):"},{"$f":"SUM(C10:C13)","v":0},{"$f":"SUM(D10:D13)","v":0},{"$f":"SUM(E10:E13)","v":0},{"$f":"SUM(F10:F13)","v":0},{"$f":"SUM(C9:F9)","v":0}]
["1.1.","1 квартал",{"$f":"IF($H10>=$B$32,Заявитель1!$B$33*0.95*((12+$B$32-$H10)/12)*($B$31/4),0)","v":0},null,null,null,0,1]
["1.2.","2 квартал",null,{"$f":"IF($H11>=$B$32,Заявитель1!$B$33*0.95*((12+$B$32-$H11)/12)*($B$31/4),0)","v":0},null,null,0,2]
["1.3.","3 квартал",null,null,{"$f":"IF($H12>=$B$32,Заявитель1!$B$33*0.95*((12+$B$32-$H12)/12)*($B$31/4),0)","v":0},null,0,3]
["1.4.","4 квартал",null,null,null,{"$f":"IF($H13>=$B$32,Заявитель1!$B$33*0.95*((12+$B$32-$H13)/12)*($B$31/4),0)","v":0},0,4]
[2,{"$f":"CONCATENATE(\"1 год (\",$B$34+1,\"г.):\")","v":"1 год (1г.):"},{"$f":"SUM(C15:C18)","v":0},{"$f":"SUM(D15:D18)","v":0},{"$f":"SUM(E15:E18)","v":0},{"$f":"SUM(F15:F18)","v":0},0]
["2.1.","5 квартал",{"$f":"Заявитель1!$B$33*0.95*((12+$B$32-$H15)/12)*($B$31/4)","v":0},null,null,null,0,5]
["2.2.","6 квартал",null,{"$f":"Заявитель1!$B$33*0.95*((12+$B$32-$H16)/12)*($B$31/4)","v":0},null,null,0,6]
["2.3.","7 квартал",null,null,{"$f":"Заявитель1!$B$33*0.95*((12+$B$32-$H17)/12)*($B$31/4)","v":0},null,0,7]
["2.4.","8 квартал",null,null,null,{"$f":"Заявитель1!$B$33*0.95*((12+$B$32-$H18)/12)*($B$31/4)","v":0},0,8]
[3,{"$f":"CONCATENATE(\"1 год (\",$B$34+2,\"г.):\")","v":"1 год (2г.):"},{"$f":"SUM(C20:C23)","v":0},{"$f":"SUM(D20:D23)","v":0},{"$f":"SUM(E20:E23)","v":0},{"$f":"SUM(F20:F23)","v":0},0]
["3.1.","9 квартал",{"$f":"Заявитель1!$B$33*0.95*((12+$B$32-$H20)/12)*($B$31/4)","v":0},null,null,null,0,9]
["3.2.","10 квартал",null,{"$f":"Заявитель1!$B$33*0.95*((12+$B$32-$H21)/12)*($B$31/4)","v":0},null,null,0,10]
["3.3.","11 квартал",null,null,{"$f":"Заявитель1!$B$33*0.95*((12+$B$32-$H22)/12)*($B$31/4)","v":0},null,0,11]
["3.4.","12 квартал",null,null,null,{"$f":"Заявитель1!$B$33*0.95*((12+$B$32-$H23)/12)*($B$31/4)","v":0},0,12]
[4,{"$f":"CONCATENATE(\"1 год (\",$B$34+3,\"г.):\")","v":"1 год (3г.):"},{"$f":"SUM(C25:C27)","v":0},{"$f":"SUM(D25:D27)","v":0},{"$f":"SUM(E25:E27)","v":0},{"$f":"SUM(F25:F27)","v":0},0]
["4.1.","13 квартал",{"$f":"Заявитель1!$B$33*0.95*((12+$B$32-$H25)/12)*($B$31/4)","v":0},null,null,null,0,13]
["4.2.","14 квартал",null,{"$f":"IF((Заявитель1!$B$33*0.95*((12+$B$32-$H26)/12)*($B$31/4))<0,0,Заявитель1!$B$33*0.95*((12+$B$32-$H26)/12)*($B$31/4))","v":0},null,null,0,14]
["4.3.","15 квартал",null,null,{"$f":"IF((Заявитель1!$B$33*0.95*((12+$B$32-$H27)/12)*($B$31/4))<0,0,Заявитель1!$B$33*0.95*((12+$B$32-$H27)/12)*($B$31/4))","v":0},null,0,15]
[5,"Итого",{"$f":"C9+C14+C19+C24","v":0},{"$f":"D9+D14+D19+D24","v":0},{"$f":"E9+E14+E19+E24","v":0},{"$f":"F9+F14+F19+F24","v":0},{"$f":"G9+G14+G19+G24","v":0}]
[]
[]
[]
["k"]
[]
["Год закрытия договора"]
[]
["Размера расходов, связанных с предоставлением беспроцентной рассрочки в 2023 году",null,null,null,null,null,{"$f":"IF(B34<2019,0,IF(B34=2019,G24,IF(B34=2021,G19,IF(B34=2022,G14))))","v":0},"тыс. руб. "]
[]
["Размер расходов, связанных с предоставлением беспроцентной рассрочки, в i-м квартале в течение трехлетнего периода предоставления беспроцентной рассрочки рассчитывается по формуле (1):"]
[]
[null,null,null,", (1)"]
[]
["где:"]
["       - суммарный размер платы за технологическое присоединение, начисляемый заявителям, которым предоставляется рассрочка, в квартале k периода регулирования (тыс. руб.);"]
["k - номер квартала по порядку в периоде регулирования, в который начисляется размер платы за технологическое присоединение (равен от 1 до 4);"]
["i - номер квартала по порядку, начиная с момента начисления размера платы за технологическое присоединение с условием предоставления беспроцентной рассрочки в квартале k, с учетом квартала, в котором произведены начисления, в течение трехлетнего периода предоставления беспроцентной рассрочки (равен от k до 12 + k - 1);"]
["          - ставка рефинансирования Центрального банка Российской Федерации на дату представления сетевой организацией заявки на установление размера платы за технологическое присоединение в регулирующий орган."]
["В случае отклонения фактического значения процентной ставки по кредитам, связанным с рассрочкой по оплате технологического присоединения, от ставки рефинансирования Центрального банка Российской Федерации, при расчете фактического размера расходов, связанных с предоставлением беспроцентной рассрочки, применяется величина процентной ставки в соответствии с пунктом 87 Основ ценообразования."]
[]
["Примечание: "]
["1) Периодом предоставления беспроцентной рассрочки считается 3 года."]
["2) Размер расходов, связанных с предоставлением беспроцентной рассрочки, в каждый квартал периода регулирования в течение трехлетнего периода предоставления беспроцентной рассрочки в отношении планируемого к получению (фактически полученного) от заявителей суммарного размера платы за технологическое присоединение, определяется в соответствии с формулой (1) Методических указаний по определению выпадающих доходов, связанных с осуществлением технологического присоединения к электрическим сетям."]
["3) При расчете планируемых значений показателей при заполнении таблиц 1 и 2 применяется планируемая к получению величина суммарного размера платы за технологическое присоединение, подлежащего беспроцентной рассрочке."]
["4) При расчете фактических значений показателей при заполнении таблиц 1 и 2 применяется суммарная плата за технологическое присоединение, начисленная с беспроцентной рассрочкой в соответствии с заключенными договорами об осуществлении технологического присоединения к электрическим сетям."]

{"sheet":"Заявитель2","index":27,"n_rows":53,"n_cols":10,"rows_kept":53,"cut":false,"hidden":false,"merged":[[0,2,0,7],[2,0,2,6],[3,0,3,6],[4,1,4,6],[6,0,7,0],[6,1,7,1],[6,2,6,6],[6,7,7,7],[52,0,52,6],[35,0,35,5],[37,0,37,6],[42,0,42,6],[43,0,43,6],[44,0,44,6],[45,0,45,6],[46,0,46,6],[48,0,48,6],[49,0,49,6],[50,0,50,6],[51,0,51,6]]}
[null,null,"Приложение 2 к Методическим указаниям,  утвержденным приказом ФСТ от 11.09.2014 г. №215-э/1"]
[]
[" Расчет размера расходов, связанных с предоставлением беспроцентной рассрочки (для конкретного заявителя)\n"]
[]
[null,"(Контрагент (наименование), № договора ТП, Дата заключения договора)"]
[]
["N п/п","Квартал, на который рассчитывается размер расходов, связанных с предоставлением беспроцентной рассрочки","Расходы, связанные с предоставлением беспроцентной рассрочки, тыс. руб. (с учетом НДС)",null,null,null,null,"Номер квартала i"]
[null,null,"в отношении суммарного размера платы за технологическое присоединение в 1 квартале","в отношении суммарного размера платы за технологическое присоединение во 2 квартале","в отношении суммарного размера платы за технологическое присоединение в 3 квартале","в отношении суммарного размера платы за технологическое присоединение в 4 квартале","всего в год",null,null,"  "]
[1,{"$f":"CONCATENATE(\"1 год (\",$B$34,\"г.):\")","v":"1 год (г.):"},{"$f":"SUM(C10:C13)","v":0},{"$f":"SUM(D10:D13)","v":0},{"$f":"SUM(E10:E13)","v":0},{"$f":"SUM(F10:F13)","v":0},{"$f":"SUM(C9:F9)","v":0}]
["1.1.","1 квартал",{"$f":"IF($H10>=$B$32,Заявитель2!$B$33*0.95*((12+$B$32-$H10)/12)*($B$31/4),0)","v":0},null,null,null,0,1]
["1.2.","2 квартал",null,{"$f":"IF($H11>=$B$32,Заявитель2!$B$33*0.95*((12+$B$32-$H11)/12)*($B$31/4),0)","v":0},null,null,0,2]
["1.3.","3 квартал",null,null,{"$f":"IF($H12>=$B$32,Заявитель2!$B$33*0.95*((12+$B$32-$H12)/12)*($B$31/4),0)","v":0},null,0,3]
["1.4.","4 квартал",null,null,null,{"$f":"IF($H13>=$B$32,Заявитель2!$B$33*0.95*((12+$B$32-$H13)/12)*($B$31/4),0)","v":0},0,4]
[2,{"$f":"CONCATENATE(\"1 год (\",$B$34+1,\"г.):\")","v":"1 год (1г.):"},{"$f":"SUM(C15:C18)","v":0},{"$f":"SUM(D15:D18)","v":0},{"$f":"SUM(E15:E18)","v":0},{"$f":"SUM(F15:F18)","v":0},0]
["2.1.","5 квартал",{"$f":"Заявитель2!$B$33*0.95*((12+$B$32-$H15)/12)*($B$31/4)","v":0},null,null,null,0,5]
["2.2.","6 квартал",null,{"$f":"Заявитель2!$B$33*0.95*((12+$B$32-$H16)/12)*($B$31/4)","v":0},null,null,0,6]
["2.3.","7 квартал",null,null,{"$f":"Заявитель2!$B$33*0.95*((12+$B$32-$H17)/12)*($B$31/4)","v":0},null,0,7]
["2.4.","8 квартал",null,null,null,{"$f":"Заявитель2!$B$33*0.95*((12+$B$32-$H18)/12)*($B$31/4)","v":0},0,8]
[3,{"$f":"CONCATENATE(\"1 год (\",$B$34+2,\"г.):\")","v":"1 год (2г.):"},{"$f":"SUM(C20:C23)","v":0},{"$f":"SUM(D20:D23)","v":0},{"$f":"SUM(E20:E23)","v":0},{"$f":"SUM(F20:F23)","v":0},0]
["3.1.","9 квартал",{"$f":"Заявитель2!$B$33*0.95*((12+$B$32-$H20)/12)*($B$31/4)","v":0},null,null,null,0,9]
["3.2.","10 квартал",null,{"$f":"Заявитель2!$B$33*0.95*((12+$B$32-$H21)/12)*($B$31/4)","v":0},null,null,0,10]
["3.3.","11 квартал",null,null,{"$f":"Заявитель2!$B$33*0.95*((12+$B$32-$H22)/12)*($B$31/4)","v":0},null,0,11]
["3.4.","12 квартал",null,null,null,{"$f":"Заявитель2!$B$33*0.95*((12+$B$32-$H23)/12)*($B$31/4)","v":0},0,12]
[4,{"$f":"CONCATENATE(\"1 год (\",$B$34+3,\"г.):\")","v":"1 год (3г.):"},{"$f":"SUM(C25:C27)","v":0},{"$f":"SUM(D25:D27)","v":0},{"$f":"SUM(E25:E27)","v":0},{"$f":"SUM(F25:F27)","v":0},0]
["4.1.","13 квартал",{"$f":"Заявитель2!$B$33*0.95*((12+$B$32-$H25)/12)*($B$31/4)","v":0},null,null,null,0,13]
["4.2.","14 квартал",null,{"$f":"IF((Заявитель2!$B$33*0.95*((12+$B$32-$H26)/12)*($B$31/4))<0,0,Заявитель2!$B$33*0.95*((12+$B$32-$H26)/12)*($B$31/4))","v":0},null,null,0,14]
["4.3.","15 квартал",null,null,{"$f":"IF((Заявитель2!$B$33*0.95*((12+$B$32-$H27)/12)*($B$31/4))<0,0,Заявитель2!$B$33*0.95*((12+$B$32-$H27)/12)*($B$31/4))","v":0},null,0,15]
[5,"Итого",{"$f":"C9+C14+C19+C24","v":0},{"$f":"D9+D14+D19+D24","v":0},{"$f":"E9+E14+E19+E24","v":0},{"$f":"F9+F14+F19+F24","v":0},{"$f":"G9+G14+G19+G24","v":0}]
[]
[]
[]
["k"]
[]
["Год закрытия договора"]
[]
["Размера расходов, связанных с предоставлением беспроцентной рассрочки в 2023 году",null,null,null,null,null,{"$f":"IF(B34<2019,0,IF(B34=2019,G24,IF(B34=2021,G19,IF(B34=2022,G14))))","v":0},"тыс. руб. "]
[]
["Размер расходов, связанных с предоставлением беспроцентной рассрочки, в i-м квартале в течение трехлетнего периода предоставления беспроцентной рассрочки рассчитывается по формуле (1):"]
[]
[null,null,null,", (1)"]
[]
["где:"]
["       - суммарный размер платы за технологическое присоединение, начисляемый заявителям, которым предоставляется рассрочка, в квартале k периода регулирования (тыс. руб.);"]
["k - номер квартала по порядку в периоде регулирования, в который начисляется размер платы за технологическое присоединение (равен от 1 до 4);"]
["i - номер квартала по порядку, начиная с момента начисления размера платы за технологическое присоединение с условием предоставления беспроцентной рассрочки в квартале k, с учетом квартала, в котором произведены начисления, в течение трехлетнего периода предоставления беспроцентной рассрочки (равен от k до 12 + k - 1);"]
["          - ставка рефинансирования Центрального банка Российской Федерации на дату представления сетевой организацией заявки на установление размера платы за технологическое присоединение в регулирующий орган."]
["В случае отклонения фактического значения процентной ставки по кредитам, связанным с рассрочкой по оплате технологического присоединения, от ставки рефинансирования Центрального банка Российской Федерации, при расчете фактического размера расходов, связанных с предоставлением беспроцентной рассрочки, применяется величина процентной ставки в соответствии с пунктом 87 Основ ценообразования."]
[]
["Примечание: "]
["1) Периодом предоставления беспроцентной рассрочки считается 3 года."]
["2) Размер расходов, связанных с предоставлением беспроцентной рассрочки, в каждый квартал периода регулирования в течение трехлетнего периода предоставления беспроцентной рассрочки в отношении планируемого к получению (фактически полученного) от заявителей суммарного размера платы за технологическое присоединение, определяется в соответствии с формулой (1) Методических указаний по определению выпадающих доходов, связанных с осуществлением технологического присоединения к электрическим сетям."]
["3) При расчете планируемых значений показателей при заполнении таблиц 1 и 2 применяется планируемая к получению величина суммарного размера платы за технологическое присоединение, подлежащего беспроцентной рассрочке."]
["4) При расчете фактических значений показателей при заполнении таблиц 1 и 2 применяется суммарная плата за технологическое присоединение, начисленная с беспроцентной рассрочкой в соответствии с заключенными договорами об осуществлении технологического присоединения к электрическим сетям."]

{"sheet":"Заявитель3","index":28,"n_rows":53,"n_cols":10,"rows_kept":53,"cut":false,"hidden":false,"merged":[[0,2,0,7],[2,0,2,6],[3,0,3,6],[4,1,4,6],[6,0,7,0],[6,1,7,1],[6,2,6,6],[6,7,7,7],[52,0,52,6],[35,0,35,5],[37,0,37,6],[42,0,42,6],[43,0,43,6],[44,0,44,6],[45,0,45,6],[46,0,46,6],[48,0,48,6],[49,0,49,6],[50,0,50,6],[51,0,51,6]]}
[null,null,"Приложение 2 к Методическим указаниям,  утвержденным приказом ФСТ от 11.09.2014 г. №215-э/1"]
[]
[" Расчет размера расходов, связанных с предоставлением беспроцентной рассрочки (для конкретного заявителя)\n"]
[]
[null,"(Контрагент (наименование), № договора ТП, Дата заключения договора)"]
[]
["N п/п","Квартал, на который рассчитывается размер расходов, связанных с предоставлением беспроцентной рассрочки","Расходы, связанные с предоставлением беспроцентной рассрочки, тыс. руб. (с учетом НДС)",null,null,null,null,"Номер квартала i"]
[null,null,"в отношении суммарного размера платы за технологическое присоединение в 1 квартале","в отношении суммарного размера платы за технологическое присоединение во 2 квартале","в отношении суммарного размера платы за технологическое присоединение в 3 квартале","в отношении суммарного размера платы за технологическое присоединение в 4 квартале","всего в год",null,null,"  "]
[1,{"$f":"CONCATENATE(\"1 год (\",$B$34,\"г.):\")","v":"1 год (г.):"},{"$f":"SUM(C10:C13)","v":0},{"$f":"SUM(D10:D13)","v":0},{"$f":"SUM(E10:E13)","v":0},{"$f":"SUM(F10:F13)","v":0},{"$f":"SUM(C9:F9)","v":0}]
["1.1.","1 квартал",{"$f":"IF($H10>=$B$32,Заявитель3!$B$33*0.95*((12+$B$32-$H10)/12)*($B$31/4),0)","v":0},null,null,null,0,1]
["1.2.","2 квартал",null,{"$f":"IF($H11>=$B$32,Заявитель3!$B$33*0.95*((12+$B$32-$H11)/12)*($B$31/4),0)","v":0},null,null,0,2]
["1.3.","3 квартал",null,null,{"$f":"IF($H12>=$B$32,Заявитель3!$B$33*0.95*((12+$B$32-$H12)/12)*($B$31/4),0)","v":0},null,0,3]
["1.4.","4 квартал",null,null,null,{"$f":"IF($H13>=$B$32,Заявитель3!$B$33*0.95*((12+$B$32-$H13)/12)*($B$31/4),0)","v":0},0,4]
[2,{"$f":"CONCATENATE(\"1 год (\",$B$34+1,\"г.):\")","v":"1 год (1г.):"},{"$f":"SUM(C15:C18)","v":0},{"$f":"SUM(D15:D18)","v":0},{"$f":"SUM(E15:E18)","v":0},{"$f":"SUM(F15:F18)","v":0},0]
["2.1.","5 квартал",{"$f":"Заявитель3!$B$33*0.95*((12+$B$32-$H15)/12)*($B$31/4)","v":0},null,null,null,0,5]
["2.2.","6 квартал",null,{"$f":"Заявитель3!$B$33*0.95*((12+$B$32-$H16)/12)*($B$31/4)","v":0},null,null,0,6]
["2.3.","7 квартал",null,null,{"$f":"Заявитель3!$B$33*0.95*((12+$B$32-$H17)/12)*($B$31/4)","v":0},null,0,7]
["2.4.","8 квартал",null,null,null,{"$f":"Заявитель3!$B$33*0.95*((12+$B$32-$H18)/12)*($B$31/4)","v":0},0,8]
[3,{"$f":"CONCATENATE(\"1 год (\",$B$34+2,\"г.):\")","v":"1 год (2г.):"},{"$f":"SUM(C20:C23)","v":0},{"$f":"SUM(D20:D23)","v":0},{"$f":"SUM(E20:E23)","v":0},{"$f":"SUM(F20:F23)","v":0},0]
["3.1.","9 квартал",{"$f":"Заявитель3!$B$33*0.95*((12+$B$32-$H20)/12)*($B$31/4)","v":0},null,null,null,0,9]
["3.2.","10 квартал",null,{"$f":"Заявитель3!$B$33*0.95*((12+$B$32-$H21)/12)*($B$31/4)","v":0},null,null,0,10]
["3.3.","11 квартал",null,null,{"$f":"Заявитель3!$B$33*0.95*((12+$B$32-$H22)/12)*($B$31/4)","v":0},null,0,11]
["3.4.","12 квартал",null,null,null,{"$f":"Заявитель3!$B$33*0.95*((12+$B$32-$H23)/12)*($B$31/4)","v":0},0,12]
[4,{"$f":"CONCATENATE(\"1 год (\",$B$34+3,\"г.):\")","v":"1 год (3г.):"},{"$f":"SUM(C25:C27)","v":0},{"$f":"SUM(D25:D27)","v":0},{"$f":"SUM(E25:E27)","v":0},{"$f":"SUM(F25:F27)","v":0},0]
["4.1.","13 квартал",{"$f":"Заявитель3!$B$33*0.95*((12+$B$32-$H25)/12)*($B$31/4)","v":0},null,null,null,0,13]
["4.2.","14 квартал",null,{"$f":"IF((Заявитель3!$B$33*0.95*((12+$B$32-$H26)/12)*($B$31/4))<0,0,Заявитель3!$B$33*0.95*((12+$B$32-$H26)/12)*($B$31/4))","v":0},null,null,0,14]
["4.3.","15 квартал",null,null,{"$f":"IF((Заявитель3!$B$33*0.95*((12+$B$32-$H27)/12)*($B$31/4))<0,0,Заявитель3!$B$33*0.95*((12+$B$32-$H27)/12)*($B$31/4))","v":0},null,0,15]
[5,"Итого",{"$f":"C9+C14+C19+C24","v":0},{"$f":"D9+D14+D19+D24","v":0},{"$f":"E9+E14+E19+E24","v":0},{"$f":"F9+F14+F19+F24","v":0},{"$f":"G9+G14+G19+G24","v":0}]
[]
[]
[]
["k"]
[]
["Год закрытия договора"]
[]
["Размера расходов, связанных с предоставлением беспроцентной рассрочки в 2023 году",null,null,null,null,null,{"$f":"IF(B34<2019,0,IF(B34=2019,G24,IF(B34=2021,G19,IF(B34=2022,G14))))","v":0},"тыс. руб. "]
[]
["Размер расходов, связанных с предоставлением беспроцентной рассрочки, в i-м квартале в течение трехлетнего периода предоставления беспроцентной рассрочки рассчитывается по формуле (1):"]
[]
[null,null,null,", (1)"]
[]
["где:"]
["       - суммарный размер платы за технологическое присоединение, начисляемый заявителям, которым предоставляется рассрочка, в квартале k периода регулирования (тыс. руб.);"]
["k - номер квартала по порядку в периоде регулирования, в который начисляется размер платы за технологическое присоединение (равен от 1 до 4);"]
["i - номер квартала по порядку, начиная с момента начисления размера платы за технологическое присоединение с условием предоставления беспроцентной рассрочки в квартале k, с учетом квартала, в котором произведены начисления, в течение трехлетнего периода предоставления беспроцентной рассрочки (равен от k до 12 + k - 1);"]
["          - ставка рефинансирования Центрального банка Российской Федерации на дату представления сетевой организацией заявки на установление размера платы за технологическое присоединение в регулирующий орган."]
["В случае отклонения фактического значения процентной ставки по кредитам, связанным с рассрочкой по оплате технологического присоединения, от ставки рефинансирования Центрального банка Российской Федерации, при расчете фактического размера расходов, связанных с предоставлением беспроцентной рассрочки, применяется величина процентной ставки в соответствии с пунктом 87 Основ ценообразования."]
[]
["Примечание: "]
["1) Периодом предоставления беспроцентной рассрочки считается 3 года."]
["2) Размер расходов, связанных с предоставлением беспроцентной рассрочки, в каждый квартал периода регулирования в течение трехлетнего периода предоставления беспроцентной рассрочки в отношении планируемого к получению (фактически полученного) от заявителей суммарного размера платы за технологическое присоединение, определяется в соответствии с формулой (1) Методических указаний по определению выпадающих доходов, связанных с осуществлением технологического присоединения к электрическим сетям."]
["3) При расчете планируемых значений показателей при заполнении таблиц 1 и 2 применяется планируемая к получению величина суммарного размера платы за технологическое присоединение, подлежащего беспроцентной рассрочке."]
["4) При расчете фактических значений показателей при заполнении таблиц 1 и 2 применяется суммарная плата за технологическое присоединение, начисленная с беспроцентной рассрочкой в соответствии с заключенными договорами об осуществлении технологического присоединения к электрическим сетям."]

{"sheet":"Заявитель4","index":29,"n_rows":53,"n_cols":10,"rows_kept":53,"cut":false,"hidden":false,"merged":[[0,2,0,7],[2,0,2,6],[3,0,3,6],[4,1,4,6],[6,0,7,0],[6,1,7,1],[6,2,6,6],[6,7,7,7],[52,0,52,6],[35,0,35,5],[37,0,37,6],[42,0,42,6],[43,0,43,6],[44,0,44,6],[45,0,45,6],[46,0,46,6],[48,0,48,6],[49,0,49,6],[50,0,50,6],[51,0,51,6]]}
[null,null,"Приложение 2 к Методическим указаниям,  утвержденным приказом ФСТ от 11.09.2014 г. №215-э/1"]
[]
[" Расчет размера расходов, связанных с предоставлением беспроцентной рассрочки (для конкретного заявителя)\n"]
[]
[null,"(Контрагент (наименование), № договора ТП, Дата заключения договора)"]
[]
["N п/п","Квартал, на который рассчитывается размер расходов, связанных с предоставлением беспроцентной рассрочки","Расходы, связанные с предоставлением беспроцентной рассрочки, тыс. руб. (с учетом НДС)",null,null,null,null,"Номер квартала i"]
[null,null,"в отношении суммарного размера платы за технологическое присоединение в 1 квартале","в отношении суммарного размера платы за технологическое присоединение во 2 квартале","в отношении суммарного размера платы за технологическое присоединение в 3 квартале","в отношении суммарного размера платы за технологическое присоединение в 4 квартале","всего в год",null,null,"  "]
[1,{"$f":"CONCATENATE(\"1 год (\",$B$34,\"г.):\")","v":"1 год (г.):"},{"$f":"SUM(C10:C13)","v":0},{"$f":"SUM(D10:D13)","v":0},{"$f":"SUM(E10:E13)","v":0},{"$f":"SUM(F10:F13)","v":0},{"$f":"SUM(C9:F9)","v":0}]
["1.1.","1 квартал",{"$f":"IF($H10>=$B$32,Заявитель4!$B$33*0.95*((12+$B$32-$H10)/12)*($B$31/4),0)","v":0},null,null,null,0,1]
["1.2.","2 квартал",null,{"$f":"IF($H11>=$B$32,Заявитель4!$B$33*0.95*((12+$B$32-$H11)/12)*($B$31/4),0)","v":0},null,null,0,2]
["1.3.","3 квартал",null,null,{"$f":"IF($H12>=$B$32,Заявитель4!$B$33*0.95*((12+$B$32-$H12)/12)*($B$31/4),0)","v":0},null,0,3]
["1.4.","4 квартал",null,null,null,{"$f":"IF($H13>=$B$32,Заявитель4!$B$33*0.95*((12+$B$32-$H13)/12)*($B$31/4),0)","v":0},0,4]
[2,{"$f":"CONCATENATE(\"1 год (\",$B$34+1,\"г.):\")","v":"1 год (1г.):"},{"$f":"SUM(C15:C18)","v":0},{"$f":"SUM(D15:D18)","v":0},{"$f":"SUM(E15:E18)","v":0},{"$f":"SUM(F15:F18)","v":0},0]
["2.1.","5 квартал",{"$f":"Заявитель4!$B$33*0.95*((12+$B$32-$H15)/12)*($B$31/4)","v":0},null,null,null,0,5]
["2.2.","6 квартал",null,{"$f":"Заявитель4!$B$33*0.95*((12+$B$32-$H16)/12)*($B$31/4)","v":0},null,null,0,6]
["2.3.","7 квартал",null,null,{"$f":"Заявитель4!$B$33*0.95*((12+$B$32-$H17)/12)*($B$31/4)","v":0},null,0,7]
["2.4.","8 квартал",null,null,null,{"$f":"Заявитель4!$B$33*0.95*((12+$B$32-$H18)/12)*($B$31/4)","v":0},0,8]
[3,{"$f":"CONCATENATE(\"1 год (\",$B$34+2,\"г.):\")","v":"1 год (2г.):"},{"$f":"SUM(C20:C23)","v":0},{"$f":"SUM(D20:D23)","v":0},{"$f":"SUM(E20:E23)","v":0},{"$f":"SUM(F20:F23)","v":0},0]
["3.1.","9 квартал",{"$f":"Заявитель4!$B$33*0.95*((12+$B$32-$H20)/12)*($B$31/4)","v":0},null,null,null,0,9]
["3.2.","10 квартал",null,{"$f":"Заявитель4!$B$33*0.95*((12+$B$32-$H21)/12)*($B$31/4)","v":0},null,null,0,10]
["3.3.","11 квартал",null,null,{"$f":"Заявитель4!$B$33*0.95*((12+$B$32-$H22)/12)*($B$31/4)","v":0},null,0,11]
["3.4.","12 квартал",null,null,null,{"$f":"Заявитель4!$B$33*0.95*((12+$B$32-$H23)/12)*($B$31/4)","v":0},0,12]
[4,{"$f":"CONCATENATE(\"1 год (\",$B$34+3,\"г.):\")","v":"1 год (3г.):"},{"$f":"SUM(C25:C27)","v":0},{"$f":"SUM(D25:D27)","v":0},{"$f":"SUM(E25:E27)","v":0},{"$f":"SUM(F25:F27)","v":0},0]
["4.1.","13 квартал",{"$f":"Заявитель4!$B$33*0.95*((12+$B$32-$H25)/12)*($B$31/4)","v":0},null,null,null,0,13]
["4.2.","14 квартал",null,{"$f":"IF((Заявитель4!$B$33*0.95*((12+$B$32-$H26)/12)*($B$31/4))<0,0,Заявитель4!$B$33*0.95*((12+$B$32-$H26)/12)*($B$31/4))","v":0},null,null,0,14]
["4.3.","15 квартал",null,null,{"$f":"IF((Заявитель4!$B$33*0.95*((12+$B$32-$H27)/12)*($B$31/4))<0,0,Заявитель4!$B$33*0.95*((12+$B$32-$H27)/12)*($B$31/4))","v":0},null,0,15]
[5,"Итого",{"$f":"C9+C14+C19+C24","v":0},{"$f":"D9+D14+D19+D24","v":0},{"$f":"E9+E14+E19+E24","v":0},{"$f":"F9+F14+F19+F24","v":0},{"$f":"G9+G14+G19+G24","v":0}]
[]
[]
[]
["k"]
[]
["Год закрытия договора"]
[]
["Размера расходов, связанных с предоставлением беспроцентной рассрочки в 2023 году",null,null,null,null,null,{"$f":"IF(B34<2019,0,IF(B34=2019,G24,IF(B34=2021,G19,IF(B34=2022,G14))))","v":0},"тыс. руб. "]
[]
["Размер расходов, связанных с предоставлением беспроцентной рассрочки, в i-м квартале в течение трехлетнего периода предоставления беспроцентной рассрочки рассчитывается по формуле (1):"]
[]
[null,null,null,", (1)"]
[]
["где:"]
["       - суммарный размер платы за технологическое присоединение, начисляемый заявителям, которым предоставляется рассрочка, в квартале k периода регулирования (тыс. руб.);"]
["k - номер квартала по порядку в периоде регулирования, в который начисляется размер платы за технологическое присоединение (равен от 1 до 4);"]
["i - номер квартала по порядку, начиная с момента начисления размера платы за технологическое присоединение с условием предоставления беспроцентной рассрочки в квартале k, с учетом квартала, в котором произведены начисления, в течение трехлетнего периода предоставления беспроцентной рассрочки (равен от k до 12 + k - 1);"]
["          - ставка рефинансирования Центрального банка Российской Федерации на дату представления сетевой организацией заявки на установление размера платы за технологическое присоединение в регулирующий орган."]
["В случае отклонения фактического значения процентной ставки по кредитам, связанным с рассрочкой по оплате технологического присоединения, от ставки рефинансирования Центрального банка Российской Федерации, при расчете фактического размера расходов, связанных с предоставлением беспроцентной рассрочки, применяется величина процентной ставки в соответствии с пунктом 87 Основ ценообразования."]
[]
["Примечание: "]
["1) Периодом предоставления беспроцентной рассрочки считается 3 года."]
["2) Размер расходов, связанных с предоставлением беспроцентной рассрочки, в каждый квартал периода регулирования в течение трехлетнего периода предоставления беспроцентной рассрочки в отношении планируемого к получению (фактически полученного) от заявителей суммарного размера платы за технологическое присоединение, определяется в соответствии с формулой (1) Методических указаний по определению выпадающих доходов, связанных с осуществлением технологического присоединения к электрическим сетям."]
["3) При расчете планируемых значений показателей при заполнении таблиц 1 и 2 применяется планируемая к получению величина суммарного размера платы за технологическое присоединение, подлежащего беспроцентной рассрочке."]
["4) При расчете фактических значений показателей при заполнении таблиц 1 и 2 применяется суммарная плата за технологическое присоединение, начисленная с беспроцентной рассрочкой в соответствии с заключенными договорами об осуществлении технологического присоединения к электрическим сетям."]

{"sheet":"Возврат заемных средств","index":30,"n_rows":17,"n_cols":8,"rows_kept":17,"cut":false,"hidden":false,"merged":[[1,0,1,7],[3,0,3,6],[5,0,6,0],[5,5,5,6],[16,0,16,1],[16,3,16,5],[5,1,5,2],[5,3,5,4]]}
[]
["Расходы на возврат и обслуживание долгосрочных заемных средств, направляемых на финансирование капитальных вложений "]
[]
[{"$f":"'Инф-я'!C14","v":"ООО \"Энергетик\""}]
[]
["Показатели","2021 год",null,"2022 год",null,"2023 год",null,"2021 год"]
[null,"Утверждено","Факт","Утверждено","Ожидаемые","По данным организации","По данным экспертов","Факт по данным экспертов"]
[1,2,3,4,5,6,7,7]
["Расходы по возврату заемных средств, направляемых на финансирование капитальных вложений ",null,1775.62418,null,1775.62418,1775.62418]
["Расходы на обслуживание долгосрочных заемных средств, направляемых на финансирование капитальных вложений ",null,1160.53917,null,1160.53917,1160.53917]
["Итого расходы на возврат и обслуживание долгосрочных заемных средств, направляемых на финансирование капитальных вложений ",{"$f":"B10+B9","v":0},{"$f":"C10+C9","v":2936.1633499999998},0,2936.1633499999998,2936.1633499999998,0,{"$f":"H10+H9","v":0}]
["в  т.ч. по уровням напряжения:                                              ВН","х","х",null,"х"]
["СН1","х","х",null,"х"]
["СН11","х","х",null,"х"]
["НН","х","х",null,"х"]
[]
["Руководитель организации",null,null,{"$f":"'Инф-я'!$C$21","v":"Окунев Василий Михайлович"}]

{"sheet":"Корр. ПР","index":31,"n_rows":20,"n_cols":5,"rows_kept":20,"cut":false,"hidden":false,"merged":[[17,0,17,1],[1,0,1,4],[3,0,3,4],[5,0,7,0],[5,1,7,1],[5,2,7,2],[5,3,6,4]]}
[]
["Корректировка подконтрольных расходов по результатам 2021 года"]
[]
[{"$f":"'Инф-я'!C14","v":"ООО \"Энергетик\""}]
[]
["№ п.п.","Наименование","Ед.изм.","2021 год"]
[]
[null,null,null,"По расчету организации","По расчету экспертов"]
[1,2,3,4,5]
["1.","Величина подконтрольных расходов, утвержденных на 2020 год ","тыс. руб.",31353.666311316403]
["2.","Величина подконтрольных расходов, утвержденных на 2021 год ","тыс. руб.",30935.19735593352]
["3.","Фактический индекс потребительских цен 2021 года (ИПЦ)","%",8.4000000000000005E-2]
["4.","Индекс эффективности подконтрольных расходов (Хэф)","%"]
["5.","Индекс изменения количества активов (ИКА ф) ((стр.5.1.- стр. 5.2.)/стр.5.2*100)","%",{"$f":"IF(D16=0,0,(D15-D16)/D16)","v":1.0547741575609313E-2},{"$f":"IF(E16=0,0,(E15-E16)/E16)","v":-1}]
["5.1.","фактический объем условных единиц 2021 года","усл. ед.",{"$f":"'УЕ ТП 2020-2023'!L60","v":1027.2046},{"$f":"'УЕ ТП 2020-2023'!N60","v":0}]
["5.2.","фактический объем условных единиц 2020 года ","усл. ед.",{"$f":"'УЕ ТП 2020-2023'!H60","v":1016.4829999999999},{"$f":"D16","v":1016.4829999999999}]
["6.","Коэффициент эластичности подконтрольных расходов по количеству активов (К эл)","знач.",0.75,0.75]
["Итого корректировка подконтрольных расходов без учета индексов",null,"тыс. руб.",{"$f":"D10*(1+D12)*(1+D17*D14)*(1-D13)-D11","v":3321.0444560992801},{"$f":"E10*(1+E12)*(1+E17*E14)*(1-E13)-E11","v":0}]
[]
[null,"Руководитель организации",null,{"$f":"'Инф-я'!$C$21","v":"Окунев Василий Михайлович"}]

{"sheet":"Корр. НР","index":32,"n_rows":21,"n_cols":7,"rows_kept":21,"cut":false,"hidden":false,"merged":[[1,0,1,6],[18,0,18,1],[20,0,20,1],[20,2,20,4],[3,0,3,5],[5,0,6,0],[5,1,6,1],[5,2,6,2],[5,3,5,4],[5,5,5,6]]}
[]
["Корректировка неподконтрольных расходов по результатам 2021 года"]
[]
[{"$f":"'Инф-я'!C14","v":"ООО \"Энергетик\""}]
[]
["№ п/п","Наименование показателей","2021 год утверждено","По данным организации",null,"По данным экспертов"]
[null,null,null,"Факт  2021 год","Величина корректировки НР","Факт  2021 год","Величина корректировки НР"]
[1,2,3,4,5,6,7]
["1.","Страховые взносы во внебюджетные фонды",{"$f":"'Страховые взносы'!D23","v":4584.3007805621746},3403.5241500000002,{"$f":"D9-C9","v":-1180.7766305621744},{"$f":"'Страховые взносы'!J23","v":0},{"$f":"F9-C9","v":-4584.3007805621746}]
["2.","Расходы на оплату услуг организаций, осуществляющих регулируемые виды деятельности",{"$f":"'Расходы рег. орг-ий'!B23","v":272.99594593152005},{"$f":"'Расходы рег. орг-ий'!C23","v":442.40091999999999},169.40497406847993,{"$f":"'Расходы рег. орг-ий'!H23","v":0},-272.99594593152005]
["3.","Плата за землю",{"$f":"'Плата за землю'!B18","v":240.76193260224005},{"$f":"'Плата за землю'!C18","v":1.43},-239.33193260224004,{"$f":"'Плата за землю'!H18","v":0},-240.76193260224005]
["4.","Транспортный налог",{"$f":"'Транспортный налог'!D19","v":0},{"$f":"'Транспортный налог'!E19","v":0},0,{"$f":"'Транспортный налог'!L19","v":0},0]
["5.","Налог на имущество",{"$f":"'Налог на имущество'!B13","v":0},{"$f":"'Налог на имущество'!C13","v":0},0,{"$f":"'Налог на имущество'!H13","v":0},0]
["6.","Плата за негативное воздействие на окружающую среду",{"$f":"'Негативное возд. на окр. среду '!C29","v":0},{"$f":"'Негативное возд. на окр. среду '!D29","v":0.15082999999999999},0.15082999999999999,{"$f":"'Негативное возд. на окр. среду '!I29","v":0},0]
["7.","Налог на прибыль",{"$f":"'Налог на прибыль'!C10","v":1138.1320000000001},{"$f":"'Налог на прибыль'!D10","v":1170.664},32.531999999999925,{"$f":"'Налог на прибыль'!H10","v":0},-1138.1320000000001]
["8.","Плата за аренду имущества",{"$f":"'Аренда имущества'!B38","v":4735.28},{"$f":"'Аренда имущества'!C38","v":5002.9115899999997},267.63158999999996,{"$f":"'Аренда имущества'!V38","v":0},-4735.28]
["9.","Оплата услуг ПАО \"ФСК ЕЭС\"",{"$f":"'Услуги ФСК'!B17","v":0},{"$f":"'Услуги ФСК'!E17","v":0},0,{"$f":"'Услуги ФСК'!P17","v":0},0]
["10.","Прочие обоснованные неподконтрольные расходы",{"$f":"'Прочие НР'!B15","v":0},{"$f":"'Прочие НР'!C15","v":0},0,{"$f":"'Прочие НР'!H15","v":0},0]
["Итого корректировка неподконтрольных расходов по результатам 2021 года без учета индексов",null,{"$f":"SUM(C9:C18)","v":10971.470659095936},{"$f":"SUM(D9:D18)","v":10021.08149},{"$f":"SUM(E9:E18)","v":-950.38916909593468},{"$f":"SUM(F9:F18)","v":0},{"$f":"SUM(G9:G18)","v":-10971.470659095936}]
[]
["Руководитель организации",null,{"$f":"'Инф-я'!$C$21","v":"Окунев Василий Михайлович"}]

{"sheet":"Корр. ПО","index":33,"n_rows":59,"n_cols":8,"rows_kept":59,"cut":false,"hidden":false,"merged":[[56,0,56,1],[17,0,17,7],[33,0,33,7],[58,0,58,3],[58,5,58,7],[1,0,1,7],[3,0,3,7],[14,0,15,0],[14,1,14,2],[14,3,15,3],[14,4,14,5],[14,6,14,7],[7,1,7,7],[8,1,8,7],[9,1,9,7],[10,1,10,7],[11,1,11,7],[12,1,12,7]]}
[]
["Корректировка НВВ с учетом изменения полезного отпуска и цен на электрическую энергию за 2021 год                       "]
[]
[{"$f":"'Инф-я'!C14","v":"ООО \"Энергетик\""}]
[]
[]
[]
[null," - фактический объем отпуска электрической энергии в сеть территориальной сетевой организации, определяемый регулирующими органами в (i-2)-том году долгосрочного периода регулирования;"]
[null," - уровень потерь электрической энергии при ее передаче по электрическим сетям, установленный регулирующим органом на долгосрочный период регулирования, к которому относится год (i-2), в соответствии с пунктом 40(1) Основ ценообразования;"]
[null," - прогнозная цена покупки потерь электрической энергии в сетях (с учетом мощности) в году i-2, учтенная при установлении тарифа на услуги по передаче электрической энергии по электрическим сетям, принадлежащим на праве собственности или ином законном основании территориальным сетевым организациям;"]
[null," - средневзвешенная фактическая цена покупки потерь электрической энергии в сетях (с учетом мощности) в году i-2;"]
[null," - величина фактических потерь электрической энергии в сетях в году i-2."]
[]
[]
["Месяц  (Период)","Вход электрической энергии в сеть организации",null,"Норматив потерь","Объем потерь 2021 года",null,"Цена покупки потерь электрической энергии"]
[null,"План","Факт",null,"Согласовано регулирующим органом","Факт","Учтенная при установлении тарифа","Фактическая цена"]
["Ед.изм.","тыс.кВт.ч.","тыс.кВт.ч.","%","тыс.кВт.ч.","тыс.кВт.ч.","руб/тыс.кВт.ч","руб/тыс.кВт.ч"]
["По данным организации"]
["Январь","х",2522.192,"х","х",222.946,"х",3260.652]
["Февраль","х",2335.402,"х","х",233.202,"х",3379.07]
["Март","х",2363.3780000000002,"х","х",227.08699999999999,"х",3244.39]
["Апрель","х",2098.1959999999999,"х","х",195.34200000000001,"х",3380.46]
["Май","х",1902.164,"х","х",167.714,"х",3081.92]
["Июнь","х",1723.04,"х","х",142.672,"х",3487.54]
["1 полугодие",12018.353870080515,{"$f":"C19+C20+C21+C22+C23+C24","v":12944.371999999999},"х",1285.6999999999998,{"$f":"F19+F20+F21+F22+F23+F24","v":1188.963},3408.3,"х"]
["Июль","х",1772,"х","х",151.06399999999999,"х",3476.47]
["Август","х",1782.396,"х","х",149.02600000000001,"х",3606.17]
["Сентябрь","х",2025.086,"х","х",174.43600000000001,"х",3668.8]
["Октябрь","х",2266.3960000000002,"х","х",206.55600000000001,"х",3460.15]
["Ноябрь","х",2283.8620000000001,"х","х",229.114,"х",3471.22]
["Декабрь","х",2547.6320000000001,"х","х",270.08699999999999,"х",3270.32]
["2 полугодие",12257.816641556688,{"$f":"C26+C27+C28+C29+C30+C31","v":12677.372000000001},"х",1496.3000000000002,{"$f":"F26+F27+F28+F29+F30+F31","v":1180.2830000000001},3491.55,"х"]
["ВСЕГО:",{"$f":"B25+B32","v":24276.170511637203},{"$f":"C25+C32","v":25621.743999999999},{"$f":"E33/B33","v":0.11459797576666386},{"$f":"E25+E32","v":2782},{"$f":"F25+F32","v":2369.2460000000001},{"$f":"IF(E33=0,0,(E25*G25+E32*G32)/E33)","v":3453.0760514018689},{"$f":"IF(F33=0,0,(F19*H19+F20*H20+F21*H21+F22*H22+F23*H23+F24*H24+F26*H26+F27*H27+F28*H28+F29*H29+F30*H30+F31*H31)/F33)","v":3386.0390020968698}]
["По данным экспертов"]
["Январь","х",null,"х","х",null,"х"]
["Февраль","х",null,"х","х",null,"х"]
["Март","х",null,"х","х",null,"х"]
["Апрель","х",null,"х","х",null,"х"]
["Май","х",null,"х","х",null,"х"]
["Июнь","х",null,"х","х",null,"х"]
["1 полугодие",null,{"$f":"C35+C36+C37+C38+C39+C40","v":0},"х",null,{"$f":"F35+F36+F37+F38+F39+F40","v":0},null,"х"]
["Июль","х",null,"х","х",null,"х"]
["Август","х",null,"х","х",null,"х"]
["Сентябрь","х",null,"х","х",null,"х"]
["Октябрь","х",null,"х","х",null,"х"]
["Ноябрь","х",null,"х","х",null,"х"]
["Декабрь","х",null,"х","х",null,"х"]
["2 полугодие",null,{"$f":"C42+C43+C44+C45+C46+C47","v":0},"х",null,{"$f":"F42+F43+F44+F45+F46+F47","v":0},null,"х"]
["ВСЕГО:",{"$f":"B41+B48","v":0},{"$f":"C41+C48","v":0},{"$f":"E49/B49","v":{"$error":"#DIV/0!"}},{"$f":"E41+E48","v":0},{"$f":"F41+F48","v":0},{"$f":"IF(E49=0,0,(E41*G41+E48*G48)/E49)","v":0},{"$f":"IF(F49=0,0,(F35*H35+F36*H36+F37*H37+F38*H38+F39*H39+F40*H40+F42*H42+F43*H43+F44*H44+F45*H45+F46*H46+F47*H47)/F49)","v":0}]
[]
["№ п/п","Наименование показателя","Обозначение","Расчет Общества","Расчет экспертов"]
["1.","Фактический  вход электрической энергии в сеть организации",null,{"$f":"C33","v":25621.743999999999},{"$f":"C49","v":0}]
["2.","Цена покупки потерь электрической энергии, учтенная при установлении тарифа",null,{"$f":"G33","v":3453.0760514018689},{"$f":"G49","v":0}]
["3.","Фактическая цена",null,{"$f":"H33","v":3386.0390020968698},{"$f":"H49","v":0}]
["4.","Норматив потерь",null,{"$f":"D33","v":0.11459797576666386},{"$f":"D49","v":{"$error":"#DIV/0!"}}]
["5.","Фактический объем потерь 2021 года",null,{"$f":"F33","v":2369.2460000000001},{"$f":"F49","v":0}]
["Величина корректировки НВВ с учетом изменения полезного отпуска и цен на электрическую энергию за 2021 год без учета индексов",null,null,{"$f":"IFERROR(MIN(D56,D52*D55)*D54-D52*D53*D55,)/1000","v":-2116.5625336982944},{"$f":"IFERROR(MIN(E56,E52*E55)*E54-E52*E53*E55,0)/1000","v":0}]
[]
["Руководитель организации",null,null,null,null,{"$f":"'Инф-я'!$C$21","v":"Окунев Василий Михайлович"}]

{"sheet":"∆НВВ сод","index":34,"n_rows":47,"n_cols":13,"rows_kept":47,"cut":false,"hidden":false,"merged":[[0,0,0,11],[1,0,1,11],[4,6,4,8],[4,9,4,11],[5,6,5,7],[5,8,6,8],[5,9,5,10],[5,11,6,11],[15,10,16,10],[15,11,15,12],[48,1,48,6],[10,1,10,2],[10,3,10,4],[14,1,14,7],[14,8,16,8],[14,9,14,12],[15,1,16,1],[15,2,15,3],[15,4,16,4],[15,7,16,7],[15,9,16,9]]}
["Корректировка необходимой валовой выручки по доходам от осуществления регулируемой деятельности за 2021 год"]
[{"$f":"'Инф-я'!C14","v":"ООО \"Энергетик\""}]
[]
[null,null,"тыс. руб."]
[null,"Наименование показателя","Расчет Общества","Расчет Экспертов",null,null,"1 полугодие 2021 г.",null,null,"2 полугодие  2021 г."]
[null,"НВВ сод 2021",{"$f":"' НВВ содержание'!C52","v":55381.352360889039},{"$f":"C6","v":55381.352360889039},null,null,"Двухставочный тариф",null,"Одноставочный тариф","Двухставочный тариф",null,"Одноставоч-ный тариф"]
[null,"НВВ факт 2021",{"$f":"E32+M32","v":59912.815084039998},{"$f":"E47+M47","v":0},null,null,"ставка за содержание электрических сетей","ставка на оплату технологического расхода (потерь)",null,"ставка за содержание электрических сетей","ставка на оплату технологического расхода (потерь)"]
[null,"∆ НВВ сод за 2021 год без учета индексов",{"$f":"C6-C7","v":-4531.4627231509585},{"$f":"D6-D7","v":55381.352360889039},null,null," руб./кВт мес.","руб./ кВт ч","руб./ кВт ч"," руб./кВт мес.","руб./ кВт ч","руб./ кВт ч"]
[null,null,null,null,null,null,1032.00197,0.40828999999999999,2.9883299999999999,1032.00197,0.48547000000000001,3.0585900000000001]
[]
[null,"Руководитель организации",null,{"$f":"'Инф-я'!C21","v":"Окунев Василий Михайлович"}]
[]
[]
[null,"Расчет доходов, полученных согласно актам оказания услуг Владимирэнерго"]
[null,"1. Доходы по двухставочному тарифу",null,null,null,null,null,null,"1. Итого доходы по двухставочному тарифу, тыс. руб.","2. Доходы по одноставочному тарифу"]
[null,null,"1.1. Доходы на содержание сетей",null,"Доходы на содержание сетей, тыс. руб.","1.2. Доходы на компенсацию потерь",null,"Доходы на компенсацию нормативных потерь, тыс. руб.",null,"полезный отпуск, тыс кВт ч","одноставочный инд тариф, руб./тыс. кВт ч","Итого доходы по одноставочному тарифу, тыс. руб."]
[null,null,"договорная мощность, МВт","ставка на содержание сетей, руб./МВт мес.",null,"полезный отпуск, тыс кВт ч","инд тариф на потери, руб./ тыс.кВт ч",null,null,null,null,"Всего:","в том числе, доходы на содержание сетей"]
[null,"январь",null,{"$f":"$G$9*1000","v":1032001.97},{"$f":"C18*D18/1000","v":0},null,{"$f":"$H$9*1000","v":408.28999999999996},{"$f":"F18*$G$18/1000","v":0},{"$f":"E18+H18","v":0},2299.2460000000001,{"$f":"$I$9*1000","v":2988.33},{"$f":"J18*K18/1000","v":6870.90579918},{"$f":"J18*(K18-G18)/1000","v":5932.1466498400005}]
[null,"февраль",null,1032001.97,0,null,408.28999999999996,0,0,2102.1999999999998,2988.33,6282.0673259999994,5423.7600879999991]
[null,"март",null,1032001.97,0,null,408.28999999999996,0,0,2136.2910000000002,2988.33,6383.9424840299998,5511.7162316399999]
[null,"апрель",null,1032001.97,0,null,408.28999999999996,0,0,1902.854,2988.33,5686.3556938199999,4909.43943416]
[null,"май",null,1032001.97,0,null,408.28999999999996,0,0,1734.45,2988.33,5183.1089685000006,4474.9503780000005]
[null,"июнь",null,1032001.97,0,null,408.28999999999996,0,0,1580.3679999999999,2988.33,4722.66110544,4077.4126547199999]
[null,"Итого 1 пол.","х","х",{"$f":"SUM(E18:E23)","v":0},{"$f":"SUM(F18:F23)","v":0},"х",{"$f":"SUM(H18:H23)","v":0},0,{"$f":"SUM(J18:J23)","v":11755.409000000001},"х",{"$f":"SUM(L18:L23)","v":35129.041376970003},{"$f":"SUM(M18:M23)","v":30329.425436359998}]
[null,"июль",null,{"$f":"$J$9*1000","v":1032001.97},{"$f":"C25*D25/1000","v":0},null,{"$f":"$K$9*1000","v":485.47},{"$f":"F25*$G$25/1000","v":0},0,1620.9359999999999,{"$f":"$L$9*1000","v":3058.59},{"$f":"J25*K25/1000","v":4957.7786402399997},{"$f":"J25*(K25-G25)/1000","v":4170.8628403199991}]
[null,"август",null,1032001.97,0,null,485.47,0,0,1633.37,3058.59,4995.8091482999998,4202.8570143999996]
[null,"сентябрь",null,1032001.97,0,null,485.47,0,0,1850.65,3058.59,5660.379583500001,4761.944528]
[null,"октябрь",null,1032001.97,0,null,485.47,0,0,2059.84,3058.59,6300.2060256000004,5300.2155008000009]
[null,"ноябрь",null,1032001.97,0,null,485.47,0,0,2054.748,3058.59,6284.6316853200005,5287.1131737599999]
[null,"декабрь",null,1032001.97,0,null,485.47,0,0,2277.5450000000001,3058.59,6966.0763615500009,5860.3965903999997]
[null,"Итого 2 пол.","х","х",{"$f":"SUM(E25:E30)","v":0},{"$f":"SUM(F25:F30)","v":0},"х",{"$f":"SUM(H25:H30)","v":0},0,{"$f":"SUM(J25:J30)","v":11497.089},"х",{"$f":"SUM(L25:L30)","v":35164.881444510007},{"$f":"SUM(M25:M30)","v":29583.38964768}]
[null,"Всего за 2021 г.","х","х",{"$f":"E24+E31","v":0},{"$f":"F24+F31","v":0},"х",{"$f":"H24+H31","v":0},{"$f":"I24+I31","v":0},{"$f":"J24+J31","v":23252.498},"х",{"$f":"L24+L31","v":70293.92282148001},{"$f":"M24+M31","v":59912.815084039998}]
[null,"январь",null,{"$f":"$G$9*1000","v":1032001.97},{"$f":"C33*D33/1000","v":0},null,{"$f":"$H$9*1000","v":408.28999999999996},{"$f":"F33*$G$33/1000","v":0},{"$f":"E33+H33","v":0},null,{"$f":"$I$9*1000","v":2988.33},{"$f":"J33*K33/1000","v":0},{"$f":"J33*(K33-G33)/1000","v":0}]
[null,"февраль",null,1032001.97,0,null,408.28999999999996,0,0,null,2988.33,0,0]
[null,"март",null,1032001.97,0,null,408.28999999999996,0,0,null,2988.33,0,0]
[null,"апрель",null,1032001.97,0,null,408.28999999999996,0,0,null,2988.33,0,0]
[null,"май",null,1032001.97,0,null,408.28999999999996,0,0,null,2988.33,0,0]
[null,"июнь",null,1032001.97,0,null,408.28999999999996,0,0,null,2988.33,0,0]
[null,"Итого 1 пол.",{"$f":"SUM(C33:C38)","v":0},"х",{"$f":"SUM(E33:E38)","v":0},{"$f":"SUM(F33:F38)","v":0},"х",{"$f":"SUM(H33:H38)","v":0},0,{"$f":"SUM(J33:J38)","v":0},"х",{"$f":"SUM(L33:L38)","v":0},{"$f":"SUM(M33:M38)","v":0}]
[null,"июль",null,{"$f":"$J$9*1000","v":1032001.97},{"$f":"C40*D40/1000","v":0},null,{"$f":"$K$9*1000","v":485.47},{"$f":"F40*$G$40/1000","v":0},0,null,{"$f":"$L$9*1000","v":3058.59},{"$f":"J40*K40/1000","v":0},{"$f":"J40*(K40-G40)/1000","v":0}]
[null,"август",null,1032001.97,0,null,485.47,0,0,null,3058.59,0,0]
[null,"сентябрь",null,1032001.97,0,null,485.47,0,0,null,3058.59,0,0]
[null,"октябрь",null,1032001.97,0,null,485.47,0,0,null,3058.59,0,0]
[null,"ноябрь",null,1032001.97,0,null,485.47,0,0,null,3058.59,0,0]
[null,"декабрь",null,1032001.97,0,null,485.47,0,0,null,3058.59,0,0]
[null,"Итого 2 пол.",{"$f":"SUM(C40:C45)","v":0},"х",{"$f":"SUM(E40:E45)","v":0},{"$f":"SUM(F40:F45)","v":0},"х",{"$f":"SUM(H40:H45)","v":0},0,{"$f":"SUM(J40:J45)","v":0},"х",{"$f":"SUM(L40:L45)","v":0},{"$f":"SUM(M40:M45)","v":0}]
[null,"Всего за 2021 г.","х","х",{"$f":"E39+E46","v":0},{"$f":"F39+F46","v":0},"х",{"$f":"H39+H46","v":0},"х",{"$f":"J39+J46","v":0},"х",{"$f":"L39+L46","v":0},{"$f":"M39+M46","v":0}]

{"sheet":"Корр. ИП","index":35,"n_rows":17,"n_cols":6,"rows_kept":17,"cut":false,"hidden":false,"merged":[[1,0,1,4],[3,0,3,4],[16,0,16,1],[16,2,16,4]]}
[]
["Корректировка НВВ в связи с изменением (неисполнением) инвестиционной программы по результатам 2021 года"]
[]
[{"$f":"'Инф-я'!C14","v":"ООО \"Энергетик\""}]
[]
["№ п/п","Наименование показателей","Обозначение в методических указаниях","По данным организации","По данным экспертов"]
[1,2,3,4,5]
["1.","Расчетная величина собственных средств регулируемой организации для финансирования инвестиционной программы, учтенная при установлении тарифов в 2021 году, которая не может принимать отрицательные значения, всего, в том числе:",null,{"$f":"IF((D9+D10)>=D11,D11,(D9+D10))","v":10969.040214249517},{"$f":"IF((E9+E10)>=E11,E11,(E9+E10))","v":0}]
[null,"-амортизация",null,{"$f":"' КВЛ'!B24","v":7399.2293150213327}]
[null,"- капитальные вложения из прибыли",null,{"$f":"' КВЛ'!B26","v":3569.8108992281841}]
["2.","Плановый размер финансирования инвестиционной программы, представляющей собой совокупность инвестиционных проектов, утвержденной (скорректированной) в установленном порядке на 2021  год до его начала, за счет собственных средств (выручки от реализации товаров (услуг) по регулируемым ценам (тарифам)) без НДС",null,{"$f":"' КВЛ'!B23-' КВЛ'!B25","v":10969.040214249517}]
["3.","Объем фактического финансирования инвестиционной программы, представляющей собой совокупность инвестиционных проектов, утвержденной (скорректированной) в установленном порядке на 2021 год до его начала, за счет собственных средств (выручки от реализации товаров (услуг) по регулируемым ценам (тарифам)) без НДС в 2021 году",null,{"$f":"' КВЛ'!C23-' КВЛ'!C25","v":13687.843439999999}]
["4.","Учтенная при расчете тарифов на 2022 год корректировка необходимой валовой выручки на 2021-ой год долгосрочного периода регулирования, осуществленная в связи с изменением (неисполнением) инвестиционной программы за истекший период 2021-го года по результатам 9 месяцев",null,0,null,"?"]
[null,"Итого корректировка НВВ в связи с изменением (неисполнением) инвестиционной программы по результатам 2021 года без учета индексов",null,{"$f":"IF(D11=0,0,D8*(D12/D11-1)-D13)","v":2718.8032257504815},{"$f":"IF(E11=0,0,E8*(E12/E11-1))","v":0}]
[]
[]
["Руководитель организации",null,{"$f":"'Инф-я'!$C$21","v":"Окунев Василий Михайлович"}]

{"sheet":"корр НВВ по факт","index":36,"n_rows":36,"n_cols":7,"rows_kept":36,"cut":false,"hidden":false,"merged":[[0,0,0,4],[1,0,1,4],[35,1,35,2],[35,3,35,5],[7,2,7,11],[14,2,14,11],[15,2,15,11],[16,2,16,11],[3,0,3,6],[17,2,17,11],[18,2,18,11],[9,2,9,11],[8,2,8,11],[10,2,10,11],[6,2,6,11]]}
["Расходы, связанных с необходимостью корректировки валовой выручки регулируемых организаций, указанной в пункте 9, а также расходы в соответствии с пунктом 10 Методических указаний и корректировка необходимой валовой выручки в соответствии с пунктом 32 Основ ценообразования."]
[{"$f":"'Инф-я'!C14","v":"ООО \"Энергетик\""}]
[]
[]
[]
[]
[null,"где"," - расходы i-го года долгосрочного периода регулирования, связанные с компенсацией незапланированных расходов (со знаком \"плюс\") или полученного избытка (со знаком \"минус\"), выявленных в том числе по итогам последнего истекшего года долгосрочного периода регулирования, за который известны фактические значения параметров расчета тарифов, связанных с необходимостью корректировки валовой выручки регулируемых организаций, указанной в пункте 9, а также расходы в соответствии с пунктом 10 Методических указаний (тыс.руб.) и корректировка необходимой валовой выручки в соответствии с пунктом 32 Основ ценообразования."]
[null,null,"- компенсация выпадающих/излишне полученных доходов регулируемой организации за предшестрасходы i-го года долгосрочного периода регулирования, связанные с компенсацией незапланированных расходов (со знаком \"плюс\") или полученного избытка (со знаком \"минус\"), выявленных по итогам последнего истекшего года долгосрочного периода регулирования, за который известны фактические значения параметров расчета тарифов, связанных с необходимостью корректировки валовой выручки регулируемых организаций, указанной в пункте 9 Методических указаний, а также расходы в соответствии с пунктом 10 Методических указаний, возникающих в результате отличия фактических значений параметров регулирования от установленных при утверждении тарифов. "]
[null,null,"- корректировка необходимой валовой выручки на i-тый год долгосрочного периода регулирования, осуществляемая в связи с изменением (неисполнением) инвестиционной программы на (i-1)-й год."]
[null,null,"не определяется для территориальных сетевых организаций, необходимая валовая выручка которых с учетом расходов на оплату потерь и оплату услуг других территориальных сетевых организаций за 3 последних периода регулирования не превысила 10 процентов суммарной необходимой валовой выручки территориальных сетевых организаций, учтенной при установлении единых (котловых) тарифов на услуги по передаче электрической энергии, за исключением результатов деятельности регулируемой организации за предыдущие годы до начала долгосрочного периода регулирования методом долгосрочной индексации необходимой валовой выручки или до изменения метода регулирования согласно абзацу второму пункта 39 Основ ценообразования."]
[null,null," - индексы потребительских цен, определенный  на i-й и  i-1 год долгосрочного периода регулирования;"]
[]
[]
[null,"где:"]
[null,null," - корректировка подконтрольных расходов в связи с изменением планируемых параметров расчета тарифов. Не определяется для случаев, если год (i-2) является первым годом долгосрочного периода регулирования;"]
[null,null," - корректировка неподконтрольных расходов исходя из фактических значений указанного параметра;"]
[null,null," - корректировка фактических расходов, признанных регулирующим органом экономически обоснованными в году i-2, на выполнение, предусмотренных пунктом 5 статьи 37 Федерального закона от 26 марта 2003 г. N 35-ФЗ \"Об электроэнергетике\", обязанностей сетевой организации по обеспечению коммерческого учета электрической энергии (мощности), не относящиеся к капитальным вложениям, определяемая до завершения долгосрочного периода регулирования, на который базовый уровень подконтрольных расходов устанавливался до вступления в силу постановления Правительства Российской Федерации от 7 марта 2022 г. N 246 \"О внесении изменений в некоторые акты Правительства Российской Федерации по вопросу установления регулируемых цен (тарифов) в электроэнергетике и признании утратившими силу отдельных положений некоторых актов Правительства Российской Федерации\", которая может принимать как положительные, так и отрицательные значения, рассчитываемая по следующей формуле:"]
[null,null," - корректировка необходимой валовой выручки по доходам от осуществления регулируемой деятельности;"]
[null,null," - корректировка необходимой валовой выручки регулируемой организации с учетом изменения полезного отпуска электрической энергии и цен на электрическую энергию;"]
[]
[]
[null,null,"тыс. руб."]
[null,"№ п/п","Наименование показателя","Обозначение","Расчет Общества","Расчет экспертов","Расчет экспертов (приведенный)"]
[null,"1.","Корректировка подконтрольных расходов",null,{"$f":"'Корр. ПР'!D18","v":3321.0444560992801},{"$f":"'Корр. ПР'!E18","v":0},{"$f":"F24*(1+$F$31)*(1+$F$32)","v":0}]
[null,"2.","Корректировка неподконтрольных расходов",null,{"$f":"'Корр. НР'!E19","v":-950.38916909593468},{"$f":"'Корр. НР'!G19","v":-10971.470659095936},{"$f":"F25*(1+$F$31)*(1+$F$32)","v":-10971.470659095936}]
[null,"3.","Корректировка необходимой валовой выручки по доходам от осуществления регулируемой деятельности",null,{"$f":"'∆НВВ сод'!C8","v":-4531.4627231509585},{"$f":"'∆НВВ сод'!D8","v":55381.352360889039},{"$f":"F26*(1+$F$31)*(1+$F$32)","v":55381.352360889039}]
[null,"4.","Корректировка НВВ с учетом изменения полезного отпуска и цен на электрическую энергию ",null,{"$f":"'Корр. ПО'!D57","v":-2116.5625336982944},{"$f":"'Корр. ПО'!E57","v":0},0]
[null,"5.","Корректировка расходов по обеспечению коммерческого учета ээ",null,607.54082000000005,null,{"$f":"F28*(1+$F$31)*(1+$F$32)","v":0}]
[null,"6.","(п.1+п.2+п.3+п.4+п.5)",null,{"$f":"E24+E25+E26+E27+E28","v":-3669.8291498459075},{"$f":"F24+F25+F26+F27+F28","v":44409.8817017931}]
[null,"7.","Корректировка НВВ в связи с изменением (неисполнением) инвестиционной программы ",null,{"$f":"'Корр. ИП'!D14","v":2718.8032257504815},{"$f":"'Корр. ИП'!E14","v":0},{"$f":"F30*(1+$F$31)*(1+$F$32)","v":0}]
[null,"8.","ИПЦ 2022 к 2021 ",null,4.2999999999999997E-2]
[null,"9.","ИПЦ 2023 к 2022",null,{"$f":"'Подконтрольные расходы'!E12","v":0.2},{"$f":"'Подконтрольные расходы'!F12","v":0}]
[null,null," и с учетом ИПЦ (п.6+п.7)*(1+п.8)*(1+п.9)",null,{"$f":"(E29+E30)*(1+E31)*(1+E32)","v":-1190.3040465978352},{"$f":"(F29+F30)*(1+F31)*(1+F32)","v":44409.8817017931},{"$f":"G24+G25+G26+G27+G28+G30","v":44409.8817017931}]
[]
[]
[null,"Руководитель организации",null,{"$f":"'Инф-я'!$C$21","v":"Окунев Василий Михайлович"}]

{"sheet":"Корр. КНК","index":37,"n_rows":66,"n_cols":8,"rows_kept":66,"cut":false,"hidden":false,"merged":[[1,0,1,4],[3,0,3,4],[15,1,15,2],[17,0,17,6],[19,0,20,0],[19,1,20,1],[19,2,20,2],[19,3,20,3],[19,4,19,5],[19,6,19,7],[32,0,38,0],[32,1,38,1],[32,4,32,5],[32,6,36,6],[33,4,33,5],[34,4,34,5],[35,4,35,5],[36,4,36,5],[37,6,38,6],[25,3,25,5],[25,6,25,7],[27,0,27,1],[27,2,27,4],[30,0,30,7],[50,0,56,0],[50,1,56,1],[50,4,50,5],[51,4,51,5],[52,4,52,5],[53,4,53,5],[54,4,54,5]]}
[]
["Корректировка НВВ с учетом надежности и качества оказываемых услуг по результатам 2021 года"]
[]
[{"$f":"'Инф-я'!C14","v":"ООО \"Энергетик\""}]
[]
["№ п/п","Наименование показателей","Обзнач. в МУ","По данным организации","По данным экспертов"]
[1,2,3,4,5]
["1.","Коэффициент достижения (недостижения, перевыполнения) уровня надежности оказываемых услуг",null,{"$f":"(IF(AND(D23=0,E23=0),0,IF(AND(D23=0,E23>0),-1,IF(AND(70<F23,F23<=130),0,IF(F23>130,-1,IF(F23<=70,1))))))","v":1},{"$f":"(IF(AND(G23=0,D23=0),0,IF(AND(D23=0,G23>0),-1,IF(AND(70<H23,H23<=130),0,IF(H23>130,-1,IF(H23<=70,1))))))","v":1}]
["2.","Коэффициент достижения (недостижения, перевыполнения) уровня надежности оказываемых услуг",null,{"$f":"(IF(AND(D24=0,E24=0),0,IF(AND(D24=0,E24>0),-1,IF(AND(70<F24,F24<=130),0,IF(F24>130,-1,IF(F24<=70,1))))))","v":1},{"$f":"(IF(AND(G24=0,D24=0),0,IF(AND(D24=0,G24>0),-1,IF(AND(70<H24,H24<=130),0,IF(H24>130,-1,IF(H24<=70,1))))))","v":1},","]
["3.","Оценка достижения показателя уровня качества оказываемых услуг,  (для территориальной сетевой организации)",null,{"$f":"(IF(AND(D25=0,E25=0),0,IF(AND(D25=0,E25>0),-1,IF(AND(71<F25,F25<=129),0,IF(F25>129,-1,IF(F25<=71,1))))))","v":0},{"$f":"(IF(AND(G25=0,D25=0),0,IF(AND(D25=0,G25>0),-1,IF(AND(71<H25,H25<129),0,IF(H25>=129,-1,IF(H25<=71,1))))))","v":0}]
["4.","Показатель качества исполнения Единых стандартов качества обслуживания сетевыми организациями потребителей услуг сетевых организаций, утвержденных приказом Минэнерго России от 15 апреля 2014 г. N 186 (зарегистрирован Минюстом России 18 июня 2014 г., регистрационный N 32761), с изменениями, внесенными приказом Минэнерго России от 6 апреля 2015 г. N 217 (зарегистрирован Минюстом России 30 июня 2015 г., регистрационный N 37834) (далее - приказ Минэнерго России N 186).",null,0]
["5.","Обобщенный показатель уровня надежности и качества оказываемых услуг ","                           ",{"$f":"D8*0.3+D9*0.3+D10*0.3+D11*0.1","v":0.6},{"$f":"E8*0.3+E9*0.3+E10*0.3+E11*0.1","v":0.6}]
["6.","Максимальный процент корректировки, %",null,0.02,0.02]
["7.","Коэффициент, корректирующий НВВ с учетом надежности и качества оказываемых услуг",null,{"$f":"D12*D13","v":1.2E-2},{"$f":"E12*E13","v":1.2E-2}]
["7.","Утвержденная НВВ на содержание электрических сетей (тыс. руб.)",null,{"$f":"' НВВ содержание'!C52","v":55381.352360889039},{"$f":"D15","v":55381.352360889039}]
["8.","Величина корректировки НВВ с учетом надежности и качества оказываемых услуг",null,{"$f":"D14*D15","v":664.57622833066853},{"$f":"E14*E15","v":664.57622833066853}]
[]
["Показатели уровня надежности и уровня качества оказываемых услуг"]
[]
["№ п/п","Наименование показателей","Обзнач. в МУ","Утверждено на 2021 год","По данным организации",null,"По данным экспертов"]
[null,null,null,null,"Факт","% отклонения","Факт","% отклонения"]
[1,2,3,4,5,6,7,8]
["1.","Показатель средней продолжительности прекращений передачи электрической энергии на точку поставки , час.","Пsaidi",1.5511999999999999,{"$f":"'Форма 8.3'!C22","v":1.5606824348040775E-2},{"$f":"IF(D23=0,0,E23/D23*100)","v":1.006112967253789},{"$f":"'Форма 8.3'!D22","v":0},{"$f":"IF(D23=0,0,G23/D23*100)","v":0}]
["2.","Показатель средней частоты прекращений передачи электрической энергии на точку поставки , шт.","Пsaifi",0.80789999999999995,{"$f":"'Форма 8.3'!C23","v":2.8693291973633191E-2},{"$f":"IF(D24=0,0,E24/D24*100)","v":3.5515895498988974},{"$f":"'Форма 8.3'!D23","v":0},{"$f":"IF(D24=0,0,G24/D24*100)","v":0}]
["3.","Показатель уровня качества осуществляемого технологического присоединения          ","Птпр",1,{"$f":"'Форма 3.1-3.2'!D29","v":1},{"$f":"IF(D25=0,0,E25/D25*100)","v":100},{"$f":"'Форма 3.1-3.2'!E29","v":1},{"$f":"IF(D25=0,0,G25/D25*100)","v":100}]
["4.","Показатель качества исполнения Единых стандартов качества обслуживания сетевыми организациями потребителей услуг сетевых организаций","ссылка на сайт","oao-energetik.ru"]
[]
["Руководитель организации",null,{"$f":"'Инф-я'!C21","v":"Окунев Василий Михайлович"}]
[]
[]
["Приказ Министерства энергетики РФ от 18 октября 2017 г. N 976\n\"Об утверждении базовых значений показателей надежности, значений коэффициентов допустимых отклонений фактических значений показателей надежности от плановых и максимальной динамики улучшения плановых показателей надежности для групп территориальных сетевых организаций, имеющих сопоставимые друг с другом экономические и технические характеристики и (или) условия деятельности, с применением метода сравнения аналогов\" : Значения коэффициентов допустимых отклонений фактических значений показателей надежности от плановых =0,3\n\n"]
[]
["N пп","Группы территориальных сетевых организаций**","Базовые","Максимальная","Значения коэффициентов допустимых"]
[null,null,"значения","динамика","отклонений фактических значений показателей надежности от плановых"]
[null,null,"показателей","улучшения"]
[null,null,"надежности","плановых"]
[null,null,null,"показателей"]
[null,null,null,"надежности","Коэффициент","Коэффициент"]
[null,null,null,null,"***","***"]
[1,2,3,4,5,6]
[1,"ЛЭП 7 500 км и более, доля КЛ менее 10%, средняя летняя температура 20°С и более",9.6239000000000008,9.2490000000000003E-2,0.3,0.3]
[2,"ЛЭП 7 500 км и более, доля КЛ менее 10%, средняя летняя температура менее 20°С, число разъединителей и выключателей менее 25 000 штук",4.7397600000000004,8.9580000000000007E-2,0.3,0.3]
[3,"ЛЭП 7 500 км и более, доля КЛ менее 10%, средняя летняя температура менее 20°С, число разъединителей и выключателей 25 000 штук и более",2.9252099999999999,9.1189999999999993E-2,0.3,0.3]
[4,"ЛЭП 7 500 км и более, доля КЛ 10% и более",3.3357999999999999,0.13389999999999999,0.3,0.3]
[5,"ЛЭП 10 км и более и менее 7500 км, доля КЛ 30% и более",2.3309799999999998,0.21967999999999999,0.3,0.3]
[6,"ЛЭП 10 км и более и менее 7500 км, доля КЛ менее 30%, плотность менее 20 штук/км, число точек поставки менее 10 000 штук",4.5054600000000002,0.28361999999999998,0.3,0.3]
[7,"ЛЭП 10 км и более и менее 7500 км, доля КЛ менее 30%, плотность менее 20 штук/км, число точек поставки 10 000 штук и более",6.1130899999999997,0.1817,0.3,0.3]
[8,"ЛЭП 10 км и более и менее 7500 км, доля КЛ менее 30%, плотность 20 штук/км и более",5.8507600000000002,0.18958,0.3,0.3]
[9,"ЛЭП менее 10 км",1.3036799999999999,0.19006999999999999,0.3,0.3]
[]
["N пп","Группы территориальных сетевых организаций**","Базовые","Максимальная","Значения коэффициентов допустимых"]
[null,null,"значения","динамика","отклонений фактических значений показателей надежности от плановых"]
[null,null,"показателей","улучшения"]
[null,null,"надежности","плановых"]
[null,null,null,"показателей"]
[null,null,null,"надежности","Коэффициент","Коэффициент"]
[null,null,null,null,"***","***"]
[1,2,3,4,5,6]
[1,"ЛЭП 7 500 км и более, доля КЛ менее 10%",1.9674400000000001,7.9000000000000001E-2,0.3,0.3]
[2,"ЛЭП 7 500 км и более, доля КЛ 10% и более",1.2335499999999999,0.13947999999999999,0.3,0.3]
[3,"ЛЭП 3 000 км и более и менее 7 500 км, доля КЛ менее 15%",1.78816,0.14552999999999999,0.3,0.3]
[4,"ЛЭП 3 000 км и более и менее 7 500 км, доля КЛ 15% и более",0.75107999999999997,0.17702000000000001,0.3,0.3]
[5,"ЛЭП 100 км и более и менее 3 000 км, доля КЛ 35% и более",0.56438999999999995,0.17379,0.3,0.3]
[6,"ЛЭП 100 км и более и менее 3 000 км, доля КЛ менее 35%",1.0079499999999999,0.16106999999999999,0.3,0.3]
[7,"ЛЭП от 10 км и более и менее 100 км",0.78503000000000001,0.24091000000000001,0.3,0.3]
[8,"ЛЭП менее 10 км",0.92642000000000002,0.12407,0.3,0.3]

{"sheet":"∆ЭП","index":38,"n_rows":23,"n_cols":6,"rows_kept":23,"cut":false,"hidden":false,"merged":[[0,0,0,5],[1,0,1,5],[7,2,7,5],[8,2,8,5],[22,1,22,2],[22,3,22,5],[20,1,20,2],[3,0,3,6],[9,2,9,5],[6,2,6,5]]}
["Экономия расходов на оплату потерь электрической энергии, полученная сетевой организацией при осуществлении деятельности по передаче электрической энергии в результате проведения мероприятий по сокращению объема используемых энергетических ресурсов, определяемая в соответствии с пунктом 34(3) Основ ценообразования за 2021 год "]
[{"$f":"'Инф-я'!C14","v":"ООО \"Энергетик\""}]
[]
[]
[]
[]
[null,"где, N  "," - максимальное значение уровня потерь электрической энергии при ее передаче по электрическим сетям из значений уровня потерь электрической энергии, являющихся долгосрочными параметрами регулирования, определенными в соответствии с пунктом 40 1 настоящего документа для долгосрочного периода регулирования, к которому относится 2019 год, и следующих за ним долгосрочных периодов регулирования, но не ранее долгосрочного периода регулирования, к которому относится год, предшествующий на 10 лет году j-2, за который определяется экономия"]
[null,null,"- фактическая величина суммарного отпуска электрической энергии в сеть сетевой организации в году j-2 (тыс. кВт•ч);"]
[null,null,"- величина фактических потерь электрической энергии в сетях сетевой организации в году j-2 (тыс. кВт•ч);"]
[null,null,"фактически сложившаяся за год j-2 средневзвешенная цена покупки электрической энергии (мощности) в целях компенсации потерь электрической энергии при ее передаче по электрическим сетям (руб./кВт•ч)"]
[]
[]
[]
[null,"№ п/п","Наименование показателя","Обозначение","Расчет Общества","Расчет экспертов"]
[null,"1.","Максимальное значение уровня потерь электрической энергии при ее передаче по электрическим сетям ","N",{"$f":"MAX(E16:E17)","v":0.1404},{"$f":"MAX(F16:F17)","v":0}]
[null,"1.1.","уровень потерь электрической энергии установленный для долгосрочного периода регулирования, к которому относится 2019 год","%",0.1404]
[null,"1.2.","уровень потерь электрической энергии установленный на долгосрочный период 2020-2024 гг.","%",0.11459999999999999]
[null,"2.","Величина суммарного фактического отпуска ээ в сеть","W2021",{"$f":"'Корр. ПО'!C33","v":25621.743999999999},{"$f":"'Корр. ПО'!C49","v":0}]
[null,"3.","Величина фактических потерь ЭЭ","П2021",{"$f":"'Корр. ПО'!F33","v":2369.2460000000001},{"$f":"'Корр. ПО'!F49","v":0}]
[null,"4.","Фактически средневзвешенная цена покупки ээ","ЦП2021",{"$f":"'Корр. ПО'!H33/1000","v":3.3860390020968696},{"$f":"'Корр. ПО'!H49/1000","v":0}]
[null,"Экономия расходов на оплату потерь ээ",null,null,{"$f":"MAX(0,(E15*E18-E19)*E20)","v":4158.2145562361002},{"$f":"MAX(0,(F15*F18-F19)*F20)","v":0}]
[]
[null,"Руководитель организации",null,{"$f":"'Инф-я'!$C$21","v":"Окунев Василий Михайлович"}]

{"sheet":"Расходы ком. учет","index":39,"n_rows":14,"n_cols":9,"rows_kept":14,"cut":false,"hidden":false,"merged":[[11,1,11,2],[13,1,13,2],[0,0,0,4],[1,0,1,4],[13,3,13,4]]}
["Расходы, предусмотренные пунктом 5 статьи 37 Федерального закона от 26 марта 2003 г. N 35-ФЗ \"Об электроэнергетике\" по обеспечению коммерческого учета ээ"]
[{"$f":"'Инф-я'!C14","v":"ООО \"Энергетик\""}]
[null,null,null,"Факт 21год"]
[null,"№ п/п","Наименование показателя","Расчет Общества","Расчет экспертов"]
[null,"1.","Расходы на приобретение, установку, замену приборов учета",{"$f":"653.16+49.95+100.94+49.95+104.364+130.08","v":1088.444},null,null,null,{"$f":"1683.6+7874.4+33470.4","v":43028.4},"матрица"]
[null,"2.","Расходы на допуск в эксплуатацию и поверку приборов учета",{"$f":"91.1364+43.0284","v":134.16479999999999},null,null,null,{"$f":"8000+18000+70000+8000+10000+14000+8000+10000+4000+8000+14000+4000+6000+12000+2000+18000+18000+84000+18000+18000+16000","v":368000},"мби"]
[null,"3.","Расходы на  приобретение и эксплуатацию нематериальных активов, которые необходимы для обеспечения коммерческого учета",368,null,null,null,{"$f":"15852+11490+15061.2+4755.6+10303.2+4357.2+13868.4+15448.8","v":91136.4},"+"]
[null,null,null,null,null,null,null,null,"в охрану тр"]
[]
[]
[]
[null,"Расходы по обеспечению коммерческого учета ээ ",null,{"$f":"SUM(D5:D11)","v":1590.6088},{"$f":"SUM(E5:E11)","v":0}]
[]
[null,"Руководитель организации",null,{"$f":"'Инф-я'!$C$21","v":"Окунев Василий Михайлович"}]

{"sheet":"НВВ на потери","index":40,"n_rows":15,"n_cols":12,"rows_kept":15,"cut":false,"hidden":false,"merged":[[2,0,2,8],[14,0,14,1],[14,2,14,4],[4,0,4,10],[6,0,8,0],[6,1,8,1],[6,2,8,2],[6,3,7,5],[6,6,6,11],[7,6,7,8],[7,9,7,11]]}
[]
[]
["Расходы организации на компенсацию потерь на 2023 год"]
[]
[{"$f":"'Инф-я'!C14","v":"ООО \"Энергетик\""}]
[]
["№ п/п","Показатели","Ед.измер.","2022 год утверждено",null,null,"2023 год"]
[null,null,null,null,null,null,"По данным организации ",null,null,"По данным экспертов"]
[null,null,null,"1-е полугодие","2-е полугодие","Год","1-е полугодие","2-е полугодие","Год","1-е полугодие","2-е полугодие","Год"]
[1,2,3,4,5,6,7,8,9,10,11,12]
[1,"Величина технологического расхода (потерь) электрической энергии","млн.кВт.ч.",1.6121999999999999,1.2753000000000001,{"$f":"D11+E11","v":2.8875000000000002},{"$f":"'Баланс энергии'!W18/1000","v":1.18896},{"$f":"'Баланс энергии'!AB18/1000","v":1.1802858106422565},{"$f":"G11+H11","v":2.3692458106422567},{"$f":"'Баланс энергии'!AL18/1000","v":0},{"$f":"'Баланс энергии'!AQ18/1000","v":0},{"$f":"J11+K11","v":0}]
[2,"Прогнозная цена (тариф) покупки потерь электрической энергии","руб./МВт.ч.",2903.797,3064.8372670000003,{"$f":"IF(F11=0,0,F13/F11)","v":2974.9224207809871},3064.84,{"$f":"3064.84*1.084","v":3322.2865600000005},{"$f":"IF(I11=0,0,I13/I11)","v":3193.0920034019978},null,null,{"$f":"IF(L11=0,0,L13/L11)","v":0}]
[null,"Итого расходы на компенсацию потерь:","тыс.руб.",{"$f":"D11*D12","v":4681.5015233999993},{"$f":"E11*E12","v":3908.5869666051008},{"$f":"D13+E13","v":8590.0884900051005},{"$f":"G11*G12","v":3643.9721664000003},{"$f":"H11*H12","v":3921.247685655474},{"$f":"G13+H13","v":7565.2198520554739},{"$f":"J11*J12","v":0},{"$f":"K11*K12","v":0},{"$f":"J13+K13","v":0}]
[]
["Руководитель организации",null,{"$f":"'Инф-я'!$C$21","v":"Окунев Василий Михайлович"}]

{"sheet":" НВВ содержание","index":41,"n_rows":54,"n_cols":15,"rows_kept":54,"cut":false,"hidden":false,"merged":[[53,0,53,1],[53,2,53,5],[1,0,1,7],[3,0,3,7],[4,0,4,11],[5,0,6,0],[5,1,6,1],[5,6,5,7],[5,8,5,9],[5,10,5,11],[5,2,5,4]]}
[]
["Расчет необходимой валовой выручки  на содержание электрических сетей на 2023 год"]
[]
[{"$f":"'Инф-я'!C14","v":"ООО \"Энергетик\""}]
[]
["№","Наименование","2021 год",null,null,"2022 год","2023 год",null,"Темп роста планируемых затрат по расчету организации, %",null,"Темп роста затрат организации по расчету экспертов, %"]
[null,null,"Утверждено","Факт по данным Общества","Факт по данным Экспертов","Утверждено","По данным организации","По данным экспертов","к факту 2021 года","к утвержденным 2022 года","к факту 2021 года","к утвержденным 2022 года"]
["1","2","3","4","5","6","7","8","9","10","11","12"]
["1.","Подконтрольные расходы (ПР)",{"$f":"C10+C11+C12+C13+C22","v":30935.19735593352},{"$f":"D10+D11+D12+D13+D22","v":32305.343999999997},{"$f":"E10+E11+E12+E13+E22","v":0},{"$f":"'Подконтрольные расходы'!D32","v":30685.974461924867},{"$f":"'Подконтрольные расходы'!E32","v":35261.912265672836},{"$f":"H10+H11+H12+H13+H22","v":7287.91},{"$f":"IF(D9=0,IF(G9=0,0,100),G9/D9*100)","v":109.15194794295593},{"$f":"IF(F9=0,IF(G9=0,0,100),G9/F9*100)","v":114.91214759832961},{"$f":"IF(E9=0,IF(H9=0,0,100),H9/E9*100)","v":100},{"$f":"IF(F9=0,IF(H9=0,0,100),H9/F9*100)","v":23.74997088341722}]
["1.1.","Расходы на оплату труда",14469.601707184162,16686.386350000001,null,{"$f":"'Подконтрольные расходы'!D17","v":14353.030412321375},{"$f":"'Подконтрольные расходы'!E17","v":16493.375492239877},{"$f":"ROUND('Подконтрольные расходы'!F17,2)","v":3408.84},{"$f":"IF(D10=0,IF(G10=0,0,100),G10/D10*100)","v":98.843303434837921},{"$f":"IF(F10=0,IF(G10=0,0,100),G10/F10*100)","v":114.91214759832961},{"$f":"IF(E10=0,IF(H10=0,0,100),H10/E10*100)","v":100},23.749967094570341]
["1.2","Материалы",7742.1682321502449,{"$f":"667.1991+868.58534+246.793+4040.91412+101.71805-0.238-0.3-0.88-0.384-0.8-0.24-0.132","v":5922.2356100000006},null,{"$f":"'Подконтрольные расходы'!D18","v":7679.7950864250806},{"$f":"'Подконтрольные расходы'!E18","v":8825.0174649620549},{"$f":"ROUND('Подконтрольные расходы'!F18,2)","v":1823.95},149.01496742312239,114.91214759832961,100,23.749982642428062]
["1.3","Ремонт основных фондов",6869.9346308795675,6869.9,null,{"$f":"'Подконтрольные расходы'!D19","v":6814.5884512299426},{"$f":"'Подконтрольные расходы'!E19","v":7830.7899392960762},{"$f":"ROUND('Подконтрольные расходы'!F19,2)","v":1618.46},113.98695671401443,114.91214759832961,100,23.749930191424689]
["1.4","Другие обоснованные подконтрольные расходы, в том числе:",{"$f":"SUM(C14:C21)","v":1119.5585428782449},{"$f":"SUM(D14:D21)","v":2826.82204},{"$f":"SUM(E14:E21)","v":0},{"$f":"'Подконтрольные расходы'!D20","v":1110.5390555655281},{"$f":"'Подконтрольные расходы'!E20","v":1276.1442786685554},{"$f":"ROUND('Подконтрольные расходы'!F20,2)","v":263.75},45.144132195479678,114.91214759832961,100,23.74972754701442]
["1.4.1","Работы и услуги производственного характера",118.21664740467506,{"$f":"30.00652+300+184.056+91.1364+43.0284+68","v":716.22732000000008},null,{"$f":"'Подконтрольные расходы'!D21","v":117.26425991390823},{"$f":"'Подконтрольные расходы'!E21","v":134.75087943235911},{"$f":"ROUND('Подконтрольные расходы'!F21,2)","v":27.85},18.813982051446892,114.91214759832964,100,23.749776803645549,null,716227.32]
["1.4.2","Работы и услуги непроизводственного характера",576.71834324715041,{"$f":"34+58+67.97612+137.565+96+136.9254+360+1105.21","v":1995.67652},null,{"$f":"'Подконтрольные расходы'!D22","v":572.07213353081374},{"$f":"'Подконтрольные расходы'!E22","v":657.38037445184193},{"$f":"ROUND('Подконтрольные расходы'!F22,2)","v":135.87},32.940226928753056,114.91214759832961,100,23.750501385448377]
["1.4.3","Обеспечение нормальных условий труда и техники безопасности",357.02604624738132,{"$f":"8.2272+2.974","v":11.2012},null,{"$f":"('Подконтрольные расходы'!D23)","v":354.14974119399932},{"$f":"('Подконтрольные расходы'!E23)","v":406.96107331995086},{"$f":"ROUND('Подконтрольные расходы'!F23,2)","v":84.11},3633.1917412415714,114.91214759832961,100,23.749840877033275]
["1.4.4.","Расходы на командировки",0,0,null,{"$f":"('Подконтрольные расходы'!D24)","v":0},{"$f":"('Подконтрольные расходы'!E24)","v":0},{"$f":"ROUND('Подконтрольные расходы'!F24,2)","v":0},0,0,0,0]
["1.4.5","Расходы на обучение персонала",0,26.5,null,{"$f":"('Подконтрольные расходы'!D25)","v":0},{"$f":"('Подконтрольные расходы'!E25)","v":0},{"$f":"ROUND('Подконтрольные расходы'!F25,2)","v":0},0,0,0,0]
["1.4.6","Расходы на страхование",0,0,null,{"$f":"('Подконтрольные расходы'!D26)","v":0},{"$f":"('Подконтрольные расходы'!E26)","v":0},{"$f":"ROUND('Подконтрольные расходы'!F26,2)","v":0},0,0,0,0]
["1.4.7","Расходы на услуги банков",67.597505979038033,77.216999999999999,null,{"$f":"('Подконтрольные расходы'!D27)","v":67.052920926806848},{"$f":"('Подконтрольные расходы'!E27)","v":77.05195146440353},{"$f":"ROUND('Подконтрольные расходы'!F27,2)","v":15.93},99.786253628609671,114.91214759832961,100,23.757354310319691]
["1.4.8","Прочие обоснованные подконтрольные расходы",null,0,null,{"$f":"('Подконтрольные расходы'!D28)","v":0},{"$f":"('Подконтрольные расходы'!E28)","v":0},{"$f":"ROUND('Подконтрольные расходы'!F28,2)","v":0},0,0,0,0]
["1.5","Расходы из прибыли, в том числе:",{"$f":"C23+C24","v":733.93424284130163},{"$f":"SUM(D23:D24)","v":0},{"$f":"SUM(E23:E24)","v":0},{"$f":"'Подконтрольные расходы'!D29","v":728.02145638293837},{"$f":"'Подконтрольные расходы'!E29","v":836.58509050627106},{"$f":"ROUND('Подконтрольные расходы'!F29,2)","v":172.91},100,114.91214759832961,100,23.750673621499633]
["1.5.1","Расходы по коллективным договорам",733.93424284130163,0,null,{"$f":"('Подконтрольные расходы'!D30)","v":728.02145638293837},{"$f":"('Подконтрольные расходы'!E30)","v":836.58509050627106},{"$f":"ROUND('Подконтрольные расходы'!F30,2)","v":172.91},100,114.91214759832961,100,23.750673621499633]
["1.5.2","Прочие обоснованные расходы из прибыли",null,0,null,{"$f":"'Подконтрольные расходы'!D31","v":0},{"$f":"'Подконтрольные расходы'!E31","v":0},{"$f":"ROUND('Подконтрольные расходы'!F31,2)","v":0},0,0,0,0]
["2.","Неподконтрольные расходы (НР)",{"$f":"C26+C27+C28+C29+C35+C36+C37+C38+C39+C40","v":23011.230873345452},{"$f":"D26+D27+D28+D29+D35+D36+D37+D38+D40","v":26645.08828},{"$f":"E26+E27+E28+E29+E35+E36+E37+E38+E40","v":0},{"$f":"F26+F27+F28+F29+F35+F36+F37+F38+F39+F40","v":24294.362687840567},{"$f":"G26+G27+G28+G29+G35+G36+G37+G38+G39+G40","v":25448.469999999998},{"$f":"H26+H27+H28+H29+H35+H36+H37+H38+H39+H40","v":0},{"$f":"IF(D25=0,IF(G25=0,0,100),G25/D25*100)","v":95.509047418325892},{"$f":"IF(F25=0,IF(G25=0,0,100),G25/F25*100)","v":104.75051487041915},0,0,null,"?","2022 год выписка ДЦТ 24 532,38"]
["2.1.","Амортизация основных средств",{"$f":"'Свод по амортизации'!B13","v":7399.2293150213327},{"$f":"'Свод по амортизации'!C13","v":7322.2960499999999},{"$f":"'Свод по амортизации'!H13","v":0},{"$f":"('Свод по амортизации'!D13)","v":7437.6886703297132},{"$f":"ROUND('Свод по амортизации'!F13,2)","v":8159.98},{"$f":"ROUND('Свод по амортизации'!G13,2)","v":0},{"$f":"IF(D26=0,IF(G26=0,0,100),G26/D26*100)","v":111.44018138955198},{"$f":"IF(F26=0,IF(G26=0,0,100),G26/F26*100)","v":109.71123371366211},0,0]
["2.2.","Расходы на страховые взносы",{"$f":"'Страховые взносы'!D23","v":4584.3007805621746},{"$f":"'Страховые взносы'!E23","v":3403.5241500000002},{"$f":"'Страховые взносы'!J23","v":0},{"$f":"('Страховые взносы'!F23)","v":3245.0992366397704},{"$f":"ROUND('Страховые взносы'!H23,2)","v":3614.96},{"$f":"ROUND('Страховые взносы'!I23,2)","v":0},{"$f":"IF(D27=0,IF(G27=0,0,100),G27/D27*100)","v":106.21226236928567},{"$f":"IF(F27=0,IF(G27=0,0,100),G27/F27*100)","v":111.39751780728939},0,0]
["2.3.","Расходы на оплату услуг организаций, осуществляющие регулируемые виды деятельности",{"$f":"'Расходы рег. орг-ий'!B23","v":272.99594593152005},{"$f":"'Расходы рег. орг-ий'!C23","v":442.40091999999999},{"$f":"'Расходы рег. орг-ий'!H23","v":0},{"$f":"('Расходы рег. орг-ий'!D23)","v":243.28645120080006},{"$f":"ROUND('Расходы рег. орг-ий'!F23,2)","v":287.95999999999998},{"$f":"ROUND('Расходы рег. орг-ий'!G23,2)","v":0},65.090280553666119,118.36253049797992,0,0]
["2.4.","Налоги и сборы, в том числе:",{"$f":"(C30+C31+C32+C33+C34)","v":1378.8939326022401},{"$f":"D30+D31+D32+D33+D34","v":1172.2448300000001},{"$f":"E30+E31+E32+E33+E34","v":0},{"$f":"(F30+F31+F32+F33+F34)","v":795.66699999999992},{"$f":"ROUND(G30+G31+G32+G33+G34,2)","v":1172.24},{"$f":"ROUND(H30+H31+H32+H33+H34,2)","v":0},99.999587970031811,147.32796509092373,0,0]
["2.4.1.","Плата за землю",{"$f":"'Плата за землю'!B18","v":240.76193260224005},{"$f":"'Плата за землю'!C18","v":1.43},{"$f":"'Плата за землю'!H18","v":0},{"$f":"('Плата за землю'!D18)","v":17.16},{"$f":"ROUND('Плата за землю'!F18,2)","v":1.43},{"$f":"ROUND('Плата за землю'!G18,2)","v":0},100,8.3333333333333321,0,0]
["2.4.2.","Транспортный налог",{"$f":"'Транспортный налог'!D19","v":0},{"$f":"'Транспортный налог'!E19","v":0},{"$f":"'Транспортный налог'!L19","v":0},0,{"$f":"ROUND('Транспортный налог'!I19,2)","v":0},{"$f":"ROUND('Транспортный налог'!K19,2)","v":0},0,0,0,0]
["2.4.3.","Налог на имущество",{"$f":"('Налог на имущество'!B13)","v":0},{"$f":"'Налог на имущество'!C13","v":0},{"$f":"'Налог на имущество'!H13","v":0},{"$f":"('Налог на имущество'!D13)","v":0},{"$f":"ROUND('Налог на имущество'!F13,2)","v":0},{"$f":"ROUND('Налог на имущество'!G13,2)","v":0},0,0,0,0]
["2.4.4.","Плата за негативное воздействие на окружающую среду",{"$f":"'Негативное возд. на окр. среду '!C29","v":0},{"$f":"'Негативное возд. на окр. среду '!D29","v":0.15082999999999999},{"$f":"'Негативное возд. на окр. среду '!I29","v":0},{"$f":"('Негативное возд. на окр. среду '!E29)","v":0},{"$f":"ROUND('Негативное возд. на окр. среду '!G29,2)","v":0.15},{"$f":"ROUND('Негативное возд. на окр. среду '!H29,2)","v":0},99.449711595836376,100,0,0]
["2.4.5.","Налог на прибыль",{"$f":"'Налог на прибыль'!C10","v":1138.1320000000001},{"$f":"'Налог на прибыль'!D10","v":1170.664},{"$f":"'Налог на прибыль'!H10","v":0},{"$f":"('Налог на прибыль'!E10)","v":778.50699999999995},{"$f":"ROUND('Налог на прибыль'!F10,2)","v":1170.6600000000001},{"$f":"ROUND('Налог на прибыль'!G10,2)","v":0},99.999658313572482,150.37244366460419,0,0]
["2.5.","Плата за аренду имущества",{"$f":"'Аренда имущества'!B38","v":4735.28},{"$f":"'Аренда имущества'!C38","v":5002.9115899999997},{"$f":"'Аренда имущества'!V38","v":0},{"$f":"('Аренда имущества'!D38)","v":7524.22},{"$f":"ROUND('Аренда имущества'!F38,2)","v":4735.28},{"$f":"ROUND('Аренда имущества'!N38,2)","v":0},94.650483319854146,62.933832344083498,0,0]
["2.6.","Оплата услуг ПАО \"ФСК ЕЭС\"",{"$f":"'Услуги ФСК'!B17","v":0},{"$f":"'Услуги ФСК'!E17","v":0},{"$f":"'Услуги ФСК'!P17","v":0},{"$f":"('Услуги ФСК'!F17)","v":0},{"$f":"ROUND('Услуги ФСК'!L17,2)","v":0},{"$f":"ROUND('Услуги ФСК'!O17,2)","v":0},0,0,0,0]
["2.7.","Прочие обоснованные неподконтрольные расходы",{"$f":"'Прочие НР'!B15","v":0},{"$f":"'Прочие НР'!C15","v":0},{"$f":"'Прочие НР'!H15","v":0},{"$f":"('Прочие НР'!D15)","v":0},{"$f":"ROUND('Прочие НР'!F15,2)","v":0},{"$f":"ROUND('Прочие НР'!G15,2)","v":0},0,0,0,0]
["2.8.","Капитальные вложения производственного характера из прибыли",{"$f":"' КВЛ'!B26","v":3569.8108992281841},{"$f":"' КВЛ'!C26","v":6365.5473899999988},{"$f":"' КВЛ'!H26","v":0},{"$f":"(' КВЛ'!D26)","v":3255.3913296702867},{"$f":"ROUND(' КВЛ'!F26,2)","v":3371.69},{"$f":"ROUND(' КВЛ'!G26,2)","v":0},{"$f":"IF(D38=0,IF(G38=0,0,100),G38/D38*100)","v":52.967793552158291},{"$f":"IF(F38=0,IF(G38=0,0,100),G38/F38*100)","v":103.57249431949222},0,0,null,"3493,4 кап вл. На 2022"]
["2.9.","Расходы, связанные с компенсацией выпадающих доходов от льготного технологического присоединения",{"$f":"'Выпадающий доход'!B22","v":1070.72},"х","х",{"$f":"'Выпадающий доход'!C22","v":1793.01},{"$f":"ROUND('Выпадающий доход'!D22,2)","v":1170.2},{"$f":"ROUND('Выпадающий доход'!E22,2)","v":0},"х",65.264555133546381,"х",0]
["2.10.","Расходы на возврат и обслуживание долгосрочных заемных средств, направляемых на финансирование капитальных вложений ",{"$f":"'Возврат заемных средств'!B11","v":0},{"$f":"'Возврат заемных средств'!C11","v":2936.1633499999998},{"$f":"'Возврат заемных средств'!H11","v":0},{"$f":"ROUND('Возврат заемных средств'!D11,2)","v":0},{"$f":"ROUND('Возврат заемных средств'!F11,2)","v":2936.16},{"$f":"ROUND('Возврат заемных средств'!G11,2)","v":0},{"$f":"IF(D40=0,IF(G40=0,0,100),G40/D40*100)","v":99.999885905530434},100,{"$f":"IF(E40=0,IF(H40=0,0,100),H40/E40*100)","v":0},0]
["3.","Корректировка НВВ на основании фактических данных  (Bi )",{"$f":"SUM(C42:C47)","v":-1356.3037837647371},"x","х",{"$f":"SUM(F42:F47)","v":-6460.7345823516025},{"$f":"G42+G43+G44+G45+G47+G46","v":-1190.3040465978356},{"$f":"H42+H43+H44+H45+H47+H46","v":44409.8817017931},"х",{"$f":"IF(F41=0,IF(G41=0,0,100),G41/F41*100)","v":18.42366423547745},"х",-687.38130526372163]
["3.1.","Корректировка подконтрольных расходов  (∆ПР)",774.11848569250856,"x","x",0,{"$f":"'Корр. ПР'!D18*(1+'корр НВВ по факт'!E31)*(1+'корр НВВ по факт'!E32)","v":4156.6192412538585},{"$f":"'Корр. ПР'!E18*(1+'корр НВВ по факт'!F31)*(1+'корр НВВ по факт'!F32)","v":0},"х",100,"х",0]
["3.2.","Корректировка неподконтрольных расходов (∆НР)",-470.48278099498862,"x","x",-1517.0299707363713,{"$f":"'Корр. НР'!E19*(1+'корр НВВ по факт'!E31)*(1+'корр НВВ по факт'!E32)","v":-1189.5070840404717},{"$f":"'Корр. НР'!G19*(1+'корр НВВ по факт'!F31)*(1+'корр НВВ по факт'!F32)","v":-10971.470659095936},"х",78.410256025665802,"х",723.22042878100478]
["3.3.","Корректировка НВВ с учетом изменения полезного отпуска и цен на электрическую энергию  (ПОi )",-2499.1461305862813,"x","x",-1468.830117970562,{"$f":"'Корр. ПО'!D57*(1+'корр НВВ по факт'!E31)*(1+'корр НВВ по факт'!E32)","v":-2649.089667176785},{"$f":"'Корр. ПО'!E57*(1+'корр НВВ по факт'!F31)*(1+'корр НВВ по факт'!F32)","v":0},"х",180.35371380026928,"х",0]
["3.4.","Корректировка необходимой валовой выручки по доходам от осуществления регулируемой деятельности  (∆НВВiсод)",839.20664212402426,"x","x",145.67889035533051,{"$f":"'∆НВВ сод'!C8*(1+'корр НВВ по факт'!E31)*(1+'корр НВВ по факт'!E32)","v":-5671.5787442957399},{"$f":"'∆НВВ сод'!D8*(1+'корр НВВ по факт'!F31)*(1+'корр НВВ по факт'!F32)","v":55381.352360889039},"х",-3893.2056185093065,"х",38016.044895596358]
["3.5.","Корректировка расходов по обеспечению коммерческого учета ээ (∆Уi)",0,"х","x",0,{"$f":"'корр НВВ по факт'!E28*(1+'корр НВВ по факт'!E31)*(1+'корр НВВ по факт'!E32)","v":760.39809031199991},{"$f":"'корр НВВ по факт'!F28*(1+'корр НВВ по факт'!F31)*(1+'корр НВВ по факт'!F32)","v":0},"х",100,"х",0]
["3.6.","Корректировка НВВ в связи с изменением (неисполнением) инвестиционной программы (ВiкорИП)",0,"x","x",-3620.5533840000003,{"$f":"'Корр. ИП'!D14*(1+'корр НВВ по факт'!E31)*(1+'корр НВВ по факт'!E32)","v":3402.8541173493022},{"$f":"'Корр. ИП'!E14*(1+'корр НВВ по факт'!F31)*(1+'корр НВВ по факт'!F32)","v":0},"х",-93.987127282454736,"х",{"$f":"IF(F47=0,IF(H47=0,0,100),H47/F47*100)","v":0}]
["4.","Корректировка НВВ с учетом надежности и качества оказываемых услуг (НВВi-2сод)*КНКi",745.56791537480808,"x","x",626.16622590459417,{"$f":"'Корр. КНК'!D16","v":664.57622833066853},{"$f":"'Корр. КНК'!E16","v":664.57622833066853},"х",106.13415429274953,"х",{"$f":"IF(F48=0,IF(H48=0,0,100),H48/F48*100)","v":106.13415429274953}]
["5.","Экономия расходов на оплату потерь электрической энергии (∆ЭПi)",2045.66,"x","x",2721.3912794081816,{"$f":"'∆ЭП'!E21","v":4158.2145562361002},{"$f":"'∆ЭП'!F21","v":0},"х",152.79737932945764,"х",{"$f":"IF(F49=0,IF(H49=0,0,100),H49/F49*100)","v":0}]
["6.","Расходы по обеспечению коммерческого учета ээ (Уi)",null,"x","x",null,{"$f":"'Расходы ком. учет'!D12","v":1590.6088},{"$f":"'Расходы ком. учет'!E12","v":0},"х",100,"х",{"$f":"IF(F50=0,IF(H50=0,0,100),H50/F50*100)","v":0}]
["7.","Результаты деятельности регулируемой организации в соотв. с п.7 Основ ценообразования ",null,"x","x",null,null,null,"х",0,"х",{"$f":"IF(F51=0,IF(H51=0,0,100),H51/F51*100)","v":0}]
[null,"ИТОГО необходимая валовая выручка на содержание электрических сетей (НВВiсод)",{"$f":"C41+C25+C9+C48+C49+C51","v":55381.352360889039},{"$f":"D25+D9","v":58950.432279999994},{"$f":"E25+E9","v":0},{"$f":"F41+F25+F9+F48+F49+F50+F51","v":51867.160072726605},{"$f":"G41+G25+G9+G48+G49+G50+G51","v":65933.47780364177},{"$f":"H41+H25+H9+H48+H49+H50+H51","v":52362.367930123772},{"$f":"IF(D52=0,IF(G52=0,0,100),G52/D52*100)","v":111.84562225171486},{"$f":"IF(F52=0,IF(G52=0,0,100),G52/F52*100)","v":127.11989187607686},{"$f":"IF(E52=0,IF(H52=0,0,100),H52/E52*100)","v":100},{"$f":"IF(F52=0,IF(H52=0,0,100),H52/F52*100)","v":100.9547618506639}]
[]
["Руководитель организации",null,{"$f":"'Инф-я'!$C$21","v":"Окунев Василий Михайлович"}]

{"sheet":"НВВ для шаблона ЕИАС отчет","index":42,"n_rows":11,"n_cols":71,"rows_kept":11,"cut":false,"hidden":true,"merged":[[2,51,3,51],[2,52,3,52],[2,44,3,44],[2,45,3,45],[2,46,3,46],[2,47,3,47],[2,48,3,48],[2,49,3,49],[1,68,3,68],[1,69,3,69],[1,70,3,70],[2,2,3,2],[2,3,3,3],[2,4,3,4],[2,5,3,5],[2,6,3,6],[2,7,3,7],[2,8,3,8],[1,61,3,61],[1,62,3,62],[1,63,3,63],[1,64,2,65],[1,66,3,66],[2,13,3,13],[2,23,3,23],[1,67,3,67],[1,54,3,54],[1,55,2,56],[1,57,3,57],[1,58,3,58],[1,59,3,59],[1,60,3,60],[2,36,3,36],[2,37,3,37],[2,38,3,38],[2,39,3,39],[2,40,3,40],[2,41,3,41],[2,42,3,42],[2,50,3,50],[2,34,2,35],[1,0,4,0],[1,1,4,1],[1,2,1,11],[1,12,1,32],[1,33,1,52],[2,18,3,18],[2,14,3,14],[2,15,3,15],[2,16,3,16],[2,17,3,17],[2,30,3,30],[2,19,3,19],[2,20,3,20],[2,21,3,21],[2,22,3,22],[6,0,10,0],[1,53,3,53],[2,9,3,9],[2,10,3,10],[2,11,3,11],[2,12,3,12],[2,24,3,24],[2,25,3,25],[2,26,3,26],[2,27,3,27],[2,28,3,28],[2,29,3,29],[2,43,3,43],[2,31,3,31],[2,32,3,32],[2,33,3,33]]}
[" "]
["Наименование организации","Период","Расчет коэффициента индексации",null,null,null,null,null,null,null,null,null,"Расчет подконтрольных расходов",null,null,null,null,null,null,null,null,null,null,null,null,null,null,null,null,null,null,null,null,"Расчет неподконтрольных расходов",null,null,null,null,null,null,null,null,null,null,null,null,null,null,null,null,null,null,null,"Расходы, связанные с компенсацией незапланированных расходов или полученного избытка","Итого НВВ на содержание сетей","в том числе",null,"Доля стороннего отпуска в сеть от организаций, занимающихся несколькими видами деятельности (без собственных нужд)","Отношение НВВ на содержание сетей текущего года к предыдущему года","Поступление в сеть электроэнергии","Объем технологического расхода (потерь)","Тариф на покупку потерь ","Норматив техноло-гического расхода (потерь) электро-энергии ","Итого расходов на оплату потерь","в том числе",null,"Прирост расходов на оплату потерь текущего года к предыдущему году","Поступление в сеть мощности","Уровень надежности реализуемых товаров (услуг) \n(П п)","Уровень качества реализуемых товаров (услуг) \n(П тсо)","Уровень качества реализуемых товаров (услуг)\n(П тпр)"]
[null,null,"Инфляция","Индекс эффективности операционных расходов","Количество активов, всего","ВН","СН1","СН2","НН","Индекс изменения количества активов","Коэффициент эластичности затрат по росту активов","Итого коэффициент индексации","Материальные затраты","Сырье, материалы, запасные части, инструмент, топливо","Работы и услуги производственного характера (в т.ч. услуги сторонних организаций по содержанию сетей и распределительных устройств)","Расходы на оплату труда","Прочие расходы, всего, в том числе:","Ремонт основных фондов","Оплата работ и услуг сторонних организаций","услуги связи","Расходы на услуги вневедомственной охраны и коммунального хозяйства","Расходы на юридические и информационные услуги","Расходы на аудиторские и консультационные услуги","Транспортные услуги","Прочие услуги сторонних организаций","Расходы на командировки и представительские","Расходы на подготовку кадров","Расходы на обеспечение нормальных условий труда и мер по технике безопасности","Расходы на страхование","Другие прочие расходы","Электроэнергия на хоз. нужды","Подконтрольные расходы из прибыли","ИТОГО подконтрольные расходы","Оплата услуг ОАО \"ФСК ЕЭС\"","в том числе",null,"Теплоэнергия","Аренда, всего","в том числе аренда объектов электро-\nсетевого комплекса","Налоги (без учета налога на прибыль), всего, в том числе:","плата за землю","Налог на имущество","Прочие налоги и сборы","Отчисления на социальные нужды (ЕСН)","Прочие неподконтрольные расходы","Налог на прибыль, в том числе:","налог на прибыль на капитальные вложения ","Выпадающие доходы по п.87 Основ ценообразования","Амортизация ОС","Прибыль на капитальные вложения","Возврат заемных средств, направляемый на финансирование капитальных вложений","Проверка прибыли на капитальные вложения (не более 12% от НВВ на содержание сетей)","ИТОГО неподконтрольных расходов"]
[null,null,null,null,null,null,null,null,null,null,null,null,null,null,null,null,null,null,null,null,null,null,null,null,null,null,null,null,null,null,null,null,null,null,"Оплата услуг ОАО \"ФСК ЕЭС\"\n1 полугодие","Оплата услуг ОАО \"ФСК ЕЭС\"\n2 полугодие",null,null,null,null,null,null,null,null,null,null,null,null,null,null,null,null,null,null,null,"НВВ на 1 полугодие","НВВ на 2 полугодие",null,null,null,null,null,null,null,"расходы на 1 полугодие","расходы на 2 полугодие"]
[null,null,"%","%","у.е.","у.е.","у.е.","у.е.","у.е.","%",null,null,"тыс.руб","тыс.руб","тыс.руб","тыс.руб","тыс.руб","тыс.руб","тыс.руб","тыс.руб","тыс.руб","тыс.руб","тыс.руб","тыс.руб","тыс.руб","тыс.руб","тыс.руб","тыс.руб","тыс.руб","тыс.руб","тыс.руб","тыс.руб","тыс.руб","тыс.руб","тыс.руб","тыс.руб","тыс.руб","тыс.руб","тыс.руб","тыс.руб","тыс.руб","тыс.руб","тыс.руб","тыс.руб","тыс.руб","тыс.руб","тыс.руб","тыс.руб","тыс.руб","тыс.руб","тыс.руб","%","тыс.руб","тыс.руб","тыс.руб","тыс.руб","тыс.руб","%","%","млн.кВтч","млн.кВтч","руб./МВтч","%","тыс.руб","тыс.руб","тыс.руб","%","МВт"]
["А","Б","0.1","0.2","0.3","0.3.1","0.3.2","0.3.3","0.3.4","0.4","0.5","0.6","1.1","1.1.1","1.1.2","1.2","1.3","1.3.1","1.3.2","1.3.2.1","1.3.2.2","1.3.2.3","1.3.2.4","1.3.2.5","1.3.2.6","1.3.3","1.3.4","1.3.5","1.3.6","1.3.7","1.4","1.5","1.6","2.1","2.1.1","2.1.2","2.2","2.3","2.3.1","2.4","2.4.1","2.4.2","2.4.3","2.5","2.6","2.7","2.7.1","2.8","2.9","2.10","2.11","2.12","2.13","3","4","4.1","4.2","5","6","7","8","9","10","11","11.1","11.2","12","13","14","15.1","15.2"]
[{"$f":"'Инф-я'!C14","v":"ООО \"Энергетик\""},2020,null,{"$f":"'Подконтрольные расходы'!D10","v":0.05},{"$f":"SUM(F7:I7)","v":0},null,null,null,null,null,0.75,null,{"$f":"SUM(N7:O7)","v":7860.3848795549202},{"$f":"' НВВ содержание'!C11","v":7742.1682321502449},{"$f":"' НВВ содержание'!C14","v":118.21664740467506},{"$f":"' НВВ содержание'!C10","v":14469.601707184162},{"$f":"R7+S7+Z7+AA7+AB7+AC7+AD7+AC7+AF7","v":7535.065689085025},{"$f":"' НВВ содержание'!C12","v":6869.9346308795675},{"$f":"SUM(T7:Y7)","v":0},null,null,null,null,null,{"$f":"' НВВ содержание'!C17","v":0},{"$f":"' НВВ содержание'!C18","v":0},{"$f":"' НВВ содержание'!C16","v":357.02604624738132},{"$f":"' НВВ содержание'!C19","v":0},{"$f":"' НВВ содержание'!C21+' НВВ содержание'!C20","v":67.597505979038033},null,{"$f":"' НВВ содержание'!C22","v":733.93424284130163},{"$f":"' НВВ содержание'!H22","v":172.91},{"$f":"M7+P7+Q7","v":29865.05227582411},{"$f":"'Услуги ФСК'!B33","v":0},{"$f":"AH7/2","v":0},{"$f":"AI7","v":0},{"$f":"'НВВ по данным предпр.'!$F$33","v":243.28645120080006},{"$f":"'НВВ по данным предпр.'!F40","v":7524.22},{"$f":"'Аренда имущества'!D43","v":2976},{"$f":"SUM(AO7:AQ7)","v":{"$error":"#VALUE!"}},{"$f":"'НВВ по данным предпр.'!$F$35","v":17.16},{"$f":"'НВВ по данным предпр.'!F37","v":0},{"$f":"'НВВ по данным предпр.'!F36+'НВВ по данным предпр.'!F38","v":{"$error":"#VALUE!"}},{"$f":"'НВВ по данным предпр.'!F32","v":3245.0992366397704},{"$f":"'НВВ по данным предпр.'!F42","v":0},{"$f":"' НВВ содержание'!H34","v":0},{"$f":"AX7/0.8*0.2","v":0},{"$f":"' НВВ содержание'!H39","v":0},{"$f":"' НВВ содержание'!H26","v":0},{"$f":"' НВВ содержание'!H38","v":0},{"$f":"' НВВ содержание'!H40","v":0},{"$f":"AX7/0.8*0.2","v":0},{"$f":"'НВВ по данным предпр.'!F44","v":1793.01},{"$f":"' НВВ содержание'!F41","v":-6460.7345823516025},{"$f":"'НВВ по данным предпр.'!F43","v":3255.3913296702867},{"$f":"'НВВ по данным предпр.'!F45","v":0},null,null,null,{"$f":"'НВВ для шаблона ЕИАС предел'!BH7","v":25196.335078534041},{"$f":"'Баланс энергии'!AG18","v":0},null,{"$f":"IF(BH7=0,0,BI7/BH7)","v":0},{"$f":"BI7*BJ7","v":0},{"$f":"'НВВ на потери'!J13","v":0},{"$f":"BL7-BM7","v":0},null,null,{"$f":"'НВВ по данным экспертов'!F13","v":1.528},{"$f":"'НВВ по данным экспертов'!F14","v":0.79579999999999995},{"$f":"'НВВ по данным экспертов'!F15","v":1}]
[null,2021,{"$f":"'Подконтрольные расходы'!D12","v":"х"},{"$f":"D7","v":0.05},{"$f":"SUM(F8:I8)","v":1017.9789999999999},{"$f":"'УЕ ТП 2020-2023'!P56","v":0},{"$f":"'УЕ ТП 2020-2023'!P57","v":0},{"$f":"'УЕ ТП 2020-2023'!P58","v":791.04699999999991},{"$f":"'УЕ ТП 2020-2023'!P59","v":226.93199999999999},{"$f":"IF(E7=0,0,(E8-E7)/E7*K8)","v":0},0.75,{"$f":"(1+C8)*(1-D8)*(1+J8)","v":{"$error":"#VALUE!"}},{"$f":"SUM(N8:O8)","v":{"$error":"#VALUE!"}},{"$f":"N7*$L8","v":{"$error":"#VALUE!"}},{"$f":"O7*L8","v":{"$error":"#VALUE!"}},{"$f":"P7*$L8","v":{"$error":"#VALUE!"}},{"$f":"R8+S8+Z8+AA8+AB8+AC8+AD8+AE8+AF8","v":{"$error":"#VALUE!"}},{"$f":"R7*$L8","v":{"$error":"#VALUE!"}},{"$f":"SUM(T8:Y8)","v":{"$error":"#VALUE!"}},{"$f":"T7*$L8","v":{"$error":"#VALUE!"}},{"$f":"U7*L8","v":{"$error":"#VALUE!"}},{"$f":"V7*L8","v":{"$error":"#VALUE!"}},{"$f":"W7*$L8","v":{"$error":"#VALUE!"}},{"$f":"X7*$L8","v":{"$error":"#VALUE!"}},{"$error":"#VALUE!"},{"$error":"#VALUE!"},{"$error":"#VALUE!"},{"$error":"#VALUE!"},{"$error":"#VALUE!"},{"$error":"#VALUE!"},{"$error":"#VALUE!"},{"$error":"#VALUE!"},{"$f":"M8+P8+Q8","v":{"$error":"#VALUE!"}},{"$f":"'Услуги ФСК'!F33","v":0},{"$f":"AH8/2","v":0},{"$f":"AI8","v":0},{"$f":"'НВВ по данным экспертов'!$G$33","v":0},{"$f":"'НВВ по данным экспертов'!$G$40","v":0},null,{"$f":"SUM(AO8:AQ8)","v":0},{"$f":"'НВВ по данным экспертов'!$G$35","v":0},{"$f":"'НВВ по данным экспертов'!$G$37","v":0},{"$f":"' НВВ содержание'!H31+' НВВ содержание'!H33","v":0},{"$f":"' НВВ содержание'!H27","v":0},{"$f":"' НВВ содержание'!H37","v":0},{"$f":"' НВВ содержание'!H34","v":0},{"$f":"AX7/0.8*0.2","v":0},{"$f":"' НВВ содержание'!H39","v":0},{"$f":"' НВВ содержание'!H26","v":0},{"$f":"' НВВ содержание'!H38","v":0},{"$f":"' НВВ содержание'!H40","v":0},{"$f":"nerr((AX8+AY8)/(BC8-AH8-AU8-AX8-AY8-AM8))","v":{"$error":"#NAME?"}},{"$f":"AH8+AK8+AL8+AN8+AS8+AT8+AV8+AR8+AW8+AX8+AY8","v":0},{"$f":"' НВВ содержание'!G41","v":-1190.3040465978356},{"$f":"SUM(BA8,BB8,AG8)","v":{"$error":"#VALUE!"}},null,null,{"$f":"nerr((BD8+BE8)/BC8)","v":{"$error":"#NAME?"}},{"$f":"nerr((BC8-BC7)/BC7)","v":{"$error":"#NAME?"}},{"$f":"'Баланс энергии'!AG8","v":0},{"$f":"BI7","v":0},null,{"$f":"IF(BH8=0,0,BI8/BH8)","v":0},{"$f":"BI8*BJ8","v":0},{"$f":"'НВВ по данным экспертов'!#REF!/2","v":{"$error":"#REF!"}},{"$f":"BL8-BM8","v":{"$error":"#REF!"}},{"$f":"nerr((BL8-BL7)/BL7)","v":{"$error":"#NAME?"}},null,{"$f":"'НВВ по данным экспертов'!G13","v":1.5051000000000001},{"$f":"'НВВ по данным экспертов'!G14","v":0.78380000000000005},{"$f":"'НВВ по данным экспертов'!G15","v":1}]
[null,2022,null,{"$f":"D8","v":0.05},{"$f":"SUM(F9:I9)","v":1028.8391999999999},{"$f":"'УЕ ТП 2020-2023'!R56","v":0},{"$f":"'УЕ ТП 2020-2023'!R57","v":0},{"$f":"'УЕ ТП 2020-2023'!R58","v":801.90419999999995},{"$f":"'УЕ ТП 2020-2023'!R59","v":226.935},{"$f":"IF(E8=0,0,(E9-E8)/E8*K9)","v":8.0012947221897238E-3},0.75,{"$f":"(1+C9)*(1-D9)*(1+J9)","v":0.9576012299860801},{"$f":"SUM(N9:O9)","v":{"$error":"#VALUE!"}},{"$f":"N8*$L9","v":{"$error":"#VALUE!"}},{"$f":"O8*L9","v":{"$error":"#VALUE!"}},{"$f":"P8*$L9","v":{"$error":"#VALUE!"}},{"$f":"R9+S9+Z9+AA9+AB9+AC9+AD9+AE9+AF9","v":{"$error":"#VALUE!"}},{"$f":"R8*$L9","v":{"$error":"#VALUE!"}},{"$f":"SUM(T9:Y9)","v":{"$error":"#VALUE!"}},{"$f":"T8*$L9","v":{"$error":"#VALUE!"}},{"$f":"U8*L9","v":{"$error":"#VALUE!"}},{"$f":"V8*L9","v":{"$error":"#VALUE!"}},{"$f":"W8*$L9","v":{"$error":"#VALUE!"}},{"$error":"#VALUE!"},{"$error":"#VALUE!"},{"$error":"#VALUE!"},{"$error":"#VALUE!"},{"$error":"#VALUE!"},{"$error":"#VALUE!"},{"$error":"#VALUE!"},{"$error":"#VALUE!"},{"$error":"#VALUE!"},{"$f":"M9+P9+Q9","v":{"$error":"#VALUE!"}},{"$f":"AI9+AJ9","v":0},{"$f":"'Услуги ФСК'!J33","v":0},{"$f":"'Услуги ФСК'!K33","v":0},null,null,null,{"$f":"SUM(AO9:AQ9)","v":0},null,null,null,null,null,null,null,null,null,null,null,{"$f":"nerr((AX9+AY9)/(BC9-AH9-AU9-AX9-AY9-AM9))","v":{"$error":"#NAME?"}},{"$f":"AH9+AK9+AL9+AN9+AS9+AT9+AV9+AR9+AW9+AX9+AY9","v":0},null,{"$f":"SUM(BA9,BB9,AG9)","v":{"$error":"#VALUE!"}},null,null,{"$f":"nerr((BD9+BE9)/BC9)","v":{"$error":"#NAME?"}},{"$f":"nerr((BC9-BC8)/BC8)","v":{"$error":"#NAME?"}},null,{"$f":"BI8","v":0},null,{"$f":"IF(BH9=0,0,BI9/BH9)","v":0},{"$f":"BI9*BJ9","v":0},{"$f":"'НВВ по данным экспертов'!#REF!/2","v":{"$error":"#REF!"}},{"$f":"BL9-BM9","v":{"$error":"#REF!"}},{"$f":"nerr((BL9-BL8)/BL8)","v":{"$error":"#NAME?"}}]
[null,2023,null,{"$f":"D9","v":0.05},{"$f":"SUM(F10:I10)","v":0},null,null,null,null,{"$f":"IF(E9=0,0,(E10-E9)/E9*K10)","v":-0.75},0.75,{"$f":"(1+C10)*(1-D10)*(1+J10)","v":0.23749999999999999},{"$f":"SUM(N10:O10)","v":{"$error":"#VALUE!"}},{"$f":"N9*$L10","v":{"$error":"#VALUE!"}},{"$f":"O9*L10","v":{"$error":"#VALUE!"}},{"$f":"P9*$L10","v":{"$error":"#VALUE!"}},{"$f":"R10+S10+Z10+AA10+AB10+AC10+AD10+AE10+AF10","v":{"$error":"#VALUE!"}},{"$f":"R9*$L10","v":{"$error":"#VALUE!"}},{"$f":"SUM(T10:Y10)","v":{"$error":"#VALUE!"}},{"$f":"T9*$L10","v":{"$error":"#VALUE!"}},{"$f":"U9*L10","v":{"$error":"#VALUE!"}},{"$f":"V9*L10","v":{"$error":"#VALUE!"}},{"$f":"W9*$L10","v":{"$error":"#VALUE!"}},{"$error":"#VALUE!"},{"$error":"#VALUE!"},{"$error":"#VALUE!"},{"$error":"#VALUE!"},{"$error":"#VALUE!"},{"$error":"#VALUE!"},{"$error":"#VALUE!"},{"$error":"#VALUE!"},{"$error":"#VALUE!"},{"$f":"M10+P10+Q10","v":{"$error":"#VALUE!"}},{"$f":"AI10+AJ10","v":0},null,null,null,null,null,{"$f":"SUM(AO10:AQ10)","v":0},null,null,null,null,null,null,null,null,null,null,null,{"$f":"nerr((AX10+AY10)/(BC10-AH10-AU10-AX10-AY10-AM10))","v":{"$error":"#NAME?"}},{"$f":"AH10+AK10+AL10+AN10+AS10+AT10+AV10+AR10+AW10+AX10+AY10","v":0},null,{"$f":"SUM(BA10,BB10,AG10)","v":{"$error":"#VALUE!"}},null,null,{"$f":"nerr((BD10+BE10)/BC10)","v":{"$error":"#NAME?"}},{"$f":"nerr((BC10-BC9)/BC9)","v":{"$error":"#NAME?"}},null,{"$f":"BI9","v":0},null,{"$f":"IF(BH10=0,0,BI10/BH10)","v":0},{"$f":"BI10*BJ10","v":0},{"$f":"'НВВ по данным экспертов'!#REF!/2","v":{"$error":"#REF!"}},{"$f":"BL10-BM10","v":{"$error":"#REF!"}},{"$f":"nerr((BL10-BL9)/BL9)","v":{"$error":"#NAME?"}}]
[null,2024,null,{"$f":"D10","v":0.05},{"$f":"SUM(F11:I11)","v":0},null,null,null,null,{"$f":"IF(E10=0,0,(E11-E10)/E10*K11)","v":0},0.75,{"$f":"(1+C11)*(1-D11)*(1+J11)","v":0.95},{"$f":"SUM(N11:O11)","v":{"$error":"#VALUE!"}},{"$f":"N10*$L11","v":{"$error":"#VALUE!"}},{"$f":"O10*L11","v":{"$error":"#VALUE!"}},{"$f":"P10*$L11","v":{"$error":"#VALUE!"}},{"$f":"R11+S11+Z11+AA11+AB11+AC11+AD11+AE11+AF11","v":{"$error":"#VALUE!"}},{"$f":"R10*$L11","v":{"$error":"#VALUE!"}},{"$f":"SUM(T11:Y11)","v":{"$error":"#VALUE!"}},{"$f":"T10*$L11","v":{"$error":"#VALUE!"}},{"$f":"U10*L11","v":{"$error":"#VALUE!"}},{"$f":"V10*L11","v":{"$error":"#VALUE!"}},{"$f":"W10*$L11","v":{"$error":"#VALUE!"}},{"$error":"#VALUE!"},{"$error":"#VALUE!"},{"$error":"#VALUE!"},{"$error":"#VALUE!"},{"$error":"#VALUE!"},{"$error":"#VALUE!"},{"$error":"#VALUE!"},{"$error":"#VALUE!"},{"$error":"#VALUE!"},{"$f":"M11+P11+Q11","v":{"$error":"#VALUE!"}},{"$f":"AI11+AJ11","v":0},null,null,null,null,null,{"$f":"SUM(AO11:AQ11)","v":0},null,null,null,null,null,null,null,null,null,null,null,{"$f":"((AX11+AY11)/(BC11-AH11-AU11-AX11-AY11-AM11))","v":{"$error":"#VALUE!"}},{"$f":"AH11+AK11+AL11+AN11+AS11+AT11+AV11+AR11+AW11+AX11+AY11","v":0},null,{"$f":"SUM(BA11,BB11,AG11)","v":{"$error":"#VALUE!"}},null,null,{"$f":"((BD11+BE11)/BC11)","v":{"$error":"#VALUE!"}},{"$f":"nerr((BC11-BC10)/BC10)","v":{"$error":"#NAME?"}},null,{"$f":"BI10","v":0},null,{"$f":"IF(BH11=0,0,BI11/BH11)","v":0},{"$f":"BI11*BJ11","v":0},{"$f":"'НВВ по данным экспертов'!#REF!/2","v":{"$error":"#REF!"}},{"$f":"BL11-BM11","v":{"$error":"#REF!"}},{"$f":"nerr((BL11-BL10)/BL10)","v":{"$error":"#NAME?"}}]

{"sheet":"НВВ по данным предпр.","index":43,"n_rows":72,"n_cols":7,"rows_kept":72,"cut":false,"hidden":false,"merged":[[7,0,7,6],[15,0,15,6],[1,0,1,6],[2,0,2,6],[4,0,5,0],[4,1,5,1],[4,2,5,2],[4,3,4,4],[4,5,5,5],[4,6,5,6],[68,0,68,6],[73,0,73,1],[73,2,73,4],[21,0,21,6],[27,0,27,6],[29,0,29,6],[47,0,47,6],[55,0,55,6],[64,0,64,6]]}
[]
["Расчет необходимой валовой выручки (НВВ) на оказание услуги по передаче электрической энергии на 2023 год долгосрочного периода регулирования 2020- 2024 годы по данным предприятия"]
[{"$f":"'Инф-я'!C14","v":"ООО \"Энергетик\""}]
[]
["№ п.п.","Наименование","Ед.изм.","2021 год",null,"2022 год утверждено","2023 год"]
[null,null,null,"Утверждено","Факт"]
[1,2,3,4,5,6,7]
["Долгосрочные параметры регулирования"]
["1.","Базовый уровень подконтрольных расходов (ПР)","тыс.руб.",30935.200000000001,"х","х","х"]
["2.","Индекс эффективности подконтрольных расходов (Хэф)","%",{"$f":"'Корр. ПР'!D13","v":0},{"$f":"$D$10","v":0},{"$f":"$D$10","v":0},0]
["3.","Коэффициент эластичности подконтрольных расходов по количеству активов (К эл)","знач.",0.75,0.75,0.75,0.75]
["4.","Уровень надежности и качества оказываемых услуг","х","х","х","х","х"]
["4.1.","Показатель средней продолжительности прекращений передачи электрической энергии на точку поставки , час.","знач.",{"$f":"'Корр. КНК'!D23","v":1.5511999999999999},{"$f":"'Корр. КНК'!E23","v":1.5606824348040775E-2},1.528,1.5051000000000001]
["4.2.","Показатель средней частоты прекращений передачи электрической энергии на точку поставки , шт.","знач.",{"$f":"'Корр. КНК'!D24","v":0.80789999999999995},{"$f":"'Корр. КНК'!E24","v":2.8693291973633191E-2},0.79579999999999995,0.78380000000000005]
["4.3.","Показатель уровня качества осуществляемого технологического присоединения          ","знач.",{"$f":"'Корр. КНК'!D25","v":1},{"$f":"'Корр. КНК'!E25","v":1},1,1]
["Планируемые значения параметров расчета тарифов"]
["1.","Индекс потребительских цен (ИПЦ)","%","х","х",{"$f":"'Подконтрольные расходы'!D12","v":"х"},{"$f":"'Подконтрольные расходы'!E12","v":0.2}]
["2.","Количество активов (УЕ)","усл.ед.",{"$f":"'УЕ ТП 2020-2023'!J60","v":1127.973},{"$f":"'УЕ ТП 2020-2023'!L60","v":1027.2046},{"$f":"'Подконтрольные расходы'!D13","v":1017.9789999999999},{"$f":"'Подконтрольные расходы'!E13","v":1028.8391999999999}]
["3.","Величина неподконтрольных расходов (НР)","тыс.руб.",{"$f":"D46","v":23011.230873345452},{"$f":"E46","v":26645.08828},{"$f":"F46","v":24294.362687840567},{"$f":"G46","v":25448.469999999998}]
["4.","Величина полезного отпуска электрической энергии","тыс.кВт.ч.",{"$f":"'Баланс энергии'!C21-'Баланс энергии'!C23","v":21494.200126632255},{"$f":"'Баланс энергии'!H21-'Баланс энергии'!H23","v":23252.497906018969},{"$f":"'Баланс энергии'!M21-'Баланс энергии'!M23","v":22308.835078534041},{"$f":"'Баланс энергии'!R21-'Баланс энергии'!R23","v":23252.067509101202}]
["5.","Прогнозная цена (тариф) покупки потерь электрической энергии","руб./МВт.ч.",{"$f":"D67","v":3453.0760514018689},{"$f":"E67","v":3386.0390020968698},{"$f":"F67","v":2974.9224207809871},{"$f":"G67","v":3193.0920034019978}]
["Расчетные показатели"]
["1.","Доля подконтрольных расходов на МВт.ч.","руб.МВт.ч.",{"$f":"IF(D20=0,0,D29/D20/10)","v":0.14392346388179134},{"$f":"IF(E20=0,0,E29/E20/10)","v":0.13893278963219552},{"$f":"IF(F20=0,0,F29/F20/10)","v":0.13755077014958733},{"$f":"IF(G20=0,0,G29/G20/10)","v":0.15165065322415222}]
["2.","Проверка прибыли на капитальные вложения (не более 12 % от НВВ на содержание сетей)","%","х","х","х",{"$f":"IF(G25=0,0,G43/G25)","v":6.0417291919571688E-2}]
["3.","НВВ для расчета КВЛ ","тыс.руб.","х","х","х",{"$f":"G64-' КВЛ'!F26/0.8-'Услуги ФСК'!L17-'Аренда имущества'!F43-'Возврат заемных средств'!F11","v":55806.705214269437}]
["4.","Индекс изменения количества активов (ИКА)","%","х","х","х",{"$f":"'Подконтрольные расходы'!E14","v":1.0668392962919632E-2}]
["5.","Общий коэффициент индексации подконтрольных расходов ПР= ИПЦ*(1+(Кэл*ИКА))*(1-Хэф)","знач.","х","х","х",{"$f":"'Подконтрольные расходы'!E15","v":1.1491214759832962}]
["Подконтрольные расходы организации (ПР)"]
[null,"Итого ПР с учетом индексации:","тыс.руб.",{"$f":"' НВВ содержание'!C9","v":30935.19735593352},{"$f":"' НВВ содержание'!D9","v":32305.343999999997},{"$f":"' НВВ содержание'!F9","v":30685.974461924867},{"$f":"' НВВ содержание'!G9","v":35261.912265672836}]
[]
["1.","Амортизация основных средств","тыс.руб.",{"$f":"'Свод по амортизации'!B13","v":7399.2293150213327},{"$f":"'Свод по амортизации'!C13","v":7322.2960499999999},{"$f":"'Свод по амортизации'!D13","v":7437.6886703297132},{"$f":"ROUND('Свод по амортизации'!F13,2)","v":8159.98}]
["2.","Страховые взносы","тыс.руб.",{"$f":"'Страховые взносы'!D23","v":4584.3007805621746},{"$f":"'Страховые взносы'!E23","v":3403.5241500000002},{"$f":"'Страховые взносы'!F23","v":3245.0992366397704},{"$f":"ROUND('Страховые взносы'!H23,2)","v":3614.96}]
["3.","Расходы на оплату услуг организаций, осуществляющие регулируемые виды деятельности","тыс.руб.",{"$f":"'Расходы рег. орг-ий'!B23","v":272.99594593152005},{"$f":"'Расходы рег. орг-ий'!C23","v":442.40091999999999},{"$f":"'Расходы рег. орг-ий'!D23","v":243.28645120080006},{"$f":"ROUND('Расходы рег. орг-ий'!F23,2)","v":287.95999999999998}]
["4.","Налоги и сборы, в том числе:","тыс.руб.",{"$f":"SUM(D35:D39)","v":1378.8939326022401},{"$f":"SUM(E35:E39)","v":1172.2448300000001},{"$f":"SUM(F35:F39)","v":795.66699999999992},{"$f":"ROUND(SUM(G35:G39),2)","v":1172.24}]
["4.1.","Плата за землю","тыс.руб.",{"$f":"'Плата за землю'!B18","v":240.76193260224005},{"$f":"'Плата за землю'!C18","v":1.43},{"$f":"'Плата за землю'!D18","v":17.16},{"$f":"ROUND('Плата за землю'!F18,2)","v":1.43}]
["4.2.","Транспортный налог","тыс.руб.",{"$f":"'Транспортный налог'!D19","v":0},{"$f":"'Транспортный налог'!E19","v":0},{"$f":"'Транспортный налог'!F19","v":"-"},{"$f":"ROUND('Транспортный налог'!I19,2)","v":0}]
["4.3.","Налог на имущество","тыс.руб.",{"$f":"'Налог на имущество'!B13","v":0},{"$f":"'Налог на имущество'!C13","v":0},{"$f":"'Налог на имущество'!D13","v":0},{"$f":"ROUND('Налог на имущество'!F13,2)","v":0}]
["4.4.","Плата за негативное воздействие на окружающую среду","тыс.руб.",{"$f":"'Негативное возд. на окр. среду '!C29","v":0},{"$f":"'Негативное возд. на окр. среду '!D29","v":0.15082999999999999},{"$f":"'Негативное возд. на окр. среду '!E29","v":0},{"$f":"ROUND('Негативное возд. на окр. среду '!G29,2)","v":0.15}]
["4.5.","Налог на прибыль","тыс.руб.",{"$f":"'Налог на прибыль'!C10","v":1138.1320000000001},{"$f":"'Налог на прибыль'!D10","v":1170.664},{"$f":"'Налог на прибыль'!E10","v":778.50699999999995},{"$f":"ROUND('Налог на прибыль'!F10,2)","v":1170.6600000000001}]
["5.","Плата за аренду имущества","тыс.руб.",{"$f":"'Аренда имущества'!B38","v":4735.28},{"$f":"'Аренда имущества'!C38","v":5002.9115899999997},{"$f":"'Аренда имущества'!D38","v":7524.22},{"$f":"ROUND('Аренда имущества'!F38,2)","v":4735.28}]
["6.","Оплата услуг ОАО \"ФСК ЕЭС\"","тыс.руб.",{"$f":"'Услуги ФСК'!B17","v":0},{"$f":"'Услуги ФСК'!E17","v":0},{"$f":"'Услуги ФСК'!F17","v":0},{"$f":"ROUND('Услуги ФСК'!L17,2)","v":0}]
["7.","Прочие обоснованные неподконтрольные расходы","тыс.руб.",{"$f":"'Прочие НР'!B15","v":0},{"$f":"'Прочие НР'!C15","v":0},{"$f":"'Прочие НР'!D15","v":0},{"$f":"ROUND('Прочие НР'!F15,2)","v":0}]
["8.","Капитальные вложения производственного характера из прибыли","тыс.руб.",{"$f":"' КВЛ'!B26","v":3569.8108992281841},{"$f":"' КВЛ'!C26","v":6365.5473899999988},{"$f":"' КВЛ'!D26","v":3255.3913296702867},{"$f":"ROUND(' КВЛ'!F26,2)","v":3371.69}]
["9.","Расходы, связанные с компенсацией выпадающих доходов от льготного технологического присоединения","тыс.руб.",{"$f":"'Выпадающий доход'!B22","v":1070.72},"х",{"$f":"'Выпадающий доход'!C22","v":1793.01},{"$f":"ROUND('Выпадающий доход'!D22,2)","v":1170.2}]
["10.",{"$f":"' НВВ содержание'!B40","v":"Расходы на возврат и обслуживание долгосрочных заемных средств, направляемых на финансирование капитальных вложений "},"тыс.руб.",{"$f":"'Возврат заемных средств'!B11","v":0},{"$f":"'Возврат заемных средств'!C11","v":2936.1633499999998},{"$f":"'Возврат заемных средств'!D11","v":0},{"$f":"ROUND('Возврат заемных средств'!F11,2)","v":2936.16}]
[null,"Итого НР:","тыс.руб.",{"$f":"SUM(D31:D34,D40:D45)","v":23011.230873345452},{"$f":"SUM(E31:E34,E40:E45)","v":26645.08828},{"$f":"SUM(F31:F34,F40:F45)","v":24294.362687840567},{"$f":"SUM(G31:G34,G40:G45)","v":25448.469999999998}]
[]
["Корректировка необходимой валовой выручки "]
["1.","Корректировка подконтрольных расходов","тыс.руб.",{"$f":"' НВВ содержание'!C42","v":774.11848569250856},{"$f":"' НВВ содержание'!D42","v":"x"},{"$f":"' НВВ содержание'!F42","v":0},{"$f":"' НВВ содержание'!G42","v":4156.6192412538585}]
["2.","Корректировка неподконтрольных расходов","тыс.руб.",{"$f":"' НВВ содержание'!C43","v":-470.48278099498862},{"$f":"' НВВ содержание'!D43","v":"x"},{"$f":"' НВВ содержание'!F43","v":-1517.0299707363713},{"$f":"' НВВ содержание'!G43","v":-1189.5070840404717}]
["3.","Корректировка НВВ с учетом изменения полезного отпуска и цен на электрическую энергию ","тыс.руб.",{"$f":"' НВВ содержание'!C44","v":-2499.1461305862813},{"$f":"' НВВ содержание'!D44","v":"x"},{"$f":"' НВВ содержание'!F44","v":-1468.830117970562},{"$f":"' НВВ содержание'!G44","v":-2649.089667176785}]
["4.","Корректировка необходимой валовой выручки по доходам от осуществления регулируемой деятельности","тыс.руб.",{"$f":"' НВВ содержание'!C45","v":839.20664212402426},{"$f":"' НВВ содержание'!D45","v":"x"},{"$f":"' НВВ содержание'!F45","v":145.67889035533051},{"$f":"' НВВ содержание'!G45","v":-5671.5787442957399}]
["5.","Корректировка расходов по обеспечению коммерческого учета ээ ","тыс.руб.",{"$f":"' НВВ содержание'!C46","v":0},{"$f":"' НВВ содержание'!D46","v":"х"},{"$f":"' НВВ содержание'!F46","v":0},{"$f":"' НВВ содержание'!G46","v":760.39809031199991}]
["6.","Корректировка НВВ в связи с изменением (неисполнением) инвестиционной программы ","тыс.руб.",{"$f":"' НВВ содержание'!C47","v":0},{"$f":"' НВВ содержание'!D47","v":"x"},{"$f":"' НВВ содержание'!F47","v":-3620.5533840000003},{"$f":"' НВВ содержание'!G47","v":3402.8541173493022}]
[null,"Итого корректировка НВВ","тыс.руб.",{"$f":"SUM(D49:D54)","v":-1356.3037837647371},"х",{"$f":"SUM(F49:F54)","v":-6460.7345823516025},{"$f":"' НВВ содержание'!G41","v":-1190.3040465978356}]
["Расходы организации на содержание сетей "]
["1.","Подконтрольные расходы","тыс.руб.",{"$f":"D29","v":30935.19735593352},{"$f":"E29","v":32305.343999999997},{"$f":"F29","v":30685.974461924867},{"$f":"G29","v":35261.912265672836}]
["2.","Неподконтрольные расходы","тыс.руб.",{"$f":"D46","v":23011.230873345452},{"$f":"E46","v":26645.08828},{"$f":"F46","v":24294.362687840567},{"$f":"G46","v":25448.469999999998}]
["3.","Корректировка НВВ на основании фактических данных ","тыс.руб.",{"$f":"D55","v":-1356.3037837647371},{"$f":"E55","v":"х"},{"$f":"F55","v":-6460.7345823516025},{"$f":"G55","v":-1190.3040465978356}]
["4.","Корректировка НВВ с учетом надежности и качества оказываемых услуг ","тыс.руб.",{"$f":"' НВВ содержание'!C48","v":745.56791537480808},"х",{"$f":"' НВВ содержание'!F48","v":626.16622590459417},{"$f":"ROUND(' НВВ содержание'!G48,2)","v":664.58}]
["5.","Экономия расходов на оплату потерь электрической энергии","тыс.руб.",{"$f":"' НВВ содержание'!C49","v":2045.66},"х",{"$f":"' НВВ содержание'!F49","v":2721.3912794081816},{"$f":"' НВВ содержание'!G49","v":4158.2145562361002}]
["6.","Расходы по обеспечению коммерческого учета ээ","тыс.руб.","х","х",{"$f":"' НВВ содержание'!F50","v":0},{"$f":"' НВВ содержание'!G50","v":1590.6088}]
["7.","Результаты деятельности регулируемой организации в соотв. с п.7 Основ ценообразования ","тыс.руб.",{"$f":"' НВВ содержание'!C51","v":0},"х",{"$f":"' НВВ содержание'!F51","v":0},{"$f":"' НВВ содержание'!G51","v":0}]
[null,"Итого расходы на содержание электрических сетей:","тыс.руб.",{"$f":"D57+D58+D59+D60+D61+D63","v":55381.352360889046},{"$f":"E57+E58","v":58950.432279999994},{"$f":"F57+F58+F59+F60+F61+F63+F62","v":51867.160072726605},{"$f":"G57+G58+G59+G60+G61+G62+G63","v":65933.481575311103}]
["Расходы организации на компенсацию потерь"]
["1.","Величина технологического расхода (потерь) электрической энергии","млн.кВт.ч.",{"$f":"'Баланс энергии'!C18/1000","v":2.7820398733677463},{"$f":"'Баланс энергии'!H18/1000","v":2.3692460939810287},{"$f":"'НВВ на потери'!F11","v":2.8875000000000002},{"$f":"'НВВ на потери'!I11","v":2.3692458106422567}]
["2.","Прогнозная цена (тариф) покупки потерь электрической энергии","руб./МВт.ч.",{"$f":"'Корр. ПО'!G33","v":3453.0760514018689},{"$f":"'Корр. ПО'!H33","v":3386.0390020968698},{"$f":"'НВВ на потери'!F12","v":2974.9224207809871},{"$f":"'НВВ на потери'!I12","v":3193.0920034019978}]
[null,"Итого расходы на компенсацию потерь:","тыс.руб.",{"$f":"D66*D67","v":9606.5952607712534},{"$f":"E66*E67","v":8022.3596797854289},{"$f":"F66*F67","v":8590.0884900051005},{"$f":"G66*G67","v":7565.2198520554739}]
["Необходимая валовая выручка (НВВ) организации на оказание услуги по передаче электрической энергии"]
["1.","Расходы на содержание электрических сетей","тыс.руб.",{"$f":"D64","v":55381.352360889046},{"$f":"E64","v":58950.432279999994},{"$f":"F64","v":51867.160072726605},{"$f":"G64","v":65933.481575311103}]
["2.","Расходы на компенсацию потерь","тыс.руб.",{"$f":"D68","v":9606.5952607712534},{"$f":"E68","v":8022.3596797854289},{"$f":"F68","v":8590.0884900051005},{"$f":"G68","v":7565.2198520554739}]
[null,"Необходимая валовая выручка (НВВ) организации на оказание услуги по передаче электрической энергии","тыс.руб.",{"$f":"D70+D71","v":64987.9476216603},{"$f":"E70+E71","v":66972.79195978542},{"$f":"F70+F71","v":60457.248562731707},{"$f":"G70+G71","v":73498.701427366585}]

{"sheet":"НВВ по данным экспертов","index":44,"n_rows":72,"n_cols":7,"rows_kept":72,"cut":false,"hidden":true,"merged":[[15,0,15,6],[1,0,1,6],[2,0,2,6],[4,0,5,0],[4,1,5,1],[4,2,5,2],[4,3,4,4],[4,5,5,5],[4,6,5,6],[7,0,7,6],[68,0,68,6],[73,0,73,1],[73,2,73,4],[21,0,21,6],[27,0,27,6],[29,0,29,6],[47,0,47,6],[55,0,55,6],[64,0,64,6]]}
[]
["Расчет необходимой валовой выручки (НВВ) на оказание услуги по передаче электрической энергии на 2023 год долгосрочного периода регулирования 2020- 2024 годы  по данным экспертов"]
[{"$f":"'Инф-я'!C14","v":"ООО \"Энергетик\""}]
[]
["№ п.п.","Наименование","Ед.изм.","2021 год",null,"2022 год утверждено","2023 год"]
[null,null,null,"Утверждено","Факт"]
[1,2,3,4,5,6,7]
["Долгосрочные параметры регулирования"]
["1.","Базовый уровень подконтрольных расходов (ПР)","тыс.руб.","х","х",{"$f":"' НВВ содержание'!F9","v":30685.974461924867},"х"]
["2.","Индекс эффективности подконтрольных расходов (Хэф)","%",{"$f":"'НВВ по данным предпр.'!E10","v":0},{"$f":"$D$10","v":0},{"$f":"$D$10","v":0},0]
["3.","Коэффициент эластичности подконтрольных расходов по количеству активов (К эл)","знач.",0.75,0.75,0.75,0.75]
["4.","Уровень надежности и качества оказываемых услуг","х","х","х","х","х"]
["4.1.","Показатель средней продолжительности прекращений передачи электрической энергии на точку поставки , час.","знач.",{"$f":"'Корр. КНК'!D23","v":1.5511999999999999},{"$f":"'Корр. КНК'!G23","v":0},1.528,1.5051000000000001]
["4.2.","Показатель средней частоты прекращений передачи электрической энергии на точку поставки , шт.","знач.",{"$f":"'Корр. КНК'!D24","v":0.80789999999999995},{"$f":"'Корр. КНК'!G24","v":0},0.79579999999999995,0.78380000000000005]
["4.3.","Показатель уровня качества осуществляемого технологического присоединения          ","знач.",{"$f":"'Корр. КНК'!D25","v":1},{"$f":"'Корр. КНК'!G25","v":1},1,1]
["Планируемые значения параметров расчета тарифов"]
["1.","Индекс потребительских цен (ИПЦ)","%","х","х",{"$f":"'Подконтрольные расходы'!D12","v":"х"},{"$f":"'Подконтрольные расходы'!F12","v":0}]
["2.","Количество активов (УЕ)","усл.ед.",{"$f":"'НВВ по данным предпр.'!D18","v":1127.973},{"$f":"'УЕ ТП 2020-2023'!N60","v":0},{"$f":"'НВВ по данным предпр.'!F18","v":1017.9789999999999},{"$f":"'УЕ ТП 2020-2023'!T60","v":0}]
["3.","Величина неподконтрольных расходов (НР)","тыс.руб.",{"$f":"D46","v":23011.230873345452},{"$f":"E46","v":0},{"$f":"F46","v":24294.362687840567},{"$f":"G46","v":0}]
["4.","Величина полезного отпуска электрической энергии","тыс.кВт.ч.",{"$f":"'Баланс энергии'!C21-'Баланс энергии'!C23","v":21494.200126632255},{"$f":"'Баланс энергии'!H21-'Баланс энергии'!H23","v":23252.497906018969},{"$f":"'Баланс энергии'!M21-'Баланс энергии'!M23","v":22308.835078534041},{"$f":"'Баланс энергии'!AG21-'Баланс энергии'!AG23","v":0}]
["5.","Прогнозная цена (тариф) покупки потерь электрической энергии","руб./МВт.ч.",{"$f":"D67","v":0},{"$f":"E67","v":0},{"$f":"F67","v":2974.9224207809871},{"$f":"G67","v":0}]
["Расчетные показатели"]
["1.","Доля подконтрольных расходов на МВт.ч.","руб.МВт.ч.",{"$f":"IF(D20=0,0,D29/D20/10)","v":0.14392346388179134},{"$f":"IF(E20=0,0,E29/E20/10)","v":0},{"$f":"IF(F20=0,0,F29/F20/10)","v":0.13755077014958733},{"$f":"IF(G20=0,0,G29/G20/10)","v":0}]
["2.","Проверка прибыли на капитальные вложения (не более 12 % от НВВ на содержание сетей)","%","х","х","х",{"$f":"IF(G25=0,0,G43/G25)","v":0}]
["3.","НВВ для расчета КВЛ ","тыс.руб.","х","х","х",{"$f":"G64-' КВЛ'!G26/0.8-'Услуги ФСК'!O17-'Аренда имущества'!N43-'Возврат заемных средств'!G11","v":52362.371701793105}]
["4.","Индекс изменения количества активов (ИКА)","%","х","х","х",{"$f":"'Подконтрольные расходы'!F14","v":-1}]
["5.","Общий коэффициент индексации подконтрольных расходов ПР= ИПЦ*(1+(Кэл*ИКА))*(1-Хэф)","знач.","х","х","х",{"$f":"'Подконтрольные расходы'!F15","v":0.23749999999999999}]
["Подконтрольные расходы организации (ПР)"]
[null,"Итого ПР с учетом индексации:","тыс.руб.",{"$f":"' НВВ содержание'!C9","v":30935.19735593352},{"$f":"' НВВ содержание'!E9","v":0},{"$f":"' НВВ содержание'!F9","v":30685.974461924867},{"$f":"' НВВ содержание'!H9","v":7287.91}]
[]
["1.","Амортизация основных средств","тыс.руб.",{"$f":"'Свод по амортизации'!B13","v":7399.2293150213327},{"$f":"'Свод по амортизации'!H13","v":0},{"$f":"'Свод по амортизации'!D13","v":7437.6886703297132},{"$f":"ROUND('Свод по амортизации'!G13,2)","v":0}]
["2.","Страховые взносы","тыс.руб.",{"$f":"'Страховые взносы'!D23","v":4584.3007805621746},{"$f":"'Страховые взносы'!J23","v":0},{"$f":"'Страховые взносы'!F23","v":3245.0992366397704},{"$f":"ROUND('Страховые взносы'!I23,2)","v":0}]
["3.","Расходы на оплату услуг организаций, осуществляющие регулируемые виды деятельности","тыс.руб.",{"$f":"'Расходы рег. орг-ий'!B23","v":272.99594593152005},{"$f":"'Расходы рег. орг-ий'!H23","v":0},{"$f":"'Расходы рег. орг-ий'!D23","v":243.28645120080006},{"$f":"ROUND('Расходы рег. орг-ий'!G23,2)","v":0}]
["4.","Налоги и сборы, в том числе:","тыс.руб.",{"$f":"SUM(D35:D39)","v":1378.8939326022401},{"$f":"SUM(E35:E39)","v":0},{"$f":"SUM(F35:F39)","v":795.66699999999992},{"$f":"ROUND(SUM(G35:G39),2)","v":0}]
["4.1.","Плата за землю","тыс.руб.",{"$f":"'Плата за землю'!B18","v":240.76193260224005},{"$f":"'Плата за землю'!H18","v":0},{"$f":"'Плата за землю'!D18","v":17.16},{"$f":"ROUND('Плата за землю'!G18,2)","v":0}]
["4.2.","Транспортный налог","тыс.руб.",{"$f":"'Транспортный налог'!D19","v":0},{"$f":"'Транспортный налог'!L19","v":0},{"$f":"'Транспортный налог'!F19","v":"-"},{"$f":"ROUND('Транспортный налог'!K19,2)","v":0}]
["4.3","Налог на имущество","тыс.руб.",{"$f":"'Налог на имущество'!B13","v":0},{"$f":"'Налог на имущество'!H13","v":0},{"$f":"'Налог на имущество'!D13","v":0},{"$f":"ROUND('Налог на имущество'!G13,2)","v":0}]
["4.4.","Плата за негативное воздействие на окружающую среду","тыс.руб.",{"$f":"'Негативное возд. на окр. среду '!C29","v":0},{"$f":"'Негативное возд. на окр. среду '!I29","v":0},{"$f":"'Негативное возд. на окр. среду '!E29","v":0},{"$f":"ROUND('Негативное возд. на окр. среду '!H29,2)","v":0}]
["4.5.","Налог на прибыль","тыс.руб.",{"$f":"'Налог на прибыль'!C10","v":1138.1320000000001},{"$f":"'Налог на прибыль'!H10","v":0},{"$f":"'Налог на прибыль'!E10","v":778.50699999999995},{"$f":"ROUND('Налог на прибыль'!G10,2)","v":0}]
["5.","Плата за аренду имущества","тыс.руб.",{"$f":"'Аренда имущества'!B38","v":4735.28},{"$f":"'Аренда имущества'!V38","v":0},{"$f":"'Аренда имущества'!D38","v":7524.22},{"$f":"ROUND('Аренда имущества'!N38,2)","v":0}]
["6.","Оплата услуг ОАО \"ФСК ЕЭС\"","тыс.руб.",{"$f":"'Услуги ФСК'!B17","v":0},{"$f":"'Услуги ФСК'!P17","v":0},{"$f":"'Услуги ФСК'!F17","v":0},{"$f":"ROUND('Услуги ФСК'!O17,2)","v":0}]
["7.","Прочие обоснованные неподконтрольные расходы","тыс.руб.",{"$f":"'Прочие НР'!B15","v":0},{"$f":"'Прочие НР'!H15","v":0},{"$f":"'Прочие НР'!D15","v":0},{"$f":"ROUND('Прочие НР'!G15,2)","v":0}]
["8.","Капитальные вложения производственного характера из прибыли","тыс.руб.",{"$f":"' КВЛ'!B26","v":3569.8108992281841},{"$f":"' КВЛ'!H26","v":0},{"$f":"' КВЛ'!D26","v":3255.3913296702867},{"$f":"ROUND(' КВЛ'!G26,2)","v":0}]
["9.","Расходы, связанные с компенсацией выпадающих доходов от льготного технологического присоединения","тыс.руб.",{"$f":"'Выпадающий доход'!B22","v":1070.72},"х",{"$f":"'Выпадающий доход'!C22","v":1793.01},{"$f":"ROUND('Выпадающий доход'!E22,2)","v":0}]
["10.",{"$f":"' НВВ содержание'!B40","v":"Расходы на возврат и обслуживание долгосрочных заемных средств, направляемых на финансирование капитальных вложений "},"тыс.руб.",{"$f":"'Возврат заемных средств'!B11","v":0},{"$f":"'Возврат заемных средств'!H11","v":0},{"$f":"'Возврат заемных средств'!D11","v":0},{"$f":"ROUND('Возврат заемных средств'!G11,2)","v":0}]
[null,"Итого НР:","тыс.руб.",{"$f":"SUM(D31:D34,D40:D45)","v":23011.230873345452},{"$f":"SUM(E31:E34,E40:E45)","v":0},{"$f":"SUM(F31:F34,F40:F45)","v":24294.362687840567},{"$f":"SUM(G31:G34,G40:G45)","v":0}]
[]
["Корректировка необходимой валовой выручки "]
["1.","Корректировка подконтрольных расходов","тыс.руб.",{"$f":"' НВВ содержание'!C42","v":774.11848569250856},{"$f":"' НВВ содержание'!D42","v":"x"},{"$f":"' НВВ содержание'!F42","v":0},{"$f":"' НВВ содержание'!H42","v":0}]
["2.","Корректировка неподконтрольных расходов","тыс.руб.",{"$f":"' НВВ содержание'!C43","v":-470.48278099498862},{"$f":"' НВВ содержание'!D43","v":"x"},{"$f":"' НВВ содержание'!F43","v":-1517.0299707363713},{"$f":"' НВВ содержание'!H43","v":-10971.470659095936}]
["3.","Корректировка НВВ с учетом изменения полезного отпуска и цен на электрическую энергию ","тыс.руб.",{"$f":"' НВВ содержание'!C44","v":-2499.1461305862813},{"$f":"' НВВ содержание'!D44","v":"x"},{"$f":"' НВВ содержание'!F44","v":-1468.830117970562},{"$f":"' НВВ содержание'!H44","v":0}]
["4.","Корректировка необходимой валовой выручки по доходам от осуществления регулируемой деятельности","тыс.руб.",{"$f":"' НВВ содержание'!C45","v":839.20664212402426},{"$f":"' НВВ содержание'!D45","v":"x"},{"$f":"' НВВ содержание'!F45","v":145.67889035533051},{"$f":"' НВВ содержание'!H45","v":55381.352360889039}]
["5.","Корректировка расходов по обеспечению коммерческого учета ээ ","тыс.руб.",{"$f":"' НВВ содержание'!C46","v":0},{"$f":"' НВВ содержание'!D46","v":"х"},{"$f":"' НВВ содержание'!F46","v":0},{"$f":"' НВВ содержание'!H46","v":0}]
["6.","Корректировка НВВ в связи с изменением (неисполнением) инвестиционной программы ","тыс.руб.",{"$f":"' НВВ содержание'!C47","v":0},{"$f":"' НВВ содержание'!D47","v":"x"},{"$f":"' НВВ содержание'!F47","v":-3620.5533840000003},{"$f":"' НВВ содержание'!H47","v":0}]
[null,"Итого корректировка НВВ","тыс.руб.",{"$f":"SUM(D49:D54)","v":-1356.3037837647371},"х",{"$f":"SUM(F49:F54)","v":-6460.7345823516025},{"$f":"SUM(G49:G54)","v":44409.8817017931}]
["Расходы организации на содержание сетей "]
["1.","Подконтрольные расходы","тыс.руб.",{"$f":"D29","v":30935.19735593352},{"$f":"E29","v":0},{"$f":"F29","v":30685.974461924867},{"$f":"G29","v":7287.91}]
["2.","Неподконтрольные расходы","тыс.руб.",{"$f":"D46","v":23011.230873345452},{"$f":"E46","v":0},{"$f":"F46","v":24294.362687840567},{"$f":"G46","v":0}]
["3.","Корректировка НВВ на основании фактических данных ","тыс.руб.",{"$f":"D55","v":-1356.3037837647371},{"$f":"E55","v":"х"},{"$f":"F55","v":-6460.7345823516025},{"$f":"G55","v":44409.8817017931}]
["4.","Корректировка НВВ с учетом надежности и качества оказываемых услуг ","тыс.руб.",{"$f":"' НВВ содержание'!C48","v":745.56791537480808},"х",{"$f":"' НВВ содержание'!F48","v":626.16622590459417},{"$f":"ROUND(' НВВ содержание'!H48,2)","v":664.58}]
["5.","Экономия расходов на оплату потерь электрической энергии","тыс.руб.",{"$f":"' НВВ содержание'!C49","v":2045.66},"х",{"$f":"' НВВ содержание'!F49","v":2721.3912794081816},{"$f":"' НВВ содержание'!H49","v":0}]
["6.","Расходы по обеспечению коммерческого учета ээ","тыс.руб.","х","x",{"$f":"' НВВ содержание'!F50","v":0},{"$f":"' НВВ содержание'!H50","v":0}]
["7.","Результаты деятельности регулируемой организации в соотв. с п.7 Основ ценообразования ","тыс.руб.",{"$f":"' НВВ содержание'!C51","v":0},"x",{"$f":"' НВВ содержание'!F51","v":0},{"$f":"' НВВ содержание'!H51","v":0}]
[null,"Итого расходы на содержание электрических сетей:","тыс.руб.",{"$f":"D57+D58+D59+D60+D61+D63","v":55381.352360889046},{"$f":"E57+E58","v":0},{"$f":"F57+F58+F59+F60+F61+F62+F63","v":51867.160072726605},{"$f":"G57+G58+G59+G60+G61+G62+G63","v":52362.371701793105}]
["]"]
["1.","Величина технологического расхода (потерь) электрической энергии","млн.кВт.ч.",{"$f":"'Баланс энергии'!C18/1000","v":2.7820398733677463},{"$f":"'Баланс энергии'!H18/1000","v":2.3692460939810287},{"$f":"'НВВ на потери'!F11","v":2.8875000000000002},{"$f":"'НВВ на потери'!L11","v":0}]
["2.","Прогнозная цена (тариф) покупки потерь электрической энергии","руб./МВт.ч.",{"$f":"'Корр. ПО'!G49","v":0},{"$f":"'Корр. ПО'!H49","v":0},{"$f":"'НВВ на потери'!F12","v":2974.9224207809871},{"$f":"'НВВ на потери'!L12","v":0}]
[null,"Итого расходы на компенсацию потерь:","тыс.руб.",{"$f":"D66*D67","v":0},{"$f":"E66*E67","v":0},{"$f":"F66*F67","v":8590.0884900051005},{"$f":"G66*G67","v":0}]
["Необходимая валовая выручка (НВВ) организации на оказание услуги по передаче электрической энергии"]
["1.","Расходы на содержание электрических сетей","тыс.руб.",{"$f":"D64","v":55381.352360889046},{"$f":"E64","v":0},{"$f":"F64","v":51867.160072726605},{"$f":"G64","v":52362.371701793105}]
["2.","Расходы на компенсацию потерь","тыс.руб.",{"$f":"D68","v":0},{"$f":"E68","v":0},{"$f":"F68","v":8590.0884900051005},{"$f":"G68","v":0}]
[null,"Необходимая валовая выручка (НВВ) организации на оказание услуги по передаче электрической энергии","тыс.руб.",{"$f":"D70+D71","v":55381.352360889046},{"$f":"E70+E71","v":0},{"$f":"F70+F71","v":60457.248562731707},{"$f":"G70+G71","v":52362.371701793105}]

{"sheet":"Тарифы","index":45,"n_rows":27,"n_cols":9,"rows_kept":27,"cut":false,"hidden":false,"merged":[[20,0,20,7],[21,0,24,0],[21,1,24,1],[21,2,21,4],[21,5,21,7],[22,2,22,3],[22,4,23,4],[22,5,22,6],[22,7,23,7],[1,0,1,8],[3,0,3,8],[5,6,5,8],[18,0,18,1],[18,2,18,4],[5,0,6,0],[5,1,6,1],[5,2,6,2],[5,3,5,5]]}
[]
["Расчет индивидуальных тарифов на 2023 год долгосрочного периода регулирования 2020 - 2024 годы"]
[]
[{"$f":"'Инф-я'!C14","v":"ООО \"Энергетик\""}]
[]
["№ п./п.","Показатели","Ед. изм.","По расчету организации",null,null,"По расчету экспертов"]
[null,null,null,"2023 год","1 полугодие","2 полугодие",2023,"1 полугодие","2 полугодие"]
[1,2,3,4,5,6]
[1,"Необходимая валовая выручка на передачу электрической энергии, всего, в том числе:","тыс. руб.",{"$f":"D10+D11","v":73498.701427366585},36610.712954055554,36887.988473311023,52362.371701793105,26181.185850896552,26181.185850896552]
["1.1.","Необходимая валовая выручка на содержание электрических сетей","тыс. руб.",{"$f":"'НВВ по данным предпр.'!G70","v":65933.481575311103},{"$f":"D10/2","v":32966.740787655552},{"$f":"D10-E10","v":32966.740787655552},{"$f":"'НВВ по данным экспертов'!G70","v":52362.371701793105},{"$f":"G10/2","v":26181.185850896552},{"$f":"G10-H10","v":26181.185850896552}]
["1.2.","Необходимая валовая выручка на оплату технологического расхода (потерь) электрической энергии","тыс. руб.",{"$f":"'НВВ по данным предпр.'!G71","v":7565.2198520554739},{"$f":"'НВВ на потери'!G13","v":3643.9721664000003},{"$f":"D11-E11","v":3921.2476856554736},{"$f":"'НВВ по данным экспертов'!G71","v":0},{"$f":"'НВВ на потери'!J13","v":0},{"$f":"G11-H11","v":0}]
[2,"Договорная мощность ","МВт",4.47,{"$f":"D12","v":4.47},{"$f":"D12","v":4.47},null,{"$f":"G12","v":0},{"$f":"G12","v":0}]
[3,"Полезный отпуск электрической энергии за исключением перетока в сети филиала «Владимирэнерго» ПАО «МРСК Центра и Приволжья»","тыс. кВт ч.",{"$f":"E13+F13","v":23252.494189357749},{"$f":"'Баланс энергии'!$W$21-'Баланс энергии'!$W$23","v":11755.410000000002},{"$f":"'Баланс энергии'!$AB$21-'Баланс энергии'!$AB$23","v":11497.084189357745},{"$f":"H13+I13","v":0},{"$f":"'Баланс энергии'!$AL$21-'Баланс энергии'!$AL$23","v":0},{"$f":"'Баланс энергии'!$AQ$21-'Баланс энергии'!$AQ$23","v":0}]
[4,"Двухставочный тариф"]
["4.1.","ставка на содержание электрических сетей","руб./кВт мес","х",{"$f":"ROUND(IF(E12=0,0,E10/E12/6),5)","v":1229.18497},{"$f":"ROUND(IF(F12=0,0,F10/F12/6),5)","v":1229.18497},"х",{"$f":"ROUND(IF(H12=0,0,H10/H12/6),5)","v":0},{"$f":"ROUND(IF(I12=0,0,I10/I12/6),5)","v":0}]
["4.2.","ставка на оплату технологического расхода (потерь)","руб./кВт ч.","х",{"$f":"ROUND(IF(E13=0,0,E11/E13),5)","v":0.30997999999999998},{"$f":"ROUND(IF(F13=0,0,F11/F13),5)","v":0.34105999999999997},"х",{"$f":"ROUND(IF(H13=0,0,H11/H13),5)","v":0},{"$f":"ROUND(IF(I13=0,0,I11/I13),5)","v":0}]
[5,"Одноставочный тариф","руб./кВт ч.","х",{"$f":"ROUND(IF(E13=0,0,E9/E13),5)","v":3.1143700000000001},{"$f":"ROUND(IF(F13=0,0,F9/F13),5)","v":3.2084600000000001},"х",{"$f":"ROUND(IF(H13=0,0,H9/H13),5)","v":0},{"$f":"ROUND(IF(I13=0,0,I9/I13),5)","v":0}]
[]
["Руководитель организации",null,{"$f":"'Инф-я'!$C$21","v":"Окунев Василий Михайлович"}]
[]
["В ПОСТАНОВЛЕНИЕ (тариф на 2023 год)"]
["№ пп","Наименование сетевых организаций","1 полугодие",null,null,"2 полугодие"]
[null,null,"Двухставочный тариф",null,"Одноставочный тариф","Двухставочный тариф",null,"Одноставочный тариф"]
[null,null,"ставка за содержание электрических сетей","ставка на оплату технологического расхода (потерь)",null,"ставка за содержание электрических сетей","ставка на оплату технологического расхода (потерь)"]
[null,null,"руб./кВт·мес.","руб./кВт·ч","руб./кВт·ч","руб./кВт·мес.","руб./кВт·ч","руб./кВт·ч"]
[1,2,3,4,5,6,7,8]
[1,{"$f":"CONCATENATE(\"Филиал ПАО МРСК Центра и Приволжья - \",'Инф-я'!C14)","v":"Филиал ПАО МРСК Центра и Приволжья - ООО \"Энергетик\""},0,0,0,{"$f":"I15","v":0},{"$f":"I16","v":0},{"$f":"I17","v":0}]

{"sheet":"НВВ для шаблона ЕИАС предел","index":46,"n_rows":11,"n_cols":71,"rows_kept":11,"cut":false,"hidden":true,"merged":[[2,41,3,41],[2,42,3,42],[2,50,3,50],[2,51,3,51],[2,52,3,52],[2,44,3,44],[2,45,3,45],[2,46,3,46],[2,47,3,47],[2,48,3,48],[2,49,3,49],[2,36,3,36],[2,37,3,37],[2,38,3,38],[2,39,3,39],[2,40,3,40],[1,68,3,68],[1,69,3,69],[1,70,3,70],[2,2,3,2],[2,3,3,3],[2,4,3,4],[2,5,3,5],[2,6,3,6],[2,7,3,7],[2,8,3,8],[1,61,3,61],[1,62,3,62],[1,63,3,63],[1,64,2,65],[1,66,3,66],[2,13,3,13],[1,67,3,67],[1,54,3,54],[1,55,2,56],[1,57,3,57],[1,58,3,58],[1,59,3,59],[1,60,3,60],[1,0,4,0],[1,1,4,1],[1,2,1,11],[1,12,1,32],[1,33,1,52],[2,18,3,18],[2,14,3,14],[2,15,3,15],[2,16,3,16],[2,17,3,17],[2,30,3,30],[2,19,3,19],[2,20,3,20],[2,21,3,21],[2,22,3,22],[2,23,3,23],[1,53,3,53],[2,9,3,9],[2,10,3,10],[2,11,3,11],[2,12,3,12],[2,24,3,24],[2,25,3,25],[2,26,3,26],[2,27,3,27],[2,28,3,28],[2,29,3,29],[2,43,3,43],[2,31,3,31],[2,32,3,32],[2,33,3,33],[2,34,2,35]]}
[" "]
["Наименование организации","Период","Расчет коэффициента индексации",null,null,null,null,null,null,null,null,null,"Расчет подконтрольных расходов",null,null,null,null,null,null,null,null,null,null,null,null,null,null,null,null,null,null,null,null,"Расчет неподконтрольных расходов",null,null,null,null,null,null,null,null,null,null,null,null,null,null,null,null,null,null,null,"Расходы, связанные с компенсацией незапланированных расходов или полученного избытка","Итого НВВ на содержание сетей","в том числе",null,"Доля стороннего отпуска в сеть от организаций, занимающихся несколькими видами деятельности (без собственных нужд)","Отношение НВВ на содержание сетей текущего года к предыдущему года","Поступление в сеть электроэнергии","Объем технологического расхода (потерь)","Тариф на покупку потерь ","Норматив техноло-гического расхода (потерь) электро-энергии ","Итого расходов на оплату потерь","в том числе",null,"Прирост расходов на оплату потерь текущего года к предыдущему году","Поступление в сеть мощности","Уровень надежности реализуемых товаров (услуг) \n(П п)","Уровень качества реализуемых товаров (услуг) \n(П тсо)","Уровень качества реализуемых товаров (услуг)\n(П тпр)"]
[null,null,"Инфляция","Индекс эффективности операционных расходов","Количество активов, всего","ВН","СН1","СН2","НН","Индекс изменения количества активов","Коэффициент эластичности затрат по росту активов","Итого коэффициент индексации","Материальные затраты","Сырье, материалы, запасные части, инструмент, топливо","Работы и услуги производственного характера (в т.ч. услуги сторонних организаций по содержанию сетей и распределительных устройств)","Расходы на оплату труда","Прочие расходы, всего, в том числе:","Ремонт основных фондов","Оплата работ и услуг сторонних организаций","услуги связи","Расходы на услуги вневедомственной охраны и коммунального хозяйства","Расходы на юридические и информационные услуги","Расходы на аудиторские и консультационные услуги","Транспортные услуги","Прочие услуги сторонних организаций","Расходы на командировки и представительские","Расходы на подготовку кадров","Расходы на обеспечение нормальных условий труда и мер по технике безопасности","Расходы на страхование","Другие прочие расходы","Электроэнергия на хоз. нужды","Подконтрольные расходы из прибыли","ИТОГО подконтрольные расходы","Оплата услуг ОАО \"ФСК ЕЭС\"","в том числе",null,"Теплоэнергия","Аренда, всего","в том числе аренда объектов электро-\nсетевого комплекса","Налоги (без учета налога на прибыль), всего, в том числе:","плата за землю","Налог на имущество","Прочие налоги и сборы","Отчисления на социальные нужды (ЕСН)","Прочие неподконтрольные расходы","Налог на прибыль, в том числе:","налог на прибыль на капитальные вложения ","Выпадающие доходы по п.87 Основ ценообразования","Амортизация ОС","Прибыль на капитальные вложения","Возврат заемных средств, направляемый на финансирование капитальных вложений","Проверка прибыли на капитальные вложения (не более 12% от НВВ на содержание сетей)","ИТОГО неподконтрольных расходов"]
[null,null,null,null,null,null,null,null,null,null,null,null,null,null,null,null,null,null,null,null,null,null,null,null,null,null,null,null,null,null,null,null,null,null,"Оплата услуг ОАО \"ФСК ЕЭС\"\n1 полугодие","Оплата услуг ОАО \"ФСК ЕЭС\"\n2 полугодие",null,null,null,null,null,null,null,null,null,null,null,null,null,null,null,null,null,null,null,"НВВ на 1 полугодие","НВВ на 2 полугодие",null,null,null,null,null,null,null,"расходы на 1 полугодие","расходы на 2 полугодие"]
[null,null,"%","%","у.е.","у.е.","у.е.","у.е.","у.е.","%",null,null,"тыс.руб","тыс.руб","тыс.руб","тыс.руб","тыс.руб","тыс.руб","тыс.руб","тыс.руб","тыс.руб","тыс.руб","тыс.руб","тыс.руб","тыс.руб","тыс.руб","тыс.руб","тыс.руб","тыс.руб","тыс.руб","тыс.руб","тыс.руб","тыс.руб","тыс.руб","тыс.руб","тыс.руб","тыс.руб","тыс.руб","тыс.руб","тыс.руб","тыс.руб","тыс.руб","тыс.руб","тыс.руб","тыс.руб","тыс.руб","тыс.руб","тыс.руб","тыс.руб","тыс.руб","тыс.руб","%","тыс.руб","тыс.руб","тыс.руб","тыс.руб","тыс.руб","%","%","млн.кВтч","млн.кВтч","руб./МВтч","%","тыс.руб","тыс.руб","тыс.руб","%","МВт"]
["А","Б","0.1","0.2","0.3","0.3.1","0.3.2","0.3.3","0.3.4","0.4","0.5","0.6","1.1","1.1.1","1.1.2","1.2","1.3","1.3.1","1.3.2","1.3.2.1","1.3.2.2","1.3.2.3","1.3.2.4","1.3.2.5","1.3.2.6","1.3.3","1.3.4","1.3.5","1.3.6","1.3.7","1.4","1.5","1.6","2.1","2.1.1","2.1.2","2.2","2.3","2.3.1","2.4","2.4.1","2.4.2","2.4.3","2.5","2.6","2.7","2.7.1","2.8","2.9","2.10","2.11","2.12","2.13","3","4","4.1","4.2","5","6","7","8","9","10","11","11.1","11.2","12","13","14","15.1","15.2"]
[null,2020,{"$f":"'Подконтрольные расходы'!E12","v":0.2},{"$f":"'Подконтрольные расходы'!E10","v":0.05},{"$f":"SUM(F7:I7)","v":1017.9789999999999},{"$f":"'УЕ ТП 2020-2023'!P56","v":0},{"$f":"'УЕ ТП 2020-2023'!P57","v":0},{"$f":"'УЕ ТП 2020-2023'!P58","v":791.04699999999991},{"$f":"'УЕ ТП 2020-2023'!P59","v":226.93199999999999},null,null,null,{"$f":"SUM(N7:O7)","v":7797.0593463389887},{"$f":"' НВВ содержание'!F11","v":7679.7950864250806},{"$f":"' НВВ содержание'!F14","v":117.26425991390823},{"$f":"' НВВ содержание'!F10","v":14353.030412321375},{"$f":"R7+S7+Z7+AA7+AB7+AC7+AD7+AE7+AF7","v":7963.8125697336873},{"$f":"' НВВ содержание'!F12","v":6814.5884512299426},{"$f":"SUM(T7:Y7)","v":0},null,null,null,null,null,null,{"$f":"' НВВ содержание'!F17","v":0},{"$f":"' НВВ содержание'!F18","v":0},{"$f":"' НВВ содержание'!F16","v":354.14974119399932},{"$f":"' НВВ содержание'!F19","v":0},{"$f":"' НВВ содержание'!F21+' НВВ содержание'!F20","v":67.052920926806848},null,{"$f":"' НВВ содержание'!F22","v":728.02145638293837},{"$f":"M7+P7+Q7","v":30113.902328394051},{"$f":"'Услуги ФСК'!F17","v":0},{"$f":"AH7/2","v":0},{"$f":"AI7","v":0},{"$f":"'НВВ по данным предпр.'!$F$33","v":243.28645120080006},{"$f":"'НВВ по данным предпр.'!F40","v":7524.22},{"$f":"'Аренда имущества'!D43","v":2976},{"$f":"SUM(AO7:AQ7)","v":{"$error":"#VALUE!"}},{"$f":"'НВВ по данным предпр.'!$F$35","v":17.16},{"$f":"'НВВ по данным предпр.'!F37","v":0},{"$f":"'НВВ по данным предпр.'!F36+'НВВ по данным предпр.'!F38","v":{"$error":"#VALUE!"}},{"$f":"'НВВ по данным предпр.'!F32","v":3245.0992366397704},{"$f":"'НВВ по данным предпр.'!F42","v":0},{"$f":"' НВВ содержание'!H34","v":0},{"$f":"AX7/0.8*0.2","v":0},{"$f":"' НВВ содержание'!H39","v":0},{"$f":"' НВВ содержание'!H26","v":0},{"$f":"' НВВ содержание'!H38","v":0},{"$f":"' НВВ содержание'!H40","v":0},null,{"$f":"AH7+AK7+AL7+AN7+AS7+AT7+AV7+AR7+AW7+AX7+AY7","v":{"$error":"#VALUE!"}},{"$f":"' НВВ содержание'!H41+' НВВ содержание'!#REF!","v":{"$error":"#REF!"}},{"$f":"SUM(BA7,BB7,AG7)","v":{"$error":"#VALUE!"}},null,null,null,null,{"$f":"'Баланс энергии'!M8","v":25196.335078534041},{"$f":"'Баланс энергии'!M18","v":2887.5},null,{"$f":"IF(BH7=0,0,BI7/BH7)","v":0.11459999999999995},{"$f":"BI7*BJ7","v":0},{"$f":"'НВВ на потери'!G13","v":3643.9721664000003},{"$f":"BL7-BM7","v":-3643.9721664000003},null,{"$f":"'Баланс мощности'!H10","v":0},{"$f":"'НВВ по данным предпр.'!F13","v":1.528},{"$f":"'НВВ по данным предпр.'!F14","v":0.79579999999999995},{"$f":"'НВВ по данным предпр.'!F15","v":1}]
[null,2021,{"$f":"'Подконтрольные расходы'!E12","v":0.2},{"$f":"D7","v":0.05},{"$f":"'Подконтрольные расходы'!E13","v":1028.8391999999999},{"$f":"'УЕ ТП 2020-2023'!R56","v":0},{"$f":"'УЕ ТП 2020-2023'!R57","v":0},{"$f":"'УЕ ТП 2020-2023'!R58","v":801.90419999999995},{"$f":"'УЕ ТП 2020-2023'!R59","v":226.935},{"$f":"IF(E7=0,0,(E8-E7)/E7*K8)","v":8.0012947221897238E-3},0.75,{"$f":"(1+C8)*(1-D8)*(1+J8)","v":1.1491214759832962},{"$f":"SUM(N8:O8)","v":8959.7683443944134},{"$f":"N7*$L8","v":8825.0174649620549},{"$f":"O7*L8","v":134.75087943235911},{"$f":"P7*$L8","v":16493.375492239877},{"$f":"R8+S8+Z8+AA8+AB8+AC8+AD8+AE8+AF8","v":9151.3880545867014},{"$f":"R7*$L8","v":7830.7899392960762},{"$f":"SUM(T8:Y8)","v":0},{"$f":"T7*$L8","v":0},{"$f":"U7*L8","v":0},{"$f":"V7*L8","v":0},{"$f":"W7*$L8","v":0},{"$f":"X7*$L8","v":0},0,0,0,406.96107331995086,0,77.05195146440353,0,836.58509050627106,{"$f":"M8+P8+Q8","v":34604.531891220991},{"$f":"AI8+AJ8","v":0},{"$f":"'Услуги ФСК'!J17","v":0},{"$f":"'Услуги ФСК'!K17","v":0},{"$f":"'НВВ по данным предпр.'!$G$33","v":287.95999999999998},{"$f":"'НВВ по данным предпр.'!G40","v":4735.28},{"$f":"'Аренда имущества'!F43","v":2976},{"$f":"SUM(AO8:AQ8)","v":1.43},{"$f":"'НВВ по данным предпр.'!$G$35","v":1.43},{"$f":"'НВВ по данным предпр.'!G37","v":0},{"$f":"'НВВ по данным предпр.'!G36+'НВВ по данным предпр.'!F38","v":0},{"$f":"'НВВ по данным предпр.'!G32","v":3614.96},{"$f":"'НВВ по данным предпр.'!G42","v":0},{"$f":"'НВВ по данным предпр.'!G39","v":1170.6600000000001},{"$f":"AX7/0.8*0.2","v":0},{"$f":"'НВВ по данным предпр.'!G44","v":1170.2},{"$f":"'НВВ по данным предпр.'!G31","v":8159.98},{"$f":"'НВВ по данным предпр.'!G43","v":3371.69},{"$f":"'НВВ по данным предпр.'!G45","v":2936.16},{"$f":"nerr((AX8+AY8)/(BC8-AH8-AU8-AX8-AY8-AM8))","v":{"$error":"#NAME?"}},{"$f":"AH8+AK8+AL8+AN8+AS8+AT8+AV8+AR8+AW8+AX8+AY8","v":25448.32},{"$f":"' НВВ содержание'!G41","v":-1190.3040465978356},{"$f":"SUM(BA8,BB8,AG8)","v":58862.547844623157},null,null,{"$f":"nerr((BD8+BE8)/BC8)","v":{"$error":"#NAME?"}},{"$f":"nerr((BC8-BC7)/BC7)","v":{"$error":"#NAME?"}},{"$f":"'Баланс энергии'!R8","v":25621.74},{"$f":"'Баланс энергии'!R18","v":2369.6724908987999},null,{"$f":"IF(BH8=0,0,BI8/BH8)","v":9.2486790159403684E-2},{"$f":"BI8*BJ8","v":0},null,{"$f":"BL8-BM8","v":0},{"$f":"nerr((BL8-BL7)/BL7)","v":{"$error":"#NAME?"}},{"$f":"'Баланс мощности'!H10","v":0},{"$f":"'НВВ по данным предпр.'!G13","v":1.5051000000000001},{"$f":"'НВВ по данным предпр.'!G14","v":0.78380000000000005},{"$f":"'НВВ по данным предпр.'!G15","v":1}]
[null,2022,null,{"$f":"D8","v":0.05},null,null,null,null,null,{"$f":"IF(E8=0,0,(E9-E8)/E8*K9)","v":-0.75},0.75,{"$f":"(1+C9)*(1-D9)*(1+J9)","v":0.23749999999999999},{"$f":"SUM(N9:O9)","v":2127.9449817936729},{"$f":"N8*$L9","v":2095.9416479284878},{"$f":"O8*L9","v":32.00333386518529},{"$f":"P8*$L9","v":3917.1766794069704},{"$f":"R9+S9+Z9+AA9+AB9+AC9+AD9+AE9+AF9","v":2173.4546629643414},{"$f":"R8*$L9","v":1859.812610582818},{"$f":"SUM(T9:Y9)","v":0},{"$f":"T8*$L9","v":0},{"$f":"U8*L9","v":0},{"$f":"V8*L9","v":0},{"$f":"W8*$L9","v":0},0,0,0,0,96.653254913488325,0,18.299838472795837,0,198.68895899523937,{"$f":"M9+P9+Q9","v":8218.5763241649838},{"$f":"AI9+AJ9","v":0},null,null,null,null,null,{"$f":"SUM(AO9:AQ9)","v":0},null,null,null,null,null,null,null,null,null,null,null,{"$f":"nerr((AX9+AY9)/(BC9-AH9-AU9-AX9-AY9-AM9))","v":{"$error":"#NAME?"}},{"$f":"AH9+AK9+AL9+AN9+AS9+AT9+AV9+AR9+AW9+AX9+AY9","v":0},null,{"$f":"SUM(BA9,BB9,AG9)","v":8218.5763241649838},null,null,{"$f":"nerr((BD9+BE9)/BC9)","v":{"$error":"#NAME?"}},{"$f":"nerr((BC9-BC8)/BC8)","v":{"$error":"#NAME?"}},null,null,null,{"$f":"IF(BH9=0,0,BI9/BH9)","v":0},{"$f":"BI9*BJ9","v":0},null,{"$f":"BL9-BM9","v":0},{"$f":"nerr((BL9-BL8)/BL8)","v":{"$error":"#NAME?"}}]
[null,2023,null,{"$f":"D9","v":0.05},null,null,null,null,null,{"$f":"IF(E9=0,0,(E10-E9)/E9*K10)","v":0},0.75,{"$f":"(1+C10)*(1-D10)*(1+J10)","v":0.95},{"$f":"SUM(N10:O10)","v":2021.5477327039894},{"$f":"N9*$L10","v":1991.1445655320633},{"$f":"O9*L10","v":30.403167171926025},{"$f":"P9*$L10","v":3721.3178454366216},{"$f":"R10+S10+Z10+AA10+AB10+AC10+AD10+AE10+AF10","v":2064.7819298161244},{"$f":"R9*$L10","v":1766.821980053677},{"$f":"SUM(T10:Y10)","v":0},{"$f":"T9*$L10","v":0},{"$f":"U9*L10","v":0},{"$f":"V9*L10","v":0},{"$f":"W9*$L10","v":0},0,0,0,0,91.820592167813899,0,17.384846549156045,0,188.75451104547739,{"$f":"M10+P10+Q10","v":7807.6475079567354},{"$f":"AI10+AJ10","v":0},null,null,null,null,null,{"$f":"SUM(AO10:AQ10)","v":0},null,null,null,null,null,null,null,null,null,null,null,{"$f":"nerr((AX10+AY10)/(BC10-AH10-AU10-AX10-AY10-AM10))","v":{"$error":"#NAME?"}},{"$f":"AH10+AK10+AL10+AN10+AS10+AT10+AV10+AR10+AW10+AX10+AY10","v":0},null,{"$f":"SUM(BA10,BB10,AG10)","v":7807.6475079567354},null,null,{"$f":"nerr((BD10+BE10)/BC10)","v":{"$error":"#NAME?"}},{"$f":"nerr((BC10-BC9)/BC9)","v":{"$error":"#NAME?"}},null,null,null,{"$f":"IF(BH10=0,0,BI10/BH10)","v":0},{"$f":"BI10*BJ10","v":0},null,{"$f":"BL10-BM10","v":0},{"$f":"nerr((BL10-BL9)/BL9)","v":{"$error":"#NAME?"}}]
[null,2024,null,{"$f":"D10","v":0.05},null,null,null,null,null,{"$f":"IF(E10=0,0,(E11-E10)/E10*K11)","v":0},0.75,{"$f":"(1+C11)*(1-D11)*(1+J11)","v":0.95},{"$f":"SUM(N11:O11)","v":1920.4703460687899},{"$f":"N10*$L11","v":1891.5873372554602},{"$f":"O10*L11","v":28.883008813329724},{"$f":"P10*$L11","v":3535.2519531647904},{"$f":"R11+S11+Z11+AA11+AB11+AC11+AD11+AE11+AF11","v":1961.5428333253178},{"$f":"R10*$L11","v":1678.480881050993},{"$f":"SUM(T11:Y11)","v":0},{"$f":"T10*$L11","v":0},{"$f":"U10*L11","v":0},{"$f":"V10*L11","v":0},{"$f":"W10*$L11","v":0},0,0,0,0,87.229562559423201,0,16.51560422169824,0,179.3167854932035,{"$f":"M11+P11+Q11","v":7417.2651325588977},{"$f":"AI11+AJ11","v":0},null,null,null,null,null,{"$f":"SUM(AO11:AQ11)","v":0},null,null,null,null,null,null,null,null,null,null,null,{"$f":"((AX11+AY11)/(BC11-AH11-AU11-AX11-AY11-AM11))","v":0},{"$f":"AH11+AK11+AL11+AN11+AS11+AT11+AV11+AR11+AW11+AX11+AY11","v":0},null,{"$f":"SUM(BA11,BB11,AG11)","v":7417.2651325588977},null,null,{"$f":"((BD11+BE11)/BC11)","v":0},{"$f":"nerr((BC11-BC10)/BC10)","v":{"$error":"#NAME?"}},null,null,null,{"$f":"IF(BH11=0,0,BI11/BH11)","v":0},{"$f":"BI11*BJ11","v":0},null,{"$f":"BL11-BM11","v":0},{"$f":"nerr((BL11-BL10)/BL10)","v":{"$error":"#NAME?"}}]

{"sheet":"Форма 8.1 предприятие","index":47,"n_rows":317,"n_cols":29,"rows_kept":317,"cut":false,"hidden":false,"merged":[[6,6,8,6],[0,0,0,16],[1,0,1,26],[2,0,2,26],[3,0,3,26],[5,0,5,8],[5,9,5,21],[5,22,8,22],[5,23,5,25],[5,26,8,26],[6,0,8,0],[6,1,8,1],[6,2,8,2],[6,3,8,3],[6,4,8,4],[6,5,8,5],[6,7,8,7],[6,8,8,8],[6,9,8,9],[6,10,8,10],[6,11,8,11],[6,21,8,21],[6,23,8,23],[6,24,8,24],[6,25,8,25],[7,12,8,12],[7,13,7,15],[7,16,7,19],[7,20,8,20],[6,12,6,20],[9,5,9,6],[302,0,302,28],[303,0,303,1],[303,5,303,6],[304,0,304,1],[304,5,304,6],[305,0,305,1],[305,5,305,6],[306,0,306,1],[306,5,306,6],[307,0,307,1],[307,5,307,6],[316,0,316,2],[310,0,310,13],[310,14,310,26],[311,0,311,13],[311,14,311,26],[314,0,314,2],[315,0,315,2]]}
["Начиная с 2018 года, если сетевая организация не предоставила информацию в соответствии с разделом 6 настоящих методических указаний, Коэффициент достижения (недостижения, перевыполнения) уровня надежности оказываемых услуг будет равен -1"]
["Форма_8.1 - Журнал учета данных первичной информации по всем прекращениям передачи электрической энергии произошедших на объектах сетевой организации 2021 год"]
[{"$f":"'Корр. КНК'!A4","v":"ООО \"Энергетик\""}]
["Наименование электросетевой организации"]
[]
["Данные о факте прекращения передачи электрической энергии",null,null,null,null,null,null,null,null,"Данные о масштабе прекращения передачи электрической энергии в сетевой организации",null,null,null,null,null,null,null,null,null,null,null,null,"Перечень смежных сетевых организаций, затронутых прекращением передачи электрической энергии","Данные о причинах прекращения передачи электрической энергии и их расследовании",null,null,"Учет в показателях надежности, в т.ч. индикативных показателях надежности (0 - нет, 1 - да) 3"]
["Номер прекращения передачи электрической энергии /\nНомер итоговой строки","Наименование структурной единицы сетевой организации 1","Вид объекта:\nКЛ, ВЛ, КВЛ, ПС, ТП, РП","Диспетчерское наименование объекта электросетевого хозяйства сетевой организации, в результате отключения которой произошло прекращение передачи электроэнергии потребителям услуг","Высший класс напряжения отключенного оборудования сетевой организации, Кв","Время и дата начала прекращения передачи электрической энергии (часы, минуты, ГГГГ.ММ.ДД)","Время и дата восстановления режима потребления электрической энергии потребителей услуг (часы, минуты, ГГГГ.ММ.ДД)","Вид прекращения передачи электроэнергии (П, А, В) 2","Продолжительность прекращения передачи электрической энергии, час.","Перечень объектов электросетевого хозяйства, отключение которых привело к прекращению передачи электрической энергии потребителям услуг (ПС, ТП, РП, ВЛ, КЛ)","Перечень потребителей 1-й и 2-й категорий надежности, в отношении которых произошло полное ограничение режима потребления электрической энергии","Перечень потребителей 1-й и 2-й категорий надежности, в отношении которых произошло частичное ограничение режима потребления электрической энергии","Количество точек поставки потребителей услуг сетевой организации, в отношении которых произошел перерыв электроснабжения, шт., в том числе:",null,null,null,null,null,null,null,null,"Суммарный объем фактической нагрузки (мощности) на присоединениях потребителей услуг, по которым произошло прекращение передачи электрической энергии на момент возникновения такого события, кВт",null,"Номер и дата акта расследования технологического нарушения, записи в оперативном журнале","Код организационной причины аварии","Код технической причины повреждения оборудования"]
[null,null,null,null,null,null,null,null,null,null,null,null,"Всего","в разделении категорий надежности потребителей электрической энергии",null,null,"в разделении уровней напряжения ЭПУ потребителя электрической энергии",null,null,null,"Смежные сетевые организации и производители электрической энергии"]
[null,null,null,null,null,null,null,null,null,null,null,null,null,"1-я категория надежности","2-я категория надежности","3-я категория надежности","BH\n(110 кВ и выше)","CH1\n(35 кВ)","CH2\n(6-20 кВ)","HH\n(0,22-1 кВ)"]
[1,"2","3","4","5","6",null,"8","9","10","11","12","13","14","15","16","17","18","19","20","21","22","23","24","25","26","27"]
[1,"ООО \"Энергетик\" г. Карабаново","ВЛ","Ф - 3 от ТП 54","0.22","2021-01-01T14:00:00","2021-01-01T14:30:00","В",{"$f":"(G11-F11)*24","v":0.49999999988358468},"ВЛ 0.22 кВ Ф-3 от ТП №54 (ввод в здание)",null,null,{"$f":"N11+O11+P11+U11","v":1},0,0,1,0,0,0,1,0,0,null,"№1 2021-01-01","3.4.9.3","4.13",0,{"$f":"(IF(AND(H11=$H$307,AA11=1),M11*I11,0))","v":0},{"$f":"IF(H11=$H$305,M11*I11,0)","v":0}]
[2,"ООО \"Энергетик\" г. Карабаново","ВЛ","Ф-2 от МТП №86","0.38","2021-01-04T09:00:00","2021-01-04T09:30:00","В",{"$f":"(G12-F12)*24","v":0.50000000005820766},"ВЛ 0.38 кВ Ф-2 от МТП №86 (ввод в здание)",null,null,1,0,0,1,0,0,0,1,0,0,null,"№2 2021-01-04","3.4.9.3","4.13",0,0,0]
[3,"ООО \"Энергетик\" г. Карабаново","ВЛ","Ф - 8 от ТП №1","0.38","2021-01-04T16:00:00","2021-01-04T16:30:00","В",0.50000000005820766,"ВЛ 0.38 кВ Ф - 8 от ТП №1 (ввод в здание)",null,null,1,0,0,1,0,0,0,1,0,0,null,"№3 2021-01-04","3.4.9.3","4.13",0,0,0]
[4,"ООО \"Энергетик\" г. Карабаново","ВЛ","Ф-6 от ТП №66","0.38","2021-01-05T10:30:00","2021-01-05T11:10:00","В",0.66666666674427688,"ВЛ 0.38 кВ Ф-6 от ТП №66 (ввод в здание)",null,null,1,0,0,1,0,0,0,1,0,0,null,"№4 2021-01-05","3.4.13.3","4.10",1,0.66666666674427688,0]
[5,"ООО \"Энергетик\" г. Карабаново","ВЛ","Ф-8 от ТП №1","0.38","2021-01-07T11:20:00","2021-01-07T13:40:00","П",2.3333333334303461,"ВЛ 0.38 кВ Ф-8 от ТП №1(ввод в здание)",null,null,1,0,0,1,0,0,0,1,0,0,null,null,null,null,1,0,2.3333333334303461]
[6,"ООО \"Энергетик\" г. Карабаново","ВЛ","Ф-3 от ТП №18","0.22","2021-01-07T19:20:00","2021-01-07T20:00:00","В",{"$f":"(G16-F16)*24","v":0.66666666674427688},"ВЛ 0.22 кВ Ф-3 от ТП №18 (ввод в здание)",null,null,{"$f":"N16+O16+P16+U16","v":1},0,0,1,0,0,0,1,0,0,null,"№5 2021-01-07","3.4.9.3","4.13",0,0,0]
[7,"ООО \"Энергетик\" г. Карабаново","ВЛ","Ф-1 от ТП №11","0.22","2021-01-12T13:40:00","2021-01-12T14:00:00","В",0.33333333337213844,"ВЛ 0.22 кВ Ф-1 от ТП №11 (ввод в здание)",null,null,1,0,0,1,0,0,0,1,0,0,null,"№6 2021-01-12","3.4.9.3","4.13",0,0,0]
[8,"ООО \"Энергетик\" г. Карабаново","ВЛ","Ф-2 от ТП №41","0.22","2021-01-14T16:30:00","2021-01-14T17:15:00","В",0.75,"ВЛ 0.22 кВ Ф-2 от ТП №41 (ввод в здание)",null,null,1,0,0,1,0,0,0,1,0,0,null,"№7 2021-01-14","3.4.9.3","4.13",0,0,0]
[9,"ООО \"Энергетик\" г. Карабаново","ВЛ","Ф-2 от ТП №45","0.22","2021-01-15T09:40:00","2021-01-15T10:10:00","В",0.49999999988358468,"ВЛ 0.22 кВ Ф-2 от ТП №45 (ввод в здание)",null,null,1,0,0,1,0,0,0,1,0,0,null,"№8 2021-01-15","3.4.9.3","4.13",0,0,0]
[10,"ООО \"Энергетик\" г. Карабаново","ВЛ","Ф-3 от ТП №66","0.38","2021-01-19T13:20:00","2021-01-19T13:40:00","П",0.33333333337213844,"ВЛ 0.38 кВ Ф-3 от ТП №66",null,null,57,0,0,57,0,0,0,57,0,0,null,null,null,null,1,0,19.000000002211891]
[11,"ООО \"Энергетик\" г. Карабаново","ВЛ","Ф-1 от ТП №12","0.22","2021-01-24T16:15:00","2021-01-24T16:50:00","В",0.58333333331393078,"ВЛ 0.22 кВ Ф-1 от ТП №12 (ввод в здание)",null,null,1,0,0,1,0,0,0,1,0,0,null,"№9 2021-01-24","3.4.13.3","4.10",1,0.58333333331393078,0]
[12,"ООО \"Энергетик\" г. Карабаново","ВЛ","Ф-1 от ТП №32","0.38","2021-01-25T17:30:00","2021-01-25T18:00:00","В",0.50000000005820766,"ВЛ 0.38 кВ Ф-1 от ТП №32 (ввод в здание)",null,null,1,0,0,1,0,0,0,1,0,0,null,"№10 2021-01-25","3.4.9.3","4.13",0,0,0]
[13,"ООО \"Энергетик\" г. Карабаново","ВЛ","Ф-1 от ТП №3","0.38","2021-01-28T09:30:00","2021-01-28T10:00:00","В",0.49999999988358468,"ВЛ 0.38 кВ Ф-1 от ТП №3 ",null,null,53,0,0,53,0,0,0,53,0,0,null,"№11 2021-01-28","3.4.13.4","4.13",1,26.499999993829988,0]
[14,"ООО \"Энергетик\" г. Карабаново","ВЛ","Ф-11 от ТП №56","0.38","2021-01-28T12:50:00","2021-01-28T13:20:00","В",0.50000000005820766,"ВЛ 0.38 кВ Ф-11 от ТП №56(ввод в здание)",null,null,1,0,0,1,0,0,0,1,0,0,null,"№12 2021-01-28","3.4.9.3","4.13",0,0,0]
[15,"ООО \"Энергетик\" г. Карабаново","КЛ","Ф-4 от ТП №32","0.38","2021-01-28T13:30:00","2021-01-28T14:50:00","П",1.3333333333139308,"КЛ 0.38 кВ Ф-4 от ТП №32",null,null,2,0,0,2,0,0,0,2,0,0,null,null,null,null,1,0,2.6666666666278616]
[16,"ООО \"Энергетик\" г. Карабаново","ВЛ","Ф-2 от МТП №105","0.22","2021-01-31T18:40:00","2021-01-31T19:10:00","В",0.49999999988358468,"ВЛ 0.22 кВ Ф-2 от МТП №105 (ввод в здание)",null,null,1,0,0,1,0,0,0,1,0,0,null,"№13 2021-01-31","3.4.8","4.13",0,0,0]
[17,"ООО \"Энергетик\" г. Карабаново","ВЛ","Ф-1 от ТП №6","0.22","2021-02-01T10:00:00","2021-02-01T12:00:00","П",2.0000000000582077,"ВЛ 0.22 кВ Ф-1 от ТП №6(ввод в здание)",null,null,1,0,0,1,0,0,0,1,0,0,null,null,null,null,1,0,2.0000000000582077]
[18,"ООО \"Энергетик\" г. Карабаново","ВЛ","ВЛ 10кВ от ТП №63 до ТП №6","10(10.5)","2021-02-01T10:00:00","2021-02-01T12:00:00","П",2.0000000000582077,"ВЛ 10кВ от ТП №63 до ТП №6, МТП №109",null,null,4,0,0,4,0,0,0,4,0,0,null,null,null,null,1,0,8.0000000002328306]
[19,"ООО \"Энергетик\" г. Карабаново","ВЛ","Ф-7 от ТП №1","0.22","2021-02-01T19:20:00","2021-02-01T20:00:00","В",0.66666666674427688,"ВЛ 0.22 кВ Ф-7 от ТП №1(ввод в здание)",null,null,1,0,0,1,0,0,0,1,0,0,null,"№14 2021-02-01","3.4.9.3","4.13",0,0,0]
[20,"ООО \"Энергетик\" г. Карабаново","ВЛ","Ф-6 от ТП №7","0.22","2021-02-02T18:00:00","2021-02-02T18:30:00","В",0.50000000005820766,"ВЛ 0.22 кВ Ф-6 от ТП №7(ввод в здание)",null,null,1,0,0,1,0,0,0,1,0,0,null,"№15 2021-02-02","3.4.9.3","4.13",0,0,0]
[21,"ООО \"Энергетик\" г. Карабаново","ВЛ","Ф-3 от ТП №62","0.38","2021-02-05T15:00:00","2021-02-05T15:50:00","П",0.83333333325572312,"ВЛ 0.38 кВ Ф-3 от ТП №62(ввод в здание)",null,null,1,0,0,1,0,0,0,1,0,0,null,null,null,null,1,0,0.83333333325572312]
[22,"ООО \"Энергетик\" г. Карабаново","ВЛ","Ф-1 от ТП №32","0.38","2021-02-06T10:00:00","2021-02-06T10:30:00","В",0.50000000005820766,"ВЛ 0.38 кВ Ф-1 от ТП №32(ввод в здание)",null,null,1,0,0,1,0,0,0,1,0,0,null,"№16 2021-02-06","3.4.9.3","4.13",0,0,0]
[23,"ООО \"Энергетик\" г. Карабаново","ВЛ","Ф-7 от ТП №12","0.22","2021-02-07T13:00:00","2021-02-07T13:30:00","В",0.50000000005820766,"ВЛ 0.22 кВ Ф-7 от ТП №12(ввод в здание)",null,null,1,0,0,1,0,0,0,1,0,0,null,"№17 2021-02-07","3.4.9.3","4.13",0,0,0]
[24,"ООО \"Энергетик\" г. Карабаново","ТП","МТП №108","10(10.5)","2021-02-09T15:00:00","2021-02-09T15:15:00","П",0.24999999994179234,"МТП №108",null,null,68,0,0,68,0,0,0,68,0,0,null,null,null,null,1,0,16.999999996041879]
[25,"ООО \"Энергетик\" г. Карабаново","КЛ","Ф-11 от ТП №63","0.38","2021-02-10T11:00:00","2021-02-10T11:30:00","В",0.49999999988358468,"КЛ 0.38 кВ Ф-11 от ТП №63 (ввод в здание)",null,null,1,0,0,1,0,0,0,1,0,0,null,"№18 2021-02-10","3.4.9.3","4.13",0,0,0]
[26,"ООО \"Энергетик\" г. Карабаново","ТП","ТР-Р на МТП №108","10(10.5)","2021-02-12T09:30:00","2021-02-12T11:40:00","П",2.1666666665696539,"МТП №108",null,null,68,0,0,68,0,0,0,68,0,0,null,null,null,null,1,0,147.33333332673647]
[27,"ООО \"Энергетик\" г. Карабаново","ВЛ","Ф-2 от МТП №105","0.22","2021-02-12T17:40:00","2021-02-12T18:10:00","В",0.50000000005820766,"ВЛ 0.22 кВ Ф-2 от МТП №105 (ввод в здание)",null,null,1,0,0,1,0,0,0,1,0,0,null,"№19 2021-02-12","3.4.9.3","4.13",0,0,0]
[28,"ООО \"Энергетик\" г. Карабаново","ВЛ","Ф-6 от ТП №13","0.22","2021-02-14T17:00:00","2021-02-14T17:30:00","В",0.49999999988358468,"ВЛ 0.22 кВ Ф-6 от ТП №13(ввод в здание)",null,null,1,0,0,1,0,0,0,1,0,0,null,"№20 2021-02-14","3.4.7.3","4.10",1,0.49999999988358468,0]
[29,"ООО \"Энергетик\" г. Карабаново","ВЛ","Ф-2 от ТП №3","0.22","2021-02-17T00:50:00","2021-02-17T01:15:00","В",0.41666666680248454,"ВЛ 0.22 кВ Ф-2 от ТП №3 (ввод в здание)",null,null,1,0,0,1,0,0,0,1,0,0,null,"№21 2021-02-17","3.4.7.3","4.13",1,0.41666666680248454,0]
[30,"ООО \"Энергетик\" г. Карабаново","ВЛ","Ф-9 от ТП №62","0.22","2021-02-20T14:20:00","2021-02-20T14:40:00","В",0.33333333337213844,"ВЛ 0.22 кВ Ф-9 от ТП №62 (ввод в здание)",null,null,1,0,0,1,0,0,0,1,0,0,null,"№22 2021-02-20","3.4.9.3","4.13",0,0,0]
[31,"ООО \"Энергетик\" г. Карабаново","ВЛ","Ф-4 от ТП №3","0.22","2021-02-20T18:00:00","2021-02-20T18:30:00","В",0.50000000005820766,"ВЛ 0.22 кВ Ф-4 от ТП №3 (ввод в здание)",null,null,1,0,0,1,0,0,0,1,0,0,null,"№23 2021-02-20","3.4.9.3","4.13",0,0,0]
[32,"ООО \"Энергетик\" г. Карабаново","ВЛ","Ф-1 от МТП №108","0.22","2021-02-22T20:30:00","2021-02-22T20:55:00","В",0.41666666680248454,"ВЛ 0.22 кВ Ф-1 от МТП №108 (ввод в здание)",null,null,1,0,0,1,0,0,0,1,0,0,null,"№24 2021-02-22","3.4.9.3","4.13",0,0,0]
[33,"ООО \"Энергетик\" г. Карабаново","КЛ","Ф - 1001  от ПС 110/10 \"Карабаново\"","10 (10.5)","2021-02-26T14:30:00","2021-02-26T15:30:00","В",1.0000000001164153,"КЛ 10 (10.5) кВ Ф - 1001 от ПС 110/10 \"Карабаново\" ",null,null,1335,0,0,1335,0,0,31,1304,0,0,null,"№25 2021-02-26","3.4.8.5","4.21",0,0,0]
[34,"ООО \"Энергетик\" г. Карабаново","ВЛ","Ф-7 от ТП №12","0.22","2021-02-26T17:00:00","2021-02-26T17:40:00","В",0.6666666665696539,"ВЛ 0.22 кВ Ф-7 от ТП №12 (ввод в здание)",null,null,1,0,0,1,0,0,0,1,0,0,null,"№26 2021-02-26","3.4.13.3","4.10",1,0.6666666665696539,0]
[35,"ООО \"Энергетик\" г. Карабаново","ВЛ","Ф-5 от ТП №11","0.22","2021-02-26T17:30:00","2021-02-26T18:00:00","В",0.50000000005820766,"ВЛ 0.22 кВ Ф-5 от ТП №11 (ввод в здание)",null,null,1,0,0,1,0,0,0,1,0,0,null,"№27 2021-02-26","3.4.9.3","4.13",0,0,0]
[36,"ООО \"Энергетик\" г. Карабаново","ВЛ","Ф-5 от ТП №11","0.22","2021-02-26T17:45:00","2021-02-26T18:20:00","В",0.58333333331393078,"ВЛ 0.22 кВ Ф-5 от ТП №11(ввод в здание)",null,null,1,0,0,1,0,0,0,1,0,0,null,"№28 2021-02-26","3.4.13.4","4.13",1,0.58333333331393078,0]
[37,"ООО \"Энергетик\" г. Карабаново","ВЛ","Ф-2 от ТП №72","0.22","2021-02-26T18:30:00","2021-02-26T19:00:00","В",0.49999999988358468,"ВЛ 0.22 кВ Ф-2 от ТП №72 (ввод в здание)",null,null,1,0,0,1,0,0,0,1,0,0,null,"№29 2021-02-26","3.4.9.3","4.13",0,0,0]
[38,"ООО \"Энергетик\" г. Карабаново","ВЛ","Ф-6 от ТП №66","0.38","2021-02-27T08:45:00","2021-02-27T09:15:00","В",0.49999999988358468,"ВЛ 0.38 кВ Ф-6 от ТП №66(ввод в здание)",null,null,1,0,0,1,0,0,0,1,0,0,null,"№30 2021-02-27","3.4.9.3","4.13",0,0,0]
[39,"ООО \"Энергетик\" г. Карабаново","ВЛ","Ф-6 от ТП №66","0.38","2021-03-06T08:20:00","2021-03-06T09:00:00","В",0.66666666674427688,"ВЛ 0.38 кВ Ф-6 от ТП №66(ввод в здание)",null,null,1,0,0,1,0,0,0,1,0,0,null,"№31 2021-03-06","3.4.13.3","4.13",1,0.66666666674427688,0]
[40,"ООО \"Энергетик\" г. Карабаново","ТП","ТР-Р на ТП №72","10(10.5)","2021-03-15T15:20:00","2021-03-15T15:50:00","П",0.49999999988358468,"ТП №72",null,null,61,0,0,61,0,0,2,59,0,0,null,null,null,null,1,0,30.499999992898665]
[41,"ООО \"Энергетик\" г. Карабаново","ВЛ","Ф-6 от ТП №72","0.22","2021-03-17T17:00:00","2021-03-17T17:15:00","В",0.24999999994179234,"ВЛ 0.22 кВ Ф-6 от ТП 72 (ввод в здание)",null,null,1,0,0,1,0,0,0,1,0,0,null,"№32 2021-03-17","3.4.9.3","4.13",0,0,0]
[42,"ООО \"Энергетик\" г. Карабаново","ВЛ","Ф-11 от ТП №56","0.38","2021-03-20T17:40:00","2021-03-20T18:10:00","В",0.50000000005820766,"ВЛ 0.38 кВ Ф-11 от ТП №56 (ввод в здание)",null,null,1,0,0,1,0,0,0,1,0,0,null,"№33 2021-03-20","3.4.9.3","4.13",0,0,0]
[43,"ООО \"Энергетик\" г. Карабаново","ВЛ","Ф-2 от ТП №32","0.22","2021-03-23T10:30:00","2021-03-23T10:45:00","В",0.24999999994179234,"ВЛ 0.22 кВ Ф-2 от ТП №32 (ввод в здание)",null,null,1,0,0,1,0,0,0,1,0,0,null,"№34 2021-03-23","3.4.9.3","4.13",0,0,0]
[44,"ООО \"Энергетик\" г. Карабаново","ВЛ","Ф-15 от ТП 34","0.22","2021-03-27T17:00:00","2021-03-27T17:30:00","В",0.49999999988358468,"ВЛ 0.22 кВ Ф-15 от ТП 34 (ввод в здание)",null,null,1,0,0,1,0,0,0,1,0,0,null,"№35 2021-03-27","3.4.9.3","4.13",0,0,0]
[45,"ООО \"Энергетик\" г. Карабаново","ВЛ","Ф-15 от ТП 34","0.22","2021-03-28T21:30:00","2021-03-28T22:15:00","В",0.75,"ВЛ 0.22 кВ Ф-15 от ТП 34 (ввод в здание)",null,null,1,0,0,1,0,0,0,1,0,0,null,"№36 2021-03-28","3.4.9.3","4.13",0,0,0]
[46,"ООО \"Энергетик\" г. Карабаново","ВЛ","Ф-6 от ТП №13","0.22","2021-04-01T14:55:00","2021-04-01T15:15:00","В",0.33333333319751546,"ВЛ 0.22 кВ Ф-6 от ТП №13 (ввод в здание)",null,null,1,0,0,1,0,0,0,1,0,0,null,"№37 2021-04-01","3.4.9.3","4.13",0,0,0]
[47,"ООО \"Энергетик\" г. Карабаново","ВЛ","Ф-24 от ТП №62","0.22","2021-04-01T19:00:00","2021-04-01T19:35:00","В",0.58333333331393078,"ВЛ 0.22 кВ Ф-24 от ТП №62",null,null,1,0,0,1,0,0,0,1,0,0,null,"№38 2021-04-01","3.4.9.3","4.13",0,0,0]
[48,"ООО \"Энергетик\" г. Карабаново","ВЛ","Ф-24 от ТП №62","0.22","2021-04-02T08:40:00","2021-04-02T09:10:00","В",0.50000000005820766,"ВЛ 0.22 кВ Ф-24 от ТП №62(ввод в здание)",null,null,1,0,0,1,0,0,0,1,0,0,null,"№39 2021-04-02","3.4.9.3","4.13",0,0,0]
[49,"ООО \"Энергетик\" г. Карабаново","ВЛ","Ф-24 от ТП №62","0.22","2021-04-04T12:30:00","2021-04-04T13:00:00","В",0.49999999988358468,"ВЛ 0.22 кВ Ф-24 от ТП №62(ввод в здание)",null,null,1,0,0,1,0,0,0,1,0,0,null,"№40 2021-04-04","3.4.7.3","4.13",1,0.49999999988358468,0]
[50,"ООО \"Энергетик\" г. Карабаново","ВЛ","Ф-1 от ТП №11","0.22","2021-04-05T10:00:00","2021-04-05T10:20:00","В",0.33333333337213844,"ВЛ 0.22 кВ Ф-1 от ТП №11 (ввод в здание)",null,null,1,0,0,1,0,0,0,1,0,0,null,"№41 2021-04-05","3.4.9.3","4.13",0,0,0]
[51,"ООО \"Энергетик\" г. Карабаново","ВЛ","Ф-1 от ТП №20","0.38","2021-04-06T15:20:00","2021-04-06T16:20:00","П",0.99999999994179234,"ВЛ 0.38 кВ Ф-1 от ТП №20 (ввод в здание)",null,null,1,0,0,1,0,0,0,1,0,0,null,null,null,null,1,0,0.99999999994179234]
[52,"ООО \"Энергетик\" г. Карабаново","ВЛ","Ф-2 от ТП №27","0.38","2021-04-09T10:15:00","2021-04-09T10:45:00","П",0.49999999988358468,"ВЛ 0.22 кВ Ф-2 от ТП №27",null,null,2,0,0,2,0,0,0,2,0,0,null,null,null,null,1,0,0.99999999976716936]
[53,"ООО \"Энергетик\" г. Карабаново","ВЛ","Ф-11 от ТП №20","0.38","2021-04-09T15:00:00","2021-04-09T16:00:00","П",0.99999999994179234,"ВЛ 0.38 кВ Ф-2 от ТП №20 (ввод в здание)",null,null,1,0,0,1,0,0,0,1,0,0,null,null,null,null,1,0,0.99999999994179234]
[54,"ООО \"Энергетик\" г. Карабаново","ВЛ","Ф-6 от ТП №54","0.22","2021-04-14T22:10:00","2021-04-14T22:35:00","В",0.41666666662786156,"ВЛ 0.22 кВ Ф-6 от ТП №54 (ввод в здание)",null,null,1,0,0,1,0,0,0,1,0,0,null,"№42 2021-04-14","3.4.9.3","4.13",0,0,0]
[55,"ООО \"Энергетик\" г. Карабаново","ВЛ","Ф-5 от ТП №54","0.22","2021-04-16T18:45:00","2021-04-16T19:05:00","В",0.33333333337213844,"ВЛ 0.22 кВ Ф-5 от ТП №54 (ввод в здание)",null,null,1,0,0,1,0,0,0,1,0,0,null,"№43 2021-04-16","3.4.9.3","4.13",0,0,0]
[56,"ООО \"Энергетик\" г. Карабаново","ВЛ","Ф-4 от ТП №25","0.38","2021-04-17T09:20:00","2021-04-17T09:30:00","П",0.16666666668606922,"ВЛ 0.38 кВ Ф-4 от ТП №25 (ввод в здание)",null,null,1,0,0,1,0,0,0,1,0,0,null,null,null,null,1,0,0.16666666668606922]
[57,"ООО \"Энергетик\" г. Карабаново","ВЛ","Ф-1 от ТП №18","0.22","2021-04-17T15:30:00","2021-04-17T15:45:00","В",0.24999999994179234,"ВЛ 0.22 кВ Ф-1 от ТП №18 (ввод в здание)",null,null,1,0,0,1,0,0,0,1,0,0,null,"№44 2021-04-17","3.4.9.3","4.13",0,0,0]
[58,"ООО \"Энергетик\" г. Карабаново","ВЛ","Ф-1 от МТП №108","0.22","2021-04-18T21:00:00","2021-04-18T21:30:00","В",0.50000000005820766,"ВЛ 0.22 кВ Ф-1 от МТП №108 (ввод в здание)",null,null,1,0,0,1,0,0,0,1,0,0,null,"№45 2021-04-18","3.4.9.3","4.13",0,0,0]
[59,"ООО \"Энергетик\" г. Карабаново","ВЛ","Ф-3 от ТП №10","0.22","2021-04-19T20:05:00","2021-04-19T20:40:00","В",0.58333333331393078,"ВЛ 0.22 кВ Ф-3 от ТП №10 (ввод в здание)",null,null,1,0,0,1,0,0,0,1,0,0,null,"№46 2021-04-19","3.4.9.3","4.13",0,0,0]
[60,"ООО \"Энергетик\" г. Карабаново","КЛ","Ф-2 от ТП №61","0.38","2021-04-24T12:00:00","2021-04-24T19:30:00","П",7.5,"КЛ 0.38 кВ Ф-2 от ТП №61 (ввод в здание)",null,null,1,0,0,1,0,0,0,1,0,0,null,null,null,null,1,0,7.5]
[61,"ООО \"Энергетик\" г. Карабаново","ВЛ","Ф-1 от ТП №3","0.22","2021-04-24T15:00:00","2021-04-24T15:30:00","В",0.50000000005820766,"ВЛ 0.22 кВ Ф-1 от ТП №3 (ввод в здание)",null,null,1,0,0,1,0,0,0,1,0,0,null,"№47 2021-04-24","3.4.9.3","4.13",0,0,0]
[62,"ООО \"Энергетик\" г. Карабаново","ВЛ","Ф-11 от ТП №56","0.38","2021-04-26T08:35:00","2021-04-26T09:15:00","В",0.6666666665696539,"ВЛ 0.38 кВ Ф-11 от ТП №56 (ввод в здание)",null,null,1,0,0,1,0,0,0,1,0,0,null,"№48 2021-04-26","3.4.13.3","4.10",1,0.6666666665696539,0]
[63,"ООО \"Энергетик\" г. Карабаново","КЛ","Ф-2 от ТП №61","0.38","2021-04-26T15:00:00","2021-04-26T18:20:00","П",3.3333333333721384,"КЛ 0.38 кВ Ф-2 от ТП №61 (ввод в здание)",null,null,1,0,0,1,0,0,0,1,0,0,null,null,null,null,1,0,3.3333333333721384]
[64,"ООО \"Энергетик\" г. Карабаново","ВЛ","Ф-6 от ТП №7","0.22","2021-04-28T20:05:00","2021-04-28T20:20:00","В",0.24999999994179234,"ВЛ 0.22 кВ Ф-6 от ТП №7 (ввод в здание)",null,null,1,0,0,1,0,0,0,1,0,0,null,"№49 2021-04-28","3.4.9.3","4.13",0,0,0]
[65,"ООО \"Энергетик\" г. Карабаново","ВЛ","Ф-3 от ТП №12","0.22","2021-05-03T11:20:00","2021-05-03T11:50:00","В",0.50000000005820766,"ВЛ 0.22 кВ Ф-3 от ТП №12 (ввод в здание)",null,null,1,0,0,1,0,0,0,1,0,0,null,"№50 2021-05-03","3.4.9.3","4.13",0,{"$f":"(IF(AND(H75=$H$307,AA75=1),M75*I75,0))","v":0},{"$f":"IF(H75=$H$305,M75*I75,0)","v":0}]
[66,"ООО \"Энергетик\" г. Карабаново","ВЛ","ВЛ 10кВ от ТП №12 до ТП №11","10(10.5)","2021-05-04T09:20:00","2021-05-04T11:25:00","П",2.0833333333139308,"МТП №86, МТП №106",null,null,83,0,0,83,0,0,2,81,0,0,null,null,null,null,1,0,172.91666666505625]
[67,"ООО \"Энергетик\" г. Карабаново","ВЛ","Ф-4 от ТП №11","0.22","2021-05-04T15:50:00","2021-05-04T16:10:00","В",0.33333333337213844,"ВЛ 0.22 кВ Ф-4 от ТП №11 (ввод в здание)",null,null,1,0,0,1,0,0,0,1,0,0,null,"№51 2021-05-04","3.4.9.3","4.13",0,0,0]
[68,"ООО \"Энергетик\" г. Карабаново","ВЛ","Ф-2 от ТП №45","0.38","2021-05-05T16:00:00","2021-05-05T16:30:00","В",0.50000000005820766,"ВЛ 0.38 кВ Ф-2 от ТП №45 (ввод в здание)",null,null,1,0,0,1,0,0,0,1,0,0,null,"№52 2021-05-05","3.4.9.3","4.13",0,0,0]
[69,"ООО \"Энергетик\" г. Карабаново","ВЛ","Ф-5 от ТП №8","0.22","2021-05-09T13:30:00","2021-05-09T14:00:00","В",0.50000000005820766,"ВЛ 0.22 кВ Ф-5 от ТП №8 (ввод в здание)",null,null,1,0,0,1,0,0,0,1,0,0,null,"№53 2021-05-09","3.4.9.3","4.13",0,0,0]
[70,"ООО \"Энергетик\" г. Карабаново","ВЛ","Ф-15 от ТП 34","0.38","2021-05-09T14:00:00","2021-05-09T17:00:00","В",{"$f":"(G80-F80)*24","v":3},"ВЛ 0.38 кВ Ф-15 от ТП №34",null,null,{"$f":"N80+O80+P80+U80","v":32},0,0,32,0,0,0,32,0,0,null,"№54 2021-05-09","3.4.12.2","4.13",0,0,0]
[71,"ООО \"Энергетик\" г. Карабаново","ВЛ","Ф-2 от ТП №32","0.22","2021-05-10T11:50:00","2021-05-10T12:10:00","В",0.33333333337213844,"ВЛ 0.22 кВ Ф-2 от ТП №32(ввод в здание)",null,null,1,0,0,1,0,0,0,1,0,0,null,"№55 2021-05-10","3.4.9.3","4.13",0,0,0]
[72,"ООО \"Энергетик\" г. Карабаново","ВЛ","Ф-1 от ТП №35","0.38","2021-05-11","2021-05-11T00:15:00","В",0.24999999994179234,"ВЛ 0.38 кВ Ф-1 от ТП 35(ввод в здание)",null,null,1,0,0,1,0,0,0,1,0,0,null,"№56 2021-05-11","3.4.9.3","4.13",0,0,0]
[73,"ООО \"Энергетик\" г. Карабаново","ВЛ","Ф-1 от ТП №35","0.38","2021-05-11T11:00:00","2021-05-11T11:50:00","В",0.83333333325572312,"ВЛ 0.38 кВ Ф-1 от ТП №35 (ввод в здание)",null,null,1,0,0,1,0,0,0,1,0,0,null,"№57 2021-05-11","3.4.13.3","4.13",1,0.83333333325572312,0]
[74,"ООО \"Энергетик\" г. Карабаново","ВЛ","Ф-3 от ТП №99","0.22","2021-05-11T16:00:00","2021-05-11T16:35:00","В",0.58333333331393078,"ВЛ 0.22 кВ Ф-3 от ТП №99",null,null,1,0,0,1,0,0,0,1,0,0,null,"№58 2021-05-11","3.4.9.3","4.13",0,0,0]
[75,"ООО \"Энергетик\" г. Карабаново","ВЛ","Ф-5 от ТП №11","0.22","2021-05-11T18:20:00","2021-05-11T18:55:00","В",0.58333333331393078,"ВЛ 0.22 кВ Ф-5 от ТП №11 (ввод в здание)",null,null,1,0,0,1,0,0,0,1,0,0,null,"№59 2021-05-11","3.4.9.3","4.13",0,0,0]
[76,"ООО \"Энергетик\" г. Карабаново","ВЛ","Ф-5 от ТП №55","0.38","2021-05-13T10:15:00","2021-05-13T10:50:00","П",0.58333333331393078,"ВЛ 0.38 кВ Ф-5 от ТП №55",null,null,68,0,0,68,0,0,0,68,0,0,null,null,null,null,1,0,39.666666665347293]
[77,"ООО \"Энергетик\" г. Карабаново","ВЛ","Ф-5 от ТП №55","0.38","2021-05-13T13:00:00","2021-05-13T16:50:00","П",3.8333333334303461,"ВЛ 0.38 кВ Ф-5 от ТП №55",null,null,68,0,0,68,0,0,0,68,0,0,null,null,null,null,1,0,260.66666667326353]
[78,"ООО \"Энергетик\" г. Карабаново","ВЛ","Ф-5 от ТП №55","0.38","2021-05-14T13:20:00","2021-05-14T15:50:00","П",2.4999999999417923,"ВЛ 0.38 кВ Ф-5 от ТП №55",null,null,68,0,0,68,0,0,0,68,0,0,null,null,null,null,1,0,169.99999999604188]
[79,"ООО \"Энергетик\" г. Карабаново","ВЛ","Ф-3 от ТП №66","0.22","2021-05-14T20:10:00","2021-05-14T21:00:00","В",0.83333333325572312,"ВЛ 0.22 кВ Ф-3 от ТП №66 (ввод в здание)",null,null,1,0,0,1,0,0,0,1,0,0,null,"№60 2021-05-14","3.4.9.3","4.13",0,0,0]
[80,"ООО \"Энергетик\" г. Карабаново","ВЛ","Ф-3 от ТП №10","0.22","2021-05-14T21:30:00","2021-05-14T21:50:00","В",0.33333333319751546,"ВЛ 0.22 кВ Ф-3 от ТП №10 (ввод в здание)",null,null,2,0,0,2,0,0,0,2,0,0,null,"№61 2021-05-14","3.4.9.3","4.13",0,0,0]
[81,"ООО \"Энергетик\" г. Карабаново","ВЛ","Ф-3 от ТП №3","0.22","2021-05-15T09:00:00","2021-05-15T09:30:00","В",0.50000000005820766,"ВЛ 0.22 кВ Ф-3 от ТП №3 (ввод в здание)",null,null,1,0,0,1,0,0,0,1,0,0,null,"№62 2021-05-15","3.4.9.3","4.13",0,0,0]
[82,"ООО \"Энергетик\" г. Карабаново","ВЛ","Ф-5 от ТП №8","0.22","2021-05-15T10:30:00","2021-05-15T11:00:00","В",0.50000000005820766,"ВЛ 0.22 кВ Ф-5 от ТП №8 (ввод в здание)",null,null,1,0,0,1,0,0,0,1,0,0,null,"№63 2021-05-15","3.4.9.3","4.13",0,0,0]
[83,"ООО \"Энергетик\" г. Карабаново","ВЛ","Ф-3 от ТП №3","0.22","2021-05-15T15:00:00","2021-05-15T15:30:00","В",0.50000000005820766,"ВЛ 0.22 кВ Ф-3 от ТП №3(ввод в здание)",null,null,1,0,0,1,0,0,0,1,0,0,null,"№64 2021-05-15","3.4.9.3","4.13",0,0,0]
[84,"ООО \"Энергетик\" г. Карабаново","ВЛ","Ф-5 от ТП №55","0.38","2021-05-17T09:30:00","2021-05-17T11:15:00","П",1.7499999999417923,"ВЛ 0.38 кВ Ф-5 от ТП №55",null,null,68,0,0,68,0,0,0,68,0,0,null,null,null,null,1,0,118.99999999604188]
[85,"ООО \"Энергетик\" г. Карабаново","ВЛ","Ф-5 от ТП №55","0.38","2021-05-17T13:15:00","2021-05-17T15:40:00","П",2.4166666666860692,"ВЛ 0.38 кВ Ф-5 от ТП №55",null,null,68,0,0,68,0,0,0,68,0,0,null,null,null,null,1,0,164.33333333465271]
[86,"ООО \"Энергетик\" г. Карабаново","ВЛ","Ф-1 от ТП №12","0.22","2021-05-17T17:15:00","2021-05-17T19:00:00","В",1.7499999999417923,"ВЛ 0.22 кВ Ф-1 от ТП №12(ввод в здание)",null,null,1,0,0,1,0,0,0,1,0,0,null,"№65 2021-05-17","3.4.8.1","4.13",0,0,0]
[87,"ООО \"Энергетик\" г. Карабаново","ВЛ","Ф-5 от ТП №55","0.38","2021-05-18T09:30:00","2021-05-18T11:30:00","П",1.9999999998835847,"ВЛ 0.38 кВ Ф-5 от ТП №55",null,null,68,0,0,68,0,0,0,68,0,0,null,null,null,null,1,0,135.99999999208376]
[88,"ООО \"Энергетик\" г. Карабаново","ВЛ","Ф-5 от ТП №55","0.38","2021-05-18T13:15:00","2021-05-18T15:30:00","П",2.25,"ВЛ 0.38 кВ Ф-5 от ТП №55",null,null,68,0,0,68,0,0,0,68,0,0,null,null,null,null,1,0,153]
[89,"ООО \"Энергетик\" г. Карабаново","ВЛ","Ф-2 от ТП 28","0.22","2021-05-19T17:30:00","2021-05-19T18:00:00","В",0.50000000005820766,"ВЛ 0.22 кВ Ф-2 от ТП 28(ввод в здание)",null,null,1,0,0,1,0,0,0,1,0,0,null,"№66 2021-05-19","3.4.9.3","4.13",0,0,0]
[90,"ООО \"Энергетик\" г. Карабаново","ТП","ТП №27 (силовой трансформатор)","10(10.5)","2021-05-21T09:00:00","2021-05-21T11:00:00","П",2.0000000000582077,"ТП №27",null,null,2,0,0,2,0,0,1,1,0,0,null,null,null,null,1,0,4.0000000001164153]
[91,"ООО \"Энергетик\" г. Карабаново","ВЛ","Ф-5 от ТП №55","0.22","2021-05-21T14:30:00","2021-05-21T15:00:00","В",0.50000000005820766,"ВЛ 0.22 кВ Ф-5 от ТП №55(ввод в здание)",null,null,1,0,0,1,0,0,0,1,0,0,null,"№67 2021-05-21","3.4.7.3","4.10",1,0.50000000005820766,0]
[92,"ООО \"Энергетик\" г. Карабаново","ВЛ","Ф-1 от ТП №58","0.38","2021-05-23T15:10:00","2021-05-23T15:50:00","В",0.6666666665696539,"ВЛ 0.38 кВ Ф-1 от ТП №58(ввод в здание)",null,null,1,0,0,1,0,0,0,1,0,0,null,"№68 2021-05-23","3.4.9.3","4.13",0,0,0]
[93,"ООО \"Энергетик\" г. Карабаново","ВЛ","Ф-2 от МТП №108","0.22","2021-05-23T17:25:00","2021-05-23T18:00:00","В",0.58333333331393078,"ВЛ 0.22 кВ Ф-2 от МТП №108(ввод в здание)",null,null,1,0,0,1,0,0,0,1,0,0,null,"№69 2021-05-23","3.4.9.3","4.13",0,0,0]
[94,"ООО \"Энергетик\" г. Карабаново","ВЛ","Ф-4 от ТП №3","0.22","2021-05-23T19:54:00","2021-05-23T20:20:00","В",0.43333333317423239,"ВЛ 0.22 кВ Ф-4 от ТП №3(ввод в здание)",null,null,1,0,0,1,0,0,0,1,0,0,null,"№70 2021-05-23","3.4.9.3","4.13",0,0,0]
[95,"ООО \"Энергетик\" г. Карабаново","ВЛ","Ф-9 от ТП №62","0.22","2021-05-24T08:20:00","2021-05-24T09:00:00","В",0.66666666674427688,"ВЛ 0.22 кВ Ф-9 от ТП №62(ввод в здание)",null,null,1,0,0,1,0,0,0,1,0,0,null,"№71 2021-05-24","3.4.7.3","4.13",1,0.66666666674427688,0]
[96,"ООО \"Энергетик\" г. Карабаново","ВЛ","ВЛ 10кВ от ТП №66 до МТП №89","10(10.5)","2021-05-28T09:50:00","2021-05-28T10:20:00","П",0.50000000005820766,"МТП №89",null,null,3,0,0,3,0,0,3,0,0,0,null,null,null,null,1,0,1.500000000174623]
[97,"ООО \"Энергетик\" г. Карабаново","ВЛ","Ф-3 от ТП №66","0.38","2021-05-28T09:50:00","2021-05-28T13:20:00","П",3.5000000000582077,"ВЛ 0.38 кВ Ф-3 от ТП №66",null,null,53,0,0,53,0,0,0,53,0,0,null,null,null,null,1,0,185.50000000308501]
[98,"ООО \"Энергетик\" г. Карабаново","ВЛ","Ф-3 от ТП №66","0.38","2021-05-31T10:25:00","2021-05-31T13:20:00","П",2.9166666665696539,"ВЛ 0.38 кВ Ф-3 от ТП №66",null,null,53,0,0,53,0,0,0,53,0,0,null,null,null,null,1,0,154.58333332819166]
[99,"ООО \"Энергетик\" г. Карабаново","ВЛ","Ф-5 от ТП №55","0.38","2021-06-01T09:30:00","2021-06-01T09:40:00","П",0.16666666668606922,"ВЛ 0.38 кВ Ф-5 от ТП №55",null,null,68,0,0,68,0,0,0,68,0,0,null,null,null,null,1,0,11.333333334652707]
[100,"ООО \"Энергетик\" г. Карабаново","ТП","ТП №66 РУ 0,4кВ","0.38","2021-06-02T09:00:00","2021-06-02T11:00:00","П",2.0000000000582077,"РУ 0,4кВ на ТП №66",null,null,96,0,0,96,0,0,0,96,0,0,null,null,null,null,1,0,192.00000000558794]
[101,"ООО \"Энергетик\" г. Карабаново","ВЛ","Ф-5 от ТП №8","0.22","2021-06-02T18:00:00","2021-06-02T18:20:00","В",0.33333333337213844,"ВЛ 0.22 кВ Ф-5 от ТП №8(ввод в здание)",null,null,1,0,0,1,0,0,0,1,0,0,null,"№72 2021-06-02","3.4.9.3","4.13",0,0,0]
[102,"ООО \"Энергетик\" г. Карабаново","ВЛ","Ф-5 от ТП №55","0.38","2021-06-04T09:35:00","2021-06-04T10:35:00","П",0.99999999994179234,"ВЛ 0.38 кВ Ф-5 от ТП №55",null,null,68,0,0,68,0,0,0,68,0,0,null,null,null,null,1,0,67.999999996041879]
[103,"ООО \"Энергетик\" г. Карабаново","ВЛ","Ф-5 от ТП №8","0.22","2021-06-05T14:00:00","2021-06-05T14:20:00","В",0.33333333319751546,"ВЛ 0.22 кВ Ф-5 от ТП №8 (ввод в здание)",null,null,1,0,0,1,0,0,0,1,0,0,null,"№73 2021-06-05","3.4.9.3","4.13",0,0,0]
[104,"ООО \"Энергетик\" г. Карабаново","ПС","ПС 110/10 \"Карабаново\"","10 (10.5)","2021-06-06T19:55:00","2021-06-06T22:40:00","В",2.7500000000582077,"КВЛ 10 (10.5) кВ от ПС \"Карабаново\"(Ф-1001, Ф-1003)",null,null,1920,0,0,1920,0,0,62,1858,0,0,null,"№74 2021-06-06","3.4.12.3","4.13",0,0,0]
[105,"ООО \"Энергетик\" г. Карабаново","ВЛ","Ф-4 от МТП №85","0.22","2021-06-07T08:20:00","2021-06-07T08:45:00","В",0.41666666680248454,"ВЛ 0.22 кВ Ф-4 от МТП №85(ввод в здание)",null,null,1,0,0,1,0,0,0,1,0,0,null,"№75 2021-06-07","3.4.9.3","4.13",0,0,0]
[106,"ООО \"Энергетик\" г. Карабаново","ВЛ","Ф-4 от МТП №85","0.22","2021-06-07T10:00:00","2021-06-07T10:15:00","В",0.25000000011641532,"ВЛ 0.22 кВ Ф-4 от МТП №85(ввод в здание)",null,null,1,0,0,1,0,0,0,1,0,0,null,"№76 2021-06-07","3.4.9.3","4.13",0,0,0]
[107,"ООО \"Энергетик\" г. Карабаново","ВЛ","Ф-2 от МТП №106","0.38","2021-06-07T10:40:00","2021-06-07T11:10:00","П",0.50000000005820766,"ВЛ 0.38 кВ Ф-2 от МТП №106 ",null,null,8,0,0,8,0,0,0,8,0,0,null,null,null,null,1,0,4.0000000004656613]
[108,"ООО \"Энергетик\" г. Карабаново","ВЛ","Ф-10 от ТП №56","0.22","2021-06-07T18:00:00","2021-06-07T18:30:00","В",0.50000000005820766,"ВЛ 0.22 кВ Ф-10 от ТП №56(ввод в здание)",null,null,1,0,0,1,0,0,0,1,0,0,null,"№77 2021-06-07","3.4.9.3","4.13",0,0,0]
[109,"ООО \"Энергетик\" г. Карабаново","ВЛ","Ф-2 от ТП №66","0.38","2021-06-08T09:00:00","2021-06-08T11:00:00","П",2.0000000000582077,"ВЛ 0.38 кВ Ф-2 от ТП №66",null,null,64,0,0,64,0,0,0,64,0,0,null,null,null,null,1,0,128.00000000372529]
[110,"ООО \"Энергетик\" г. Карабаново","ВЛ","Ф-3 от ТП №3","0.22","2021-06-08T15:00:00","2021-06-08T15:30:00","В",0.50000000005820766,"ВЛ 0.22 кВ Ф-3 от ТП №3 (ввод в здание)",null,null,1,0,0,1,0,0,0,1,0,0,null,"№78 2021-06-08","3.4.9.3","4.13",0,0,0]
[111,"ООО \"Энергетик\" г. Карабаново","ТП","ТП №51/31","10 (10.5)","2021-06-08T18:00:00","2021-06-08T18:40:00","В",0.66666666674427688,"ТП 10 (10.5) кВ ТП №51/31 РУ10кВ",null,null,1,0,0,1,0,0,1,0,0,0,null,"№79 2021-06-08","3.4.12.3","4.13",0,0,0]
[112,"ООО \"Энергетик\" г. Карабаново","ВЛ","Ф-3 от ТП №54","0.22","2021-06-08T21:00:00","2021-06-08T21:25:00","В",0.41666666662786156,"ВЛ 0.22 кВ Ф-3 от ТП №54 (ввод в здание)",null,null,1,0,0,1,0,0,0,1,0,0,null,"№80 2021-06-08","3.4.9.3","4.13",0,0,0]
[113,"ООО \"Энергетик\" г. Карабаново","ВЛ","Ф-3 от ТП №66","0.38","2021-06-09T09:40:00","2021-06-09T10:40:00","П",0.99999999994179234,"ВЛ 0.38 кВ Ф-3 от ТП №66",null,null,22,0,0,22,0,0,0,22,0,0,null,null,null,null,1,0,21.999999998719431]
[114,"ООО \"Энергетик\" г. Карабаново","ВЛ","Ф-5 от ТП №8","0.22","2021-06-09T21:40:00","2021-06-09T22:20:00","В",0.6666666665696539,"ВЛ 0.22 кВ Ф-5 от ТП №8 (ввод в здание)",null,null,1,0,0,1,0,0,0,1,0,0,null,"№81 2021-06-09","3.4.9.3","4.13",0,0,0]
[115,"ООО \"Энергетик\" г. Карабаново","ВЛ","Ф-3 от ТП №66","0.38","2021-06-10T09:00:00","2021-06-10T10:35:00","П",1.5833333332557231,"ВЛ 0.38 кВ Ф-3 от ТП №66",null,null,22,0,0,22,0,0,0,22,0,0,null,null,null,null,1,0,34.833333331625909]
[116,"ООО \"Энергетик\" г. Карабаново","ВЛ","Ф-3 от ТП №66","0.38","2021-06-10T13:20:00","2021-06-10T13:30:00","П",0.16666666668606922,"ВЛ 0.38 кВ Ф-3 от ТП №66",null,null,22,0,0,22,0,0,0,22,0,0,null,null,null,null,1,0,3.6666666670935228]
[117,"ООО \"Энергетик\" г. Карабаново","ВЛ","Ф-3 от ТП №66","0.38","2021-06-11T09:20:00","2021-06-11T09:35:00","П",0.24999999994179234,"ВЛ 0.38 кВ Ф-3 от ТП №66",null,null,22,0,0,22,0,0,0,22,0,0,null,null,null,null,1,0,5.4999999987194315]
[118,"ООО \"Энергетик\" г. Карабаново","ВЛ","Ф-3 от МТП №99","0.22","2021-06-13T15:50:00","2021-06-13T16:00:00","В",0.16666666668606922,"ВЛ 0.22 кВ Ф-3 от МТП №99 (ввод в здание)",null,null,1,0,0,1,0,0,0,1,0,0,null,"№82 2021-06-13","3.4.9.3","4.13",0,0,0]
[119,"ООО \"Энергетик\" г. Карабаново","ВЛ","Ф-1 от ТП №3","0.38","2021-06-16T09:30:00","2021-06-16T09:45:00","В",0.24999999994179234,"ВЛ 0.38 кВ Ф-1 от ТП №3 (ввод в здание)",null,null,1,0,0,1,0,0,0,1,0,0,null,"№83 2021-06-16","3.4.9.3","4.13",0,0,0]
[120,"ООО \"Энергетик\" г. Карабаново","ВЛ","Ф-5 от ТП №8","0.22","2021-06-16T10:00:00","2021-06-16T10:15:00","В",0.25000000011641532,"ВЛ 0.22 кВ Ф-5 от ТП №8 (ввод в здание)",null,null,1,0,0,1,0,0,0,1,0,0,null,"№84 2021-06-16","3.4.9.3","4.13",0,0,0]
[121,"ООО \"Энергетик\" г. Карабаново","ВЛ","Ф-2 от МТП №90","0.38","2021-06-18T11:45:00","2021-06-18T14:00:00","В",2.25,"ВЛ 0.38 кВ Ф-2 от МТП №90",null,null,23,0,0,23,0,0,0,23,0,0,null,"№85 2021-06-18","3.4.8.1","4.13",0,0,0]
[122,"ООО \"Энергетик\" г. Карабаново","ВЛ","Ф-1 от МТП №90","0.22","2021-06-23T16:20:00","2021-06-23T16:30:00","В",0.16666666668606922,"ВЛ 0.22 кВ Ф-1 от МТП №90 (ввод в здание)",null,null,1,0,0,1,0,0,0,1,0,0,null,"№86 2021-06-23","3.4.9.3","4.13",0,0,0]
[123,"ООО \"Энергетик\" г. Карабаново","ВЛ","Ф-2 от МТП №105","0.22","2021-06-24T18:00:00","2021-06-24T18:30:00","В",0.50000000005820766,"ВЛ 0.22 кВ Ф-2 от МТП №105(ввод в здание)",null,null,1,0,0,1,0,0,0,1,0,0,null,"№87 2021-06-24","3.4.9.3","4.13",0,0,0]
[124,"ООО \"Энергетик\" г. Карабаново","ВЛ","Ф-1 от ТП №72","0.22","2021-06-25T21:00:00","2021-06-25T21:30:00","В",0.50000000005820766,"ВЛ 0.22 кВ Ф-1 от ТП №72(ввод в здание)",null,null,1,0,0,1,0,0,0,1,0,0,null,"№88 2021-06-25","3.4.9.3","4.13",0,0,0]
[125,"ООО \"Энергетик\" г. Карабаново","ВЛ","Ф-3 от ТП №18","0.38","2021-06-26T13:30:00","2021-06-26T14:00:00","В",0.50000000005820766,"ВЛ 0.38 кВ Ф-3 от ТП №18(ввод в здание)",null,null,1,0,0,1,0,0,0,1,0,0,null,"№89 2021-06-26","3.4.9.3","4.13",0,0,0]
[126,"ООО \"Энергетик\" г. Карабаново","КВЛ","Ф-1001","10 (10.5)","2021-06-27T15:50:00","2021-06-27T16:25:00","В",0.58333333348855376,"КВЛ 10 (10.5) кВ Ф-1001 (ТП №44, ТП №12, ТП №11, МТП №85, МТП №86, МТП №89, МТП №90, МТП №94, МТП №99, МТП №100, МТП №102, МТП №105, МТП №106, МТП №107, МТП №110, ТП №10, ТП №45, ТП №66, ТП №27, ТП №28, ТП №72, ТП №8, ТП №18, ТП №7, ТП №32)",null,null,1535,0,0,1535,0,0,35,1500,0,0,null,"№90 2021-06-27","3.4.12.3","4.13",0,0,0]
[127,"ООО \"Энергетик\" г. Карабаново","ВЛ","Ф-2 и Ф-4 от ТП №11","0.38","2021-06-27T18:30:00","2021-06-27T22:15:00","В",3.75,"ВЛ 0.38 кВ Ф-2 и Ф-4 от ТП №11",null,null,76,0,0,76,0,0,0,76,0,0,null,"№91 2021-06-27","3.4.8.5","4.4",0,0,0]
[128,"ООО \"Энергетик\" г. Карабаново","ВЛ","Ф-7 от ТП №2","0.38","2021-06-28T09:30:00","2021-06-28T11:00:00","П",1.5,"ВЛ 0.38 кВ Ф-7 от ТП №2",null,null,1,0,0,1,0,0,0,1,0,0,null,null,null,null,1,0,1.5]
[129,"ООО \"Энергетик\" г. Карабаново","ВЛ","Ф-5 от ТП №11","0.38","2021-06-28T10:00:00","2021-06-28T11:15:00","П",1.2500000000582077,"ВЛ 0.38 кВ Ф-5 от ТП №11",null,null,31,0,0,31,0,0,0,31,0,0,null,null,null,null,1,{"$f":"(IF(AND(H139=$H$307,AA139=1),M139*I139,0))","v":0},{"$f":"IF(H139=$H$305,M139*I139,0)","v":38.750000001804437}]
[130,"ООО \"Энергетик\" г. Карабаново","ВЛ","Ф-8 от ТП №11","0.38","2021-06-28T11:30:00","2021-06-28T12:30:00","П",1.0000000001164153,"ВЛ 0.38 кВ Ф-8 от ТП №11",null,null,45,0,0,45,0,0,0,45,0,0,null,null,null,null,1,0,45.000000005238689]
[131,"ООО \"Энергетик\" г. Карабаново","ВЛ","Ф-3 от ТП №8","0.22","2021-06-28T14:00:00","2021-06-28T14:30:00","В",0.49999999988358468,"ВЛ 0.22 кВ Ф-3 от ТП №8(ввод в здание)",null,null,1,0,0,1,0,0,0,1,0,0,null,"№92 2021-06-28","3.4.9.3","4.13",0,0,0]
[132,"ООО \"Энергетик\" г. Карабаново","ВЛ","Ф-3 от ТП №66","0.38","2021-06-28T16:00:00","2021-06-28T16:30:00","В",0.50000000005820766,"ВЛ 0.38 кВ Ф-3 от ТП №66(ввод в здание)",null,null,1,0,0,1,0,0,0,1,0,0,null,"№93 2021-06-28","3.4.9.3","4.13",0,0,0]
[133,"ООО \"Энергетик\" г. Карабаново","ВЛ","Ф-4 от МТП №102","0.22","2021-06-29T07:10:00","2021-06-29T07:35:00","В",0.41666666662786156,"ВЛ 0.22 кВ Ф-4 от МТП №102(ввод в здание)",null,null,1,0,0,1,0,0,0,1,0,0,null,"№94 2021-06-29","3.4.9.3","4.13",0,0,0]
[134,"ООО \"Энергетик\" г. Карабаново","ВЛ","Ф-3 от ТП №66","0.22","2021-06-29T19:20:00","2021-06-29T19:40:00","В",{"$f":"(G144-F144)*24","v":0.33333333337213844},"ВЛ 0.22 кВ Ф-3 от ТП №66 (ввод в здание)",null,null,{"$f":"N144+O144+P144+U144","v":1},0,0,1,0,0,0,1,0,0,null,"№95 2021-06-29","3.4.9.3","4.13",0,0,0]
[135,"ООО \"Энергетик\" г. Карабаново","ВЛ","ВЛ 10кВ от ТП №12 до ТП №62","10(10.5)","2021-07-01T09:30:00","2021-07-01T10:20:00","П",0.83333333325572312,"МТП №94",null,null,20,0,0,20,0,0,0,20,0,0,null,null,null,null,1,0,16.666666665114462]
[136,"ООО \"Энергетик\" г. Карабаново","ВЛ","Ф-4 от ТП №55","0.38","2021-07-08T10:00:00","2021-07-08T11:45:00","П",1.7500000001164153,"ВЛ 0,38кВ Ф-4 от ТП №55",null,null,23,0,0,23,0,0,0,23,0,0,null,null,null,null,1,0,40.250000002677552]
[137,"ООО \"Энергетик\" г. Карабаново","ВЛ","Ф-4 от ТП №55","0.38","2021-07-08T13:30:00","2021-07-08T14:20:00","П",0.83333333325572312,"ВЛ 0,38кВ Ф-4 от ТП №55",null,null,23,0,0,23,0,0,0,23,0,0,null,null,null,null,1,0,19.166666664881632]
[138,"ООО \"Энергетик\" г. Карабаново","ВЛ","Ф-7 от ТП №12","0.22","2021-07-09T12:20:00","2021-07-09T12:40:00","В",0.33333333337213844,"ВЛ 0.22 кВ Ф-7 от ТП №12(ввод в здание)",null,null,1,0,0,1,0,0,0,1,0,0,null,"№96 2021-07-09","3.4.9.3","4.13",0,0,0]
[139,"ООО \"Энергетик\" г. Карабаново","ВЛ","Ф-1 от ТП №11","0.22","2021-07-10T15:00:00","2021-07-10T15:40:00","В",0.66666666674427688,"ВЛ 0.22 кВ Ф-1 от ТП №11(ввод в здание)",null,null,1,0,0,1,0,0,0,1,0,0,null,"№97 2021-07-10","3.4.9.3","4.13",0,0,0]
[140,"ООО \"Энергетик\" г. Карабаново","КВЛ","КРУН Ф-1001","10 (10.5)","2021-07-12T04:20:00","2021-07-12T04:58:00","В",0.63333333330228925,"КВЛ 10 (10.5) кВ КРУН Ф-1001 (ТП №44, ТП №12, ТП №11, МТП №85, МТП №86, МТП №89, МТП №90, МТП №94, МТП №99, МТП №100, МТП №102, МТП №105, МТП №106, МТП №107, МТП №110, ТП №10, ТП №45, ТП №66, ТП №27, ТП №28, ТП №72, ТП №8, ТП №18, ТП №7, ТП №32)",null,null,1535,0,0,1535,0,0,35,1500,0,0,null,"№98 2021-07-12","3.4.8.5",null,0,0,0]
[141,"ООО \"Энергетик\" г. Карабаново","ТП","МТП №87","10 (10.5)","2021-07-12T12:50:00","2021-07-12T14:30:00","В",1.6666666666860692,"ТП 10 (10.5) кВ МТП №87",null,null,2,0,0,2,0,0,0,2,0,0,null,"№99 2021-07-12","3.4.10",null,0,0,0]
[142,"ООО \"Энергетик\" г. Карабаново","ВЛ","Ф-6 от ТП №66","0.22","2021-07-14T16:40:00","2021-07-14T17:10:00","В",0.50000000005820766,"ВЛ 0.22 кВ Ф-6 от ТП №66 (ввод в здание)",null,null,1,0,0,1,0,0,0,1,0,0,null,"№100 2021-07-14","3.4.9.3","4.13",0,0,0]
[143,"ООО \"Энергетик\" г. Карабаново","ВЛ","Ф-3 от ТП №66","0.22","2021-07-15T14:45:00","2021-07-15T15:35:00","В",0.83333333325572312,"ВЛ 0.22 кВ Ф-3 от ТП №66 (ввод в здание)",null,null,1,0,0,1,0,0,0,1,0,0,null,"№101 2021-07-15","3.4.9.3","4.13",0,0,0]
[144,"ООО \"Энергетик\" г. Карабаново","ВЛ","Ф-1 от ТП №58/37","0.38","2021-07-20T06:40:00","2021-07-20T07:00:00","П",0.33333333319751546,"ВЛ 0,38кВ Ф-1 от ТП №58/37",null,null,30,0,0,30,0,0,0,30,0,0,null,null,null,null,1,0,9.9999999959254637]
[145,"ООО \"Энергетик\" г. Карабаново","ВЛ","Ф-3 от ТП №34","0.38","2021-07-22T10:45:00","2021-07-22T11:00:00","П",0.25000000011641532,"ВЛ 0,38кВ Ф-3 от ТП №34",null,null,37,0,0,37,0,0,0,37,0,0,null,null,null,null,1,0,9.2500000043073669]
[146,"ООО \"Энергетик\" г. Карабаново","ВЛ","Ф-3 от МТП №99","0.22","2021-07-23T17:40:00","2021-07-23T18:00:00","В",0.33333333337213844,"ВЛ 0.22 кВ Ф-3 от МТП №99(ввод в здание)",null,null,1,0,0,1,0,0,0,1,0,0,null,"№102 2021-07-23","3.4.9.3","4.13",0,0,0]
[147,"ООО \"Энергетик\" г. Карабаново","ВЛ","Ф-7 от ТП №13","0.22","2021-07-24T17:00:00","2021-07-24T17:30:00","В",0.49999999988358468,"ВЛ 0.22 кВ Ф-7 от ТП №13(ввод в здание)",null,null,1,0,0,1,0,0,0,1,0,0,null,"№103 2021-07-24","3.4.9.3","4.13",0,0,0]
[148,"ООО \"Энергетик\" г. Карабаново","ВЛ","Ф-4 от ТП №11","0.22","2021-07-26T11:00:00","2021-07-26T11:30:00","В",0.49999999988358468,"ВЛ 0.22 кВ Ф-4 от ТП №11 (ввод в здание)",null,null,1,0,0,1,0,0,0,1,0,0,null,"№104 2021-07-26","3.4.9.3","4.13",0,0,0]
[149,"ООО \"Энергетик\" г. Карабаново","ВЛ","Ф-5 от ТП №55","0.38","2021-07-27T09:40:00","2021-07-27T11:30:00","П",1.8333333331975155,"ВЛ 0,38кВ Ф-5 от ТП №55",null,null,46,0,0,46,0,0,0,46,0,0,null,null,null,null,1,0,84.333333327085711]
[150,"ООО \"Энергетик\" г. Карабаново","ВЛ","Ф-5 от ТП №55","0.38","2021-07-27T14:00:00","2021-07-27T16:20:00","П",2.3333333332557231,"ВЛ 0,38кВ Ф-5 от ТП №55",null,null,46,0,0,46,0,0,0,46,0,0,null,null,null,null,1,0,107.33333332976326]
[151,"ООО \"Энергетик\" г. Карабаново","ВЛ","Ф-5 от ТП №55","0.38","2021-07-28T09:00:00","2021-07-28T11:10:00","П",2.1666666667442769,"ВЛ 0,38кВ Ф-5 от ТП №55",null,null,46,0,0,46,0,0,0,46,0,0,null,null,null,null,1,0,99.666666670236737]
[152,"ООО \"Энергетик\" г. Карабаново","ВЛ","Ф-5 от ТП №55","0.38","2021-07-28T13:20:00","2021-07-28T16:00:00","П",2.6666666666278616,"ВЛ 0,38кВ Ф-5 от ТП №55",null,null,46,0,0,46,0,0,0,46,0,0,null,null,null,null,1,0,122.66666666488163]
[153,"ООО \"Энергетик\" г. Карабаново","ВЛ","Ф-5 от ТП №55","0.38","2021-07-29T09:10:00","2021-07-29T11:40:00","П",2.4999999999417923,"ВЛ 0,38кВ Ф-5 от ТП №55",null,null,46,0,0,46,0,0,0,46,0,0,null,null,null,null,1,0,114.99999999732245]
[154,"ООО \"Энергетик\" г. Карабаново","ВЛ","ВЛ 10кВ от ТП №12 до ТП №62","10(10.5)","2021-07-29T09:25:00","2021-07-29T11:50:00","П",2.4166666666860692,"МТП №94",null,null,20,0,0,20,0,0,0,20,0,0,null,null,null,null,1,0,48.333333333721384]
[155,"ООО \"Энергетик\" г. Карабаново","ВЛ","ВЛ 10кВ от ТП №72 до ТП №62","10(10.5)","2021-07-29T09:40:00","2021-07-29T12:05:00","П",2.4166666665114462,"МТП №90",null,null,77,0,0,77,0,0,0,77,0,0,null,null,null,null,1,0,186.08333332138136]
[156,"ООО \"Энергетик\" г. Карабаново","ВЛ","ВЛ 10кВ от ТП №12 до ТП №62","10(10.5)","2021-07-29T13:15:00","2021-07-29T15:55:00","П",2.6666666666278616,"МТП №94",null,null,20,0,0,20,0,0,0,20,0,0,null,null,null,null,1,0,53.333333332557231]
[157,"ООО \"Энергетик\" г. Карабаново","ВЛ","ВЛ 10кВ от ТП №72 до ТП №62","10(10.5)","2021-07-29T13:30:00","2021-07-29T15:40:00","П",2.1666666667442769,"МТП №90",null,null,77,0,0,77,0,0,0,77,0,0,null,null,null,null,1,0,166.83333333930932]
[158,"ООО \"Энергетик\" г. Карабаново","ВЛ","Ф-5 от ТП №55","0.38","2021-07-29T13:40:00","2021-07-29T16:10:00","П",2.4999999999417923,"ВЛ 0,38кВ Ф-5 от ТП №55",null,null,46,0,0,46,0,0,0,46,0,0,null,null,null,null,1,0,114.99999999732245]
[159,"ООО \"Энергетик\" г. Карабаново","ВЛ","Ф-5 от ТП №55","0.38","2021-07-30T09:00:00","2021-07-30T11:00:00","П",2.0000000000582077,"ВЛ 0,38кВ Ф-5 от ТП №55",null,null,46,0,0,46,0,0,0,46,0,0,null,null,null,null,1,0,92.000000002677552]
[160,"ООО \"Энергетик\" г. Карабаново","ВЛ","Ф-1 от МТП №106","0.22","2021-08-01T15:00:00","2021-08-01T15:30:00","В",0.50000000005820766,"ВЛ 0.22 кВ Ф-1 от МТП №106(ввод в здание)",null,null,1,0,0,1,0,0,0,1,0,0,null,"№105 2021-08-01","3.4.7.3","4.13",1,0.50000000005820766,0]
[161,"ООО \"Энергетик\" г. Карабаново","ВЛ","Ф-1 от МТП №86","0.22","2021-08-02T14:00:00","2021-08-02T14:15:00","В",0.24999999994179234,"ВЛ 0.22 кВ Ф-1 от МТП №86(ввод в здание)",null,null,1,0,0,1,0,0,0,1,0,0,null,"№106 2021-08-02","3.4.9.3","4.13",0,0,0]
[162,"ООО \"Энергетик\" г. Карабаново","ВЛ","Ф-6 от ТП №7","0.38","2021-08-03T09:50:00","2021-08-03T14:00:00","П",4.1666666668024845,"ВЛ 0.38 кВ Ф-6 от ТП №7",null,null,4,0,0,4,0,0,0,4,0,0,null,null,null,null,1,0,16.666666667209938]
[163,"ООО \"Энергетик\" г. Карабаново","ВЛ","Ф-2 и Ф-7 от ТП №18","0.38","2021-08-03T14:30:00","2021-08-03T15:00:00","П",0.50000000005820766,"ВЛ 0.38 кВ Ф-2 и Ф-7 от ТП №18",null,null,6,0,0,6,0,0,0,6,0,0,null,null,null,null,1,0,3.000000000349246]
[164,"ООО \"Энергетик\" г. Карабаново","ВЛ","Ф-2 от МТП №40","0.22","2021-08-03T18:00:00","2021-08-03T18:30:00","В",0.50000000005820766,"ВЛ 0.22 кВ Ф-2 от МТП №40(ввод в здание)",null,null,1,0,0,1,0,0,0,1,0,0,null,"№107 2021-08-03","3.4.9.3","4.13",0,0,0]
[165,"ООО \"Энергетик\" г. Карабаново","ВЛ","Ф-5 от ТП №55","0.38","2021-08-05T13:00:00","2021-08-05T16:00:00","П",3,"ВЛ 0.38 кВ Ф-5 от ТП №55",null,null,46,0,0,46,0,0,0,46,0,0,null,null,null,null,1,0,138]
[166,"ООО \"Энергетик\" г. Карабаново","ВЛ","Ф-5 от ТП №55","0.38","2021-08-06T09:30:00","2021-08-06T09:40:00","П",0.16666666668606922,"ВЛ 0.38 кВ Ф-5 от ТП №55",null,null,46,0,0,46,0,0,0,46,0,0,null,null,null,null,1,0,7.6666666675591841]
[167,"ООО \"Энергетик\" г. Карабаново","ТП","ТП №32 РУ 10кВ","10 (10.5)","2021-08-06T17:30:00","2021-08-06T18:20:00","В",0.8333333334303461,"КВЛ 10 (10.5) кВ КВЛ 10 (10.5) кВ Ф-1001 (ТП №44, ТП №12, ТП №11, МТП №85, МТП №86, МТП №89, МТП №90, МТП №94, МТП №99, МТП №100, МТП №102, МТП №105, МТП №106, МТП №107, МТП №110, ТП №10, ТП №45, ТП №66, ТП №27, ТП №28, ТП №72, ТП №8, ТП №18, ТП №7, ТП №32)",null,null,1535,0,0,1535,0,0,35,1500,0,0,null,"№108 2021-08-06","3.4.8.5",null,0,0,0]
[168,"ООО \"Энергетик\" г. Карабаново","ВЛ","Ф-10 от ТП №56","0.22","2021-08-07T10:00:00","2021-08-07T10:40:00","В",0.66666666674427688,"ВЛ 0.22 кВ Ф-10 от ТП №56(ввод в здание)",null,null,1,0,0,1,0,0,0,1,0,0,null,"№109 2021-08-07","3.4.9.3","4.13",0,0,0]
[169,"ООО \"Энергетик\" г. Карабаново","ВЛ","Ф-3 от ТП №8","0.22","2021-08-07T11:00:00","2021-08-07T11:30:00","В",0.49999999988358468,"ВЛ 0.22 кВ Ф-3 от ТП №8(ввод в здание)",null,null,1,0,0,1,0,0,0,1,0,0,null,"№110 2021-08-07","3.4.9.3","4.13",0,0,0]
[170,"ООО \"Энергетик\" г. Карабаново","ВЛ","Ф-5 от ТП №55","0.38","2021-08-07T15:30:00","2021-08-07T15:55:00","П",0.41666666662786156,"ВЛ 0.38 кВ Ф-5 от ТП №55",null,null,46,0,0,46,0,0,0,46,0,0,null,null,null,null,1,0,19.166666664881632]
[171,"ООО \"Энергетик\" г. Карабаново","ВЛ","Ф-2 от ТП №40","0.22","2021-08-07T16:35:00","2021-08-07T16:55:00","В",0.33333333337213844,"ВЛ 0.22 кВ Ф-2 от ТП №40(ввод в здание)",null,null,1,0,0,1,0,0,0,1,0,0,null,"№111 2021-08-07","3.4.9.3","4.13",0,0,0]
[172,"ООО \"Энергетик\" г. Карабаново","ВЛ","Ф-5 от ТП №55","0.38","2021-08-09T13:00:00","2021-08-09T16:00:00","П",3,"ВЛ 0.38 кВ Ф-5 от ТП №55",null,null,46,0,0,46,0,0,0,46,0,0,null,null,null,null,1,0,138]
[173,"ООО \"Энергетик\" г. Карабаново","ВЛ","Ф-3 от ТП №66(ввод в здание)","0.22","2021-08-09T13:00:00","2021-08-09T13:30:00","В",0.50000000005820766,"ВЛ 0.22 кВ Ф-3 от ТП №66(ввод в здание)",null,null,1,0,0,1,0,0,0,1,0,0,null,"№112 2021-08-09","3.4.9.3","4.13",0,0,0]
[174,"ООО \"Энергетик\" г. Карабаново","ВЛ","Ф-2 от ТП №45(ввод в здание)","0.22","2021-08-09T17:30:00","2021-08-09T17:30:00","В",0,"ВЛ 0.22 кВ Ф-2 от ТП №45(ввод в здание)",null,null,1,0,0,1,0,0,0,1,0,0,null,"№113 2021-08-09","3.4.9.3","4.13",0,0,0]
[175,"ООО \"Энергетик\" г. Карабаново","ВЛ","Ф-2 от ТП №45(ввод в здание)","0.22","2021-08-09T17:30:00","2021-08-09T18:00:00","В",0.50000000005820766,"ВЛ 0.22 кВ Ф-2 от ТП №45(ввод в здание)",null,null,1,0,0,1,0,0,0,1,0,0,null,"№113 2021-08-09","3.4.9.3","4.13",0,0,0]
[176,"ООО \"Энергетик\" г. Карабаново","ВЛ","Ф-3 от ТП №3 (ввод в здание)","0.22","2021-08-10T09:15:00","2021-08-10T09:30:00","В",0.25000000011641532,"ВЛ 0.22 кВ Ф-3 от ТП №3 (ввод в здание)",null,null,1,0,0,1,0,0,0,1,0,0,null,"№114 2021-08-10","3.4.9.3","4.13",0,0,0]
[177,"ООО \"Энергетик\" г. Карабаново","ВЛ","Ф-1 от ТП №3","0.38","2021-08-10T09:30:00","2021-08-10T11:00:00","П",1.5,"ВЛ 0.38 кВ Ф-1 от ТП №3",null,null,52,0,0,52,0,0,0,52,0,0,null,null,null,null,1,0,78]
[178,"ООО \"Энергетик\" г. Карабаново","ВЛ","Ф-1 от ТП №3","0.38","2021-08-10T13:50:00","2021-08-10T15:10:00","П",1.3333333333139308,"ВЛ 0.38 кВ Ф-1 от ТП №3",null,null,52,0,0,52,0,0,0,52,0,0,null,null,null,null,1,0,69.333333332324401]
[179,"ООО \"Энергетик\" г. Карабаново","ВЛ","Ф-1 от ТП №3","0.38","2021-08-12T09:15:00","2021-08-12T11:10:00","П",1.9166666668024845,"ВЛ 0.38 кВ Ф-1 от ТП №3",null,null,52,0,0,52,0,0,0,52,0,0,null,null,null,null,1,0,99.666666673729196]
[180,"ООО \"Энергетик\" г. Карабаново","ТП","ТП №32 РУ 10кВ","10(10.5)","2021-08-12T13:40:00","2021-08-12T14:40:00","П",0.99999999994179234,"ТП №32",null,null,68,0,0,68,0,0,0,68,0,0,null,null,null,null,1,0,67.999999996041879]
[181,"ООО \"Энергетик\" г. Карабаново","ВЛ","Ф-2 от ТП №45(ввод в здание)","0.38","2021-08-15T14:20:00","2021-08-15T14:50:00","В",0.50000000005820766,"ВЛ 0.38 кВ Ф-2 от ТП №45(ввод в здание)",null,null,1,0,0,1,0,0,0,1,0,0,null,"№115 2021-08-15","3.4.9.3","4.13",0,0,0]
[182,"ООО \"Энергетик\" г. Карабаново","ВЛ","Ф-5 от ТП №55(ввод в здание)","0.22","2021-08-16T18:45:00","2021-08-16T19:00:00","В",0.24999999994179234,"ВЛ 0.22 кВ Ф-5 от ТП №55(ввод в здание)",null,null,1,0,0,1,0,0,0,1,0,0,null,"№116 2021-08-16","3.4.9.3","4.13",0,0,0]
[183,"ООО \"Энергетик\" г. Карабаново","ВЛ","Ф-2 от МТП №108(ввод в здание)","0.22","2021-08-17T13:45:00","2021-08-17T14:20:00","В",0.58333333331393078,"ВЛ 0.22 кВ Ф-2 от МТП №108(ввод в здание)",null,null,1,0,0,1,0,0,0,1,0,0,null,"№117 2021-08-17","3.4.7.3","4.13",1,0.58333333331393078,0]
[184,"ООО \"Энергетик\" г. Карабаново","ВЛ","Ф-2 от МТП №90(ввод в здание)","0.22","2021-08-17T19:40:00","2021-08-17T20:30:00","В",0.83333333325572312,"ВЛ 0.22 кВ Ф-2 от МТП №90(ввод в здание)",null,null,1,0,0,1,0,0,0,1,0,0,null,"№118 2021-08-17","3.4.13.3","4.13",1,0.83333333325572312,0]
[185,"ООО \"Энергетик\" г. Карабаново","ТП","ТП №18 РУ 10кВ","10(10.5)","2021-08-18T13:25:00","2021-08-18T14:30:00","П",1.0833333331975155,"ТП №18",null,null,90,0,0,90,0,0,0,90,0,0,null,null,null,null,1,0,97.499999987776391]
[186,"ООО \"Энергетик\" г. Карабаново","ТП","ТП №18 РУ 10кВ","10(10.5)","2021-08-19T09:30:00","2021-08-19T11:30:00","П",1.9999999998835847,"ТП №18",null,null,90,0,0,90,0,0,0,90,0,0,null,null,null,null,1,0,179.99999998952262]
[187,"ООО \"Энергетик\" г. Карабаново","ВЛ","Ф-10 от ТП №63","0.38","2021-08-19T10:15:00","2021-08-19T10:40:00","П",0.41666666662786156,"ВЛ 0.38кВ Ф-10 от ТП №63",null,null,4,0,0,4,0,0,0,4,0,0,null,null,null,null,1,0,1.6666666665114462]
[188,"ООО \"Энергетик\" г. Карабаново","ВЛ","Ф-7 от ТП №63","0.38","2021-08-19T10:25:00","2021-08-19T10:55:00","П",0.49999999988358468,"ВЛ 0.38кВ Ф-7 от ТП №63",null,null,2,0,0,2,0,0,0,2,0,0,null,null,null,null,1,0,0.99999999976716936]
[189,"ООО \"Энергетик\" г. Карабаново","ВЛ","ВЛ 0,22 кВ ввод в здание","0.22","2021-08-20T20:20:00","2021-08-20T20:40:00","В",0.33333333337213844,"ВЛ 0.22 кВ ввод в здание",null,null,1,0,0,1,0,0,0,1,0,0,null,"№119 2021-08-20","3.4.9.3","4.13",0,0,0]
[190,"ООО \"Энергетик\" г. Карабаново","ВЛ","Ф-2 от ТП №72(ввод в здание)","0.22","2021-08-23T08:45:00","2021-08-23T09:20:00","В",0.58333333331393078,"ВЛ 0.22 кВ Ф-2 от ТП №72(ввод в здание)",null,null,1,0,0,1,0,0,0,1,0,0,null,"№120 2021-08-23","3.4.9.3","4.13",0,0,0]
[191,"ООО \"Энергетик\" г. Карабаново","ВЛ","Ф-1 от ТП №3","0.38","2021-08-23T14:00:00","2021-08-23T14:20:00","П",0.33333333319751546,"ВЛ 0.38 кВ Ф-1 от ТП №3",null,null,52,0,0,52,0,0,0,52,0,0,null,null,null,null,1,0,17.333333326270804]
[192,"ООО \"Энергетик\" г. Карабаново","ВЛ","Ф-1 от ТП №3","0.38","2021-08-24T09:55:00","2021-08-24T10:00:00","П",8.3333333255723119E-2,"ВЛ 0.38 кВ Ф-1 от ТП №3",null,null,52,0,0,52,0,0,0,52,0,0,null,null,null,null,1,0,4.3333333292976022]
[193,"ООО \"Энергетик\" г. Карабаново","ТП","ТП №18 РУ 10кВ","10(10.5)","2021-08-24T13:50:00","2021-08-24T14:00:00","П",0.16666666668606922,"ТП №18",null,null,90,0,0,90,0,0,0,90,0,0,null,null,null,null,1,{"$f":"(IF(AND(H203=$H$307,AA203=1),M203*I203,0))","v":0},{"$f":"IF(H203=$H$305,M203*I203,0)","v":15.00000000174623}]
[194,"ООО \"Энергетик\" г. Карабаново","ВЛ","Ф-1 от ТП №3","0.38","2021-08-25T09:00:00","2021-08-25T09:15:00","П",0.24999999994179234,"ВЛ 0.38 кВ Ф-1 от ТП №3",null,null,52,0,0,52,0,0,0,52,0,0,null,null,null,null,1,0,12.999999996973202]
[195,"ООО \"Энергетик\" г. Карабаново","ВЛ","ВЛ 10кВ от ТП №72 до ТП №62","10(10.5)","2021-08-26T09:30:00","2021-08-26T09:35:00","П",8.3333333255723119E-2,"МТП №90",null,null,76,0,0,76,0,0,0,76,0,0,null,null,null,null,1,0,6.333333327434957]
[196,"ООО \"Энергетик\" г. Карабаново","ВЛ","Ф-6 от ТП №13(ввод в здание)","0.22","2021-08-26T17:50:00","2021-08-26T18:20:00","В",0.50000000005820766,"ВЛ 0.22 кВ Ф-6 от ТП №13(ввод в здание)",null,null,1,0,0,1,0,0,0,1,0,0,null,"№121 2021-08-26","3.4.9.3","4.13",0,0,0]
[197,"ООО \"Энергетик\" г. Карабаново","ВЛ","Ф-1 от МТП №110(ввод в здание)","0.38","2021-08-28T08:10:00","2021-08-28T08:45:00","В",0.58333333331393078,"ВЛ 0.38 кВ Ф-1 от МТП №110(ввод в здание)",null,null,1,0,0,1,0,0,0,1,0,0,null,"№122 2021-08-28","3.4.9.3","4.13",0,0,0]
[198,"ООО \"Энергетик\" г. Карабаново","ВЛ","Ф-15 от ТП №34","0.38","2021-08-30T13:10:00","2021-08-30T14:20:00","П",{"$f":"(G208-F208)*24","v":1.1666666666278616},"ВЛ 0.38 кВ Ф-15 от ТП №34",null,null,{"$f":"N208+O208+P208+U208","v":32},0,0,32,0,0,0,32,0,0,null,null,null,null,1,0,37.33333333209157]
[199,"ООО \"Энергетик\" г. Карабаново","ВЛ","Ф-7 от ТП №38(ввод в здание)","0.22","2021-08-30T18:00:00","2021-08-30T18:30:00","В",0.50000000005820766,"ВЛ 0.22 кВ Ф-7 от ТП №38(ввод в здание)",null,null,1,0,0,1,0,0,0,1,0,0,null,"№123 2021-08-30","3.4.9.3","4.13",0,0,0]
[200,"ООО \"Энергетик\" г. Карабаново","ВЛ","Ф-1 от ТП №3","0.38","2021-08-31T14:00:00","2021-08-31T14:30:00","П",0.49999999988358468,"ВЛ 0.38 кВ Ф-1 от ТП №3",null,null,52,0,0,52,0,0,0,52,0,0,null,null,null,null,1,0,25.999999993946403]
[201,"ООО \"Энергетик\" г. Карабаново","ВЛ","Ф-2 от ТП №3","0.38","2021-09-02T09:00:00","2021-09-02T09:30:00","П",0.50000000005820766,"ВЛ 0.38кВ Ф-2 от ТП №3 ",null,null,52,0,0,52,0,0,0,52,0,0,null,null,null,null,1,0,26.000000003026798]
[202,"ООО \"Энергетик\" г. Карабаново","ВЛ","ВЛ 10кВ от ТП №8 до ТП №26","10(10.5)","2021-09-03T09:00:00","2021-09-03T09:50:00","П",0.83333333325572312,"МТП №107, МТП №110",null,null,8,0,0,8,0,0,0,8,0,0,null,null,null,null,1,0,6.666666666045785]
[203,"ООО \"Энергетик\" г. Карабаново","ВЛ","Ф-24 от ТП №62(ввод в здание)","0.22","2021-09-03T19:30:00","2021-09-03T19:45:00","В",0.24999999994179234,"ВЛ 0.22 кВ Ф-24 от ТП №62(ввод в здание)",null,null,1,0,0,1,0,0,0,1,0,0,null,"№124 2021-09-03","3.4.9.3","4.13",0,0,0]
[204,"ООО \"Энергетик\" г. Карабаново","ВЛ","Ф-2 от ТП №72(ввод в здание)","0.22","2021-09-06T18:30:00","2021-09-06T19:17:00","В",0.78333333326736465,"ВЛ 0.22 кВ Ф-2 от ТП №72(ввод в здание)",null,null,1,0,0,1,0,0,0,1,0,0,null,"№125 2021-09-06","3.4.9.3","4.13",0,0,0]
[205,"ООО \"Энергетик\" г. Карабаново","ВЛ","Ф-5 от ТП №8(ввод в здание)","0.38","2021-09-06T21:10:00","2021-09-06T21:35:00","В",0.41666666662786156,"ВЛ 0.38 кВ Ф-5 от ТП №8(ввод в здание)",null,null,1,0,0,1,0,0,0,1,0,0,null,"№126 2021-09-06","3.4.9.3","4.13",0,0,0]
[206,"ООО \"Энергетик\" г. Карабаново","ВЛ","Ф-4 от ТП №55 (ввод в здание)","0.22","2021-09-09T17:45:00","2021-09-09T18:15:00","В",0.49999999988358468,"ВЛ 0.22 кВ Ф-4 от ТП №55 (ввод в здание)",null,null,1,0,0,1,0,0,0,1,0,0,null,"№127 2021-09-09","3.4.9.3","4.13",0,0,0]
[207,"ООО \"Энергетик\" г. Карабаново","ВЛ","ВЛ 10кВ от ТП №41 до ТП №91","10(10.5)","2021-09-10T15:30:00","2021-09-10T16:00:00","П",0.49999999988358468,"ТП №91",null,null,6,0,0,6,0,0,0,6,0,0,null,null,null,null,1,0,2.9999999993015081]
[208,"ООО \"Энергетик\" г. Карабаново","ВЛ","Ф-3 от ТП №45(ввод в здание)","0.22","2021-09-11T11:00:00","2021-09-11T12:30:00","В",1.5,"ВЛ 0.22 кВ Ф-3 от ТП №45(ввод в здание)",null,null,1,0,0,1,0,0,0,1,0,0,null,"№128 2021-09-11","3.4.7.3","4.13",1,1.5,0]
[209,"ООО \"Энергетик\" г. Карабаново","ВЛ","Ф-6 от ТП №13(ввод в здание)","0.22","2021-09-13T21:00:00","2021-09-13T21:30:00","В",0.50000000005820766,"ВЛ 0.22 кВ Ф-6 от ТП №13(ввод в здание)",null,null,1,0,0,1,0,0,0,1,0,0,null,"№129 2021-09-13","3.4.9.3","4.13",0,0,0]
[210,"ООО \"Энергетик\" г. Карабаново","ВЛ","ВЛ 10кВ от ТП №12 до ТП №62, ВЛ 10кВ от ТП №72 до ТП №62","10(10.5)","2021-09-13T23:00:00","2021-09-14T02:00:00","П",3,"ТП №62, МТП №90, МТП №94",null,null,268,0,0,268,0,0,0,268,0,0,null,null,null,null,1,0,804]
[211,"ООО \"Энергетик\" г. Карабаново","ВЛ","Ф-6 от ТП №13(ввод в здание)","0.22","2021-09-14T11:00:00","2021-09-14T11:30:00","В",0.49999999988358468,"ВЛ 0.22 кВ Ф-6 от ТП №13(ввод в здание)",null,null,1,0,0,1,0,0,0,1,0,0,null,"№130 2021-09-14","3.4.9.3","4.13",0,0,0]
[212,"ООО \"Энергетик\" г. Карабаново","ВЛ","ТП №41 ","10(10.5)","2021-09-15T14:00:00","2021-09-15T14:50:00","П",0.83333333325572312,"ТП №41",null,null,21,0,0,21,0,0,0,21,0,0,null,null,null,null,1,0,17.499999998370185]
[213,"ООО \"Энергетик\" г. Карабаново","ВЛ","ТП №20 ","10(10.5)","2021-09-16T10:30:00","2021-09-16T11:45:00","П",1.2500000000582077,"ТП №20",null,null,38,0,0,38,0,0,0,38,0,0,null,null,null,null,1,0,47.500000002211891]
[214,"ООО \"Энергетик\" г. Карабаново","ВЛ","Ф-1 от ТП №40 (ввод в здание)","0.38","2021-09-16T18:10:00","2021-09-16T18:30:00","В",0.33333333337213844,"ВЛ 0.38 кВ Ф-1 от ТП №40 (ввод в здание)",null,null,1,0,0,1,0,0,0,1,0,0,null,"№131 2021-09-16","3.4.9.3","4.13",0,0,0]
[215,"ООО \"Энергетик\" г. Карабаново","ВЛ","Ф-3 от ТП №10(ввод в здание)","0.22","2021-09-20T08:20:00","2021-09-20T08:55:00","В",0.58333333348855376,"ВЛ 0.22 кВ Ф-3 от ТП №10(ввод в здание)",null,null,1,0,0,1,0,0,0,1,0,0,null,"№132 2021-09-20","3.4.13.3","4.13",1,0.58333333348855376,0]
[216,"ООО \"Энергетик\" г. Карабаново","ВЛ","Ф-5 от ТП №2(ввод в здание)","0.38","2021-09-20T10:20:00","2021-09-20T10:40:00","В",0.33333333337213844,"ВЛ 0.38 кВ Ф-5 от ТП №2(ввод в здание)",null,null,1,0,0,1,0,0,0,1,0,0,null,"№133 2021-09-20","3.4.9.3","4.13",0,0,0]
[217,"ООО \"Энергетик\" г. Карабаново","ВЛ","Ф-3 от ТП №34","0.38","2021-09-20T13:45:00","2021-09-20T15:00:00","П",1.2500000000582077,"ВЛ 0.38 кВ Ф-3 от ТП №34",null,null,32,0,0,32,0,0,0,32,0,0,null,null,null,null,1,0,40.000000001862645]
[218,"ООО \"Энергетик\" г. Карабаново","ВЛ","Ф-1 от ТП №40 (ввод в здание)","0.38","2021-09-23T14:00:00","2021-09-23T15:00:00","В",0.99999999994179234,"ВЛ 0.38 кВ Ф-1 от ТП №40 (ввод в здание)",null,null,1,0,0,1,0,0,0,1,0,0,null,"№134 2021-09-23","3.4.9.3","4.13",0,0,0]
[219,"ООО \"Энергетик\" г. Карабаново","ВЛ","Ф-5 от ТП №63(ввод в здание)","0.38","2021-09-23T18:10:00","2021-09-23T18:50:00","В",0.6666666665696539,"ВЛ 0.38 кВ Ф-5 от ТП №63(ввод в здание)",null,null,1,0,0,1,0,0,0,1,0,0,null,"№135 2021-09-23","3.4.9.3",null,0,0,0]
[220,"ООО \"Энергетик\" г. Карабаново","ВЛ","Ф-5 от ТП №63","0.38","2021-09-24T09:30:00","2021-09-24T10:45:00","П",1.2499999998835847,"ВЛ 0.38 кВ Ф-5 от ТП №63",null,null,2,0,0,2,0,0,0,2,0,0,null,null,null,null,1,0,2.4999999997671694]
[221,"ООО \"Энергетик\" г. Карабаново","ВЛ","ВЛ 10кВ от ТП №63 до ТП №6","10(10.5)","2021-09-27T10:05:00","2021-09-27T10:25:00","П",0.33333333337213844,"МТП №109",null,null,4,0,0,4,0,0,0,4,0,0,null,null,null,null,1,0,1.3333333334885538]
[222,"ООО \"Энергетик\" г. Карабаново","ТП","МТП №96       РУ 0,4кВ","0.38","2021-09-27T10:30:00","2021-09-27T10:33:00","П",4.9999999988358468E-2,"МТП №96     РУ 0.4кВ",null,null,1,0,0,1,0,0,0,1,0,0,null,null,null,null,1,0,4.9999999988358468E-2]
[223,"ООО \"Энергетик\" г. Карабаново","ВЛ","ТП №27","10(10.5)","2021-09-28T13:55:00","2021-09-28T14:15:00","П",0.33333333337213844,"ТП №27",null,null,2,0,0,2,0,0,0,2,0,0,null,null,null,null,1,0,0.66666666674427688]
[224,"ООО \"Энергетик\" г. Карабаново","ВЛ","Ф-3 от ТП №45(ввод в здание)","0.22","2021-09-28T17:00:00","2021-09-28T17:30:00","В",0.49999999988358468,"ВЛ 0.22 кВ Ф-3 от ТП №45(ввод в здание)",null,null,1,0,0,1,0,0,0,1,0,0,null,"№136 2021-09-28","3.4.9.3","4.13",0,0,0]
[225,"ООО \"Энергетик\" г. Карабаново","ВЛ","Ф-2 от ТП №32(ввод в здание)","0.22","2021-09-28T18:10:00","2021-09-28T18:40:00","В",0.50000000005820766,"ВЛ 0.22 кВ Ф-2 от ТП №32(ввод в здание)",null,null,1,0,0,1,0,0,0,1,0,0,null,"№137 2021-09-28","3.4.9.3","4.13",0,0,0]
[226,"ООО \"Энергетик\" г. Карабаново","ВЛ","ВЛ 10кВ от ТП №18 до ТП №8","10(10.5)","2021-09-29T09:10:00","2021-09-29T13:00:00","П",3.8333333332557231,"МТП №102",null,null,87,0,0,87,0,0,0,87,0,0,null,null,null,null,1,0,333.49999999324791]
[227,"ООО \"Энергетик\" г. Карабаново","ВЛ","РЛНД на ВЛ 10кВ от ТП №8 до ТП №26","10(10.5)","2021-10-02T13:00:00","2021-10-02T14:00:00","П",1.0000000001164153,"ТП №26, МТП №110",null,null,8,0,0,8,0,0,0,8,0,0,null,null,null,null,1,0,8.0000000009313226]
[228,"ООО \"Энергетик\" г. Карабаново","ВЛ","Ф-4 от ТП №66 (ввод в здание)","0.22","2021-10-04T11:45:00","2021-10-04T12:00:00","В",0.24999999994179234,"ВЛ 0.22 кВ Ф-4 от ТП №66 (ввод в здание)",null,null,1,0,0,1,0,0,0,1,0,0,null,"№138 2021-10-04","3.4.9.3","4.13",0,0,0]
[229,"ООО \"Энергетик\" г. Карабаново","ВЛ","Ф-3 от ТП №10 (ввод в здание)","0.22","2021-10-04T19:30:00","2021-10-04T19:45:00","В",0.24999999994179234,"ВЛ 0.22 кВ Ф-3 от ТП №10 (ввод в здание)",null,null,1,0,0,1,0,0,0,1,0,0,null,"№139 2021-10-04","3.4.9.3","4.13",0,0,0]
[230,"ООО \"Энергетик\" г. Карабаново","ВЛ","Ф-24 от ТП №62(ввод в здание)","0.22","2021-10-07T17:30:00","2021-10-07T18:00:00","В",0.50000000005820766,"ВЛ 0.22 кВ Ф-24 от ТП №62(ввод в здание)",null,null,1,0,0,1,0,0,0,1,0,0,null,"№140 2021-10-07","3.4.9.3","4.13",0,0,0]
[231,"ООО \"Энергетик\" г. Карабаново","ВЛ","Ф-7 от ТП №1(ввод в здание)","0.22","2021-10-11T08:30:00","2021-10-11T09:00:00","В",0.50000000005820766,"ВЛ 0.22 кВ Ф-7 от ТП №1(ввод в здание)",null,null,1,0,0,1,0,0,0,1,0,0,null,"№141 2021-10-11","3.4.9.3","4.13",0,0,0]
[232,"ООО \"Энергетик\" г. Карабаново","ТП","ТП №10 РУ 10кВ силовой трансформатор","10(10.5)","2021-10-12T09:00:00","2021-10-12T09:30:00","П",0.50000000005820766,"ТП №10",null,null,108,0,0,108,0,0,0,108,0,0,null,null,null,null,1,0,54.000000006286427]
[233,"ООО \"Энергетик\" г. Карабаново","ВЛ","Ф-1 от МТП №110(ввод в здание)","0.38","2021-10-12T12:15:00","2021-10-12T12:25:00","В",0.16666666668606922,"ВЛ 0.38 кВ Ф-1 от МТП №110(ввод в здание)",null,null,1,0,0,1,0,0,0,1,0,0,null,"№142 2021-10-12","3.4.9.3","4.13",0,0,0]
[234,"ООО \"Энергетик\" г. Карабаново","ВЛ","РЛНД на ВЛ 10кВ от ТП №8 до ТП №26","10(10.5)","2021-10-13T09:10:00","2021-10-13T10:10:00","П",0.99999999994179234,"ТП №26, МТП №110",null,null,8,0,0,8,0,0,0,8,0,0,null,null,null,null,1,0,7.9999999995343387]
[235,"ООО \"Энергетик\" г. Карабаново","ВЛ","Ф-10 от ТП №20(ввод в здание)","0.38","2021-10-16T12:00:00","2021-10-16T12:30:00","В",0.50000000005820766,"ВЛ 0.38 кВ Ф-10 от ТП №20(ввод в здание)",null,null,1,0,0,1,0,0,0,1,0,0,null,"№143 2021-10-16","3.4.9.3","4.13",0,0,0]
[236,"ООО \"Энергетик\" г. Карабаново","ВЛ","Ф-6 от ТП №1 ","0.38","2021-10-18T14:50:00","2021-10-18T15:20:00","П",0.50000000005820766,"ВЛ 0.38 кВ Ф-6 от ТП №1",null,null,5,0,0,5,0,0,0,5,0,0,null,null,null,null,1,0,2.5000000002910383]
[237,"ООО \"Энергетик\" г. Карабаново","ВЛ","Ф-2 от ТП №28 (ввод в здание)","0.22","2021-10-18T17:30:00","2021-10-18T17:50:00","В",0.33333333337213844,"ВЛ 0.22 кВ Ф-2 от ТП №28 (ввод в здание)",null,null,1,0,0,1,0,0,0,1,0,0,null,"№144 2021-10-18","3.4.9.3","4.13",0,0,0]
[238,"ООО \"Энергетик\" г. Карабаново","ВЛ","ВЛ 10кВ от ТП №6 до ТП №63","10(10.5)","2021-10-28T08:45:00","2021-10-28T09:00:00","П",0.24999999994179234,"МТП №109",null,null,4,0,0,4,0,0,0,4,0,0,null,null,null,null,1,0,0.99999999976716936]
[239,"ООО \"Энергетик\" г. Карабаново","ВЛ","Ф-1 от ТП №18(ввод в здание)","0.22","2021-10-31T18:00:00","2021-10-31T18:20:00","В",0.33333333337213844,"ВЛ 0.22 кВ Ф-1 от ТП №18(ввод в здание)",null,null,1,0,0,1,0,0,0,1,0,0,null,"№145 2021-10-31","3.4.9.3","4.13",0,0,0]
[240,"ООО \"Энергетик\" г. Карабаново","ВЛ","Ф-3 от МТП №106(ввод в здание)","0.38","2021-11-01T16:30:00","2021-11-01T17:00:00","В",0.50000000005820766,"ВЛ 0.38 кВ Ф-3 от МТП №106(ввод в здание)",null,null,1,0,0,1,0,0,0,1,0,0,null,"№146 2021-11-01","3.4.13.3","4.13",1,0.50000000005820766,0]
[241,"ООО \"Энергетик\" г. Карабаново","ТП","ТП №1 силовой ТР-Р","10(10.5)","2021-11-02T09:00:00","2021-11-02T10:00:00","П",0.99999999994179234,"ТП 10 (10.5) кВ ТП №1 силовой ТР-Р, РУ 0,4кВ",null,null,22,0,0,22,0,0,0,22,0,0,null,null,null,null,1,0,21.999999998719431]
[242,"ООО \"Энергетик\" г. Карабаново","ТП","ТП №10 силовой ТР-Р","10(10.5)","2021-11-03T10:00:00","2021-11-03T11:00:00","П",1.0000000001164153,"ТП 10 (10.5) кВ ТП №10 силовой ТР-Р, РУ 0,4кВ",null,null,113,0,0,113,0,0,0,113,0,0,null,null,null,null,1,0,113.00000001315493]
[243,"ООО \"Энергетик\" г. Карабаново","ВЛ","Ф-3 от ТП №20(ввод в здание)","0.38","2021-11-03T19:50:00","2021-11-03T20:50:00","В",0.99999999994179234,"ВЛ 0.38 кВ Ф-3 от ТП №20(ввод в здание)",null,null,1,0,0,1,0,0,0,1,0,0,null,"№147 2021-11-03","3.4.7.3","4.13",1,0.99999999994179234,0]
[244,"ООО \"Энергетик\" г. Карабаново","ВЛ","Ф-3 от МТП №106","0.38","2021-11-08T08:30:00","2021-11-08T09:00:00","П",0.50000000005820766,"ВЛ 0.38 кВ Ф-3 от МТП №106",null,null,9,0,0,9,0,0,0,9,0,0,null,null,null,null,1,0,4.5000000005238689]
[245,"ООО \"Энергетик\" г. Карабаново","ВЛ","ТП №11 силовой ТР-Р","10(10.5)","2021-11-08T13:20:00","2021-11-08T14:10:00","П",0.8333333334303461,"ТП 10 (10.5) кВ ТП №11 силовой ТР-Р, РУ 0,4кВ",null,null,150,0,0,150,0,0,0,150,0,0,null,null,null,null,1,0,125.00000001455192]
[246,"ООО \"Энергетик\" г. Карабаново","ВЛ","Ф-10 от ТП №63(ввод в здание)","0.38","2021-11-12T10:00:00","2021-11-12T11:20:00","П",1.3333333333139308,"ВЛ 0.38 кВ Ф-10 от ТП №63(ввод в здание)",null,null,1,0,0,1,0,0,0,1,0,0,null,null,null,null,1,0,1.3333333333139308]
[247,"ООО \"Энергетик\" г. Карабаново","ВЛ","Ф-10 от ТП №56(ввод в здание)","0.22","2021-11-13T09:20:00","2021-11-13T09:50:00","В",0.49999999988358468,"ВЛ 0.22 кВ Ф-10 от ТП №56(ввод в здание)",null,null,1,0,0,1,0,0,0,1,0,0,null,"№148 2021-11-13","3.4.9.3","4.13",0,0,0]
[248,"ООО \"Энергетик\" г. Карабаново","КЛ","Ф-4 от ТП №32","0.38","2021-11-16T09:35:00","2021-11-16T09:45:00","П",0.16666666668606922,"КЛ 0.38 кВ Ф-4 от ТП №32",null,null,2,0,0,2,0,0,0,2,0,0,null,null,null,null,1,0,0.33333333337213844]
[249,"ООО \"Энергетик\" г. Карабаново","ТП","ТП №19","10(10.5)","2021-11-16T13:00:00","2021-11-16T15:45:00","П",2.7500000000582077,"ТП 10(10.5)кВ ТП №19",null,null,14,0,0,14,0,0,0,14,0,0,null,null,null,null,1,0,38.500000000814907]
[250,"ООО \"Энергетик\" г. Карабаново","ВЛ","Ф-7 от ТП №12(ввод в здание)","0.22","2021-11-21T16:30:00","2021-11-21T16:45:00","В",0.24999999994179234,"ВЛ 0.22 кВ Ф-7 от ТП №12(ввод в здание)",null,null,1,0,0,1,0,0,0,1,0,0,null,"№149 2022-01-21","3.4.9.3","4.13",0,0,0]
[251,"ООО \"Энергетик\" г. Карабаново","ТП","МТП №88","10 (10.5)","2021-11-25T09:00:00","2021-11-25T09:45:00","В",0.75,"ТП 10 (10.5) кВ МТП №88",null,null,1,0,0,1,0,0,0,1,0,0,null,"№150 2021-11-25","3.4.8.5",null,0,0,0]
[252,"ООО \"Энергетик\" г. Карабаново","ВЛ","Ф-3 от ТП №18(ввод в здание)","0.22","2021-11-25T10:00:00","2021-11-25T10:30:00","В",0.50000000005820766,"ВЛ 0.22 кВ Ф-3 от ТП №18(ввод в здание)",null,null,1,0,0,1,0,0,0,1,0,0,null,"№151 2021-11-25","3.4.9.3","4.13",0,0,0]
[253,"ООО \"Энергетик\" г. Карабаново","ТП","МТП №88","10 (10.5)","2021-11-25T21:25:00","2021-11-25T21:32:00","П",0.11666666669771075,"ТП 10 (10.5) кВ МТП №88",null,null,1,0,0,1,0,0,0,1,0,0,null,null,null,null,1,0,0.11666666669771075]
[254,"ООО \"Энергетик\" г. Карабаново","ВЛ","Ф-1 от ТП №18(ввод в здание)","0.22","2021-11-26T13:30:00","2021-11-26T14:00:00","В",0.50000000005820766,"ВЛ 0.22 кВ Ф-1 от ТП №18(ввод в здание)",null,null,1,0,0,1,0,0,0,1,0,0,null,"№152 2021-11-26","3.4.9.3","4.13",0,0,0]
[255,"ООО \"Энергетик\" г. Карабаново","ВЛ","Ф-15 от ТП 34(ввод в здание)","0.22","2021-11-27T13:30:00","2021-11-27T14:00:00","В",0.50000000005820766,"ВЛ 0.22 кВ Ф-15 от ТП 34(ввод в здание)",null,null,1,0,0,1,0,0,0,1,0,0,null,"№153 2021-11-27","3.4.9.3","4.13",0,0,0]
[256,"ООО \"Энергетик\" г. Карабаново","ВЛ","Ф-6 от ТП №13(ввод в здание)","0.22","2021-11-27T18:45:00","2021-11-27T19:15:00","В",0.50000000005820766,"ВЛ 0.22 кВ Ф-6 от ТП №13(ввод в здание)",null,null,1,0,0,1,0,0,0,1,0,0,null,"№154 2021-11-27","3.4.9.3","4.13",0,0,0]
[257,"ООО \"Энергетик\" г. Карабаново","ВЛ","Ф-1 от ТП №10(ввод в здание)","0.22","2021-11-29T16:00:00","2021-11-29T16:30:00","В",0.50000000005820766,"ВЛ 0.22 кВ Ф-1 от ТП №10(ввод в здание)",null,null,1,0,0,1,0,0,0,1,0,0,null,"№155 2021-11-29","3.4.9.3","4.13",0,{"$f":"(IF(AND(H267=$H$307,AA267=1),M267*I267,0))","v":0},{"$f":"IF(H267=$H$305,M267*I267,0)","v":0}]
[258,"ООО \"Энергетик\" г. Карабаново","ВЛ","Ф-3 от ТП №8 (ввод в здание)","0.22","2021-12-05T13:00:00","2021-12-05T13:45:00","В",0.75,"ВЛ 0.22 кВ Ф-3 от ТП №8 (ввод в здание)",null,null,1,0,0,1,0,0,0,1,0,0,null,"№156 2021-12-05","3.4.9.3","4.13",0,0,0]
[259,"ООО \"Энергетик\" г. Карабаново","ВЛ","Ф-1 от МТП №90(ввод в здание)","0.22","2021-12-09T15:45:00","2021-12-09T16:00:00","В",0.24999999994179234,"ВЛ 0.22 кВ Ф-1 от МТП №90(ввод в здание)",null,null,1,0,0,1,0,0,0,1,0,0,null,"№157 2021-12-09","3.4.9.3","4.13",0,0,0]
[260,"ООО \"Энергетик\" г. Карабаново","ВЛ","Ф-2 от МТП №106(ввод в здание)","0.22","2021-12-11T10:40:00","2021-12-11T11:00:00","В",0.33333333337213844,"ВЛ 0.22 кВ Ф-2 от МТП №106(ввод в здание)",null,null,1,0,0,1,0,0,0,1,0,0,null,"№158 2021-12-11","3.4.9.3","4.13",0,0,0]
[261,"ООО \"Энергетик\" г. Карабаново","ВЛ","Ф-4 от МТП №105(ввод в здание)","0.22","2021-12-13T17:30:00","2021-12-13T18:00:00","В",0.50000000005820766,"ВЛ 0.22 кВ Ф-4 от МТП №105(ввод в здание)",null,null,1,0,0,1,0,0,0,1,0,0,null,"№159 2021-12-13","3.4.9.3","4.13",0,0,0]
[262,"ООО \"Энергетик\" г. Карабаново","ВЛ","Ф-8 от ТП №63(ввод в здание)","0.22","2021-12-13T18:30:00","2021-12-13T19:00:00","В",{"$f":"(G272-F272)*24","v":0.49999999988358468},"ВЛ 0.22 кВ Ф-8 от ТП №63(ввод в здание)",null,null,{"$f":"N272+O272+P272+U272","v":1},0,0,1,0,0,0,1,0,0,null,"№160 2021-12-13","3.4.13.3","4.13",1,0.49999999988358468,0]
[263,"ООО \"Энергетик\" г. Карабаново","ВЛ","Ф-7 от ТП №13(ввод в здание)","0.22","2021-12-16T18:15:00","2021-12-16T18:55:00","В",0.66666666674427688,"ВЛ 0.22 кВ Ф-7 от ТП №13(ввод в здание)",null,null,1,0,0,1,0,0,0,1,0,0,null,"№161 2021-12-16","3.4.9.3","4.13",0,0,0]
[264,"ООО \"Энергетик\" г. Карабаново","ВЛ","Ф-3 от ТП №28(ввод в здание)","0.22","2021-12-17T14:15:00","2021-12-17T14:40:00","В",0.41666666662786156,"ВЛ 0.22 кВ Ф-3 от ТП №28(ввод в здание)",null,null,1,0,0,1,0,0,0,1,0,0,null,"№162 2021-12-17","3.4.9.3","4.13",0,0,0]
[265,"ООО \"Энергетик\" г. Карабаново","ВЛ","Ф-3 от ТП №45(ввод в здание)","0.22","2021-12-19T12:40:00","2021-12-19T13:10:00","В",0.49999999988358468,"ВЛ 0.22 кВ Ф-3 от ТП №45(ввод в здание)",null,null,1,0,0,1,0,0,0,1,0,0,null,"№163 2021-12-19","3.4.13.3","4.13",1,0.49999999988358468,0]
[266,"ООО \"Энергетик\" г. Карабаново","ВЛ","Ф-2 от МТП №90(ввод в здание)","0.22","2021-12-20T18:40:00","2021-12-20T19:00:00","В",0.33333333319751546,"ВЛ 0.22 кВ Ф-2 от МТП №90(ввод в здание)",null,null,1,0,0,1,0,0,0,1,0,0,null,"№164 2021-12-20","3.4.9.3","4.13",0,0,0]
[267,"ООО \"Энергетик\" г. Карабаново","ВЛ","Ф-6 от ТП №7(ввод в здание)","0.22","2021-12-21T19:30:00","2021-12-21T20:00:00","В",0.50000000005820766,"ВЛ 0.22 кВ Ф-6 от ТП №7(ввод в здание)",null,null,1,0,0,1,0,0,0,1,0,0,null,"№165 2021-12-21","3.4.9.3","4.13",0,0,0]
[268,"ООО \"Энергетик\" г. Карабаново","ВЛ","Ф-10 от ТП №62(ввод в здание)","0.22","2021-12-22T08:45:00","2021-12-22T09:15:00","В",0.49999999988358468,"ВЛ 0.22 кВ Ф-10 от ТП №62(ввод в здание)",null,null,1,0,0,1,0,0,0,1,0,0,null,"№166 2021-12-22","3.4.9.3","4.13",0,0,0]
[269,"ООО \"Энергетик\" г. Карабаново","ВЛ","Ф-1 от МТП №90(ввод в здание)","0.22","2021-12-23T11:10:00","2021-12-23T11:30:00","В",0.33333333319751546,"ВЛ 0.22 кВ Ф-1 от МТП №90(ввод в здание)",null,null,1,0,0,1,0,0,0,1,0,0,null,"№167 2021-12-23","3.4.9.3","4.13",0,0,0]
[270,"ООО \"Энергетик\" г. Карабаново","ВЛ","Ф-5 от ТП №34","0.38","2021-12-24T09:30:00","2021-12-24T10:00:00","П",0.49999999988358468,"ВЛ 0.38 кВ Ф-5 от ТП №34",null,null,33,0,0,33,0,0,0,33,0,0,null,null,null,null,1,0,16.499999996158294]
[null,null,null,null,null,null,null,null,0,null,null,null,0,null,null,null,null,null,null,null,null,null,null,null,null,null,null,0,0]
[null,null,null,null,null,null,null,null,0,null,null,null,0,null,null,null,null,null,null,null,null,null,null,null,null,null,null,0,0]
[null,null,null,null,null,null,null,null,0,null,null,null,0,null,null,null,null,null,null,null,null,null,null,null,null,null,null,0,0]
[null,null,null,null,null,null,null,null,0,null,null,null,0,null,null,null,null,null,null,null,null,null,null,null,null,null,null,0,0]
[null,null,null,null,null,null,null,null,0,null,null,null,0,null,null,null,null,null,null,null,null,null,null,null,null,null,null,0,0]
[null,null,null,null,null,null,null,null,0,null,null,null,0,null,null,null,null,null,null,null,null,null,null,null,null,null,null,0,0]
[null,null,null,null,null,null,null,null,0,null,null,null,0,null,null,null,null,null,null,null,null,null,null,null,null,null,null,0,0]
[null,null,null,null,null,null,null,null,0,null,null,null,0,null,null,null,null,null,null,null,null,null,null,null,null,null,null,0,0]
[null,null,null,null,null,null,null,null,0,null,null,null,0,null,null,null,null,null,null,null,null,null,null,null,null,null,null,0,0]
[null,null,null,null,null,null,null,null,0,null,null,null,0,null,null,null,null,null,null,null,null,null,null,null,null,null,null,0,0]
[null,null,null,null,null,null,null,null,0,null,null,null,0,null,null,null,null,null,null,null,null,null,null,null,null,null,null,0,0]
[null,null,null,null,null,null,null,null,0,null,null,null,0,null,null,null,null,null,null,null,null,null,null,null,null,null,null,0,0]
[null,null,null,null,null,null,null,null,0,null,null,null,0,null,null,null,null,null,null,null,null,null,null,null,null,null,null,0,0]
[null,null,null,null,null,null,null,null,0,null,null,null,0,null,null,null,null,null,null,null,null,null,null,null,null,null,null,0,0]
[null,null,null,null,null,null,null,null,0,null,null,null,0,null,null,null,null,null,null,null,null,null,null,null,null,null,null,0,0]
[null,null,null,null,null,null,null,null,0,null,null,null,0,null,null,null,null,null,null,null,null,null,null,null,null,null,null,0,0]
[null,null,null,null,null,null,null,null,0,null,null,null,0,null,null,null,null,null,null,null,null,null,null,null,null,null,null,0,0]
[null,null,null,null,null,null,null,null,0,null,null,null,0,null,null,null,null,null,null,null,null,null,null,null,null,null,null,0,0]
[null,null,null,null,null,null,null,null,0,null,null,null,0,null,null,null,null,null,null,null,null,null,null,null,null,null,null,0,0]
[null,null,null,null,null,null,null,null,0,null,null,null,0,null,null,null,null,null,null,null,null,null,null,null,null,null,null,0,0]
[null,null,null,null,null,null,null,null,0,null,null,null,0,null,null,null,null,null,null,null,null,null,null,null,null,null,null,0,0]
[null,null,null,null,null,null,null,null,0,null,null,null,0,null,null,null,null,null,null,null,null,null,null,null,null,null,null,0,0]
["Добавить"]
["Итого по всем прекращениям передачи\nэлектрической энергии за отчетный период:",null,"х","х","х","х",null,"И",{"$f":"SUBTOTAL(9,I11:I302)","v":237.84999999892898},"х","х","х",{"$f":"SUBTOTAL(9,M11:M302)","v":12272},0,0,12272,0,0,207,12065,0,0,0,"х","х","х","0;1",{"$f":"SUM(AB11:AB303)","v":40.249999993597157},{"$f":"SUM(AC11:AC303)","v":6359.8333332797047}]
["- по ограничениям, связанным с проведением ремонтных работ",null,"х","х","х","х",null,"П",{"$f":"SUMIF(H$11:H$302,H305,I$11:I$302)","v":142.66666666546371},"х","х","х",{"$f":"SUMIF(H$11:H$302,H305,M$11:M$302)","v":4067},{"$f":"SUMIF(H$11:H$302,H305,N$11:N$302)","v":0},{"$f":"SUMIF(H$11:H$302,H305,O$11:O$302)","v":0},{"$f":"SUMIF(H$11:H$302,H305,P$11:P$302)","v":4067},{"$f":"SUMIF(H$11:H$302,H305,Q$11:Q$302)","v":0},{"$f":"SUMIF(H$11:H$302,H305,R$11:R$302)","v":0},{"$f":"SUMIF(H$11:H$302,H305,S$11:S$302)","v":8},{"$f":"SUMIF(H$11:H$302,H305,T$11:T$302)","v":4059},{"$f":"SUMIF(H$11:H$302,H305,U$11:U$302)","v":0},{"$f":"SUMIF(H$11:H$302,H305,V$11:V$302)","v":0},{"$f":"SUMIF(H$11:H$302,H305,W$11:W$302)","v":0},"х","х","х","0","х","х"]
["- по аварийным ограничениям",null,"х","х","х","х",null,"А",{"$f":"SUMIF(H$11:H$302,H306,I$11:I$302)","v":0},"х","х","х",{"$f":"SUMIF(H$11:H$302,H306,M$11:M$302)","v":0},{"$f":"SUMIF(H$11:H$302,H306,N$11:N$302)","v":0},{"$f":"SUMIF(H$11:H$302,H306,O$11:O$302)","v":0},{"$f":"SUMIF(H$11:H$302,H306,P$11:P$302)","v":0},{"$f":"SUMIF(H$11:H$302,H306,Q$11:Q$302)","v":0},{"$f":"SUMIF(H$11:H$302,H306,R$11:R$302)","v":0},{"$f":"SUMIF(H$11:H$302,H306,S$11:S$302)","v":0},{"$f":"SUMIF(H$11:H$302,H306,T$11:T$302)","v":0},{"$f":"SUMIF(H$11:H$302,H306,U$11:U$302)","v":0},{"$f":"SUMIF(H$11:H$302,H306,V$11:V$302)","v":0},{"$f":"SUMIF(H$11:H$302,H306,W$11:W$302)","v":0},"х","х","х","1","х","х"]
["- по внерегламентным отключениям",null,"х","х","х","х",null,"В",{"$f":"SUMIF(H$11:H$302,H307,I$11:I$302)","v":95.183333333465271},"х","х","х",{"$f":"SUMIF(H$11:H$302,H307,M$11:M$302)","v":8205},{"$f":"SUMIF(H$11:H$302,H307,N$11:N$302)","v":0},{"$f":"SUMIF(H$11:H$302,H307,O$11:O$302)","v":0},{"$f":"SUMIF(H$11:H$302,H307,P$11:P$302)","v":8205},{"$f":"SUMIF(H$11:H$302,H307,Q$11:Q$302)","v":0},{"$f":"SUMIF(H$11:H$302,H307,R$11:R$302)","v":0},{"$f":"SUMIF(H$11:H$302,H307,S$11:S$302)","v":199},{"$f":"SUMIF(H$11:H$302,H307,T$11:T$302)","v":8006},{"$f":"SUMIF(H$11:H$302,H307,U$11:U$302)","v":0},{"$f":"SUMIF(H$11:H$302,H307,V$11:V$302)","v":0},{"$f":"SUMIF(H$11:H$302,H307,W$11:W$302)","v":0},"х","х","х","0;1","х","х"]
["- по внерегламентным отключениям,учитываемым при расчете показателей надежности, в том числе индикативных показателей надежности",null,"х","х","х","х",null,"В1",{"$f":"SUM((AA11:AA302=1)*(H11:H302=$H$307)*I11:I302)","v":14.249999999650754},"х","х","х",{"$f":"SUM((AA11:AA302=1)*(H11:H302=$H$307)*M11:M302)","v":74},{"$f":"SUM((AA11:AA302=1)*(H11:H302=$H$307)*N11:N302)","v":0},{"$f":"SUM((AA11:AA302=1)*(H11:H302=$H$307)*O11:O302)","v":0},{"$f":"SUM((AA11:AA302=1)*(H11:H302=$H$307)*P11:P302)","v":74},{"$f":"SUM((AA11:AA302=1)*(H11:H302=$H$307)*Q11:Q302)","v":0},{"$f":"SUM((AA11:AA302=1)*(H11:H302=$H$307)*R11:R302)","v":0},{"$f":"SUM((AA11:AA302=1)*(H11:H302=$H$307)*S11:S302)","v":0},{"$f":"SUM((AA11:AA302=1)*(H11:H302=$H$307)*T11:T302)","v":74},{"$f":"SUM((AA11:AA302=1)*(H11:H302=$H$307)*U11:U302)","v":0},{"$f":"SUM((AA11:AA302=1)*(H11:H302=$H$307)*V11:V302)","v":0},{"$f":"SUM((AA11:AA302=1)*(H11:H302=$H$307)*W11:W302)","v":0},"х","х","х","1","х","х"]
[]
[]
[]
["Должность",null,null,null,null,null,null,null,null,null,null,null,null,null,"Ф. И. О."]
[]
["Примечание"]
["1 Указываются наименования производственных отделений или предприятий электрических сетей."]
["2  \"П\" - плановое отключение, связанное с необходимостью проведения ремонтно-восстановительных работ в соответствии с разделом III Правил полного и (или) частичного ограничения режима потребления электрической энергии;\n    \"А\" - аварийное ограничение, связанное с введением в действие графиков аварийного ограничения режима потребления в соответствии с пунктами 40-46 Правил полного и(или) частичного ограничения режима потребления электрической энергии;\n    \"В\" - внерегламентное отключение в соответствии с пунктом 47 Правил полного и (или) частичного ограничения режима потребления электрической энергии\n"]
["3 указывается 0 (ноль), если прекращение передачи электрической энергии не включается в расчет показателей надежности, что соответствует кодам организационных причин аварии  в соответствии с приложением N 2 приказа Минэнерго России N 90 и в соответствии с положениями  Методических указаний утв. приказом МИНЭНЕРГО № 1256 ;\nуказывается 1 (один), если прекращение передачи электрической энергии включается в расчет показателей надежности, что соответствует кодам организационных причин аварии  в соответствии с приложением N 2 приказа Минэнерго России N 90 и в соответствии с положениями  Методических указаний утв. приказом МИНЭНЕРГО № 1256 ;.\n"]

{"sheet":"Форма 8.1 эксперты","index":48,"n_rows":31,"n_cols":32,"rows_kept":31,"cut":false,"hidden":true,"merged":[[6,9,8,9],[1,0,1,29],[2,0,2,29],[3,0,3,29],[5,0,5,11],[5,12,5,24],[5,25,8,25],[5,26,5,28],[5,29,8,29],[6,0,8,0],[6,1,8,1],[6,2,8,2],[6,3,8,3],[6,4,8,4],[6,5,7,6],[6,7,7,8],[6,11,8,11],[6,12,8,12],[6,13,8,13],[6,14,8,14],[6,15,6,23],[6,26,8,26],[6,27,8,27],[6,28,8,28],[7,15,8,15],[7,16,7,18],[7,19,7,22],[7,23,8,23],[6,24,8,24],[9,5,9,6],[9,7,9,8],[16,0,16,31],[17,0,17,1],[17,5,17,6],[17,7,17,8],[18,0,18,1],[18,5,18,6],[18,7,18,8],[19,0,19,1],[19,5,19,6],[19,7,19,8],[20,0,20,1],[20,5,20,6],[20,7,20,8],[21,0,21,1],[21,5,21,6],[21,7,21,8],[30,0,30,2],[24,0,24,16],[24,17,24,29],[25,0,25,16],[25,17,25,29],[28,0,28,2],[29,0,29,2]]}
[]
["Форма_8.1 - Журнал учета данных первичной информации по всем прекращениям передачи электрической энергии произошедших на объектах сетевой организации  2021   год"]
[{"$f":"'Форма 8.1 предприятие'!A3","v":"ООО \"Энергетик\""}]
["Наименование электросетевой организации"]
[]
["Данные о факте прекращения передачи электрической энергии",null,null,null,null,null,null,null,null,null,null,null,"Данные о масштабе прекращения передачи электрической энергии в сетевой организации",null,null,null,null,null,null,null,null,null,null,null,null,"Перечень смежных сетевых организаций, затронутых прекращением передачи электрической энергии","Данные о причинах прекращения передачи электрической энергии и их расследовании",null,null,"Учет в показателях надежности, в т.ч. индикативных показателях надежности (0 - нет, 1 - да) 3"]
["Номер прекращения передачи электрической энергии /\nНомер итоговой строки","Наименование структурной единицы сетевой организации 1","Вид объекта:\nКЛ, ВЛ, КВЛ, ПС, ТП, РП","Диспетчерское наименование объекта электросетевого хозяйства сетевой организации, в результате отключения которой произошло прекращение передачи электроэнергии потребителям услуг","Высший класс напряжения отключенного оборудования сетевой организации, Кв","Время и дата начала прекращения передачи электрической энергии",null,"Время и дата восстановления режима потребления электрической энергии потребителей услуг\n",null,"Вид прекращения передачи электроэнергии (П, А, В) 2",null,"Продолжительность прекращения передачи электрической энергии, час.","Перечень объектов электросетевого хозяйства, отключение которых привело к прекращению передачи электрической энергии потребителям услуг (ПС, ТП, РП, ВЛ, КЛ)","Перечень потребителей 1-й и 2-й категорий надежности, в отношении которых произошло полное ограничение режима потребления электрической энергии","Перечень потребителей 1-й и 2-й категорий надежности, в отношении которых произошло частичное ограничение режима потребления электрической энергии","Количество точек поставки потребителей услуг сетевой организации, в отношении которых произошел перерыв электроснабжения, шт., в том числе:",null,null,null,null,null,null,null,null,"Суммарный объем фактической нагрузки (мощности) на присоединениях потребителей услуг, по которым произошло прекращение передачи электрической энергии на момент возникновения такого события, кВт",null,"Номер и дата акта расследования технологического нарушения, записи в оперативном журнале","Код организационной причины аварии","Код технической причины повреждения оборудования"]
[null,null,null,null,null,null,null,null,null,null,null,null,null,null,null,"Всего","в разделении категорий надежности потребителей электрической энергии",null,null,"в разделении уровней напряжения ЭПУ потребителя электрической энергии",null,null,null,"Смежные сетевые организации и производители электрической энергии"]
[null,null,null,null,null,"ДД.ММ.ГГГГ (00:00:00)"," часы, минуты (00:00)","ДД.ММ.ГГГГ (00:00:00)"," часы, минуты (00:00)",null,null,null,null,null,null,null,"1-я категория надежности","2-я категория надежности","3-я категория надежности","BH\n(110 кВ и выше)","CH1\n(35 кВ)","CH2\n(6-20 кВ)","HH\n(0,22-1 кВ)"]
[1,"2","3","4","5","6",null,"7",null,"8",null,"9","10","11","12","13","14","15","16","17","18","19","20","21","22","23","24","25","26","27"]
[null,null,null,null,null,null,null,null,null,null,{"$f":"IF((H11=\"\"),0,H11-F11)","v":0},{"$f":"(IF((I11=\"\"),0,IF((I11>0),K11-G11+I11,I11-G11)))*24","v":0},null,null,null,{"$f":"Q11+R11+S11+X11","v":0},null,null,null,null,null,null,null,null,null,null,null,null,null,null,{"$f":"(IF(AND(J11=$J$21,AD11=1),P11*L11,0))","v":0},{"$f":"IF(J11=$J$19,P11*L11,0)","v":0}]
[null,null,null,null,null,null,null,null,null,null,0,0,null,null,null,0,null,null,null,null,null,null,null,null,null,null,null,null,null,null,0,0]
[null,null,null,null,null,null,null,null,null,null,0,0,null,null,null,0,null,null,null,null,null,null,null,null,null,null,null,null,null,null,0,0]
[null,null,null,null,null,null,null,null,null,null,0,0,null,null,null,0,null,null,null,null,null,null,null,null,null,null,null,null,null,null,0,0]
[null,null,null,null,null,null,null,null,null,null,0,0,null,null,null,0,null,null,null,null,null,null,null,null,null,null,null,null,null,null,0,0]
[null,null,null,null,null,null,null,null,null,null,0,0,null,null,null,0,null,null,null,null,null,null,null,null,null,null,null,null,null,null,0,0]
["Добавить"]
["Итого по всем прекращениям передачи\nэлектрической энергии за отчетный период:",null,"х","х","х","х",null,"х",null,"И",null,{"$f":"SUBTOTAL(9,L11:L16)","v":0},"х","х","х",{"$f":"SUBTOTAL(9,P11:P16)","v":0},0,0,0,0,0,0,0,0,0,0,"х","х","х","0;1",{"$f":"SUM(AE11:AE17)","v":0},{"$f":"SUM(AF11:AF17)","v":0}]
["- по ограничениям, связанным с проведением ремонтных работ",null,"х","х","х","х",null,"х",null,"П",null,{"$f":"SUMIF(J$11:J$16,J19,L$11:L$16)","v":0},"х","х","х",{"$f":"SUMIF(J$11:J$16,J19,P$11:P$16)","v":0},{"$f":"SUMIF(J$11:J$16,J19,Q$11:Q$16)","v":0},{"$f":"SUMIF(J$11:J$16,J19,R$11:R$16)","v":0},{"$f":"SUMIF(J$11:J$16,J19,S$11:S$16)","v":0},{"$f":"SUMIF(J$11:J$16,J19,T$11:T$16)","v":0},{"$f":"SUMIF(J$11:J$16,J19,U$11:U$16)","v":0},{"$f":"SUMIF(J$11:J$16,J19,V$11:V$16)","v":0},{"$f":"SUMIF(J$11:J$16,J19,W$11:W$16)","v":0},{"$f":"SUMIF(J$11:J$16,J19,X$11:X$16)","v":0},{"$f":"SUMIF(J$11:J$16,J19,Y$11:Y$16)","v":0},{"$f":"SUMIF(J$11:J$16,J19,Z$11:Z$16)","v":0},"х","х","х","0","х","х"]
["- по аварийным ограничениям",null,"х","х","х","х",null,"х",null,"А",null,{"$f":"SUMIF(J$11:J$16,J20,L$11:L$16)","v":0},"х","х","х",{"$f":"SUMIF(J$11:J$16,J20,P$11:P$16)","v":0},{"$f":"SUMIF(J$11:J$16,J20,Q$11:Q$16)","v":0},{"$f":"SUMIF(J$11:J$16,J20,R$11:R$16)","v":0},{"$f":"SUMIF(J$11:J$16,J20,S$11:S$16)","v":0},{"$f":"SUMIF(J$11:J$16,J20,T$11:T$16)","v":0},{"$f":"SUMIF(J$11:J$16,J20,U$11:U$16)","v":0},{"$f":"SUMIF(J$11:J$16,J20,V$11:V$16)","v":0},{"$f":"SUMIF(J$11:J$16,J20,W$11:W$16)","v":0},{"$f":"SUMIF(J$11:J$16,J20,X$11:X$16)","v":0},{"$f":"SUMIF(J$11:J$16,J20,Y$11:Y$16)","v":0},{"$f":"SUMIF(J$11:J$16,J20,Z$11:Z$16)","v":0},"х","х","х","1","х","х"]
["- по внерегламентным отключениям",null,"х","х","х","х",null,"х",null,"В",null,{"$f":"SUMIF(J$11:J$16,J21,L$11:L$16)","v":0},"х","х","х",{"$f":"SUMIF(J$11:J$16,J21,P$11:P$16)","v":0},{"$f":"SUMIF(J$11:J$16,J21,Q$11:Q$16)","v":0},{"$f":"SUMIF(J$11:J$16,J21,R$11:R$16)","v":0},{"$f":"SUMIF(J$11:J$16,J21,S$11:S$16)","v":0},{"$f":"SUMIF(J$11:J$16,J21,T$11:T$16)","v":0},{"$f":"SUMIF(J$11:J$16,J21,U$11:U$16)","v":0},{"$f":"SUMIF(J$11:J$16,J21,V$11:V$16)","v":0},{"$f":"SUMIF(J$11:J$16,J21,W$11:W$16)","v":0},{"$f":"SUMIF(J$11:J$16,J21,X$11:X$16)","v":0},{"$f":"SUMIF(J$11:J$16,J21,Y$11:Y$16)","v":0},{"$f":"SUMIF(J$11:J$16,J21,Z$11:Z$16)","v":0},"х","х","х","0;1","х","х"]
["- по внерегламентным отключениям,учитываемым при расчете показателей надежности, в том числе индикативных показателей надежности",null,"х","х","х","х",null,"х",null,"В1",null,{"$f":"SUM((AD11:AD16=1)*(J11:K16=$J$21)*L11:L16)","v":0},"х","х","х",{"$f":"SUM((AD11:AD16=1)*(J11:J16=$J$21)*P11:P16)","v":0},{"$f":"SUM((AD11:AD16=1)*(J11:J16=$J$21)*Q11:Q16)","v":0},{"$f":"SUM((AD11:AD16=1)*(J11:J16=$J$21)*R11:R16)","v":0},{"$f":"SUM((AD11:AD16=1)*(J11:J16=$J$21)*S11:S16)","v":0},{"$f":"SUM((AD11:AD16=1)*(J11:J16=$J$21)*T11:T16)","v":0},{"$f":"SUM((AD11:AD16=1)*(J11:J16=$J$21)*U11:U16)","v":0},{"$f":"SUM((AD11:AD16=1)*(J11:J16=$J$21)*V11:V16)","v":0},{"$f":"SUM((AD11:AD16=1)*(J11:J16=$J$21)*W11:W16)","v":0},{"$f":"SUM((AD11:AD16=1)*(J11:J16=$J$21)*X11:X16)","v":0},{"$f":"SUM((AD11:AD16=1)*(J11:J16=$J$21)*Y11:Y16)","v":0},{"$f":"SUM((AD11:AD16=1)*(J11:J16=$J$21)*Z11:Z16)","v":0},"х","х","х","1","х","х"]
[]
[]
[]
["Должность",null,null,null,null,null,null,null,null,null,null,null,null,null,null,null,null,"Ф. И. О."]
[]
["Примечание"]
["1 Указываются наименования производственных отделений или предприятий электрических сетей."]
["2  \"П\" - плановое отключение, связанное с необходимостью проведения ремонтно-восстановительных работ в соответствии с разделом III Правил полного и (или) частичного ограничения режима потребления электрической энергии;\n    \"А\" - аварийное ограничение, связанное с введением в действие графиков аварийного ограничения режима потребления в соответствии с пунктами 40-46 Правил полного и(или) частичного ограничения режима потребления электрической энергии;\n    \"В\" - внерегламентное отключение в соответствии с пунктом 47 Правил полного и (или) частичного ограничения режима потребления электрической энергии\n"]
["3 указывается 0 (ноль), если прекращение передачи электрической энергии не включается в расчет показателей надежности, что соответствует кодам организационных причин аварии  в соответствии с приложением N 2 приказа Минэнерго России N 90 и в соответствии с положениями  Методических указаний утв. приказом МИНЭНЕРГО № 1256 ;\nуказывается 1 (один), если прекращение передачи электрической энергии включается в расчет показателей надежности, что соответствует кодам организационных причин аварии  в соответствии с приложением N 2 приказа Минэнерго России N 90 и в соответствии с положениями  Методических указаний утв. приказом МИНЭНЕРГО № 1256 ;.\n"]

{"sheet":"Форма 8.3","index":49,"n_rows":30,"n_cols":5,"rows_kept":30,"cut":false,"hidden":false,"merged":[[17,4,20,4],[4,0,6,4],[7,0,7,3],[9,0,9,4],[10,0,10,4],[13,0,14,0],[13,1,14,1],[13,4,14,4]]}
[]
[]
[]
[]
["Форма 8.3. Расчет индикативного показателя уровня надежности оказываемых услуг для территориальных сетевых организаций и организацией по управлению единой национальной (общероссийской) электрической сетью, чей долгосрочный период регулирования начался после 2018 года."]
[]
[]
[]
[]
[{"$f":"'Форма 8.1 эксперты'!A3","v":"ООО \"Энергетик\""}]
["Наименование электросетевой организации"]
[]
[]
["№ п/п","Наименование составляющей показателя","Расчет предприятия","Расчет Экспертов","Метод определения"]
[null,null,"2021 год","2021 год"]
[1,"2","4","5","6"]
[1,"Максимальное за расчетный период регулирования число точек поставки сетевой организации, шт., в том числе в разбивке по уровням напряжения:",{"$f":"C20+C21","v":2579},null,"В соответствии с заключенными\nдоговорами по передаче\nэлектроэнергии"]
["1.1","ВН (110 кВ и выше), шт.",null,null,"В соответствии с заключенными\nдоговорами по передаче\nэлектроэнергии"]
["1.2","СН-1 (35 кВ), шт."]
["1.3","СН-2 (6-20 кВ), шт.",85]
["1.4","НН (до 1 кВ), шт.",2494]
["2","Средняя продолжительность прекращения передачи электрической энергии на точку поставки (Пsaidi ), час.",{"$f":"IF(C17=0,0,'Форма 8.1 предприятие'!AB304/'Форма 8.3'!C17)","v":1.5606824348040775E-2},{"$f":"IF(D17=0,0,'Форма 8.1 эксперты'!AE18/'Форма 8.3'!D17)","v":0},"сумма произведений по столбцу 9 и столбцу 13 Формы 8.1, деленная на значение пункта 1 Формы 8.3\n((  столбец 9 * столбец 13) / пункт 1 Формы 8.3)\nПри этом учитываются только те события, по которым значения в столбце 8 равны \"В\", а в столбце 27 равны 1\n"]
["3","Средняя частота прекращений передачи электрической энергии на точку поставки (Пsaifi), шт.",{"$f":"IF(C17=0,0,'Форма 8.1 предприятие'!M308/'Форма 8.3'!C17)","v":2.8693291973633191E-2},{"$f":"IF(D17=0,0,'Форма 8.1 предприятие'!P308/'Форма 8.3'!D17)","v":0},"сумма по столбцу 13 Формы 8.1 и деленная на значение пункта 1 Формы 8.3\n(  столбец 13 Формы 8.1 / пункт 1 Формы 8.3)\nПри этом учитываются только те события, по которым значения в столбце 8 равны \"В\", а в столбце 27 равны 1\n"]
["4","Средняя продолжительность прекращения передачи электрической энергии при проведении ремонтных работ\n(Пsaidi ), час.\n",{"$f":"IF(C17=0,\"-\",'Форма 8.1 предприятие'!AC304/'Форма 8.3'!C17)","v":2.4660074964248566},{"$f":"IF(D17=0,\"-\",'Форма 8.1 эксперты'!AF18/D17)","v":"-"},"сумма произведений по столбцу 9 и столбцу 13 Формы 8.1, деленная на значение пункта 1 Формы 8.3\n((  столбец 9 * столбец 13) / пункт 1 Формы 8.3)\nПри этом учитываются только те события, по которым значения в столбце 8 равны \"П\"\n\n"]
["5","Средняя частота прекращений передачи электрической энергии при проведении ремонтных работ (Пsaifi), шт.",{"$f":"IF(C17=0,\"-\",'Форма 8.1 предприятие'!M305/'Форма 8.3'!C17)","v":1.5769678169833268},{"$f":"IF(D17=0,\"-\",'Форма 8.1 эксперты'!P19/'Форма 8.3'!D17)","v":"-"},"сумма по столбцу 13 Формы 8.1 и деленная на значение пункта 1 Формы 8.3\n(  столбец 13 Формы 8.1 / пункт 1 Формы 8.3)\nПри этом учитываются только те события, по которым значения в столбце 8 равны \"П\"\n\n"]
[]
[]
[]
[null,"_________________________________________________________________________"]
[null,"Должность Ф.И.О. Подпись"]

{"sheet":"Форма 3.1-3.2","index":50,"n_rows":32,"n_cols":5,"rows_kept":32,"cut":false,"hidden":false,"merged":[[9,1,9,2],[0,0,1,3],[4,0,4,3],[6,0,6,4],[7,1,7,2],[8,1,8,2],[31,1,31,2],[28,0,28,2],[10,1,10,2],[11,0,11,2],[12,0,12,2],[16,0,16,4],[17,1,17,2],[18,1,18,2],[19,1,19,2],[20,1,20,2],[21,0,21,2],[22,0,22,2],[27,0,27,4]]}
["Расчет показателя уровня качества осуществляемого технологического присоединения к сети\nза 2021 г., Птпр"]
[]
[]
[]
[{"$f":"'Форма 8.3'!A10:E10","v":"ООО \"Энергетик\""}]
[null,null,null,"Форма 3.1"]
["Отчетные данные для расчета значения показателя качества рассмотрения заявок на технологическое присоединение к сети за 2021 г."]
["№ п/п","Наименование",null,"Расчет Общества","Расчет Экспертов"]
[1,2,null,3,4]
[1,"Число заявок на технологическое присоединение к сети, поданных в соответствии с требованиями нормативных правовых актов, по которым сетевой организацией в соответствующий расчетный период направлен проект договора об осуществлении технологического присоединения заявителей к сети, шт. (Nзаяв_тпр)",null,"24"]
[2,"Число заявок на технологическое присоединение к сети, поданных в соответствии с требованиями нормативных правовых актов, по которым сетевой организацией в соответствующий расчетный период направлен проект договора об осуществлении технологического присоединения заявителей к сети с нарушением установленных сроков его направления, шт. (Nнсзаяв_тпр)",null,"0"]
["max (1, Nзаяв_тпр - Nнсзаяв_тпр)",null,null,{"$f":"MAX(1,D10-D11)","v":24},{"$f":"MAX(1,E10-E11)","v":1}]
["Пзаяв_тпр",null,null,{"$f":"IF(D10=\"\",1,IF(D10=\"0\",1,D10/D12))","v":1},{"$f":"IF(E10=\"\",1,IF(E10=\"0\",1,E10/E12))","v":1}]
[]
[]
[null,null,null,"Форма 3.2"]
["Отчетные данные для расчета значения показателя качества исполнения договоров об осуществлении технологического присоединения заявителей к сети за 2021 г."]
["№ п/п","Наименование",null,"2021 год","2021 год"]
[1,2,null,3,4]
[1,"Число договоров об осуществлении технологического присоединения заявителей к сети, исполненных в соответствующем расчетном периоде, по которым имеется подписанный сторонами акт о технологическом присоединении, шт. (Nсд_тпр)",null,"24"]
[2,"Число договоров об осуществлении технологического присоединения заявителей к сети, исполненных в соответствующем расчетном периоде, по которым имеется подписанный сторонами акт о технологическом присоединении, по которым произошло нарушение установленных сроков технологического присоединения, шт. (Nнссд_тпр)",null,"0"]
["max (1, Nсд_тпр - Nнссд_тпр)",null,null,{"$f":"MAX(1,D20-D21)","v":24},{"$f":"MAX(1,E20-E21)","v":1}]
["Пнс_тпр",null,null,{"$f":"IF(D20=\"\",1,IF(D20=\"0\",1,D20/D22))","v":1},{"$f":"IF(E20=\"\",1,IF(E20=\"0\",1,E20/E22))","v":1}]
[]
[]
[]
[]
["Показатель уровня качества осуществляемого технологического присоединения к сети за 2021 г., Птпр"]
["Птпр",null,null,{"$f":"0.5*D13+0.5*D23","v":1},{"$f":"0.5*E13+0.5*E23","v":1}]
[]
[]
[null,"Руководитель организации_______________________________В.М.Окунев",null,null,{"$f":"'Инф-я'!D3","v":0}]

{"sheet":" анализ НВВ 2019","index":51,"n_rows":50,"n_cols":9,"rows_kept":50,"cut":false,"hidden":false,"merged":[[49,0,49,1],[4,0,4,7],[5,0,6,0],[5,1,6,1],[1,0,1,8],[3,0,3,8],[5,2,5,8]]}
[]
["Анализ фактических расходов на содержание электрических сетей за 2019 год"]
[]
[{"$f":"'Инф-я'!C14","v":"ООО \"Энергетик\""}]
[]
["№","Наименование","2019 год"]
[null,null,"Утверждено","Факт","Факт по данным Экспертов","Отклонение","Отклонение по данным Экспертов","Причина отклонения","Примечание Экспертов"]
["1","2","3","4","5","6","7","8","9"]
["1.","Подконтрольные расходы (ПР)",{"$f":"C10+C11+C12+C13+C22","v":34450.418754453203},{"$f":"D10+D11+D12+D13+D22","v":44067.91575},{"$f":"E10+E11+E12+E13+E22","v":43879.972630000004},{"$f":"D9-C9","v":9617.4969955467968},{"$f":"E9-C9","v":9429.5538755468006}]
["1.1.","Расходы на оплату труда",12532.880404675218,16585.257000000001,15949.485980000001,{"$f":"D10-C10","v":4052.3765953247839},{"$f":"E10-C10","v":3416.6055753247838}]
["1.2","Материалы",4534.2331165699197,7089.7178999999996,7537.1714299999994,2555.4847834300799,3002.9383134300797]
["1.3","Ремонт основных фондов",16048.898849332892,16280.04,16280.04084,231.14115066710838,231.14199066710717]
["1.4","Другие обоснованные подконтрольные расходы, в том числе:",{"$f":"SUM(C14:C21)","v":972.70930289427974},{"$f":"SUM(D14:D21)","v":3455.9008500000004},{"$f":"SUM(E14:E21)","v":3456.2743800000003},2483.1915471057209,2483.5650771057208]
["1.4.1","Работы и услуги производственного характера",0,332.57299999999998,{"$f":"78.6+254.41","v":333.01},332.57299999999998,333.01]
["1.4.2","Работы и услуги непроизводственного характера",606.68475827863313,2821.3270000000002,{"$f":"2315.17241+506.10067","v":2821.2730799999999},2214.6422417213671,2214.5883217213668]
["1.4.3","Обеспечение нормальных условий труда и техники безопасности",83.91596493693369,132.60570000000001,{"$f":"30.77+46.8+55.02615","v":132.59614999999999},48.689735063066323,48.680185063066304]
["1.4.4.","Расходы на командировки",0,0,null,0,0]
["1.4.5","Расходы на обучение персонала",108.84393993609606,58.8,58.8,-50.043939936096066,-50.043939936096066]
["1.4.6","Расходы на страхование",0,46.994999999999997,46.994999999999997,46.994999999999997,46.994999999999997]
["1.4.7","Расходы на услуги банков",173.26463974261691,63.600149999999999,63.600149999999999,-109.66448974261691,-109.66448974261691]
["1.4.8","Прочие обоснованные подконтрольные расходы",0,null,null,0,0]
["1.5","Расходы из прибыли, в том числе:",{"$f":"C23+C24","v":361.6970809808991},{"$f":"SUM(D23:D24)","v":657},{"$f":"SUM(E23:E24)","v":657},295.3029190191009,295.3029190191009]
["1.5.1","Расходы по коллективным договорам",361.6970809808991,657,657,295.3029190191009,295.3029190191009]
["1.5.2","Прочие обоснованные расходы из прибыли",null,null,null,0,0]
["2.","Неподконтрольные расходы (НР)",{"$f":"C26+C27+C28+C29+C35+C36+C37+C38+C39+C40","v":21316.601415412224},{"$f":"D26+D27+D28+D29+D35+D36+D37+D38+D40","v":32508.489670000003},{"$f":"E26+E27+E28+E29+E35+E36+E37+E38+E40","v":21308.970130054306},11191.888254587779,-7.6312853579183866]
["2.1.","Амортизация основных средств",5333.7663558460972,6945.0699062499998,5333.7663558460972,1611.3035504039026,0]
["2.2.","Расходы на страховые взносы",3884.9766517293256,5163.08,3966.6277242082074,1278.1033482706744,81.651072478881815]
["2.3.","Расходы на оплату услуг организаций, осуществляющие регулируемые виды деятельности",245.25767783680004,254.80099999999999,255.33876000000004,9.5433221631999459,10.081082163199994]
["2.4.","Налоги и сборы, в том числе:",{"$f":"(C30+C31+C32+C33+C34)","v":1821.3207300000001},{"$f":"D30+D31+D32+D33+D34","v":1363.3220000000001},{"$f":"E30+E31+E32+E33+E34","v":1363.3216200000002},-457.99873000000002,-457.99910999999997]
["2.4.1.","Плата за землю",502.51673,225.19,225.18962000000002,-277.32673,-277.32710999999995]
["2.4.2.","Транспортный налог",0,0,null,0,0]
["2.4.3.","Налог на имущество",0,0,null,0,0]
["2.4.4.","Плата за негативное воздействие на окружающую среду",0,0,null,0,0]
["2.4.5.","Налог на прибыль",1318.8040000000001,1138.1320000000001,1138.1320000000001,-180.67200000000003,-180.67200000000003]
["2.5.","Плата за аренду имущества",4844.28,4770.49467,4770.49467,-73.785329999999703,-73.785329999999703]
["2.6.","Оплата услуг ПАО \"ФСК ЕЭС\"",0,0,null,0,0]
["2.7.","Прочие обоснованные неподконтрольные расходы",0,432.42,432.42099999999999,432.42,432.42099999999999]
["2.8.","Капитальные вложения производственного характера из прибыли",5187,2923.5020937500003,5187,-2263.4979062499997,0]
["2.9.","Расходы, связанные с компенсацией выпадающих доходов от льготного технологического присоединения",0,"х",null,"х","х"]
["2.10.","Расходы на возврат и обслуживание долгосрочных заемных средств, направляемых на финансирование капитальных вложений ",0,10655.800000000001,null,{"$f":"D40-C40","v":10655.800000000001},0]
["3.","Корректировка НВВ на основании фактических данных  (Bi )",{"$f":"SUM(C42:C46)","v":922.08174847662644},"x","x","x","x"]
["3.1.","Корректировка подконтрольных расходов  (∆ПР)",212.67478189118265,"x","x","x","x"]
["3.2.","Корректировка неподконтрольных расходов (∆НР)",564.93116127623705,"x","x","x","x"]
["3.3.","Корректировка НВВ с учетом изменения полезного отпуска и цен на электрическую энергию  (ПОi )",-780.54173017724827,"x","x","x","x"]
["3.4.","Корректировка необходимой валовой выручки по доходам от осуществления регулируемой деятельности  (∆НВВiсод)",925.01753548645502,"x","x","x","x"]
["3.65","Корректировка НВВ в связи с изменением (неисполнением) инвестиционной программы (ВiкорИП)",0,"x","x","x","x"]
["4.","Корректировка НВВ с учетом надежности и качества оказываемых услуг (НВВi-2сод)*КНКi",662.27618741240394,"x","x","x","x"]
[null,"ИТОГО необходимая валовая выручка на содержание электрических сетей (НВВiсод)",{"$f":"C41+C25+C9+C47","v":57351.378105754462},{"$f":"D25+D9","v":76576.405419999996},{"$f":"E25+E9","v":65188.942760054313},{"$f":"D48-C48","v":19225.027314245533},{"$f":"E48-C48","v":7837.5646542998511}]
[]
["Руководитель организации",null,null,{"$f":"'Инф-я'!C21","v":"Окунев Василий Михайлович"}]

{"sheet":" анализ НВВ 2020","index":52,"n_rows":50,"n_cols":9,"rows_kept":50,"cut":false,"hidden":false,"merged":[[49,0,49,1],[4,0,4,7],[5,0,6,0],[5,1,6,1],[1,0,1,8],[3,0,3,8],[5,2,5,8]]}
[]
["Анализ фактических расходов на содержание электрических сетей за 2020 год"]
[]
[{"$f":"'Инф-я'!C14","v":"ООО \"Энергетик\""}]
[]
["№","Наименование","2020 год"]
[null,null,"Утверждено","Факт","Факт по данным Экспертов","Отклонение","Отклонение по данным Экспертов","Причина отклонения","Примечание Экспертов"]
["1","2","3","4","5","6","7","8","9"]
["1.","Подконтрольные расходы (ПР)",{"$f":"C10+C11+C12+C13+C22","v":31353.666311316403},{"$f":"D10+D11+D12+D13+D22","v":29666.988539999998},{"$f":"E10+E11+E12+E13+E22","v":31806.104579999999},{"$f":"D9-C9","v":-1686.6777713164047},{"$f":"E9-C9","v":452.43826868359611}]
["1.1.","Расходы на оплату труда",14665.336004319666,15259.174300000001,15259.174300000001,{"$f":"D10-C10","v":593.83829568033434},{"$f":"E10-C10","v":593.83829568033434}]
["1.2","Материалы",7846.8986793243612,4659.2678800000003,7002.8707599999998,-3187.6307993243609,-844.02791932436139]
["1.3","Ремонт основных фондов",6962.8661333185346,7463.80638,7463.80638,500.9402466814654,500.9402466814654]
["1.4","Другие обоснованные подконтрольные расходы, в том числе:",1134.7031203812676,2284.7399799999998,2080.2531399999998,1150.0368596187323,945.55001961873222]
["1.4.1","Работы и услуги производственного характера",119.8157966319811,487.29816,487.30016000000001,367.48236336801892,367.48436336801888]
["1.4.2","Работы и услуги непроизводственного характера",584.51977149963557,1556.77232,1333.2759999999998,972.25254850036447,748.75622850036427]
["1.4.3","Обеспечение нормальных условий труда и техники безопасности",361.85563614456572,151.30000000000001,170.30748,-210.55563614456571,-191.54815614456572]
["1.4.4.","Расходы на командировки",0,0,null,0,0]
["1.4.5","Расходы на обучение персонала",0,21,21,21,21]
["1.4.6","Расходы на страхование",0,0,null,0,0]
["1.4.7","Расходы на услуги банков",68.511916105085305,68.369500000000002,68.369500000000002,-0.142416105085303,-0.142416105085303]
["1.4.8","Прочие обоснованные подконтрольные расходы",0,0,null,0,0]
["1.5","Расходы из прибыли, в том числе:",743.86237397257491,0,0,-743.86237397257491,-743.86237397257491]
["1.5.1","Расходы по коллективным договорам",743.86237397257491,0,null,-743.86237397257491,-743.86237397257491]
["1.5.2","Прочие обоснованные расходы из прибыли",0,0,null,0,0]
["2.","Неподконтрольные расходы (НР)",21839.382514066438,23002.200840000001,20199.144940000002,1162.8183259335638,-1640.2375740664356]
["2.1.","Амортизация основных средств",6165.4211809166673,6165.4211809166673,6165.4211809166673,0,0]
["2.2.","Расходы на страховые взносы",4646.3138828782903,3519.5375199999999,3519.5375199999999,-1126.7763628782905,-1126.7763628782905]
["2.3.","Расходы на оплату услуг организаций, осуществляющие регулируемые виды деятельности",271.34301118814614,258.41449999999998,263.82042000000001,-12.92851118814616,-7.5225911881461229]
["2.4.","Налоги и сборы, в том числе:",1016.36562,778.50699999999995,778.50699999999995,-237.85862000000009,-237.85862000000009]
["2.4.1.","Плата за землю",225.18962000000002,0,0,-225.18962000000002,-225.18962000000002]
["2.4.2.","Транспортный налог",0,0,null,0,0]
["2.4.3.","Налог на имущество",0,0,null,0,0]
["2.4.4.","Плата за негативное воздействие на окружающую среду",0,0,null,0,0]
["2.4.5.","Налог на прибыль",791.17600000000004,778.50699999999995,778.50699999999995,-12.669000000000096,-12.669000000000096]
["2.5.","Плата за аренду имущества",4735.28,4735.28,4735.28,0,0]
["2.6.","Оплата услуг ПАО \"ФСК ЕЭС\"",0,0,null,0,0]
["2.7.","Прочие обоснованные неподконтрольные расходы",0,0,null,0,0]
["2.8.","Капитальные вложения производственного характера из прибыли",4736.5788190833327,4736.5788190833327,4736.5788190833327,0,0]
["2.9.","Расходы, связанные с компенсацией выпадающих доходов от льготного технологического присоединения",268.08,"х",null,"х","х"]
["2.10.","Расходы на возврат и обслуживание долгосрочных заемных средств, направляемых на финансирование капитальных вложений ",0,2808.46182,0,{"$f":"D40-C40","v":2808.46182},0]
["3.","Корректировка НВВ на основании фактических данных  (Bi )",{"$f":"SUM(C42:C46)","v":-1721.08},"x","x","x","x"]
["3.1.","Корректировка подконтрольных расходов  (∆ПР)",-737.54,"x","x","x","x"]
["3.2.","Корректировка неподконтрольных расходов (∆НР)",-545.73,"x","x","x","x"]
["3.3.","Корректировка НВВ с учетом изменения полезного отпуска и цен на электрическую энергию  (ПОi )",-992.06,"x","x","x","x"]
["3.4.","Корректировка необходимой валовой выручки по доходам от осуществления регулируемой деятельности  (∆НВВiсод)",554.25,"x","x","x","x"]
["3.5.","Корректировка НВВ в связи с изменением (неисполнением) инвестиционной программы (ВiкорИП)",0,"x","x","x","x"]
["4.","Корректировка НВВ с учетом надежности и качества оказываемых услуг (НВВi-2сод)*КНКi",708.55,"x","x","x","x"]
[null,"ИТОГО необходимая валовая выручка на содержание электрических сетей (НВВiсод)",{"$f":"C41+C25+C9+C47","v":52180.518825382846},{"$f":"D25+D9","v":52669.189379999996},{"$f":"E25+E9","v":52005.249519999998},{"$f":"D48-C48","v":488.67055461715063},{"$f":"E48-C48","v":-175.26930538284796}]
[]
["Руководитель организации",null,null,{"$f":"'Инф-я'!C21","v":"Окунев Василий Михайлович"}]

{"sheet":" анализ НВВ 2021","index":53,"n_rows":50,"n_cols":9,"rows_kept":50,"cut":false,"hidden":false,"merged":[[1,0,1,8],[3,0,3,8],[49,0,49,1],[4,0,4,7],[5,0,6,0],[5,1,6,1],[5,2,5,8]]}
[]
["Анализ фактических расходов на содержание электрических сетей за 2021 год"]
[]
[{"$f":"'Инф-я'!C14","v":"ООО \"Энергетик\""}]
[]
["№","Наименование","2021 год"]
[null,null,"Утверждено","Факт","Факт по данным Экспертов","Отклонение","Отклонение по данным Экспертов","Причина отклонения с указанием реквизитов обосновывающих документов","Примечание Экспертов"]
["1","2","3","4","5","6","7","8","9"]
["1.","Подконтрольные расходы (ПР)",{"$f":"' НВВ содержание'!C9","v":30935.19735593352},{"$f":"' НВВ содержание'!D9","v":32305.343999999997},{"$f":"' НВВ содержание'!E9","v":0},{"$f":"D9-C9","v":1370.1466440664772},{"$f":"E9-C9","v":-30935.19735593352}]
["1.1.","Расходы на оплату труда",{"$f":"' НВВ содержание'!C10","v":14469.601707184162},{"$f":"' НВВ содержание'!D10","v":16686.386350000001},{"$f":"' НВВ содержание'!E10","v":0},{"$f":"D10-C10","v":2216.7846428158391},{"$f":"E10-C10","v":-14469.601707184162}]
["1.2","Материалы",{"$f":"' НВВ содержание'!C11","v":7742.1682321502449},{"$f":"' НВВ содержание'!D11","v":5922.2356100000006},{"$f":"' НВВ содержание'!E11","v":0},-1819.9326221502442,-7742.1682321502449]
["1.3","Ремонт основных фондов",{"$f":"' НВВ содержание'!C12","v":6869.9346308795675},{"$f":"' НВВ содержание'!D12","v":6869.9},{"$f":"' НВВ содержание'!E12","v":0},-3.4630879567885131E-2,-6869.9346308795675]
["1.4","Другие обоснованные подконтрольные расходы, в том числе:",{"$f":"' НВВ содержание'!C13","v":1119.5585428782449},{"$f":"' НВВ содержание'!D13","v":2826.82204},{"$f":"' НВВ содержание'!E13","v":0},1707.2634971217551,-1119.5585428782449]
["1.4.1","Работы и услуги производственного характера",{"$f":"' НВВ содержание'!C14","v":118.21664740467506},{"$f":"' НВВ содержание'!D14","v":716.22732000000008},{"$f":"' НВВ содержание'!E14","v":0},598.01067259532499,-118.21664740467506]
["1.4.2","Работы и услуги непроизводственного характера",{"$f":"' НВВ содержание'!C15","v":576.71834324715041},{"$f":"' НВВ содержание'!D15","v":1995.67652},{"$f":"' НВВ содержание'!E15","v":0},1418.9581767528496,-576.71834324715041]
["1.4.3","Обеспечение нормальных условий труда и техники безопасности",{"$f":"' НВВ содержание'!C16","v":357.02604624738132},{"$f":"' НВВ содержание'!D16","v":11.2012},{"$f":"' НВВ содержание'!E16","v":0},-345.82484624738129,-357.02604624738132]
["1.4.4.","Расходы на командировки",{"$f":"' НВВ содержание'!C17","v":0},{"$f":"' НВВ содержание'!D17","v":0},{"$f":"' НВВ содержание'!E17","v":0},0,0]
["1.4.5","Расходы на обучение персонала",{"$f":"' НВВ содержание'!C18","v":0},{"$f":"' НВВ содержание'!D18","v":26.5},{"$f":"' НВВ содержание'!E18","v":0},26.5,0]
["1.4.6","Расходы на страхование",{"$f":"' НВВ содержание'!C19","v":0},{"$f":"' НВВ содержание'!D19","v":0},{"$f":"' НВВ содержание'!E19","v":0},0,0]
["1.4.7","Расходы на услуги банков",{"$f":"' НВВ содержание'!C20","v":67.597505979038033},{"$f":"' НВВ содержание'!D20","v":77.216999999999999},{"$f":"' НВВ содержание'!E20","v":0},9.6194940209619659,-67.597505979038033]
["1.4.8","Прочие обоснованные подконтрольные расходы",{"$f":"' НВВ содержание'!C21","v":0},{"$f":"' НВВ содержание'!D21","v":0},{"$f":"' НВВ содержание'!E21","v":0},0,0]
["1.5","Расходы из прибыли, в том числе:",{"$f":"' НВВ содержание'!C22","v":733.93424284130163},{"$f":"' НВВ содержание'!D22","v":0},{"$f":"' НВВ содержание'!E22","v":0},-733.93424284130163,-733.93424284130163]
["1.5.1","Расходы по коллективным договорам",{"$f":"' НВВ содержание'!C23","v":733.93424284130163},{"$f":"' НВВ содержание'!D23","v":0},{"$f":"' НВВ содержание'!E23","v":0},-733.93424284130163,-733.93424284130163]
["1.5.2","Прочие обоснованные расходы из прибыли",{"$f":"' НВВ содержание'!C24","v":0},{"$f":"' НВВ содержание'!D24","v":0},{"$f":"' НВВ содержание'!E24","v":0},0,0]
["2.","Неподконтрольные расходы (НР)",{"$f":"' НВВ содержание'!C25","v":23011.230873345452},{"$f":"' НВВ содержание'!D25","v":26645.08828},{"$f":"' НВВ содержание'!E25","v":0},3633.857406654548,-23011.230873345452]
["2.1.","Амортизация основных средств",{"$f":"' НВВ содержание'!C26","v":7399.2293150213327},{"$f":"' НВВ содержание'!D26","v":7322.2960499999999},{"$f":"' НВВ содержание'!E26","v":0},-76.933265021332772,-7399.2293150213327]
["2.2.","Расходы на страховые взносы",{"$f":"' НВВ содержание'!C27","v":4584.3007805621746},{"$f":"' НВВ содержание'!D27","v":3403.5241500000002},{"$f":"' НВВ содержание'!E27","v":0},-1180.7766305621744,-4584.3007805621746]
["2.3.","Расходы на оплату услуг организаций, осуществляющие регулируемые виды деятельности",{"$f":"' НВВ содержание'!C28","v":272.99594593152005},{"$f":"' НВВ содержание'!D28","v":442.40091999999999},{"$f":"' НВВ содержание'!E28","v":0},169.40497406847993,-272.99594593152005]
["2.4.","Налоги и сборы, в том числе:",{"$f":"' НВВ содержание'!C29","v":1378.8939326022401},{"$f":"' НВВ содержание'!D29","v":1172.2448300000001},{"$f":"' НВВ содержание'!E29","v":0},-206.64910260223996,-1378.8939326022401]
["2.4.1.","Плата за землю",{"$f":"' НВВ содержание'!C30","v":240.76193260224005},{"$f":"' НВВ содержание'!D30","v":1.43},{"$f":"' НВВ содержание'!E30","v":0},-239.33193260224004,-240.76193260224005]
["2.4.2.","Транспортный налог",{"$f":"' НВВ содержание'!C31","v":0},{"$f":"' НВВ содержание'!D31","v":0},{"$f":"' НВВ содержание'!E31","v":0},0,0]
["2.4.3.","Налог на имущество",{"$f":"' НВВ содержание'!C32","v":0},{"$f":"' НВВ содержание'!D32","v":0},{"$f":"' НВВ содержание'!E32","v":0},0,0]
["2.4.4.","Плата за негативное воздействие на окружающую среду",{"$f":"' НВВ содержание'!C33","v":0},{"$f":"' НВВ содержание'!D33","v":0.15082999999999999},{"$f":"' НВВ содержание'!E33","v":0},0.15082999999999999,0]
["2.4.5.","Налог на прибыль",{"$f":"' НВВ содержание'!C34","v":1138.1320000000001},{"$f":"' НВВ содержание'!D34","v":1170.664},{"$f":"' НВВ содержание'!E34","v":0},32.531999999999925,-1138.1320000000001]
["2.5.","Плата за аренду имущества",{"$f":"' НВВ содержание'!C35","v":4735.28},{"$f":"' НВВ содержание'!D35","v":5002.9115899999997},{"$f":"' НВВ содержание'!E35","v":0},267.63158999999996,-4735.28]
["2.6.","Оплата услуг ПАО \"ФСК ЕЭС\"",{"$f":"' НВВ содержание'!C36","v":0},{"$f":"' НВВ содержание'!D36","v":0},{"$f":"' НВВ содержание'!E36","v":0},0,0]
["2.7.","Прочие обоснованные неподконтрольные расходы",{"$f":"' НВВ содержание'!C37","v":0},{"$f":"' НВВ содержание'!D37","v":0},{"$f":"' НВВ содержание'!E37","v":0},0,0]
["2.8.","Капитальные вложения производственного характера из прибыли",{"$f":"' НВВ содержание'!C38","v":3569.8108992281841},{"$f":"' НВВ содержание'!D38","v":6365.5473899999988},{"$f":"' НВВ содержание'!E38","v":0},2795.7364907718147,-3569.8108992281841]
["2.9.","Расходы, связанные с компенсацией выпадающих доходов от льготного технологического присоединения",{"$f":"' НВВ содержание'!C39","v":1070.72},{"$f":"' НВВ содержание'!D39","v":"х"},{"$f":"' НВВ содержание'!E39","v":"х"},"х","х"]
["2.10.","Расходы на возврат и обслуживание долгосрочных заемных средств, направляемых на финансирование капитальных вложений ",{"$f":"' НВВ содержание'!C40","v":0},{"$f":"' НВВ содержание'!D40","v":2936.1633499999998},{"$f":"' НВВ содержание'!E40","v":0},{"$f":"D40-C40","v":2936.1633499999998},0]
["3.","Корректировка НВВ на основании фактических данных  (Bi )",{"$f":"SUM(C42:C46)","v":-1356.3037837647371},"x","x","x","x"]
["3.1.","Корректировка подконтрольных расходов  (∆ПР)",{"$f":"' НВВ содержание'!C42","v":774.11848569250856},"x","x","x","x"]
["3.2.","Корректировка неподконтрольных расходов (∆НР)",{"$f":"' НВВ содержание'!C43","v":-470.48278099498862},"x","x","x","x"]
["3.3.","Корректировка НВВ с учетом изменения полезного отпуска и цен на электрическую энергию  (ПОi )",{"$f":"' НВВ содержание'!C44","v":-2499.1461305862813},"x","x","x","x"]
["3.4.","Корректировка необходимой валовой выручки по доходам от осуществления регулируемой деятельности  (∆НВВiсод)",{"$f":"' НВВ содержание'!C45","v":839.20664212402426},"x","x","x","x"]
["3.6.","Корректировка НВВ в связи с изменением (неисполнением) инвестиционной программы (ВiкорИП)",{"$f":"' НВВ содержание'!C47","v":0},"x","x","x","x"]
["4.","Корректировка НВВ с учетом надежности и качества оказываемых услуг (НВВi-2сод)*КНКi",{"$f":"' НВВ содержание'!C48","v":745.56791537480808},"x","x","x","x"]
[null,"ИТОГО необходимая валовая выручка на содержание электрических сетей (НВВiсод)",{"$f":"' НВВ содержание'!C52","v":55381.352360889039},{"$f":"D25+D9","v":58950.432279999994},{"$f":"E25+E9","v":0},{"$f":"D48-C48","v":3569.0799191109545},{"$f":"E48-C48","v":-55381.352360889039}]
[]
["Руководитель организации",null,null,{"$f":"'Инф-я'!C21","v":"Окунев Василий Михайлович"}]

{"sheet":"TEHSHEET","index":54,"n_rows":18,"n_cols":5,"rows_kept":18,"cut":false,"hidden":true,"merged":[]}
[]
[]
[]
[]
[]
[]
[null,null,null,null,"Январь"]
[null,null,null,null,"Февраль"]
[null,null,null,null,"Март"]
[null,null,null,null,"Апрель"]
[null,null,null,null,"Май"]
[null,null,null,null,"Июнь"]
[null,null,null,null,"Июль"]
[null,null,null,null,"Август"]
[null,null,null,null,"Сентябрь"]
[null,null,null,null,"Октябрь"]
[null,null,null,null,"Ноябрь"]
[null,null,null,null,"Декабрь"]