{"text_format":"1","workbook":"xlsx","n_sheets":67,"sheets":["Инф-я","Соответствие критериям","Баланс энергии","Баланс мощности","УЕ ВЛЭП  2017-2024","УЕ ТП 2017-2024","Подконтрольные расходы","материалы","план ремонтов","Сводная ремонт","численность","П.1.16. оплата труда ОПР","УПХ","УНПХ","Страхов","Обуч","ОТ и ТБ","Команд","Услуги банков","Прочие ПР","Расходы по кол дог","другие расходы прибыль","Расчет аморт. max срок ","Ввод выбытие ОС  ","Свод по амортизации","Страховые взносы","Расходы рег. орг-ий","Аренда имущества","Плата за землю","Транспортный налог","Налог на имущество","Налог прим при УСНО","Негативное возд. на окр. среду ","Услуги ФСК","Прочие НР"," КВЛ","Выпадающий доход","Расчет выпадающих до 15 кВт","Расчет выпадающих до 150 кВт","СВОД по % по рассрочке","Заявитель1","Заявитель2","Заявитель3","Заявитель4","Возврат заемных средств","Корр. ПР","Корр. ПО","Корр.НВВ","Корр. НР","Корр. ИП","Корр. КНК"," НВВ содержание","НВВ по данным предпр.","НВВ по данным экспертов","НВВ на потери","Тарифы","Форма 1.1","Форма 1.2","Форма 2.1","Форма 2.2","форма 2.3","форма 2.4","форма 3 ","TEHSHEET","Лист1","долг. параметры","Лист2"],"not_rendered":{"charts":0,"images":17,"macros":1,"external_links":16,"defined_names":2867,"comments":4,"pivot_tables":0},"unopened":[],"bounds":{"document_bytes":16777216,"sheet_cells":100000,"rows_first":2000,"rows_last":500,"rows_between":2000,"halvings":0,"cell_chars":16384,"cell_head_chars":4096},"cells_cut":0,"cells_raw":0,"read":"whole","date_system":"1900"}

{"sheet":"Инф-я","index":0,"n_rows":110,"n_cols":3,"rows_kept":110,"cut":false,"hidden":false,"merged":[[39,0,39,2],[40,1,40,3],[1,0,2,2],[3,0,3,2],[8,1,8,2],[5,0,5,2],[38,0,38,2]]}
[]
["Электронный формат расчета НВВ разработан экспертами ООО \"ТОРИ-АУДИТ\"                                "]
[]
["тел. 8-4922-42-32-92"]
[]
["Расчет НВВ на услуги по передаче электрической энергии,  устанавливаемых с применением метода долгосрочной индексации необходимой валовой выручки"]
[]
[]
[null,"Информация об организации"]
[]
["№ п/п","Требуемая информация","Данные об организации"]
["1.","Наименование организации в соответствии с уставом:","Общество с ограниченной ответстваенностью \"Энергетик\""]
[null,"сокращенное название организации ","ООО \"Энергетик\""]
[null,"полное наименование организации ","Общество с ограниченной ответстваенностью \"Энергетик\""]
["2.","Муниципальное образование","г.Карабаново"]
["3.","Адрес организации:"]
[null,"юридический адрес","601640, Владимирская обл., Александровский р-н, г.Карабаново, ул.Вокзальная, д.9"]
[null,"фактический адрес (месторасположение)","601640, Владимирская обл., Александровский р-н, г.Карабаново, ул.Вокзальная, д.9"]
["4.","ИНН",3311023373]
["5.","КПП",331101001]
["6.","ФИО руководителя организации","Окунев Василий Михайлович"]
[null,"контактный телефон/факс","8(49244)5-23-60"]
[null,"е-mail","oao-energetik@yandex.ru"]
["7.","ФИО начальника ПЭО"]
[null,"контактный телефон/факс"]
["8.","ФИО ответственного за электрохозяйство","Ивановский Михаил Владимирович"]
[null,"контактный телефон/факс","8(49244)5-26-01"]
["9.","ФИО главного бухгалтера","Макарова Галина Юрьевна"]
[null,"контактный телефон/факс","8(49244)5-10-79"]
["10.","ФИО непосредственного исполнителя","Макарова Галина Юрьевна"]
[null,"контактный телефон/факс","8(49244)5-10-79"]
[null,"е-mail","oao-energetik@yandex.ru"]
["11.","Банковские реквизиты:"]
[null,"расчетный счет","40702810710000002518"]
[null,"банк","ВЛАДИМИРСКОЕ ОТДЕЛЕНИЕ №8611 ПАО СБЕРБАНК"]
[null,"корреспондентский счет","30101810000000000602"]
[null,"БИК","041708602 "]
[]
["Предложение о размере цен (тарифов), долгосрочных параметров регулирования (при применении метода доходности инвестированного капитала или метода долгосрочной необходимой валовой выручки),  подлежит раскрытию на официальных сайтах регулируемых организаций или на ином официальном сайте в сети Интернет, определяемом Правительством Российской Федерации, и (или) в периодическом печатном издании, в котором публикуются нормативные правовые акты органа исполнительной власти в области регулирования тарифов, - за 10 дней до представления в регулирующий орган предложения об установлении цен (тарифов) и (или) их предельных уровней, содержащего такую информацию. ( п. 9 Постановления Правительства РФ от 21.01.2004 г. № 24 \"Об утверждении стандартов раскрытия информации субъектами оптового и розничных рынков электрической энергии\": )"]
["В случае если регулируемая организация не опубликовала предложение о размере цен (тарифов) и долгосрочных параметров регулирования , подлежащих регулированию или указанное опубликованное предложение не соответствует предложению, представляемому в орган регулирования Регулирующий орган отказывает в открытии дела об установлении цены (тарифа).  \n"]
[]
[]
[]
[]
[]
[]
[]
[]
[]
[]
[]
[]
[]
[]
[]
[]
[]
[]
[]
[]
[]
[]
[]
[]
[]
[]
[]
[]
[]
[]
[]
[]
[]
[]
[]
[]
[]
[]
[]
[]
[]
[]
[]
[]
[]
[]
[]
[]
[]
[]
[]
[]
[]
[]
[]
[]
[]
[1,"ООО «Радугагорэнерго»"]
[2,"МУП «Горэлектросеть» г. Муром"]
[3,"МУП «Александровэлектросеть»"]
[4,"ООО «СтройГарант»"]
[5,"ООО «Костеревские городские электрические сети»"]
[6,"ООО «Ковровэлектросетьремонт»"]
[7,"ООО «ПромРЭС»"]
[8,"ООО «ПромЭнерго» г. Судогда"]
[9,"ОАО «Энергетик» г. Карабаново"]
[10,"ООО «Электросистемы» "]
[11,"ООО «Ярцево-Энерго»"]
[12,"ПАО «Ставровский завод АТО»"]
[13,"ООО «ЭнергоАктив»"]

{"sheet":"Соответствие критериям","index":1,"n_rows":19,"n_cols":6,"rows_kept":19,"cut":false,"hidden":false,"merged":[[3,0,3,5],[1,0,1,5],[18,1,18,2],[22,1,22,5],[23,1,23,5],[8,0,12,0],[21,1,21,5],[7,5,16,5],[18,3,18,5]]}
[]
["Критерии\nотнесения владельцев объектов электросетевого хозяйства к территориальным сетевым организациям\n(утв. постановлением Правительства РФ от 28 февраля 2015 г. N 184)"]
[]
[{"$f":"'Инф-я'!C13","v":"ООО \"Энергетик\""}]
[]
["№ п./п.","Наименование показателя","Ед. измерения","По данным организации","По данным экспертов","Представляемые обосновывающие материалы"]
[1,2,3,4,5,6]
["1.","Владение на праве собственности и (или) на ином законном основании на срок не менее долгосрочного периода регулирования трансформаторными и иными подстанциями с установленными силовыми трансформаторами (автотрансформаторами), расположенными и используемыми для осуществления регулируемой деятельности в административных границах субъекта Российской Федерации, сумма номинальных мощностей которых составляет не менее 10 МВА.","МВА",18723,null,"Согласно пункта 17  Правил государственного регулирования (пересмотра, применения) цен (тарифов) в электроэнергетике, утвержденных Постановлением Правительства РФ от 29 декабря 2011 г. N 1178:\nК заявлениям, направленным в соответствии с пунктами 12, 14 и 16 настоящих Правил, организации, осуществляющие регулируемую деятельность, и органы исполнительной власти субъектов Российской Федерации в области государственного регулирования тарифов прилагают следующие обосновывающие материалы:\n . . . 13) документы, подтверждающие осуществление (фактическое или планируемое) регулируемой деятельности, - документы, подтверждающие право собственности или иные законные основания владения в отношении объектов, используемых для осуществления деятельности, и (или) договоры на осуществление регулируемой деятельности (при реорганизации юридического лица - передаточные акты);\n . . . 15) справка о наличии официального сайта в сети Интернет и выделенного абонентского номера для обращений потребителей услуг по передаче электрической энергии и (или) технологическому присоединению, подписанная руководителем или иным уполномоченным лицом заявителя и заверенная печатью заявителя;\n16) утвержденные руководителем или иным уполномоченным лицом заявителя и заверенные печатью заявителя (при наличии печати) схемы соединений электрической сети заявителя с обозначением трансформаторных и иных подстанций, а также линий электропередачи, указанных в пунктах 1 и 2 критериев отнесения владельцев объектов электросетевого хозяйства к территориальным сетевым организациям, утвержденных постановлением Правительства Российской Федерации от 28 февраля 2015 г. N 184 \"Об отнесении владельцев объектов электросетевого хозяйства к территориальным сетевым организациям\" (далее - критерии отнесения владельцев объектов электросетевого хозяйства к территориальным сетевым организациям).\n"]
["2.","Владение на праве собственности и (или) на ином законном основании на срок не менее долгосрочного периода регулирования линиями электропередачи (воздушными и (или) кабельными), расположенными и используемыми для осуществления регулируемой деятельности в административных границах субъекта Российской Федерации, непосредственно соединенными с трансформаторными и иными подстанциями, указанными в пункте 1 настоящих критериев, сумма протяженностей которых по трассе составляет не менее 15 км, не менее 2 из следующих проектных номинальных классов напряжения:","км",{"$f":"D10+D11+D12+D13","v":209.32},{"$f":"E10+E11+E12+E13","v":0}]
[null,"110 кВ и выше;","км"]
[null,"35 кВ;","км"]
[null,"1 - 20 кВ;","км",60.4]
[null,"ниже 1 кВ - трехфазных участков линий электропередачи.","км",148.91999999999999]
["3.","3. Отсутствие за 3 предшествующих расчетных периода регулирования 3 фактов применения органами исполнительной власти субъектов Российской Федерации в области государственного регулирования тарифов понижающих коэффициентов, позволяющих обеспечить соответствие уровня тарифов, установленных для владельца объектов электросетевого хозяйства, уровню надежности и качества поставляемых товаров и оказываемых услуг, а также корректировки цен (тарифов), установленных на долгосрочный период регулирования, в случае представления владельцем объектов электросетевого хозяйства, для которого такие цены (тарифы) установлены, недостоверных отчетных данных, используемых при расчете фактических значений показателей надежности и качества поставляемых товаров и оказываемых услуг, или непредставления таких данных.","х","нет"]
["4.","4. Наличие выделенного абонентского номера для обращений потребителей услуг по передаче электрической энергии и (или) технологическому присоединению.","х","есть 8-800-450-01-50"]
["5.","5. Наличие официального сайта в информационно-телекоммуникационной сети \"Интернет\".","х","есть oao-energetik.ru"]
["6.","6. Отсутствие во владении и (или) пользовании объектов электросетевого хозяйства, расположенных в административных границах субъекта Российской Федерации и используемых для осуществления регулируемой деятельности в указанных границах, принадлежащих на праве собственности или ином законном основании иному лицу, владеющему объектом по производству электрической энергии (мощности), который расположен в административных границах соответствующего субъекта Российской Федерации и с использованием которого осуществляется производство электрической энергии и мощности с целью ее продажи на оптовом рынке электрической энергии (мощности) и (или) розничных рынках электрической энергии.","х","нет"]
[]
[null,"Руководитель организации",null,{"$f":"'Инф-я'!C21","v":"Окунев Василий Михайлович"}]

{"sheet":"Баланс энергии","index":2,"n_rows":25,"n_cols":47,"rows_kept":25,"cut":false,"hidden":false,"merged":[[4,37,4,41],[4,42,4,46],[2,0,2,6],[2,7,2,46],[1,10,1,11],[4,17,4,21],[4,22,4,26],[1,5,1,6],[4,27,4,31],[4,32,4,36],[4,7,4,11],[4,12,4,16],[4,0,5,0],[4,1,5,1],[4,2,4,6]]}
["Заполняется в тыс. кВт.ч. !",null,null,null,null,null,null,null,null,null,null,null,null,null,null,null,null,null,null,null,null,null,null,null,null,null,null,null,null,null,null,"тыс. кВт.ч."]
[]
["Баланс электрической энергии по сетям ВН, СН1, СН2, и НН",null,null,null,null,null,null,{"$f":"'Инф-я'!C13","v":"ООО \"Энергетик\""}]
[]
["№ п.п.","Показатели","Принято регулирующим органом на 2018 год",null,null,null,null,"Факт за 2018 год",null,null,null,null,"Принято регулирующим органом на 2019 год",null,null,null,null,"По данным организации на 2020 год",null,null,null,null,"По данным организации на 1 полугодие 2020 года",null,null,null,null,"По данным организации на 2 полугодие 2020 года",null,null,null,null,"По данным экспертов на 2020 год",null,null,null,null,"По данным экспертов  на 1 полугодие 2020 года",null,null,null,null,"По данным экспертов на 2 полугодие 2020 года"]
[null,null,"Всего","ВН","СН1","СН2","НН","Всего","ВН","СН1","СН2","НН","Всего","ВН","СН1","СН2","НН","Всего","ВН","СН1","СН2","НН","Всего","ВН","СН1","СН2","НН","Всего","ВН","СН1","СН2","НН","Всего","ВН","СН1","СН2","НН","Всего","ВН","СН1","СН2","НН","Всего","ВН","СН1","СН2","НН"]
[1,2,3,4,5,6,7,18,19,20,21,22,33,34,35,36,37,48,49,50,51,52,53,54,55,56,57,58,59,60,61,62,63,64,65,66,67,53,54,55,56,57,58,59,60,61,62]
["1.","Поступление эл.энергии в сеть , ВСЕГО ",{"$f":"C18+C20+C21","v":26146.6},{"$f":"D14+D15+D16+D17","v":26146.6},{"$f":"E9+E14+E15+E16+E17","v":0},{"$f":"F9+F14+F15+F16+F17","v":26146.6},{"$f":"G9+G14+G15+G16+G17","v":16645.6382772},{"$f":"H18+H20+H21","v":24932.312000000002},{"$f":"I14+I15+I16+I17","v":24932.312000000002},{"$f":"J9+J14+J15+J16+J17","v":0},{"$f":"K9+K14+K15+K16+K17","v":24932.312000000002},{"$f":"L9+L14+L15+L16+L17","v":17159.454118400001},{"$f":"M18+M20+M21","v":26146.6},{"$f":"N14+N15+N16+N17","v":26146.6},{"$f":"O9+O14+O15+O16+O17","v":0},{"$f":"P9+P14+P15+P16+P17","v":26146.6},{"$f":"Q9+Q14+Q15+Q16+Q17","v":16636.762105263162},{"$f":"R18+R20+R21","v":24932.312000000005},{"$f":"S14+S15+S16+S17","v":24932.312000000002},{"$f":"T9+T14+T15+T16+T17","v":0},{"$f":"U9+U14+U15+U16+U17","v":24932.312000000002},{"$f":"V9+V14+V15+V16+V17","v":17159.454118400005},{"$f":"W18+W20+W21","v":12667.37425739307},{"$f":"X14+X15+X16+X17","v":12667.37425739307},{"$f":"Y9+Y14+Y15+Y16+Y17","v":0},{"$f":"Z9+Z14+Z15+Z16+Z17","v":12667.37425739307},{"$f":"AA9+AA14+AA15+AA16+AA17","v":8736.7646785705292},{"$f":"AB18+AB20+AB21","v":12264.937742606931},{"$f":"AC14+AC15+AC16+AC17","v":12264.937742606931},{"$f":"AD9+AD14+AD15+AD16+AD17","v":0},{"$f":"AE9+AE14+AE15+AE16+AE17","v":12264.937742606931},{"$f":"AF9+AF14+AF15+AF16+AF17","v":8422.6894398294735},{"$f":"AG18+AG20+AG21","v":0},{"$f":"AH14+AH15+AH16+AH17","v":0},{"$f":"AI9+AI14+AI15+AI16+AI17","v":0},{"$f":"AJ9+AJ14+AJ15+AJ16+AJ17","v":0},{"$f":"AK9+AK14+AK15+AK16+AK17","v":0},{"$f":"AL18+AL20+AL21","v":0},{"$f":"AM14+AM15+AM16+AM17","v":0},{"$f":"AN9+AN14+AN15+AN16+AN17","v":0},{"$f":"AO9+AO14+AO15+AO16+AO17","v":0},{"$f":"AP9+AP14+AP15+AP16+AP17","v":0},{"$f":"AQ18+AQ20+AQ21","v":0},{"$f":"AR14+AR15+AR16+AR17","v":0},{"$f":"AS9+AS14+AS15+AS16+AS17","v":0},{"$f":"AT9+AT14+AT15+AT16+AT17","v":0},{"$f":"AU9+AU14+AU15+AU16+AU17","v":0}]
["1.1.","из смежной сети, всего","х","х",{"$f":"E11","v":0},{"$f":"F11+F12","v":26146.6},{"$f":"G11+G12+G13","v":16645.6382772},"х","х",{"$f":"J11","v":0},{"$f":"K11+K12","v":24932.312000000002},{"$f":"L11+L12+L13","v":17159.454118400001},"х","х",{"$f":"O11","v":0},{"$f":"P11+P12","v":26146.6},{"$f":"Q11+Q12+Q13","v":16636.762105263162},"х","х",{"$f":"T11","v":0},{"$f":"U11+U12","v":24932.312000000002},{"$f":"V11+V12+V13","v":17159.454118400005},"х","х",{"$f":"Y11","v":0},{"$f":"Z11+Z12","v":12667.37425739307},{"$f":"AA11+AA12+AA13","v":8736.7646785705292},"х","х",{"$f":"AD11","v":0},{"$f":"AE11+AE12","v":12264.937742606931},{"$f":"AF11+AF12+AF13","v":8422.6894398294735},"х","х",{"$f":"AI11","v":0},{"$f":"AJ11+AJ12","v":0},{"$f":"AK11+AK12+AK13","v":0},"х","х",{"$f":"AN11","v":0},{"$f":"AO11+AO12","v":0},{"$f":"AP11+AP12+AP13","v":0},"х","х",{"$f":"AS11","v":0},{"$f":"AT11+AT12","v":0},{"$f":"AU11+AU12+AU13","v":0}]
[null,"    в том числе из сети","х","х","х","х","х","х","х","х","х","х","х","х","х","х","х","х","х","х","х","х","х","х","х","х","х","х","х","х","х","х","х","х","х","х","х","х","х","х","х","х","х","х","х","х","х"]
["1.1.1.","ВН","х","х",null,{"$f":"D8-D18-D20-D21-E11-G11","v":26146.6},null,"х","х",null,{"$f":"I8-I18-I20-I21-J11-L11","v":24932.312000000002},null,"х","х",null,{"$f":"N8-N18-N20-N21-O11-Q11","v":26146.6},null,"х","х",null,{"$f":"S8-S18-S20-S21-T11-V11","v":24932.312000000002},null,"х","х",null,{"$f":"X8-X18-X20-X21-Y11-AA11","v":12667.37425739307},null,"х","х",null,{"$f":"AC8-AC18-AC20-AC21-AD11-AF11","v":12264.937742606931},null,"х","х",null,{"$f":"AH8-AH18-AH20-AH21-AI11-AK11","v":0},null,"х","х",null,{"$f":"AM8-AM18-AM20-AM21-AN11-AP11","v":0},null,"х","х",null,{"$f":"AR8-AR18-AR20-AR21-AS11-AU11","v":0}]
["1.1.2.","СН1","х","х","х",{"$f":"E8-E18-E20-E21-G12","v":0},null,"х","х","х",{"$f":"J8-J18-J20-J21-L12","v":0},null,"х","х","х",{"$f":"O8-O18-O20-O21-Q12","v":0},null,"х","х","х",{"$f":"T8-T18-T20-T21-V12","v":0},null,"х","х","х",{"$f":"Y8-Y18-Y20-Y21-AA12","v":0},null,"х","х","х",{"$f":"AD8-AD18-AD20-AD21-AF12","v":0},null,"х","х","х",{"$f":"AI8-AI18-AI20-AI21-AK12","v":0},null,"х","х","х",{"$f":"AN8-AN18-AN20-AN21-AP12","v":0},null,"х","х","х",{"$f":"AS8-AS18-AS20-AS21-AU12","v":0}]
["1.1.3.","СН2","х","х","х","х",{"$f":"F8-F18-F20-F21","v":16645.6382772},"х","х","х","х",{"$f":"K8-K18-K20-K21","v":17159.454118400001},"х","х","х","х",{"$f":"P8-P18-P20-P21","v":16636.762105263162},"х","х","х","х",{"$f":"U8-U18-U20-U21","v":17159.454118400005},"х","х","х","х",{"$f":"Z8-Z18-Z20-Z21","v":8736.7646785705292},"х","х","х","х",{"$f":"AE8-AE18-AE20-AE21","v":8422.6894398294735},"х","х","х","х",{"$f":"AJ8-AJ18-AJ20-AJ21","v":0},"х","х","х","х",{"$f":"AO8-AO18-AO20-AO21","v":0},"х","х","х","х",{"$f":"AT8-AT18-AT20-AT21","v":0}]
["1.2.","от электростанций",{"$f":"SUM(D14:G14)","v":0},null,null,null,null,{"$f":"SUM(I14:L14)","v":0},null,null,null,null,{"$f":"SUM(N14:Q14)","v":0},null,null,null,null,{"$f":"SUM(S14:V14)","v":0},null,null,null,null,{"$f":"SUM(X14:AA14)","v":0},null,null,null,null,{"$f":"SUM(AC14:AF14)","v":0},null,null,null,null,{"$f":"SUM(AH14:AK14)","v":0},null,null,null,null,{"$f":"SUM(AM14:AP14)","v":0},null,null,null,null,{"$f":"SUM(AR14:AU14)","v":0}]
["1.3.","от ОАО \"ФСК ЕЭС\"",{"$f":"SUM(D15:G15)","v":0},null,null,null,null,{"$f":"SUM(I15:L15)","v":0},null,null,null,null,{"$f":"SUM(N15:Q15)","v":0},null,null,null,null,{"$f":"SUM(S15:V15)","v":0},null,null,null,null,{"$f":"SUM(X15:AA15)","v":0},null,null,null,null,{"$f":"SUM(AC15:AF15)","v":0},null,null,null,null,{"$f":"SUM(AH15:AK15)","v":0},null,null,null,null,{"$f":"SUM(AM15:AP15)","v":0},null,null,null,null,{"$f":"SUM(AR15:AU15)","v":0}]
["1.4.","от филиала \"Владимирэнерго\" ОАО \"МРСК Центра и Приволжья\" ",{"$f":"SUM(D16:G16)","v":26146.6},26146.6,null,null,null,{"$f":"SUM(I16:L16)","v":24932.312000000002},24932.312000000002,null,null,null,{"$f":"SUM(N16:Q16)","v":26146.6},26146.6,null,null,null,{"$f":"SUM(S16:V16)","v":24932.312000000002},24932.312000000002,0,0,0,{"$f":"SUM(X16:AA16)","v":12667.37425739307},12667.37425739307,0,0,0,{"$f":"SUM(AC16:AF16)","v":12264.937742606931},12264.937742606931,null,null,null,{"$f":"SUM(AH16:AK16)","v":0},null,null,null,null,{"$f":"SUM(AM16:AP16)","v":0},null,null,null,null,{"$f":"SUM(AR16:AU16)","v":0}]
["1.5.","от других сетевых организаций",{"$f":"SUM(D17:G17)","v":0},null,null,null,null,{"$f":"SUM(I17:L17)","v":0},null,null,null,null,{"$f":"SUM(N17:Q17)","v":0},null,null,null,null,{"$f":"SUM(S17:V17)","v":0},0,0,0,0,{"$f":"SUM(X17:AA17)","v":0},0,0,0,0,{"$f":"SUM(AC17:AF17)","v":0},null,null,null,null,{"$f":"SUM(AH17:AK17)","v":0},null,null,null,null,{"$f":"SUM(AM17:AP17)","v":0},null,null,null,null,{"$f":"SUM(AR17:AU17)","v":0}]
["2.","Потери электроэнергии в сети ",{"$f":"SUM(D18:G18)","v":3670.4980500341999},{"$f":"D8*D19/100","v":0},{"$f":"E8*E19/100","v":0},{"$f":"F8*F19/100","v":1614.7617227999997},{"$f":"G8*G19/100","v":2055.7363272342},{"$f":"SUM(I18:L18)","v":2857.5475933754242},{"$f":"I8*I19/100","v":0},{"$f":"J8*J19/100","v":0},{"$f":"K8*K19/100","v":1540.8168816},{"$f":"L8*L19/100","v":1316.7307117754242},{"$f":"SUM(N18:Q18)","v":3670.5},{"$f":"N8*N19/100","v":0},{"$f":"O8*O19/100","v":0},{"$f":"P8*P19/100","v":1615.8598799999997},{"$f":"Q8*Q19/100","v":2054.6401200000005},{"$f":"SUM(S18:V18)","v":3660.0094652224006},{"$f":"S8*S19/100","v":0},{"$f":"T8*T19/100","v":0},{"$f":"U8*U19/100","v":1540.8168816},{"$f":"V8*V19/100","v":2119.1925836224004},{"$f":"SUM(X18:AA18)","v":1861.834166910352},{"$f":"X8*X19/100","v":0},{"$f":"Y8*Y19/100","v":0},{"$f":"Z8*Z19/100","v":782.84372910689171},{"$f":"AA8*AA19/100","v":1078.9904378034603},{"$f":"SUM(AC18:AF18)","v":1798.1752983120482},{"$f":"AC8*AC19/100","v":0},{"$f":"AD8*AD19/100","v":0},{"$f":"AE8*AE19/100","v":757.97315249310839},{"$f":"AF8*AF19/100","v":1040.2021458189399},{"$f":"SUM(AH18:AK18)","v":0},{"$f":"AH8*AH19/100","v":0},{"$f":"AI8*AI19/100","v":0},{"$f":"AJ8*AJ19/100","v":0},{"$f":"AK8*AK19/100","v":0},{"$f":"SUM(AM18:AP18)","v":0},{"$f":"AM8*AM19/100","v":0},{"$f":"AN8*AN19/100","v":0},{"$f":"AO8*AO19/100","v":0},{"$f":"AP8*AP19/100","v":0},{"$f":"SUM(AR18:AU18)","v":0},{"$f":"AR8*AR19/100","v":0},{"$f":"AS8*AS19/100","v":0},{"$f":"AT8*AT19/100","v":0},{"$f":"AU8*AU19/100","v":0}]
["2.1.","то же в % (п.2./п.1.)",{"$f":"IF(C8=0,0,C18/C8*100)","v":14.038146642524078},null,null,6.1757999999999997,12.35,{"$f":"IF(H8=0,0,H18/H8*100)","v":11.461221860914559},null,null,6.18,7.6734999999999998,{"$f":"IF(M8=0,0,M18/M8*100)","v":14.038154100341918},null,null,6.18,12.35,{"$f":"IF(R8=0,0,R18/R8*100)","v":14.679783668768465},null,null,6.18,12.35,{"$f":"IF(W8=0,0,W18/W8*100)","v":14.697869732740612},null,null,6.18,12.35,{"$f":"IF(AB8=0,0,AB18/AB8*100)","v":14.661104165783097},null,null,6.18,12.35,{"$f":"IF(AG8=0,0,AG18/AG8*100)","v":0},null,null,null,null,{"$f":"IF(AL8=0,0,AL18/AL8*100)","v":0},null,null,null,null,{"$f":"IF(AQ8=0,0,AQ18/AQ8*100)","v":0}]
["3.","Расход электроэнергии на производственные и хознужды",{"$f":"SUM(D20:G20)","v":0},null,null,null,null,{"$f":"SUM(I20:L20)","v":0},null,null,null,null,{"$f":"SUM(N20:Q20)","v":0},null,null,null,null,{"$f":"SUM(S20:V20)","v":0},null,null,null,null,{"$f":"SUM(X20:AA20)","v":0},null,null,null,null,{"$f":"SUM(AC20:AF20)","v":0},null,null,null,null,{"$f":"SUM(AH20:AK20)","v":0},null,null,null,null,{"$f":"SUM(AM20:AP20)","v":0},null,null,null,null,{"$f":"SUM(AR20:AU20)","v":0}]
["4.","Полезный отпуск из сети ",{"$f":"SUM(D21:G21)","v":22476.1019499658},{"$f":"D22+D23+D24","v":0},{"$f":"E22+E23+E24","v":0},{"$f":"F22+F23+F24","v":7886.2},{"$f":"G8-G18-G20","v":14589.901949965799},{"$f":"SUM(I21:L21)","v":22074.764406624578},{"$f":"I22+I23+I24","v":0},{"$f":"J22+J23+J24","v":0},{"$f":"K22+K23+K24","v":6232.0410000000002},{"$f":"L8-L18-L20","v":15842.723406624576},{"$f":"SUM(N21:Q21)","v":22476.1},{"$f":"N22+N23+N24","v":0},{"$f":"O22+O23+O24","v":0},{"$f":"P22+P23+P24","v":7893.9780147368356},{"$f":"Q8-Q18-Q20","v":14582.121985263162},{"$f":"SUM(S21:V21)","v":21272.302534777606},{"$f":"S22+S23+S24","v":0},{"$f":"T22+T23+T24","v":0},{"$f":"U22+U23+U24","v":6232.0409999999993},{"$f":"V8-V18-V20","v":15040.261534777605},{"$f":"SUM(X21:AA21)","v":10805.540090482718},{"$f":"X22+X23+X24","v":0},{"$f":"Y22+Y23+Y24","v":0},{"$f":"Z22+Z23+Z24","v":3147.7658497156499},{"$f":"AA8-AA18-AA20","v":7657.7742407670685},{"$f":"SUM(AC21:AF21)","v":10466.762444294884},{"$f":"AC22+AC23+AC24","v":0},{"$f":"AD22+AD23+AD24","v":0},{"$f":"AE22+AE23+AE24","v":3084.2751502843494},{"$f":"AF8-AF18-AF20","v":7382.4872940105333},{"$f":"SUM(AH21:AK21)","v":0},{"$f":"AH22+AH23+AH24","v":0},{"$f":"AI22+AI23+AI24","v":0},{"$f":"AJ22+AJ23+AJ24","v":0},{"$f":"AK8-AK18-AK20","v":0},{"$f":"SUM(AM21:AP21)","v":0},{"$f":"AM22+AM23+AM24","v":0},{"$f":"AN22+AN23+AN24","v":0},{"$f":"AO22+AO23+AO24","v":0},{"$f":"AP8-AP18-AP20","v":0},{"$f":"SUM(AR21:AU21)","v":0},{"$f":"AR22+AR23+AR24","v":0},{"$f":"AS22+AS23+AS24","v":0},{"$f":"AT22+AT23+AT24","v":0},{"$f":"AU8-AU18-AU20","v":0}]
["4.1.","потребителям, присоединенным к сети",{"$f":"SUM(D22:G22)","v":22476.1},null,null,7886.2,14589.9,{"$f":"SUM(I22:L22)","v":22074.767},null,null,6232.0410000000002,15842.726000000001,{"$f":"SUM(N22:Q22)","v":22476.1},null,null,7893.9780147368356,14582.121985263162,{"$f":"SUM(S22:V22)","v":22075.112000000005},0,0,6232.0409999999993,15843.071000000005,{"$f":"SUM(X22:AA22)","v":11150.00425739307},null,null,3147.7658497156499,8002.2384076774206,{"$f":"SUM(AC22:AF22)","v":10925.107742606935},null,null,3084.2751502843494,7840.8325923225848,{"$f":"SUM(AH22:AK22)","v":0},null,null,null,null,{"$f":"SUM(AM22:AP22)","v":0},null,null,null,null,{"$f":"SUM(AR22:AU22)","v":0}]
["4.2.","переток в филиал \"Владимирэнерго\" ОАО \"МРСК Центра и Приволжья\" ",{"$f":"SUM(D23:G23)","v":0},null,null,null,null,{"$f":"SUM(I23:L23)","v":0},null,null,null,null,{"$f":"SUM(N23:Q23)","v":0},null,null,null,null,{"$f":"SUM(S23:V23)","v":0},0,0,0,0,{"$f":"SUM(X23:AA23)","v":0},null,null,null,null,{"$f":"SUM(AC23:AF23)","v":0},null,null,null,null,{"$f":"SUM(AH23:AK23)","v":0},null,null,null,null,{"$f":"SUM(AM23:AP23)","v":0},null,null,null,null,{"$f":"SUM(AR23:AU23)","v":0}]
["4.3.","переток в другие сетевые организации",{"$f":"SUM(D24:G24)","v":0},null,null,null,null,{"$f":"SUM(I24:L24)","v":0},null,null,null,null,{"$f":"SUM(N24:Q24)","v":0},null,null,null,null,{"$f":"SUM(S24:V24)","v":0},0,0,0,0,{"$f":"SUM(X24:AA24)","v":0},null,null,null,null,{"$f":"SUM(AC24:AF24)","v":0},null,null,null,null,{"$f":"SUM(AH24:AK24)","v":0},null,null,null,null,{"$f":"SUM(AM24:AP24)","v":0},null,null,null,null,{"$f":"SUM(AR24:AU24)","v":0}]
[null,"Проверка",null,{"$f":"D8-D18-D20-D22-D23-D24-E11-F11-G11","v":0},{"$f":"E8-E18-E20-E22-E23-E24-F12-G12","v":0},{"$f":"F8-F18-F20-F22-F23-F24-G13","v":0},{"$f":"G8-G18-G20-G22-G23-G24","v":1.949965799212805E-3},null,{"$f":"I8-I18-I20-I22-I23-I24-J11-K11-L11","v":0},{"$f":"J8-J18-J20-J22-J23-J24-K12-L12","v":0},{"$f":"K8-K18-K20-K22-K23-K24-L13","v":0},{"$f":"L8-L18-L20-L22-L23-L24","v":-2.5933754241123097E-3},null,{"$f":"N8-N18-N20-N22-N23-N24-O11-P11-Q11","v":0},{"$f":"O8-O18-O20-O22-O23-O24-P12-Q12","v":0},{"$f":"P8-P18-P20-P22-P23-P24-Q13","v":0},{"$f":"Q8-Q18-Q20-Q22-Q23-Q24","v":0},null,{"$f":"S8-S18-S20-S22-S23-S24-T11-U11-V11","v":0},{"$f":"T8-T18-T20-T22-T23-T24-U12-V12","v":0},{"$f":"U8-U18-U20-U22-U23-U24-V13","v":0},{"$f":"V8-V18-V20-V22-V23-V24","v":-802.80946522240083},null,{"$f":"X8-X18-X20-X22-X23-X24-Y11-Z11-AA11","v":0},{"$f":"Y8-Y18-Y20-Y22-Y23-Y24-Z12-AA12","v":0},{"$f":"Z8-Z18-Z20-Z22-Z23-Z24-AA13","v":0},{"$f":"AA8-AA18-AA20-AA22-AA23-AA24","v":-344.46416691035211},null,{"$f":"AC8-AC18-AC20-AC22-AC23-AC24-AD11-AE11-AF11","v":0},{"$f":"AD8-AD18-AD20-AD22-AD23-AD24-AE12-AF12","v":0},{"$f":"AE8-AE18-AE20-AE22-AE23-AE24-AF13","v":0},{"$f":"AF8-AF18-AF20-AF22-AF23-AF24","v":-458.34529831205145},null,{"$f":"AH8-AH18-AH20-AH22-AH23-AH24-AI11-AJ11-AK11","v":0},{"$f":"AI8-AI18-AI20-AI22-AI23-AI24-AJ12-AK12","v":0},{"$f":"AJ8-AJ18-AJ20-AJ22-AJ23-AJ24-AK13","v":0},{"$f":"AK8-AK18-AK20-AK22-AK23-AK24","v":0},null,{"$f":"AM8-AM18-AM20-AM22-AM23-AM24-AN11-AO11-AP11","v":0},{"$f":"AN8-AN18-AN20-AN22-AN23-AN24-AO12-AP12","v":0},{"$f":"AO8-AO18-AO20-AO22-AO23-AO24-AP13","v":0},{"$f":"AP8-AP18-AP20-AP22-AP23-AP24","v":0},null,{"$f":"AR8-AR18-AR20-AR22-AR23-AR24-AS11-AT11-AU11","v":0},{"$f":"AS8-AS18-AS20-AS22-AS23-AS24-AT12-AU12","v":0},{"$f":"AT8-AT18-AT20-AT22-AT23-AT24-AU13","v":0},{"$f":"AU8-AU18-AU20-AU22-AU23-AU24","v":0}]

{"sheet":"Баланс мощности","index":3,"n_rows":27,"n_cols":12,"rows_kept":27,"cut":false,"hidden":false,"merged":[[1,1,1,6],[6,2,6,6],[6,7,6,11],[6,0,7,0],[6,1,7,1],[3,1,3,5]]}
[]
[null,"Электрическая мощность по диапазонам напряжения "]
[]
[null,{"$f":"'Инф-я'!C13","v":"ООО \"Энергетик\""}]
[]
[null,null,null,null,null,null,"МВт"]
["№ п.п.","Показатели","По данным организации на 2020 год",null,null,null,null,"По данным экспертов на 2020 год"]
[null,null,"Всего","ВН","СН1","СН2","НН","Всего","ВН","СН1","СН2","НН"]
[1,2,3,4,5,6,7,8,9,10,11,12]
["1.","Поступление мощности в сеть , ВСЕГО ",{"$f":"C20+C22+C23","v":4.4700000000000006},{"$f":"D16+D17+D18+D19","v":4.47},{"$f":"E11+E16+E17+E18+E19","v":0},{"$f":"F11+F16+F17+F18+F19","v":4.47},{"$f":"G11+G16+G17+G18+G19","v":3.4215540000000004},{"$f":"H20+H22+H23","v":0},{"$f":"I16+I17+I18+I19","v":0},{"$f":"J11+J16+J17+J18+J19","v":0},{"$f":"K11+K16+K17+K18+K19","v":0},{"$f":"L11+L16+L17+L18+L19","v":0}]
["1.1.","из смежной сети, всего","х","х",{"$f":"E13","v":0},{"$f":"F13+F14","v":4.47},{"$f":"G13+G14+G15","v":3.4215540000000004},"х","х",{"$f":"J13","v":0},{"$f":"K13+K14","v":0},{"$f":"L13+L14+L15","v":0}]
[null,"    в том числе из сети","х","х","х","х","х","х","х","х","х","х"]
["1.1.1.","ВН","х","х",null,{"$f":"D10-D20-D22-D23-G13-E13","v":4.47},null,"х","х",null,{"$f":"I10-I20-I22-I23-L13-J13","v":0}]
["1.1.2.","СН1","х","х","х",{"$f":"E10-E20-E22-E23-G14","v":0},null,"х","х","х",{"$f":"J10-J20-J22-J23-L14","v":0}]
["1.1.3.","СН2","х","х","х","х",{"$f":"F10-F20-F22-F23","v":3.4215540000000004},"х","х","х","х",{"$f":"K10-K20-K22-K23","v":0}]
["1.2.","от электростанций",{"$f":"SUM(D16:G16)","v":0},null,null,null,null,{"$f":"SUM(I16:L16)","v":0}]
["1.3.","от ОАО \"ФСК ЕЭС\"",{"$f":"SUM(D17:G17)","v":0},null,null,null,null,{"$f":"SUM(I17:L17)","v":0}]
["1.4.","от филиала \"Владимирэнерго\" ОАО \"МРСК Центра и Приволжья\" ",{"$f":"SUM(D18:G18)","v":4.47},4.47,null,null,null,{"$f":"SUM(I18:L18)","v":0}]
["1.5.","от других сетевых организаций",{"$f":"SUM(D19:G19)","v":0},null,null,null,null,{"$f":"SUM(I19:L19)","v":0}]
["2.","Потери мощности в сети ",{"$f":"SUM(D20:G20)","v":0.69880791900000006},{"$f":"D10*D21/100","v":0},{"$f":"E10*E21/100","v":0},{"$f":"F10*F21/100","v":0.27624599999999999},{"$f":"G10*G21/100","v":0.42256191900000006},{"$f":"SUM(I20:L20)","v":0},{"$f":"I10*I21/100","v":0},{"$f":"J10*J21/100","v":0},{"$f":"K10*K21/100","v":0},{"$f":"L10*L21/100","v":0}]
["2.1.","то же в % (п.2./п.1.)",{"$f":"IF(C10=0,0,C20/C10*100)","v":15.633286778523489},{"$f":"'Баланс энергии'!S19","v":0},{"$f":"'Баланс энергии'!T19","v":0},{"$f":"'Баланс энергии'!U19","v":6.18},12.35,{"$f":"IF(H10=0,0,H20/H10*100)","v":0},{"$f":"'Баланс энергии'!AH19","v":0},{"$f":"'Баланс энергии'!AI19","v":0},{"$f":"'Баланс энергии'!AJ19","v":0}]
["3.","Расход электроэнергии на производственные и хознужды",{"$f":"SUM(D22:G22)","v":0},null,null,null,null,{"$f":"SUM(I22:L22)","v":0}]
["4.","Полезный отпуск из сети ",{"$f":"SUM(D23:G23)","v":3.7711920810000006},{"$f":"D24+D25+D26","v":0},{"$f":"E24+E25+E26","v":0},{"$f":"F24+F25+F26","v":0.7722},{"$f":"G10-G20-G22","v":2.9989920810000004},{"$f":"SUM(I23:L23)","v":0},{"$f":"I24+I25+I26","v":0},{"$f":"J24+J25+J26","v":0},{"$f":"K24+K25+K26","v":0},{"$f":"L10-L20-L22","v":0}]
["4.1.","потребителям, присоединенным к сети",{"$f":"SUM(D24:G24)","v":3.7712000000000003},null,null,0.7722,2.9990000000000001,{"$f":"SUM(I24:L24)","v":0}]
["4.2.","переток в филиал \"Владимирэнерго\" ОАО \"МРСК Центра и Приволжья\" ",{"$f":"SUM(D25:G25)","v":0},null,null,null,null,{"$f":"SUM(I25:L25)","v":0}]
["4.3.","переток в другие сетевые организации",{"$f":"SUM(D26:G26)","v":0},null,null,null,null,{"$f":"SUM(I26:L26)","v":0}]
[null,"Проверка",null,{"$f":"D10-D20-D22-D24-D25-D26-E13-F13-G13","v":0},{"$f":"E10-E20-E22-E24-E25-E26-F14-G14","v":0},{"$f":"F10-F20-F22-F24-F25-F26-G15","v":0},{"$f":"G10-G20-G22-G24-G25-G26","v":-7.9189999997453242E-6},null,{"$f":"I10-I20-I22-I24-I25-I26-J13-K13-L13","v":0},{"$f":"J10-J20-J22-J24-J25-J26-K14-L14","v":0},{"$f":"K10-K20-K22-K24-K25-K26-L15","v":0},{"$f":"L10-L20-L22-L24-L25-L26","v":0}]

{"sheet":"УЕ ВЛЭП  2017-2024","index":4,"n_rows":54,"n_cols":36,"rows_kept":54,"cut":false,"hidden":false,"merged":[[7,34,7,35],[51,0,51,4],[7,20,7,21],[7,22,7,23],[7,24,7,25],[7,26,7,27],[7,28,7,29],[38,0,39,0],[42,0,44,0],[42,1,44,1],[42,2,44,2],[47,0,50,0],[47,1,50,3],[22,2,24,2],[17,2,19,2],[20,2,21,2],[7,30,7,31],[7,32,7,33],[25,2,26,2],[7,14,7,15],[7,16,7,17],[7,18,7,19],[7,6,7,7],[7,8,7,9],[7,10,7,11],[7,12,7,13],[22,1,26,1],[27,0,28,0],[30,0,37,0],[30,1,34,1],[30,2,32,2],[33,2,34,2],[35,1,37,1],[35,2,37,2],[3,1,3,17],[53,4,53,5],[53,9,53,11],[2,0,2,17],[5,0,6,0],[5,1,6,1],[5,2,6,2],[5,3,6,3],[5,4,6,4],[9,0,26,0],[11,1,12,1],[11,2,12,2],[13,1,16,1],[13,2,14,2],[15,2,16,2],[17,1,21,1]]}
[]
[]
["Объем воздушных линий электропередач (ВЛЭП) и кабельных линий электропередач (КЛЭП) в условных единицах в зависимости от протяженности, напряжения, конструктивного использования и материала опор в период с 2017 по 2024 годы"]
[null,{"$f":"'Инф-я'!C13","v":"ООО \"Энергетик\""}]
[]
["ЛЭП","Напряжение, кВ ","Количество цепей на опоре","Материал опор","Наименование","Количество условных единиц (у) на 100 км трассы ЛЭП","Протяженность","Объем условных единиц","Протяженность","Объем условных единиц","Протяженность","Объем условных единиц","Количество единиц измерения","Объем условных единиц","Протяженность","Объем условных единиц","Протяженность","Объем условных единиц","Протяженность","Объем условных единиц","Протяженность","Объем условных единиц","Протяженность","Объем условных единиц","Протяженность","Объем условных единиц","Протяженность","Объем условных единиц","Протяженность","Объем условных единиц","Протяженность","Объем условных единиц","Протяженность","Объем условных единиц","Протяженность","Объем условных единиц"]
[null,null,null,null,null,"у/100км","км","у","ед.изм.","у","ед.изм.","у","ед.изм.","у","км","у","км","у","км","у","км","у","км","у","км","у","км","у","км","у","км","у","км","у","км","у"]
[null,null,null,null,null,null,"2017 год факт",null,"2018 год утверждено",null,"2018 год факт по данным организации",null,"2018 год факт по данным экспертов",null,"2019 год утверждено",null,"2020 год план по данным организации",null,"2020 год по данным экспертов",null,"2021 год план по данным организации",null,"2021 год по данным экспертов",null,"2022 год план по данным организации",null,"2022 год по данным экспертов",null,"2023 год план по данным организации",null,"2023 год по данным экспертов",null,"2024 год план по данным организации",null,"2024 год по данным экспертов"]
[1,{"$f":"+A9+1","v":2},{"$f":"+B9+1","v":3},{"$f":"+C9+1","v":4},5,6,7,8,9,10,11,12,13,14,15,16,17,18,null,null,19,20,null,null,21,22,null,null,23,24,null,null,25,26]
["ВЛЭП",1150,"-","металл","ВЛЭП-1150кВ-металл",800,null,{"$f":"$F10*G10/100","v":0},null,{"$f":"F10*I10/100","v":0},null,{"$f":"K10*F10/100","v":0},null,{"$f":"M10*F10/100","v":0},null,{"$f":"F10*O10/100","v":0},null,{"$f":"F10*Q10/100","v":0},null,{"$f":"$F10*S10/100","v":0},null,{"$f":"$F10*U10/100","v":0},null,{"$f":"$F10*W10/100","v":0},null,{"$f":"$F10*Y10/100","v":0},null,{"$f":"$F10*AA10/100","v":0},null,{"$f":"$F10*AC10/100","v":0},null,{"$f":"$F10*AE10/100","v":0},null,{"$f":"$F10*AG10/100","v":0},null,{"$f":"$F10*AI10/100","v":0}]
[null,750,1,"металл","ВЛЭП-750кВ-цепей:1-металл",600,null,{"$f":"F11*G11/100","v":0},null,0,null,{"$f":"K11*F11/100","v":0},null,{"$f":"M11*F11/100","v":0},null,0,null,0,null,0,null,0,null,0,null,0,null,0,null,0,null,0,null,0,null,0]
[null,"400-500",1,"металл","ВЛЭП-400-500кВ-цепей:1-металл",400,null,0,null,0,null,0,null,0,null,0,null,0,null,0,null,0,null,0,null,0,null,0,null,0,null,0,null,0,null,0]
[null,null,null,"ж/бетон","ВЛЭП-400-500кВ-ж/бетон",300,null,0,null,0,null,0,null,0,null,0,null,0,null,0,null,0,null,0,null,0,null,0,null,0,null,0,null,0,null,0]
[null,330,1,"металл","ВЛЭП-330кВ-цепей:1-металл",230,null,0,null,0,null,0,null,0,null,0,null,0,null,0,null,0,null,0,null,0,null,0,null,0,null,0,null,0,null,0]
[null,null,null,"ж/бетон","ВЛЭП-330кВ-ж/бетон",170,null,0,null,0,null,0,null,0,null,0,null,0,null,0,null,0,null,0,null,0,null,0,null,0,null,0,null,0,null,0]
[null,null,2,"металл","ВЛЭП-330кВ-цепей:2-металл",290,null,0,null,0,null,0,null,0,null,0,null,0,null,0,null,0,null,0,null,0,null,0,null,0,null,0,null,0,null,0]
[null,null,null,"ж/бетон","ВЛЭП-330кВ-ж/бетон",210,null,0,null,0,null,0,null,0,null,0,null,0,null,0,null,0,null,0,null,0,null,0,null,0,null,0,null,0,null,0]
[null,220,1,"дерево","ВЛЭП-220кВ-цепей:1-дерево",260,null,0,null,0,null,0,null,0,null,0,null,0,null,0,null,0,null,0,null,0,null,0,null,0,null,0,null,0,null,0]
[null,null,null,"металл","ВЛЭП-220кВ-металл",210,null,0,null,0,null,0,null,0,null,0,null,0,null,0,null,0,null,0,null,0,null,0,null,0,null,0,null,0,null,0]
[null,null,null,"ж/бетон","ВЛЭП-220кВ-ж/бетон",140,null,0,null,0,null,0,null,0,null,0,null,0,null,0,null,0,null,0,null,0,null,0,null,0,null,0,null,0,null,0]
[null,null,2,"металл","ВЛЭП-220кВ-цепей:2-металл",270,null,0,null,0,null,0,null,0,null,0,null,0,null,0,null,0,null,0,null,0,null,0,null,0,null,0,null,0,null,0]
[null,null,null,"ж/бетон","ВЛЭП-220кВ-ж/бетон",180,null,0,null,0,null,0,null,0,null,0,null,0,null,0,null,0,null,0,null,0,null,0,null,0,null,0,null,0,null,0]
[null,"110-150",1,"дерево","ВЛЭП-110-150кВ-цепей:1-дерево",180,null,0,null,0,null,0,null,0,null,0,null,0,null,0,null,0,null,0,null,0,null,0,null,0,null,0,null,0,null,0]
[null,null,null,"металл","ВЛЭП-110-150кВ-металл",160,null,0,null,0,null,0,null,0,null,0,null,0,null,0,null,0,null,0,null,0,null,0,null,0,null,0,null,0,null,0]
[null,null,null,"ж/бетон","ВЛЭП-110-150кВ-ж/бетон",130,null,0,null,0,null,0,null,0,null,0,null,0,null,0,null,0,null,0,null,0,null,0,null,0,null,0,null,0,null,0]
[null,null,2,"металл","ВЛЭП-110-150кВ-цепей:2-металл",190,null,0,null,0,null,0,null,0,null,0,null,0,null,0,null,0,null,0,null,0,null,0,null,0,null,0,null,0,null,0]
[null,null,null,"ж/бетон","ВЛЭП-110-150кВ-ж/бетон",160,null,0,null,0,null,0,null,0,null,0,null,0,null,0,null,0,null,0,null,0,null,0,null,0,null,0,null,0,null,0]
["КЛЭП",220,"-","-","КЛЭП-220кВ",3000,null,0,null,0,null,0,null,0,null,0,null,0,null,0,null,0,null,0,null,0,null,0,null,0,null,0,null,0,null,0]
[null,110,"-","-","КЛЭП-110кВ",2300,null,0,null,0,null,0,null,0,null,0,null,0,null,0,null,0,null,0,null,0,null,0,null,0,null,0,null,0,null,0]
["ВН, всего ",null,null,null,"Итого:",null,{"$f":"SUM(G10:G29)","v":0},0,0,0,0,0,{"$f":"SUM(M10:M29)","v":0},0,0,0,0,0,{"$f":"SUM(S10:S29)","v":0},{"$f":"SUM(T10:T29)","v":0},{"$f":"SUM(U10:U29)","v":0},0,{"$f":"SUM(W10:W29)","v":0},{"$f":"SUM(X10:X29)","v":0},{"$f":"SUM(Y10:Y29)","v":0},0,{"$f":"SUM(AA10:AA29)","v":0},{"$f":"SUM(AB10:AB29)","v":0},{"$f":"SUM(AC10:AC29)","v":0},0,{"$f":"SUM(AE10:AE29)","v":0},{"$f":"SUM(AF10:AF29)","v":0},{"$f":"SUM(AG10:AG29)","v":0},0,{"$f":"SUM(AI10:AI29)","v":0},{"$f":"SUM(AJ10:AJ29)","v":0}]
["ВЛЭП",35,1,"дерево","ВЛЭП-35кВ-цепей:1-дерево",170,null,{"$f":"F31*G31/100","v":0},null,{"$f":"F31*I31/100","v":0},null,{"$f":"K31*F31/100","v":0},null,{"$f":"M31*F31/100","v":0},null,{"$f":"F31*O31/100","v":0},null,{"$f":"F31*Q31/100","v":0},null,{"$f":"$F31*S31/100","v":0},null,{"$f":"$F31*U31/100","v":0},null,{"$f":"$F31*W31/100","v":0},null,{"$f":"$F31*Y31/100","v":0},null,{"$f":"$F31*AA31/100","v":0},null,{"$f":"$F31*AC31/100","v":0},null,{"$f":"$F31*AE31/100","v":0},null,{"$f":"$F31*AG31/100","v":0},null,{"$f":"$F31*AI31/100","v":0}]
[null,null,null,"металл","ВЛЭП-35кВ-металл",140,null,0,null,0,null,{"$f":"K32*F32/100","v":0},null,{"$f":"M32*F32/100","v":0},null,0,null,0,null,0,null,0,null,0,null,0,null,0,null,0,null,0,null,0,null,0]
[null,null,null,"ж/бетон","ВЛЭП-35кВ-ж/бетон",120,null,0,null,0,null,0,null,0,null,0,null,0,null,0,null,0,null,0,null,0,null,0,null,0,null,0,null,0,null,0]
[null,null,2,"металл","ВЛЭП-35кВ-цепей:2-металл",180,null,0,null,0,null,0,null,0,null,0,null,0,null,0,null,0,null,0,null,0,null,0,null,0,null,0,null,0,null,0]
[null,null,null,"ж/бетон","ВЛЭП-35кВ-ж/бетон",150,null,0,null,0,null,0,null,0,null,0,null,0,null,0,null,0,null,0,null,0,null,0,null,0,null,0,null,0,null,0]
[null," 1 - 20 ","-","дерево","ВЛЭП-1-20кВ-дерево",160,null,0,null,0,null,0,null,0,null,0,null,0,null,0,null,0,null,0,null,0,null,0,null,0,null,0,null,0,null,0]
[null,null,null,"дерево на ж/б пасынках","ВЛЭП-1-20кВ-дерево на ж/б пасынках",140,7.52,10.527999999999999,7.52,10.527999999999999,7.52,10.527999999999999,null,0,7.52,10.527999999999999,7.52,10.527999999999999,null,0,7.52,10.527999999999999,null,0,7.52,10.527999999999999,null,0,7.52,10.527999999999999,null,0,7.52,10.527999999999999,null,0]
[null,null,null,"ж/бетон, металл","ВЛЭП-1-20кВ-ж/бетон,металл",110,37.168999999999997,40.885899999999999,36.18,39.798000000000002,36.18,39.798000000000002,null,0,39.770000000000003,43.747000000000007,40.1,44.11,null,0,40.515000000000001,44.566499999999998,null,0,40.520000000000003,44.57200000000001,null,0,40.57,44.626999999999995,null,0,40.57,44.626999999999995,null,0]
["КЛЭП"," 20 -35","-","-","КЛЭП-20-35кВ",470,null,0,null,0,null,0,null,0,null,0,null,0,null,0,null,0,null,0,null,0,null,0,null,0,null,0,null,0,null,0]
[null," 3 - 10","-","-","КЛЭП-3-10кВ",350,16.7,58.45,16.7,58.45,16.7,58.45,null,0,16.7,58.45,16.399999999999999,57.399999999999991,null,0,15.97,55.895000000000003,null,0,15.97,55.895000000000003,null,0,15.87,55.545000000000002,null,0,15.87,55.545000000000002,null,0]
["СН-1, всего",null,null,null,"Итого:",null,{"$f":"SUM(G31:G35)+G39","v":0},0,0,0,0,0,{"$f":"SUM(M31:M35)+M39","v":0},0,0,0,0,0,{"$f":"SUM(S31:S35)+S39","v":0},{"$f":"SUM(T31:T35)+T39","v":0},{"$f":"SUM(U31:U35)+U39","v":0},0,{"$f":"SUM(W31:W35)+W39","v":0},{"$f":"SUM(X31:X35)+X39","v":0},{"$f":"SUM(Y31:Y35)+Y39","v":0},0,{"$f":"SUM(AA31:AA35)+AA39","v":0},{"$f":"SUM(AB31:AB35)+AB39","v":0},{"$f":"SUM(AC31:AC35)+AC39","v":0},0,{"$f":"SUM(AE31:AE35)+AE39","v":0},{"$f":"SUM(AF31:AF35)+AF39","v":0},{"$f":"SUM(AG31:AG35)+AG39","v":0},0,{"$f":"SUM(AI31:AI35)+AI39","v":0},{"$f":"SUM(AJ31:AJ35)+AJ39","v":0}]
["СН-2, всего",null,null,null,"Итого:",null,{"$f":"SUM(G36:G38)+G40","v":61.388999999999996},109.8639,60.400000000000006,108.77600000000001,60.400000000000006,108.77600000000001,{"$f":"SUM(M36:M38)+M40","v":0},0,63.990000000000009,112.72500000000001,64.02000000000001,112.03799999999998,{"$f":"SUM(S36:S38)+S40","v":0},{"$f":"SUM(T36:T38)+T40","v":0},{"$f":"SUM(U36:U38)+U40","v":64.004999999999995},110.98949999999999,{"$f":"SUM(W36:W38)+W40","v":0},{"$f":"SUM(X36:X38)+X40","v":0},{"$f":"SUM(Y36:Y38)+Y40","v":64.010000000000005},110.995,{"$f":"SUM(AA36:AA38)+AA40","v":0},{"$f":"SUM(AB36:AB38)+AB40","v":0},{"$f":"SUM(AC36:AC38)+AC40","v":63.96},110.69999999999999,{"$f":"SUM(AE36:AE38)+AE40","v":0},{"$f":"SUM(AF36:AF38)+AF40","v":0},{"$f":"SUM(AG36:AG38)+AG40","v":63.96},110.69999999999999,{"$f":"SUM(AI36:AI38)+AI40","v":0},{"$f":"SUM(AJ36:AJ38)+AJ40","v":0}]
["ВЛЭП","0,4 кВ ","-","дерево","ВЛЭП-0,4кВ-дерево",260,null,{"$f":"F43*G43/100","v":0},null,{"$f":"F43*I43/100","v":0},null,{"$f":"K43*F43/100","v":0},null,{"$f":"M43*F43/100","v":0},null,{"$f":"F43*O43/100","v":0},null,{"$f":"F43*Q43/100","v":0},null,{"$f":"$F43*S43/100","v":0},null,{"$f":"$F43*U43/100","v":0},null,{"$f":"$F43*W43/100","v":0},null,{"$f":"$F43*Y43/100","v":0},null,{"$f":"$F43*AA43/100","v":0},null,{"$f":"$F43*AC43/100","v":0},null,{"$f":"$F43*AE43/100","v":0},null,{"$f":"$F43*AG43/100","v":0},null,{"$f":"$F43*AI43/100","v":0}]
[null,null,null,"дерево на ж/б пасынках","ВЛЭП-0,4кВ-дерево на ж/б пасынках",220,122.81,{"$f":"F44*G44/100","v":270.18200000000002},122.81,{"$f":"F44*I44/100","v":270.18200000000002},122.81,{"$f":"K44*F44/100","v":270.18200000000002},null,0,122.81,{"$f":"F44*O44/100","v":270.18200000000002},122.81,{"$f":"F44*Q44/100","v":270.18200000000002},null,0,122.81,270.18200000000002,null,0,122.81,270.18200000000002,null,0,122.81,270.18200000000002,null,0,122.81,270.18200000000002,null,0]
[null,null,null,"ж/бетон, металл","ВЛЭП-0,4кВ-ж/бетон,металл",150,13.71,{"$f":"F45*G45/100","v":20.565000000000001},13.71,{"$f":"F45*I45/100","v":20.565000000000001},13.71,{"$f":"K45*F45/100","v":20.565000000000001},null,0,13.71,{"$f":"F45*O45/100","v":20.565000000000001},13.71,{"$f":"F45*Q45/100","v":20.565000000000001},null,0,13.71,20.565000000000001,null,0,14.862,22.293000000000003,null,0,14.86,22.29,null,0,14.86,22.29,null,0]
["КЛЭП","до 1 кВ ","-","-","КЛЭП-до1кВ",270,12.4,{"$f":"F46*G46/100","v":33.479999999999997},12.4,{"$f":"F46*I46/100","v":33.479999999999997},12.4,{"$f":"K46*F46/100","v":33.479999999999997},null,0,12.4,{"$f":"F46*O46/100","v":33.479999999999997},12.4,{"$f":"F46*Q46/100","v":33.479999999999997},null,0,12.4,33.479999999999997,null,0,12.4,33.479999999999997,null,0,12.4,33.479999999999997,null,0,12.4,33.479999999999997,null,0]
["НН, всего",null,null,null,"Итого:",null,{"$f":"SUM(G43:G46)","v":148.92000000000002},324.22700000000003,148.92000000000002,324.22700000000003,148.92000000000002,324.22700000000003,0,0,148.92000000000002,324.22700000000003,148.92000000000002,324.22700000000003,0,0,148.92000000000002,324.22700000000003,0,0,150.072,325.95500000000004,0,0,150.07000000000002,325.95200000000006,0,0,150.07000000000002,325.95200000000006,0,0]
[null,"Итого по уровням напряжения:",null,null,"ВН",null,{"$f":"G30","v":0},{"$f":"H30","v":0},0,{"$f":"J30","v":0},0,0,0,0,0,0,0,0,0,0,0,0,0,0,0,0,0,0,0,0,0,0,0,0,0,0]
[null,null,null,null,"СН1",null,{"$f":"G41","v":0},{"$f":"H41","v":0},0,{"$f":"J41","v":0},0,0,0,0,0,0,0,0,0,0,0,0,0,0,0,0,0,0,0,0,0,0,0,0,0,0]
[null,null,null,null,"СН2",null,{"$f":"G42","v":61.388999999999996},109.8639,60.400000000000006,{"$f":"J42","v":108.77600000000001},60.400000000000006,108.77600000000001,0,0,63.990000000000009,112.72500000000001,64.02000000000001,112.03799999999998,0,0,64.004999999999995,110.98949999999999,0,0,64.010000000000005,110.995,0,0,63.96,110.69999999999999,0,0,63.96,110.69999999999999,0,0]
[null,null,null,null,"НН",null,{"$f":"G47","v":148.92000000000002},{"$f":"H47","v":324.22700000000003},148.92000000000002,{"$f":"J47","v":324.22700000000003},148.92000000000002,324.22700000000003,0,0,148.92000000000002,324.22700000000003,148.92000000000002,324.22700000000003,0,0,148.92000000000002,324.22700000000003,0,0,150.072,325.95500000000004,0,0,150.07000000000002,325.95200000000006,0,0,150.07000000000002,325.95200000000006,0,0]
["ВСЕГО:",null,null,null,null,null,{"$f":"SUM(G48:G51)","v":210.30900000000003},{"$f":"SUM(H48:H51)","v":434.09090000000003},209.32000000000002,433.00300000000004,209.32000000000002,433.00300000000004,0,0,212.91000000000003,436.95200000000006,212.94000000000003,436.26499999999999,0,0,212.92500000000001,435.2165,0,0,214.08199999999999,436.95000000000005,0,0,214.03000000000003,436.65200000000004,0,0,214.03000000000003,436.65200000000004,0,0]
[]
[null,null,null,null,"Руководитель организации",null,null,null,null,{"$f":"'Инф-я'!$C$21","v":"Окунев Василий Михайлович"}]

{"sheet":"УЕ ТП 2017-2024","index":5,"n_rows":62,"n_cols":36,"rows_kept":62,"cut":false,"hidden":false,"merged":[[9,0,15,0],[7,34,7,35],[54,1,54,3],[7,26,7,27],[7,28,7,29],[7,30,7,31],[7,32,7,33],[7,20,7,21],[7,22,7,23],[9,1,15,1],[9,3,15,3],[7,8,7,9],[7,10,7,11],[7,14,7,15],[7,16,7,17],[7,18,7,19],[32,0,35,0],[32,1,35,1],[32,3,35,3],[16,0,23,0],[16,1,23,1],[16,3,23,3],[2,0,2,35],[61,1,61,2],[61,6,61,8],[5,0,6,0],[5,1,6,2],[5,3,6,3],[5,4,6,4],[36,0,40,0],[36,1,40,1],[36,3,40,3],[44,0,45,0],[50,0,53,0],[50,1,53,3],[44,1,45,1],[44,3,45,3],[24,0,31,0],[3,1,3,17],[55,1,58,3],[59,1,59,3],[7,12,7,13],[7,24,7,25],[24,1,31,1],[24,3,31,3],[7,1,7,2],[7,6,7,7]]}
[]
[]
["Объем подстанций 35-1150 кВ, трансформаторных подстанций (ТП), комплексных трансформаторных подстанций (КТП) и распределительных пунктов(РП) 0,4-20 кВ в условных единицах в период с 2017 по 2024 годы"]
[null,{"$f":"'Инф-я'!C13","v":"ООО \"Энергетик\""}]
[]
["№ п.п.","Наименование",null,"Единица измерения","Напряжение, кВ ","Количество условных единиц (у) на единицу измерения","Количество единиц измерения","Объем условных единиц","Количество единиц измерения","Объем условных единиц","Количество единиц измерения","Объем условных единиц","Количество единиц измерения","Объем условных единиц","Количество единиц измерения","Объем условных единиц","Количество единиц измерения","Объем условных единиц","Количество единиц измерения","Объем условных единиц","Количество единиц измерения","Объем условных единиц","Количество единиц измерения","Объем условных единиц","Количество единиц измерения","Объем условных единиц","Количество единиц измерения","Объем условных единиц","Количество единиц измерения","Объем условных единиц","Количество единиц измерения","Объем условных единиц","Количество единиц измерения","Объем условных единиц","Количество единиц измерения","Объем условных единиц"]
[null,null,null,null,null,"у/ед.изм.","ед.изм.","у","ед.изм.","у","ед.изм.","у","ед.изм.","у","ед.изм.","у","ед.изм.","у","ед.изм.","у","ед.изм.","у","ед.изм.","у","ед.изм.","у","ед.изм.","у","ед.изм.","у","ед.изм.","у","ед.изм.","у","ед.изм.","у"]
[null,null,null,null,null,null,"2017 год факт",null,"2018 год утверждено",null,"2018 год факт по данным организации",null,"2018 год факт по данным экспертов",null,"2019 год утверждено",null,"2020 год план по данным организации",null,"2020 год по данным экспертов",null,"2021 год план по данным организации",null,"2021 год по данным экспертов",null,"2022 год план по данным организации",null,"2022 год по данным экспертов",null,"2023 год план по данным организации",null,"2023 год по данным экспертов",null,"2024 год план по данным организации",null,"2024 год по данным экспертов"]
[1,{"$f":"+A9+1","v":2},3,4,5,6,7,8,9,10,11,12,13,14,15,16,17,18,19,20,19,20,17,18,21,22,17,18,23,24,17,18,25,26,17,18]
[1,"Подстанция",{"$f":"B10","v":"Подстанция"},"П/ст",1150,1000,null,{"$f":"F10*G10","v":0},null,{"$f":"F10*I10","v":0},null,{"$f":"K10*F10","v":0},null,{"$f":"M10*F10","v":0},null,{"$f":"F10*O10","v":0},null,{"$f":"F10*Q10","v":0},null,{"$f":"$F10*S10","v":0},null,{"$f":"$F10*U10","v":0},null,{"$f":"$F10*W10","v":0},null,{"$f":"$F10*Y10","v":0},null,{"$f":"$F10*AA10","v":0},null,{"$f":"$F10*AC10","v":0},null,{"$f":"$F10*AE10","v":0},null,{"$f":"$F10*AG10","v":0},null,{"$f":"$F10*AI10","v":0}]
[null,null,{"$f":"B10","v":"Подстанция"},null,750,600,null,0,null,0,null,{"$f":"K11*F11","v":0},null,{"$f":"M11*F11","v":0},null,0,null,0,null,{"$f":"$F11*S11","v":0},null,0,null,0,null,0,null,0,null,0,null,0,null,0,null,0]
[null,null,{"$f":"B10","v":"Подстанция"},null,"400-500",500,null,0,null,0,null,0,null,0,null,0,null,0,null,0,null,0,null,0,null,0,null,0,null,0,null,0,null,0,null,0]
[null,null,{"$f":"B10","v":"Подстанция"},null,330,250,null,0,null,0,null,0,null,0,null,0,null,0,null,0,null,0,null,0,null,0,null,0,null,0,null,0,null,0,null,0]
[null,null,{"$f":"B10","v":"Подстанция"},null,220,210,null,0,null,0,null,0,null,0,null,0,null,0,null,0,null,0,null,0,null,0,null,0,null,0,null,0,null,0,null,0]
[null,null,{"$f":"B10","v":"Подстанция"},null,"110-150",105,null,0,null,0,null,0,null,0,null,0,null,0,null,0,null,0,null,0,null,0,null,0,null,0,null,0,null,0,null,0]
[null,null,{"$f":"B10","v":"Подстанция"},null,35,75,null,0,null,0,null,0,null,0,null,0,null,0,null,0,null,0,null,0,null,0,null,0,null,0,null,0,null,0,null,0]
[2,"Силовой трансформатор или реактор (одно- или трехфазный), или вольтодобавочный трансформатор",{"$f":"B17","v":"Силовой трансформатор или реактор (одно- или трехфазный), или вольтодобавочный трансформатор"},"Ед. оборуд.",1150,60,null,0,null,0,null,0,null,0,null,0,null,0,null,0,null,0,null,0,null,0,null,0,null,0,null,0,null,0,null,0]
[null,null,{"$f":"B17","v":"Силовой трансформатор или реактор (одно- или трехфазный), или вольтодобавочный трансформатор"},null,750,43,null,0,null,0,null,0,null,0,null,0,null,0,null,0,null,0,null,0,null,0,null,0,null,0,null,0,null,0,null,0]
[null,null,{"$f":"B17","v":"Силовой трансформатор или реактор (одно- или трехфазный), или вольтодобавочный трансформатор"},null,"400-500",28,null,0,null,0,null,0,null,0,null,0,null,0,null,0,null,0,null,0,null,0,null,0,null,0,null,0,null,0,null,0]
[null,null,{"$f":"B17","v":"Силовой трансформатор или реактор (одно- или трехфазный), или вольтодобавочный трансформатор"},null,330,18,null,0,null,0,null,0,null,0,null,0,null,0,null,0,null,0,null,0,null,0,null,0,null,0,null,0,null,0,null,0]
[null,null,{"$f":"B17","v":"Силовой трансформатор или реактор (одно- или трехфазный), или вольтодобавочный трансформатор"},null,220,14,null,0,null,0,null,0,null,0,null,0,null,0,null,0,null,0,null,0,null,0,null,0,null,0,null,0,null,0,null,0]
[null,null,{"$f":"B17","v":"Силовой трансформатор или реактор (одно- или трехфазный), или вольтодобавочный трансформатор"},null,"110-150",7.8,null,0,null,0,null,0,null,0,null,0,null,0,null,0,null,0,null,0,null,0,null,0,null,0,null,0,null,0,null,0]
[null,null,{"$f":"B17","v":"Силовой трансформатор или реактор (одно- или трехфазный), или вольтодобавочный трансформатор"},null,35,2.1,null,0,null,0,null,0,null,0,null,0,null,0,null,0,null,0,null,0,null,0,null,0,null,0,null,0,null,0,null,0]
[null,null,{"$f":"B17","v":"Силовой трансформатор или реактор (одно- или трехфазный), или вольтодобавочный трансформатор"},null,"1-20",1,null,0,null,0,null,0,null,0,null,0,null,0,null,0,null,0,null,0,null,0,null,0,null,0,null,0,null,0,null,0]
[3,"Воздушный выключатель",{"$f":"B25","v":"Воздушный выключатель"},"3 фазы",1150,180,null,0,null,0,null,0,null,0,null,0,null,0,null,0,null,0,null,0,null,0,null,0,null,0,null,0,null,0,null,0]
[null,null,{"$f":"B25","v":"Воздушный выключатель"},null,750,130,null,0,null,0,null,0,null,0,null,0,null,0,null,0,null,0,null,0,null,0,null,0,null,0,null,0,null,0,null,0]
[null,null,{"$f":"B25","v":"Воздушный выключатель"},null,"400-500",88,null,0,null,0,null,0,null,0,null,0,null,0,null,0,null,0,null,0,null,0,null,0,null,0,null,0,null,0,null,0]
[null,null,{"$f":"B25","v":"Воздушный выключатель"},null,330,66,null,0,null,0,null,0,null,0,null,0,null,0,null,0,null,0,null,0,null,0,null,0,null,0,null,0,null,0,null,0]
[null,null,{"$f":"B25","v":"Воздушный выключатель"},null,220,43,null,0,null,0,null,0,null,0,null,0,null,0,null,0,null,0,null,0,null,0,null,0,null,0,null,0,null,0,null,0]
[null,null,{"$f":"B25","v":"Воздушный выключатель"},null,"110-150",26,null,0,null,0,null,0,null,0,null,0,null,0,null,0,null,0,null,0,null,0,null,0,null,0,null,0,null,0,null,0]
[null,null,{"$f":"B25","v":"Воздушный выключатель"},null,35,11,null,0,null,0,null,0,null,0,null,0,null,0,null,0,null,0,null,0,null,0,null,0,null,0,null,0,null,0,null,0]
[null,null,{"$f":"B25","v":"Воздушный выключатель"},null,"1-20",5.5,null,0,null,0,null,0,null,0,null,0,null,0,null,0,null,0,null,0,null,0,null,0,null,0,null,0,null,0,null,0]
[4,"Масляный (вакуумный) выключатель",{"$f":"B33","v":"Масляный (вакуумный) выключатель"}," - \" -",220,23,null,0,null,0,null,0,null,0,null,0,null,0,null,0,null,0,null,0,null,0,null,0,null,0,null,0,null,0,null,0]
[null,null,{"$f":"B33","v":"Масляный (вакуумный) выключатель"},null,"110-150",14,null,0,null,0,null,0,null,0,null,0,null,0,null,0,null,0,null,0,null,0,null,0,null,0,null,0,null,0,null,0]
[null,null,{"$f":"B33","v":"Масляный (вакуумный) выключатель"},null,35,6.4,null,0,null,0,null,0,null,0,null,0,null,0,null,0,null,0,null,0,null,0,null,0,null,0,null,0,null,0,null,0]
[null,null,{"$f":"B33","v":"Масляный (вакуумный) выключатель"},null,"1-20",3.1,9,27.900000000000002,9,27.900000000000002,9,27.900000000000002,null,0,9,27.900000000000002,9,27.900000000000002,null,0,9,27.900000000000002,null,0,9,27.900000000000002,null,0,9,27.900000000000002,null,0,9,27.900000000000002,null,0]
[5,"Отделитель с короткозамыкателем",{"$f":"B37","v":"Отделитель с короткозамыкателем"},"Ед. оборуд.","400-500",35,null,0,null,0,null,0,null,0,null,0,null,0,null,0,null,0,null,0,null,0,null,0,null,0,null,0,null,0,null,0]
[null,null,{"$f":"B37","v":"Отделитель с короткозамыкателем"},null,330,24,null,0,null,0,null,0,null,0,null,0,null,0,null,0,null,0,null,0,null,0,null,0,null,0,null,0,null,0,null,0]
[null,null,{"$f":"B37","v":"Отделитель с короткозамыкателем"},null,220,19,null,0,null,0,null,0,null,0,null,0,null,0,null,0,null,0,null,0,null,0,null,0,null,0,null,0,null,0,null,0]
[null,null,{"$f":"B37","v":"Отделитель с короткозамыкателем"},null,"110-150",9.5,null,0,null,0,null,0,null,0,null,0,null,0,null,0,null,0,null,0,null,0,null,0,null,0,null,0,null,0,null,0]
[null,null,{"$f":"B37","v":"Отделитель с короткозамыкателем"},null,35,4.7,null,0,null,0,null,0,null,0,null,0,null,0,null,0,null,0,null,0,null,0,null,0,null,0,null,0,null,0,null,0]
[6,"Выключатель нагрузки",{"$f":"B42","v":"Выключатель нагрузки"}," - \" -","1-20",2.2999999999999998,150,345,157,361.09999999999997,157,361.09999999999997,null,0,157,361.09999999999997,157,361.09999999999997,null,0,157,361.09999999999997,null,0,157,361.09999999999997,null,0,157,361.09999999999997,null,0,157,361.09999999999997,null,0]
[7,"Синхронный компенсатор мощн. до 50 Мвар",{"$f":"B43","v":"Синхронный компенсатор мощн. до 50 Мвар"}," - \" -","1-20",26,null,0,null,0,null,0,null,0,null,0,null,0,null,0,null,0,null,0,null,0,null,0,null,0,null,0,null,0,null,0]
[8,"То же, 50 Мвар и более","Синхронный компенсатор мощн. 50 Мвар и выше"," - \" -","1-20",48,null,0,null,0,null,0,null,0,null,0,null,0,null,0,null,0,null,0,null,0,null,0,null,0,null,0,null,0,null,0]
[9,"Статические конденсаторы",{"$f":"B45","v":"Статические конденсаторы"},"100 конд.",35,2.4,null,0,null,0,null,0,null,0,null,0,null,0,null,0,null,0,null,0,null,0,null,0,null,0,null,0,null,0,null,0]
[null,null,{"$f":"B45","v":"Статические конденсаторы"},null,"1-20",2.4,null,0,null,0,null,0,null,0,null,0,null,0,null,0,null,0,null,0,null,0,null,0,null,0,null,0,null,0,null,0]
[10,"Мачтовая (столбовая) ТП",{"$f":"B47","v":"Мачтовая (столбовая) ТП"},"ТП","1-20",2.5,9,22.5,9,22.5,9,22.5,null,0,9,22.5,9,22.5,null,0,9,22.5,null,0,9,22.5,null,0,9,22.5,null,0,9,22.5,null,0]
[11,"Однотрансфор-маторная ТП, КТП",{"$f":"B48","v":"Однотрансфор-маторная ТП, КТП"},"ТП, КТП","1-20",2.2999999999999998,29,66.699999999999989,29,66.699999999999989,29,66.699999999999989,null,0,29,66.699999999999989,29,66.699999999999989,null,0,29,66.699999999999989,null,0,29,66.699999999999989,null,0,29,66.699999999999989,null,0,29,66.699999999999989,null,0]
[12,"Двухтрансформаторная ТП, КТП",{"$f":"B49","v":"Двухтрансформаторная ТП, КТП"},"ТП, КТП","1-20",3,9,27,9,27,9,27,null,0,9,27,10,30,null,0,10,30,null,0,11,33,null,0,11,33,null,0,11,33,null,0]
[13,"Однотрансфор-маторная подстанция 34/0,4 кВ ",{"$f":"B50","v":"Однотрансфор-маторная подстанция 34/0,4 кВ "},"п/ст",35,3.5,null,0,null,0,null,0,null,0,null,0,null,0,null,0,null,0,null,0,null,0,null,0,null,0,null,0,null,0,null,0]
[null,"Итого по уровням напряжения:",null,null,"ВН",null,"х",{"$f":"H10+H11+H12+H13+H17+H18+H19+H20+H25+H26+H27+H28+H37+H38+H40+H39+H34+H33+H30+H29+H22+H21+H15+H14","v":0},"х",0,"х",0,"х",{"$f":"N10+N11+N12+N13+N17+N18+N19+N20+N25+N26+N27+N28+N37+N38+N40+N39+N34+N33+N30+N29+N22+N21+N15+N14","v":0},"х",0,"х",0,"х",{"$f":"T10+T11+T12+T13+T17+T18+T19+T20+T25+T26+T27+T28+T37+T38+T40+T39+T34+T33+T30+T29+T22+T21+T15+T14","v":0},"х",{"$f":"V10+V11+V12+V13+V17+V18+V19+V20+V25+V26+V27+V28+V37+V38+V40+V39+V34+V33+V30+V29+V22+V21+V15+V14","v":0},"х",{"$f":"X10+X11+X12+X13+X17+X18+X19+X20+X25+X26+X27+X28+X37+X38+X40+X39+X34+X33+X30+X29+X22+X21+X15+X14","v":0},"х",{"$f":"Z10+Z11+Z12+Z13+Z17+Z18+Z19+Z20+Z25+Z26+Z27+Z28+Z37+Z38+Z40+Z39+Z34+Z33+Z30+Z29+Z22+Z21+Z15+Z14","v":0},"х",{"$f":"AB10+AB11+AB12+AB13+AB17+AB18+AB19+AB20+AB25+AB26+AB27+AB28+AB37+AB38+AB40+AB39+AB34+AB33+AB30+AB29+AB22+AB21+AB15+AB14","v":0},"х",{"$f":"AD10+AD11+AD12+AD13+AD17+AD18+AD19+AD20+AD25+AD26+AD27+AD28+AD37+AD38+AD40+AD39+AD34+AD33+AD30+AD29+AD22+AD21+AD15+AD14","v":0},"х",{"$f":"AF10+AF11+AF12+AF13+AF17+AF18+AF19+AF20+AF25+AF26+AF27+AF28+AF37+AF38+AF40+AF39+AF34+AF33+AF30+AF29+AF22+AF21+AF15+AF14","v":0},"х",{"$f":"AH10+AH11+AH12+AH13+AH17+AH18+AH19+AH20+AH25+AH26+AH27+AH28+AH37+AH38+AH40+AH39+AH34+AH33+AH30+AH29+AH22+AH21+AH15+AH14","v":0},"х",{"$f":"AJ10+AJ11+AJ12+AJ13+AJ17+AJ18+AJ19+AJ20+AJ25+AJ26+AJ27+AJ28+AJ37+AJ38+AJ40+AJ39+AJ34+AJ33+AJ30+AJ29+AJ22+AJ21+AJ15+AJ14","v":0}]
[null,null,null,null,"СН1",null,"х",{"$f":"H16+H23+H31+H35+H41+H45+H50","v":0},"х",0,"х",0,"х",{"$f":"N16+N23+N31+N35+N41+N45+N50","v":0},"х",0,"х",0,"х",{"$f":"T16+T23+T31+T35+T41+T45+T50","v":0},"х",{"$f":"V16+V23+V31+V35+V41+V45+V50","v":0},"х",{"$f":"X16+X23+X31+X35+X41+X45+X50","v":0},"х",{"$f":"Z16+Z23+Z31+Z35+Z41+Z45+Z50","v":0},"х",{"$f":"AB16+AB23+AB31+AB35+AB41+AB45+AB50","v":0},"х",{"$f":"AD16+AD23+AD31+AD35+AD41+AD45+AD50","v":0},"х",{"$f":"AF16+AF23+AF31+AF35+AF41+AF45+AF50","v":0},"х",{"$f":"AH16+AH23+AH31+AH35+AH41+AH45+AH50","v":0},"х",{"$f":"AJ16+AJ23+AJ31+AJ35+AJ41+AJ45+AJ50","v":0}]
[null,null,null,null,"СН2",null,"х",{"$f":"H24+H32+H36+H42+H43+H44+H46+H47+H48+H49","v":489.09999999999997},"х",505.19999999999993,"х",505.19999999999993,"х",{"$f":"N24+N32+N36+N42+N43+N44+N46+N47+N48+N49","v":0},"х",505.19999999999993,"х",508.19999999999993,"х",{"$f":"T24+T32+T36+T42+T43+T44+T46+T47+T48+T49","v":0},"х",{"$f":"V24+V32+V36+V42+V43+V44+V46+V47+V48+V49","v":508.19999999999993},"х",{"$f":"X24+X32+X36+X42+X43+X44+X46+X47+X48+X49","v":0},"х",{"$f":"Z24+Z32+Z36+Z42+Z43+Z44+Z46+Z47+Z48+Z49","v":511.19999999999993},"х",{"$f":"AB24+AB32+AB36+AB42+AB43+AB44+AB46+AB47+AB48+AB49","v":0},"х",{"$f":"AD24+AD32+AD36+AD42+AD43+AD44+AD46+AD47+AD48+AD49","v":511.19999999999993},"х",{"$f":"AF24+AF32+AF36+AF42+AF43+AF44+AF46+AF47+AF48+AF49","v":0},"х",{"$f":"AH24+AH32+AH36+AH42+AH43+AH44+AH46+AH47+AH48+AH49","v":511.19999999999993},"х",{"$f":"AJ24+AJ32+AJ36+AJ42+AJ43+AJ44+AJ46+AJ47+AJ48+AJ49","v":0}]
[null,null,null,null,"НН",null,"х",{"$f":"SUM(H10:H50) - H51-H52-H53","v":0},"х",0,"х",0,"х",{"$f":"SUM(N10:N50) - N51-N52-N53","v":0},"х",0,"х",0,"х",{"$f":"SUM(T10:T50) - T51-T52-T53","v":0},"х",{"$f":"SUM(V10:V50) - V51-V52-V53","v":0},"х",{"$f":"SUM(X10:X50) - X51-X52-X53","v":0},"х",{"$f":"SUM(Z10:Z50) - Z51-Z52-Z53","v":0},"х",{"$f":"SUM(AB10:AB50) - AB51-AB52-AB53","v":0},"х",{"$f":"SUM(AD10:AD50) - AD51-AD52-AD53","v":0},"х",{"$f":"SUM(AF10:AF50) - AF51-AF52-AF53","v":0},"х",{"$f":"SUM(AH10:AH50) - AH51-AH52-AH53","v":0},"х",{"$f":"SUM(AJ10:AJ50) - AJ51-AJ52-AJ53","v":0}]
[null,"Итого по оборудованию",null,null,null,null,"х",{"$f":"SUM(H51:H54)","v":489.09999999999997},"х",505.19999999999993,"х",505.19999999999993,"х",{"$f":"SUM(N51:N54)","v":0},"х",505.19999999999993,"х",508.19999999999993,"х",{"$f":"SUM(T51:T54)","v":0},"х",{"$f":"SUM(V51:V54)","v":508.19999999999993},"х",{"$f":"SUM(X51:X54)","v":0},"х",{"$f":"SUM(Z51:Z54)","v":511.19999999999993},"х",{"$f":"SUM(AB51:AB54)","v":0},"х",{"$f":"SUM(AD51:AD54)","v":511.19999999999993},"х",{"$f":"SUM(AF51:AF54)","v":0},"х",{"$f":"SUM(AH51:AH54)","v":511.19999999999993},"х",{"$f":"SUM(AJ51:AJ54)","v":0}]
[null,"Всего активов по уровням напряжения:",null,null,"ВН",null,"х",{"$f":"H51+'УЕ ВЛЭП  2017-2024'!H48","v":0},"х",{"$f":"J51+'УЕ ВЛЭП  2017-2024'!J48","v":0},"х",{"$f":"L51+'УЕ ВЛЭП  2017-2024'!L48","v":0},"х",{"$f":"N51+'УЕ ВЛЭП  2017-2024'!N48","v":0},"х",{"$f":"P51+'УЕ ВЛЭП  2017-2024'!P48","v":0},"х",{"$f":"R51+'УЕ ВЛЭП  2017-2024'!R48","v":0},"х",{"$f":"T51+'УЕ ВЛЭП  2017-2024'!T48","v":0},"х",{"$f":"V51+'УЕ ВЛЭП  2017-2024'!V48","v":0},"х",{"$f":"X51+'УЕ ВЛЭП  2017-2024'!X48","v":0},"х",{"$f":"Z51+'УЕ ВЛЭП  2017-2024'!Z48","v":0},"х",{"$f":"AB51+'УЕ ВЛЭП  2017-2024'!AB48","v":0},"х",{"$f":"AD51+'УЕ ВЛЭП  2017-2024'!AD48","v":0},"х",{"$f":"AF51+'УЕ ВЛЭП  2017-2024'!AF48","v":0},"х",{"$f":"AH51+'УЕ ВЛЭП  2017-2024'!AH48","v":0},"х",{"$f":"AJ51+'УЕ ВЛЭП  2017-2024'!AJ48","v":0}]
[null,null,null,null,"СН1",null,"х",{"$f":"H52+'УЕ ВЛЭП  2017-2024'!H49","v":0},"х",{"$f":"J52+'УЕ ВЛЭП  2017-2024'!J49","v":0},"х",{"$f":"L52+'УЕ ВЛЭП  2017-2024'!L49","v":0},"х",{"$f":"N52+'УЕ ВЛЭП  2017-2024'!N49","v":0},"х",{"$f":"P52+'УЕ ВЛЭП  2017-2024'!P49","v":0},"х",{"$f":"R52+'УЕ ВЛЭП  2017-2024'!R49","v":0},"х",{"$f":"T52+'УЕ ВЛЭП  2017-2024'!T49","v":0},"х",{"$f":"V52+'УЕ ВЛЭП  2017-2024'!V49","v":0},"х",{"$f":"X52+'УЕ ВЛЭП  2017-2024'!X49","v":0},"х",{"$f":"Z52+'УЕ ВЛЭП  2017-2024'!Z49","v":0},"х",{"$f":"AB52+'УЕ ВЛЭП  2017-2024'!AB49","v":0},"х",{"$f":"AD52+'УЕ ВЛЭП  2017-2024'!AD49","v":0},"х",{"$f":"AF52+'УЕ ВЛЭП  2017-2024'!AF49","v":0},"х",{"$f":"AH52+'УЕ ВЛЭП  2017-2024'!AH49","v":0},"х",{"$f":"AJ52+'УЕ ВЛЭП  2017-2024'!AJ49","v":0}]
[null,null,null,null,"СН2",null,"х",{"$f":"H53+'УЕ ВЛЭП  2017-2024'!H50","v":598.96389999999997},"х",{"$f":"J53+'УЕ ВЛЭП  2017-2024'!J50","v":613.97599999999989},"х",{"$f":"L53+'УЕ ВЛЭП  2017-2024'!L50","v":613.97599999999989},"х",{"$f":"N53+'УЕ ВЛЭП  2017-2024'!N50","v":0},"х",{"$f":"P53+'УЕ ВЛЭП  2017-2024'!P50","v":617.92499999999995},"х",{"$f":"R53+'УЕ ВЛЭП  2017-2024'!R50","v":620.23799999999994},"х",{"$f":"T53+'УЕ ВЛЭП  2017-2024'!T50","v":0},"х",{"$f":"V53+'УЕ ВЛЭП  2017-2024'!V50","v":619.18949999999995},"х",{"$f":"X53+'УЕ ВЛЭП  2017-2024'!X50","v":0},"х",{"$f":"Z53+'УЕ ВЛЭП  2017-2024'!Z50","v":622.19499999999994},"х",{"$f":"AB53+'УЕ ВЛЭП  2017-2024'!AB50","v":0},"х",{"$f":"AD53+'УЕ ВЛЭП  2017-2024'!AD50","v":621.89999999999986},"х",{"$f":"AF53+'УЕ ВЛЭП  2017-2024'!AF50","v":0},"х",{"$f":"AH53+'УЕ ВЛЭП  2017-2024'!AH50","v":621.89999999999986},"х",{"$f":"AJ53+'УЕ ВЛЭП  2017-2024'!AJ50","v":0}]
[null,null,null,null,"НН",null,"х",{"$f":"H54+'УЕ ВЛЭП  2017-2024'!H51","v":324.22700000000003},"х",{"$f":"J54+'УЕ ВЛЭП  2017-2024'!J51","v":324.22700000000003},"х",{"$f":"L54+'УЕ ВЛЭП  2017-2024'!L51","v":324.22700000000003},"х",{"$f":"N54+'УЕ ВЛЭП  2017-2024'!N51","v":0},"х",{"$f":"P54+'УЕ ВЛЭП  2017-2024'!P51","v":324.22700000000003},"х",{"$f":"R54+'УЕ ВЛЭП  2017-2024'!R51","v":324.22700000000003},"х",{"$f":"T54+'УЕ ВЛЭП  2017-2024'!T51","v":0},"х",{"$f":"V54+'УЕ ВЛЭП  2017-2024'!V51","v":324.22700000000003},"х",{"$f":"X54+'УЕ ВЛЭП  2017-2024'!X51","v":0},"х",{"$f":"Z54+'УЕ ВЛЭП  2017-2024'!Z51","v":325.95500000000004},"х",{"$f":"AB54+'УЕ ВЛЭП  2017-2024'!AB51","v":0},"х",{"$f":"AD54+'УЕ ВЛЭП  2017-2024'!AD51","v":325.95200000000006},"х",{"$f":"AF54+'УЕ ВЛЭП  2017-2024'!AF51","v":0},"х",{"$f":"AH54+'УЕ ВЛЭП  2017-2024'!AH51","v":325.95200000000006},"х",{"$f":"AJ54+'УЕ ВЛЭП  2017-2024'!AJ51","v":0}]
[null,"Количество активов - всего",null,null,null,null,"х",{"$f":"H56+H57+H58+H59","v":923.19090000000006},"х",{"$f":"J56+J57+J58+J59","v":938.20299999999997},"х",{"$f":"L56+L57+L58+L59","v":938.20299999999997},"х",{"$f":"N56+N57+N58+N59","v":0},"х",{"$f":"P56+P57+P58+P59","v":942.15200000000004},"х",{"$f":"R56+R57+R58+R59","v":944.46499999999992},"х",{"$f":"T56+T57+T58+T59","v":0},"х",{"$f":"V56+V57+V58+V59","v":943.41650000000004},"х",{"$f":"X56+X57+X58+X59","v":0},"х",{"$f":"Z56+Z57+Z58+Z59","v":948.15},"х",{"$f":"AB56+AB57+AB58+AB59","v":0},"х",{"$f":"AD56+AD57+AD58+AD59","v":947.85199999999986},"х",{"$f":"AF56+AF57+AF58+AF59","v":0},"х",{"$f":"AH56+AH57+AH58+AH59","v":947.85199999999986},"х",{"$f":"AJ56+AJ57+AJ58+AJ59","v":0}]
[]
[null,"Руководитель организации",null,null,null,null,{"$f":"'Инф-я'!$C$21","v":"Окунев Василий Михайлович"}]

{"sheet":"Подконтрольные расходы","index":6,"n_rows":34,"n_cols":25,"rows_kept":34,"cut":false,"hidden":false,"merged":[[15,0,15,16],[33,5,33,6],[33,7,33,9],[5,9,5,10],[5,17,5,18],[5,11,5,13],[5,14,5,16],[8,0,8,16],[5,0,6,0],[5,1,6,1],[5,2,6,2],[5,7,5,8],[5,5,5,6],[1,0,1,23],[3,0,3,23],[5,19,5,20],[5,21,5,22],[5,23,5,24]]}
[]
["Подконтрольные расходы на 2015 - 2024 годы"]
[]
[{"$f":"'Инф-я'!C13","v":"ООО \"Энергетик\""}]
[]
["№ п.п.","Наименование","Ед.изм.","2015 год","2016 год","2017 год",null,"2018 год",null,"2019 год",null,"2020 (базовый) год по данным организации ",null,null,"2020 (базовый) год по данным экспертов",null,null,"2021 год",null,"2022 год",null,"2023 год",null,"2024 год"]
[null,null,null,"Утверждено","Утверждено","Утверждено","Факт","Утверждено","Факт","Утверждено","Ожидаемые","Экономически обоснованные ПР","Величина эффективного уровня ПР","Базовый уровень ПР","Экономически обоснованные ПР","Величина эффективного уровня ПР","Базовый уровень ПР","По данным организации","По данным экспертов","По данным организации","По данным экспертов","По данным организации","По данным экспертов","По данным организации","По данным экспертов"]
[1,2,3,4,5,4,5,6,7,8,9,10,11,12,null,null,null,13,null,14,null,15,null,16]
["Показатели для расчета подконтрольных расходов"]
[1,"Индекс эффективности подконтрольных расходов (Хэф)","%",0.01,0.01,{"$f":"E10","v":0.01},{"$f":"F10","v":0.01},{"$f":"F10","v":0.01},{"$f":"H10","v":0.01},{"$f":"H10","v":0.01},{"$f":"J10","v":0.01},"х",0.01,{"$f":"M10","v":0.01},"х",null,{"$f":"P10","v":0},{"$f":"$N$10","v":0.01},{"$f":"$Q$10","v":0},{"$f":"$N$10","v":0.01},{"$f":"$Q$10","v":0},{"$f":"$N$10","v":0.01},{"$f":"$Q$10","v":0},{"$f":"$N$10","v":0.01},{"$f":"$Q$10","v":0}]
[2,"Коэффициент эластичности подконтрольных расходов по количеству активов (К эл)","знач.",0.75,0.75,0.75,{"$f":"F11","v":0.75},0.75,0.75,0.75,0.75,"х",0.75,0.75,"х",0.75,0.75,0.75,0.75,0.75,0.75,0.75,0.75,0.75,0.75]
[3,"Индекс потребительских цен (ИПЦ)","%","х",7.3999999999999996E-2,4.7E-2,3.6999999999999998E-2,3.6999999999999998E-2,0.04,4.5999999999999999E-2,0.05,"х","х",4.3999999999999997E-2,"х","х",null,4.2000000000000003E-2,null,4.2999999999999997E-2,null,4.3999999999999997E-2,null,4.3999999999999997E-2]
[4,"Количество активов (УЕ)","усл.ед.",903.33699999999999,902.22639999999978,904.17949999999985,{"$f":"'УЕ ТП 2017-2024'!H60","v":923.19090000000006},{"$f":"'УЕ ТП 2017-2024'!J60","v":938.20299999999997},{"$f":"'УЕ ТП 2017-2024'!L60","v":938.20299999999997},{"$f":"'УЕ ТП 2017-2024'!P60","v":942.15200000000004},942.15,"х","х",{"$f":"'УЕ ТП 2017-2024'!R60","v":944.46499999999992},"х","х",{"$f":"'УЕ ТП 2017-2024'!T60","v":0},{"$f":"'УЕ ТП 2017-2024'!V60","v":943.41650000000004},{"$f":"'УЕ ТП 2017-2024'!X60","v":0},{"$f":"'УЕ ТП 2017-2024'!Z60","v":948.15},{"$f":"'УЕ ТП 2017-2024'!AB60","v":0},{"$f":"'УЕ ТП 2017-2024'!AD60","v":947.85199999999986},{"$f":"'УЕ ТП 2017-2024'!AF60","v":0},{"$f":"'УЕ ТП 2017-2024'!AH60","v":947.85199999999986},{"$f":"'УЕ ТП 2017-2024'!AJ60","v":0}]
[5,"Индекс изменения количества активов (ИКА)","%","х",{"$f":"IF(D13=0,0,(E13-D13)/D13)","v":-1.2294415041122018E-3},{"$f":"IF(E13=0,0,(F13-E13)/E13)","v":2.1647559858590524E-3},"х",{"$f":"IF(F13=0,0,(H13-F13)/F13)","v":3.7629143328288386E-2},"х",{"$f":"IF(H13=0,0,(J13-H13)/H13)","v":4.2091103950851463E-3},{"$f":"IF(H13=0,0,(K13-H13)/H13)","v":4.2069786602686229E-3},"х","х",{"$f":"IF(J13=0,0,(N13-J13)/J13)","v":2.4550178739734928E-3},"х","х",{"$f":"IF(J13=0,0,(Q13-J13)/J13)","v":-1},{"$f":"IF(N13=0,0,(R13-N13)/N13)","v":-1.1101523084496264E-3},{"$f":"IF(Q13=0,0,(S13-Q13)/Q13)","v":0},5.0174021760271683E-3,0,-3.1429626114023681E-4,0,0,0]
[6,"Общий коэффициент индексации подконтрольных расходов ПР= ИПЦ*(1+(Кэл*ИКА))*(1-Хэф)","знач.","х",{"$f":"(1+E12)*(1+(E11*E14))*(1-E10)","v":1.0622795880197533},{"$f":"(1+F12)*(1+(F11*F14))*(1-F10)","v":1.0382128758915168},"х",{"$f":"(1+H12)*(1+(H11*H14))*(1-H10)","v":1.0556034055613406},"х",1.038809026633895,1.0427798657380121,"х","х",1.0354630562053682,"х","х",0.25,1.0307210918112373,1,1.0364556142236752,1,1.0333163669672518,1,1.03356,1]
["Подконтрольные расходы организации (ПР)"]
[1,"Расходы на оплату труда","тыс.руб.",10363.087160231536,{"$f":"D17*E$15","v":11008.495959183552},{"$f":"E17*F$15","v":11429.162249024097},{"$f":"'П.1.16. оплата труда ОПР'!D41","v":13184.07416},{"$f":"F17*H$15","v":12064.662592782948},{"$f":"'П.1.16. оплата труда ОПР'!F41","v":13525.899984},{"$f":"H17*J$15","v":12532.880404675218},{"$f":"'П.1.16. оплата труда ОПР'!H41","v":14061.861580000001},{"$f":"'П.1.16. оплата труда ОПР'!I41","v":16267.722561536},"х",{"$f":"IFERROR(L17/$L$32*$N$32,0)","v":16267.722561535998},{"$f":"'П.1.16. оплата труда ОПР'!J41","v":0},"х",{"$f":"IFERROR(O17/$O$32*$Q$32,0)","v":0},{"$f":"N17*R$15","v":16767.484759908682},{"$f":"Q17*S$15","v":0},{"$f":"R17*T$15","v":17378.753715817267},{"$f":"S17*U$15","v":0},{"$f":"T17*V$15","v":17957.750652046925},{"$f":"U17*W$15","v":0},{"$f":"V17*X$15","v":18560.41276392962},{"$f":"W17*Y$15","v":0}]
[2,"Материалы","тыс.руб.",3749.2301429999998,{"$f":"D18*E$15","v":3982.7306516972803},{"$f":"E18*F$15","v":4134.9222437999279},{"$f":"материалы!C36","v":9361.0810000000001},{"$f":"F18*H$15","v":4364.838002286544},{"$f":"материалы!E36","v":15250.308000000001},{"$f":"H18*J$15","v":4534.2331165699197},{"$f":"материалы!G36","v":15929.3},{"$f":"материалы!H36","v":16566.600000000002},"х",{"$f":"IFERROR(L18/$L$32*$N$32,0)","v":16566.599999999999},{"$f":"материалы!I36","v":0},"х",{"$f":"IFERROR(O18/$O$32*$Q$32,0)","v":0},{"$f":"N18*R$15","v":17075.544039600041},{"$f":"Q18*S$15","v":0},17698.043485767077,0,18287.677997141272,0,18901.412470725336,0]
[3,"Ремонт основных фондов","тыс.руб.",13270.38416,14096.85821834866,14635.539711906726,{"$f":"'Сводная ремонт'!C13","v":15806.99834},15449.325562116981,{"$f":"'Сводная ремонт'!E13","v":15558.134},16048.898849332892,{"$f":"'Сводная ремонт'!G13","v":15705},{"$f":"'Сводная ремонт'!H13","v":15411.706},"х",15411.705999999996,{"$f":"'Сводная ремонт'!M13","v":0},"х",0,15885.170434993794,0,16464.274080249259,0,17012.803877356255,0,17583.753575480332,0]
["4","Другие обоснованные подконтрольные расходы, в том числе:","тыс.руб.",{"$f":"SUM(D21:D28)","v":804.30603037599997},854.3978785896204,887.04687868614087,2825.5816999999997,936.36970603364762,3406.93444,972.70930289427974,3275.1845600000001,{"$f":"SUM(L21:L28)","v":3679.1115424},"х",3679.1115423999995,{"$f":"SUM(O21:O28)","v":0},"х",0,{"$f":"SUM(R21:R28)","v":3792.1378658778531},0,3930.3825809992859,0,4061.328649389553,0,4197.626838863066,0]
["4.1","Работы и услуги производственного характера","тыс.руб.",0,0,0,{"$f":"УПХ!C54","v":168.13370000000003},0,{"$f":"УПХ!E54","v":292.04043999999999},0,{"$f":"УПХ!G54","v":276.59999999999997},{"$f":"УПХ!H54","v":287.69999999999993},"х",287.69999999999987,{"$f":"УПХ!I54","v":0},"х",0,{"$f":"N21*R$15","v":296.53845811409286},{"$f":"Q21*S$15","v":0},{"$f":"R21*T$15","v":307.3489497455837},{"$f":"S21*U$15","v":0},{"$f":"T21*V$15","v":317.588700142307},{"$f":"U21*W$15","v":0},{"$f":"V21*X$15","v":328.24697691908284},{"$f":"W21*Y$15","v":0}]
["4.2","Работы и услуги непроизводственного характера","тыс.руб.",501.650604316,532.89319728266071,553.25657889385661,{"$f":"УНПХ!C44","v":2415.527},584.01952882957153,{"$f":"УНПХ!E44","v":2697.5359999999996},606.68475827863313,{"$f":"УНПХ!G44","v":2825.7245600000001},{"$f":"УНПХ!H44","v":2938.6975424000002},"х",2938.6975423999997,{"$f":"УНПХ!I44","v":0},"х",0,3028.9775394055273,0,3139.400776074272,0,3243.9942043872375,0,3352.8626498864733,0]
["4.3","Обеспечение нормальных условий труда и техники безопасности","тыс.руб.",69.387756899999999,73.70919781334679,76.525838241451467,{"$f":"'ОТ и ТБ'!C23","v":79.099999999999994},80.780935461112435,{"$f":"'ОТ и ТБ'!E23","v":347.3},83.91596493693369,{"$f":"'ОТ и ТБ'!G23","v":92},{"$f":"'ОТ и ТБ'!H23","v":362},"х",361.99999999999994,{"$f":"'ОТ и ТБ'!I23","v":0},"х",0,373.12103523566782,0,386.72339175495762,0,399.60761018948608,0,413.01844158744524,0]
["4.4.","Расходы на командировки","тыс.руб.",0,0,0,{"$f":"Команд!C13","v":0},0,{"$f":"Команд!E13","v":0},0,{"$f":"Команд!G13","v":0},{"$f":"Команд!H13","v":0},"х",0,{"$f":"Команд!J13","v":0},"х",0,0,0,0,0,0,0,0,0]
["4.5","Расходы на обучение персонала","тыс.руб.",90,95.605162921777804,99.258511147095945,{"$f":"Обуч!C16","v":17.600000000000001},104.77762239782277,{"$f":"Обуч!E16","v":6.25},108.84393993609606,{"$f":"Обуч!G16","v":14.5},{"$f":"Обуч!H16","v":21.7},"х",21.699999999999996,{"$f":"Обуч!I16","v":0},"х",0,22.366647692303843,0,23.182037572051325,0,23.954378842850407,0,24.758287796816468,0]
["4.6","Расходы на страхование","тыс.руб.",0,0,0,{"$f":"Страхов!C26","v":25.774999999999999},0,{"$f":"Страхов!E26","v":0},0,{"$f":"Страхов!G26","v":0},{"$f":"Страхов!H26","v":0},"х",0,{"$f":"Страхов!I26","v":0},"х",0,0,0,0,0,0,0,0,0]
["4.7","Расходы на услуги банков","тыс.руб.",143.26766916,152.19032057183512,158.00595040373682,{"$f":"'Услуги банков'!C14","v":119.446},166.79161934514087,{"$f":"'Услуги банков'!E14","v":63.808},173.26463974261691,{"$f":"'Услуги банков'!G14","v":66.36},{"$f":"'Услуги банков'!H14","v":69.013999999999996},"х",69.013999999999982,{"$f":"'Услуги банков'!I14","v":0},"х",0,71.134185430260715,0,73.727425852421675,0,76.183755827671803,0,78.740482673248465,0]
["4.8","Прочие обоснованные подконтрольные расходы","тыс.руб.",0,0,0,{"$f":"'Прочие ПР'!C14","v":0},0,{"$f":"'Прочие ПР'!E14","v":0},0,{"$f":"'Прочие ПР'!G14","v":0},{"$f":"'Прочие ПР'!H14","v":0},"х",0,{"$f":"'Прочие ПР'!I14","v":0},"х",0,0,0,0,0,0,0,0,0]
["5","Расходы из прибыли, в том числе:","тыс.руб.",299.07716779999998,317.70357059669863,329.843937710202,{"$f":"SUM(G30:G31)","v":432.52499999999998},348.18438395065192,692.79,361.6970809808991,762.06899999999996,{"$f":"SUM(L30:L31)","v":792.55},"х",792.54999999999984,{"$f":"SUM(O30:O31)","v":0},"х",0,{"$f":"SUM(R30:R31)","v":816.89800131499589},0,846.67851971102664,0,874.88677197700872,0,904.24797204455717,0]
["5.1","Расходы по коллективным договорам","тыс.руб.",299.07716779999998,317.70357059669863,329.843937710202,{"$f":"'Расходы по кол дог'!C29","v":432.52499999999998},348.18438395065192,{"$f":"'Расходы по кол дог'!E29","v":692.79},361.6970809808991,{"$f":"'Расходы по кол дог'!G29","v":762.06899999999996},{"$f":"'Расходы по кол дог'!H29","v":792.55},"х",792.54999999999984,{"$f":"'Расходы по кол дог'!I29","v":0},"х",0,{"$f":"N30*R$15","v":816.89800131499589},{"$f":"Q30*S$15","v":0},{"$f":"R30*T$15","v":846.67851971102664},{"$f":"S30*U$15","v":0},{"$f":"T30*V$15","v":874.88677197700872},{"$f":"U30*W$15","v":0},{"$f":"V30*X$15","v":904.24797204455717},{"$f":"W30*Y$15","v":0}]
["5.2","Прочие обоснованные расходы из прибыли","тыс.руб.",0,0,0,{"$f":"'другие расходы прибыль'!C15","v":0},0,{"$f":"'другие расходы прибыль'!E15","v":0},0,{"$f":"'другие расходы прибыль'!G15","v":0},{"$f":"'другие расходы прибыль'!H15","v":0},"х",0,{"$f":"'другие расходы прибыль'!I15","v":0},"х",0,0,0,0,0,0,0,0,0]
[null,"Итого ПР ","тыс.руб.",{"$f":"D17+D18+D19+D20+D29","v":28486.084661407531},30260.186278415811,31416.515021127096,{"$f":"G17+G18+G19+G20+G29","v":41610.260200000004},{"$f":"H17+H18+H19+H20+H29","v":33163.380247170775},48434.066423999997,34450.418754453203,49733.415140000005,{"$f":"L17+L18+L19+L20+L29","v":52717.690103936002},{"$f":"L32","v":52717.690103936002},{"$f":"L32*0.7+M32*0.3","v":52717.690103935995},{"$f":"O17+O18+O19+O20+O29","v":0},null,{"$f":"O32*0.7+P32*0.3","v":0},54337.235101695376,0,56318.132382543918,0,58194.447947911009,0,60147.453621042907,0]
[]
[null,"Руководитель организации",null,null,null,null,null,{"$f":"'Инф-я'!$C$21","v":"Окунев Василий Михайлович"}]

{"sheet":"материалы","index":7,"n_rows":38,"n_cols":11,"rows_kept":38,"cut":false,"hidden":false,"merged":[[26,0,26,10],[34,0,34,10],[37,3,37,5],[0,7,0,8],[1,0,1,7],[3,0,3,7],[5,0,6,0],[5,1,5,2],[5,3,5,4],[5,5,5,6],[5,7,5,8],[16,0,16,10]]}
[]
["Расходы на  материалы "]
[]
[{"$f":"'Инф-я'!C13","v":"ООО \"Энергетик\""}]
[null,null,null,null,null,null,null,"тыс. руб."]
["Показатели","2017 год ",null,"2018 год ",null,"2019 год ",null,"2020 год ",null,"2017 год","2018 год"]
[null,"Утвержденные"," Факт","Утвержденные"," Факт","Утвержденные","Ожидаемые","По данным организации","По данным экспертов","Факт по расчету экспертов","Факт по расчету экспертов"]
[1,2,3,4,5,6,7,8,9,10,11]
["Материалы для эксплуатации, всего, в том числе:","х",{"$f":"SUM(C10:C16)","v":8304.3810000000012},"х",{"$f":"SUM(E10:E16)","v":14039.008000000002},"х",{"$f":"SUM(G10:G16)","v":14600.6},15184.7,0,{"$f":"SUM(J10:J16)","v":0},0]
["Инструмент","х",187.96899999999999,"х",232.227,"х",241.5,251.2]
["Основные материалы","х",7892.6890000000003,"х",13389.286,"х",13924.9,14481.9]
["Запчасти","х",223.72300000000001,"х",417.495,"х",434.2,451.6]
[null,"х",null,"х",null,"х"]
[null,"х",null,"х",null,"х"]
[null,"х",null,"х",null,"х"]
[null,"х",null,"х",null,"х"]
["Добавить"]
["ГСМ","х",777.4,"х",944,"х",981.8,1021.1]
["Основные средства  стомостью до 40 тыс. руб., всего, в том числе:","х",{"$f":"SUM(C20:C26)","v":0},"х",{"$f":"SUM(E20:E26)","v":0},"х",{"$f":"SUM(G20:G26)","v":0},0,{"$f":"SUM(I20:I27)","v":0},{"$f":"SUM(J20:J27)","v":0},{"$f":"SUM(K20:K27)","v":0}]
[null,"х",null,"х",null,"х"]
[null,"х",null,"х",null,"х"]
[null,"х",null,"х",null,"х"]
[null,"х",null,"х",null,"х"]
[null,"х",null,"х",null,"х"]
[null,"х",null,"х",null,"х"]
[null,"х",null,"х",null,"х"]
["Добавить"]
["Прочие материалы, всего, в том числе:  ","х",{"$f":"SUM(C29:C34)","v":279.3},"х",{"$f":"SUM(E29:E34)","v":267.29999999999995},"х",{"$f":"SUM(G29:G34)","v":346.90000000000003},360.8,0,{"$f":"SUM(J29:J34)","v":0},0]
["Почтово-канцелярские","х",172.3,"х",191.2,"х",198.8,206.8]
["Оргтехника","х",69.5,"х",3.2,"х",72.3,75.2]
["Прочие материалы","х",37.5,"х",72.900000000000006,"х",75.8,78.8]
[null,"х",null,"х",null,"х"]
[null,"х",null,"х",null,"х"]
[null,"х",null,"х",null,"х"]
["Добавить"]
["ИТОГО",{"$f":"'Подконтрольные расходы'!F18","v":4134.9222437999279},{"$f":"C9+C18+C19+C28","v":9361.0810000000001},{"$f":"'Подконтрольные расходы'!H18","v":4364.838002286544},{"$f":"E9+E18+E19+E28","v":15250.308000000001},{"$f":"'Подконтрольные расходы'!J18","v":4534.2331165699197},{"$f":"G9+G18+G19+G28","v":15929.3},16566.600000000002,0,{"$f":"J9+J18+J19+J28","v":0},0]
[]
["Руководитель организации",null,null,{"$f":"'Инф-я'!$C$21","v":"Окунев Василий Михайлович"}]

{"sheet":"план ремонтов","index":8,"n_rows":34,"n_cols":13,"rows_kept":34,"cut":false,"hidden":false,"merged":[[33,1,33,2],[19,0,19,12],[30,0,30,12],[6,11,6,12],[21,0,21,2],[6,1,6,2],[9,0,9,2],[6,9,6,10],[33,9,33,10],[6,7,6,8],[33,7,33,8],[6,5,6,6],[33,5,33,6],[6,3,6,4],[33,3,33,4],[5,11,5,12],[3,0,3,12],[5,1,5,10],[5,0,7,0],[1,0,1,10]]}
[]
["Расчет стоимости ремонтных работ на 2020 - 2024 годы, связанных с передачей электрической энергии"]
[]
[{"$f":"'Инф-я'!C13","v":"ООО \"Энергетик\""}]
[]
["Нименование работ, месторасположение объектов","По данным Общества",null,null,null,null,null,null,null,null,null,"По данным экспертов"]
[null,"2020 год",null,"2021 год",null,"2022 год",null,"2023 год",null,"2024 год",null,"2020 год"]
[null,"всего по смете (без НДС)","в т.ч. материалы","всего по смете (без НДС)","в т.ч. материалы","всего по смете (без НДС)","в т.ч. материалы","всего по смете (без НДС)","в т.ч. материалы","всего по смете (без НДС)","в т.ч. материалы","всего по смете (без НДС)","в т.ч. материалы"]
[1,2,3,4,5,6,7,8,9,10,11,12,13]
["Подрядный способ"]
["Капитальный ремонт здания производственной базы",5091.4070000000002,"х",5079.3119999999999,"х",5033.643,"х",5116.8940000000002,"х",16781.133999999998,"х",null,"х"]
["Капитальный ремонт ТП № 3",2353.694,"х",null,"х",null,"х",null,"х",null,"х",null,"х"]
["Капитальный ремонт ТП № 1",2467.373,"х",null,"х",null,"х",null,"х",null,"х",null,"х"]
["Капитальный ремонт ТП № 7",2430.2159999999999,"х",null,"х",null,"х",null,"х",null,"х",null,"х"]
["Капитальный ремонт ТП № 25",null,"х",2523.2179999999998,"х",null,"х",null,"х",null,"х",null,"х"]
["Капитальный ремонт ТП № 34",null,"х",2679.8969999999999,"х",null,"х",null,"х",null,"х",null,"х"]
["Капитальный ремонт ТП № 35",null,"х",2985.922,"х",null,"х",null,"х",null,"х",null,"х"]
["Капитальный ремонт сети 0,4 кВ и трансформаторных подстанций по мониторингу аварийных ситуаций",3069.0160000000001,"х",2159.3339999999998,"х",10232.166999999999,"х",10306.24778,"х",null,"х",null,"х"]
[null,null,"х",null,"х",null,"х",null,"х",null,"х",null,"х"]
["Добавить"]
["Всего (Подрядный способ)",{"$f":"SUM(B11:B19)","v":15411.706},"х",{"$f":"SUM(D11:D19)","v":15427.683000000001},"х",{"$f":"SUM(F11:F19)","v":15265.81},"х",{"$f":"SUM(H11:H19)","v":15423.14178},"х",{"$f":"SUM(J11:J19)","v":16781.133999999998},"х",{"$f":"SUM(L11:L19)","v":0},"х"]
["Хозяйственный способ"]
[]
[]
[]
[]
[]
[]
[]
[]
["Добавить"]
["Всего (Хозяйственный способ)",{"$f":"SUM(B23:B30)","v":0},0,0,0,0,0,0,0,0,0,0,0]
[]
["Руководитель организации"]

{"sheet":"Сводная ремонт","index":9,"n_rows":17,"n_cols":15,"rows_kept":17,"cut":false,"hidden":false,"merged":[[0,7,0,12],[1,0,1,7],[3,0,3,7],[16,3,16,5],[5,0,6,0],[5,1,5,2],[5,3,5,4],[5,5,5,6],[6,7,6,11]]}
[]
["Стоимость ремонтных работ  "]
[]
[{"$f":"'Инф-я'!C13","v":"ООО \"Энергетик\""}]
[null,null,null,null,null,null,null,null,null,null,null,"тыс. руб."]
["Показатели","2017 год ",null,"2018 год ",null,"2019 год ",null,"2020 год ","2021 год ","2022 год ","2023 год ","2024 год ","2020 год ","2017 год","2018 год"]
[null,"Утвержденные"," Факт","Утвержденные"," Факт","Утвержденные","Ожидаемые","по данным организации",null,null,null,null,"По данным экспертов","Факт по расчету экспертов","Факт по расчету экспертов"]
[1,2,3,4,5,6,7,8,9,10,11,12,13,14,15]
["Объем ремонтных работ по сметам - всего","х",{"$f":"C10+C11","v":15806.99834},"х",{"$f":"E10+E11","v":15558.134},"х",{"$f":"G10+G11","v":15705},{"$f":"H10+H11","v":15411.706},{"$f":"I10+I11","v":15427.683000000001},15265.81,15423.14178,16781.133999999998,{"$f":"M10+M11","v":0},{"$f":"N10+N11","v":0},{"$f":"O10+O11","v":0}]
[" - подряд","х",15806.99834,"х",15558.134,"х",15705,{"$f":"'план ремонтов'!B21","v":15411.706},{"$f":"'план ремонтов'!D21","v":15427.683000000001},{"$f":"'план ремонтов'!F21","v":15265.81},{"$f":"'план ремонтов'!H21","v":15423.14178},{"$f":"'план ремонтов'!J21","v":16781.133999999998},{"$f":"'план ремонтов'!L21","v":0}]
[" - хозспособ","х",null,"х",null,"х",null,{"$f":"'план ремонтов'!B32","v":0},{"$f":"'план ремонтов'!D32","v":0},{"$f":"'план ремонтов'!F32","v":0},{"$f":"'план ремонтов'!H32","v":0},{"$f":"'план ремонтов'!J32","v":0},{"$f":"'план ремонтов'!L32","v":0}]
[]
["Стоимость ремонтных работ (подряд + хозспособ (материалы)) - всего",{"$f":"'Подконтрольные расходы'!F19","v":14635.539711906726},{"$f":"C14+C15","v":15806.99834},{"$f":"'Подконтрольные расходы'!H19","v":15449.325562116981},15558.134,{"$f":"'Подконтрольные расходы'!J19","v":16048.898849332892},{"$f":"G14+G15","v":15705},{"$f":"H14+H15","v":15411.706},15427.683000000001,15265.81,15423.14178,16781.133999999998,{"$f":"M14+M15","v":0},{"$f":"N14+N15","v":0},0]
[" - подряд","х",{"$f":"C10","v":15806.99834},"х",{"$f":"E10","v":15558.134},"х",{"$f":"G10","v":15705},{"$f":"H10","v":15411.706},{"$f":"I10","v":15427.683000000001},15265.81,15423.14178,16781.133999999998,{"$f":"M10","v":0},{"$f":"N10","v":0},{"$f":"O10","v":0}]
[" - хозспособ","х",null,"х",null,"х",null,{"$f":"'план ремонтов'!C32","v":0},{"$f":"'план ремонтов'!E32","v":0},{"$f":"'план ремонтов'!G32","v":0},{"$f":"'план ремонтов'!I32","v":0},{"$f":"'план ремонтов'!K32","v":0},{"$f":"'план ремонтов'!M32","v":0}]
[]
["Руководитель организации",null,null,{"$f":"'Инф-я'!$C$21","v":"Окунев Василий Михайлович"}]

{"sheet":"численность","index":10,"n_rows":17,"n_cols":7,"rows_kept":17,"cut":false,"hidden":false,"merged":[[1,0,1,6],[3,0,3,6],[16,2,16,4]]}
[]
["Справка о численности работников"]
[]
[{"$f":"'Инф-я'!C13","v":"ООО \"Энергетик\""}]
[null,null,null,null,null,"Чел."]
["Вид деятельности","2017 год факт","2018 год факт","2019 год ожидаемые ","2020 год Нормативная численность","2020 план по данным организации","По данным экспертов"]
[1,3,4,5,6,7,8]
["Передача электрической энергии, всего, в том числе:",{"$f":"B9+B10+B11","v":40},38,40,44,44,0]
["основные производственные рабочие",23,24,25,29,29]
["цеховый персонал"]
["общеэксплуатационный персонал",17,14,15,15,15]
["Уличное освещение"]
["Технологическое присоединение"]
["Прочие виды деятельности"]
["Численность, всего",{"$f":"B8+B12+B13+B14","v":40},{"$f":"C8+C12+C13+C14","v":38},40,44,44,0]
[]
["Руководитель организации",null,{"$f":"'Инф-я'!$C$21","v":"Окунев Василий Михайлович"}]

{"sheet":"П.1.16. оплата труда ОПР","index":11,"n_rows":44,"n_cols":12,"rows_kept":44,"cut":false,"hidden":false,"merged":[[0,7,0,8],[1,7,1,8],[2,0,2,8],[4,0,4,8],[43,3,43,5],[6,1,7,1],[6,2,6,3],[6,4,6,5],[6,6,6,7],[6,8,6,9],[6,0,7,0]]}
[]
[]
["Расчет расходов на оплату труда основных производственных рабочих, цехового и общеэксплуатационного персонала, в части, относящейся на передачу электроэнергии"]
[]
[{"$f":"'Инф-я'!C13","v":"ООО \"Энергетик\""}]
[]
["Показатели","Ед. изм.","2017 год ",null,"2018 год ",null,"2019 год ",null,"2020 год ",null,"2017 год","2018 год"]
[null,null,"Утвержденные"," Факт","Утвержденные"," Факт","Утвержденные","Ожидаемые","По данным организации","По данным экспертов","Факт по расчету экспертов","Факт по расчету экспертов"]
["ЧИСЛЕННОСТЬ, всего, в том числе: ","чел.","х",{"$f":"D10+D11+D12","v":40},"х",{"$f":"численность!C8","v":38},"х",{"$f":"численность!D8","v":40},{"$f":"численность!F8","v":44},{"$f":"J10+J11+J12","v":0},{"$f":"K10+K11+K12","v":0},{"$f":"L10+L11+L12","v":0}]
["Основные производственные рабочие","чел.","х",{"$f":"численность!B9","v":23},"х",{"$f":"численность!C9","v":24},"х",{"$f":"численность!D9","v":25},{"$f":"численность!F9","v":29},{"$f":"численность!G9","v":0}]
["Цеховый персонал","чел.","х",{"$f":"численность!B10","v":0},"х",{"$f":"численность!C10","v":0},"х",{"$f":"численность!D10","v":0},{"$f":"численность!F10","v":0},{"$f":"численность!G10","v":0}]
["Общеэксплуатационный персонал","чел.","х",{"$f":"численность!B11","v":17},"х",{"$f":"численность!C11","v":14},"х",{"$f":"численность!D11","v":15},{"$f":"численность!F11","v":15},{"$f":"численность!G11","v":0}]
["СРЕДСТВА НА ОПЛАТУ ТРУДА ОСНОВНЫХ ПРОИЗВОДСТВЕННЫХ РАБОЧИХ (ОПР)"]
["Минимальная месячная тарифная ставка рабочего 1 разряда для организаций коммунального электроснабжения","руб.","х","х","х","х","х","х",null,null,"х","х"]
["Средний межразрядный коэффициент",null,"х","х","х","х","х","х",null,null,"х","х"]
["Среднемесячная тарифная ставка ОПР","руб.","х",null,"х",null,"х",null,14999.76]
["Выплаты, связанные с режимом работы, с условиями труда 1 рабочего",null,null,null,null,null,null,null,11863.32]
["  - процент выплаты","%","х",{"$f":"IF(D16=0,0,D19/D16)","v":0},"х",{"$f":"IF(F16=0,0,F19/F16)","v":0},"х",{"$f":"IF(H16=0,0,H19/H16)","v":0},0.08]
["  - сумма выплат","руб.","х",17820.25,"х",16432.615000000002,"х",18159.13,{"$f":"I16*I18","v":1199.9808},{"$f":"J16*J18","v":0},{"$f":"K16*K18","v":0},{"$f":"L16*L18","v":0}]
["Оплата за совмещение профессий"]
["  - процент выплаты","%","х",{"$f":"IF(D16=0,0,D22/(D16+D19))","v":0},"х",{"$f":"IF(F16=0,0,F22/(F16+F19))","v":0},"х",{"$f":"IF(H16=0,0,H22/(H16+H19))","v":0},0.1]
["  - сумма выплат","руб.","х",204.22,"х",269.75,"х",296.8,{"$f":"(I16+I19)*I21","v":1619.97408},{"$f":"(J16+J19)*J21","v":0},{"$f":"(K16+K19)*K21","v":0},{"$f":"(L16+L19)*L21","v":0}]
["Текущее премирование:"]
["  - процент выплаты","%","х",{"$f":"IF(D16=0,0,D25/(D16+D19+D22))","v":0},"х",{"$f":"IF(F16=0,0,F25/(F16+F19+F22))","v":0},"х",{"$f":"IF(H16=0,0,H25/(H16+H19+H22))","v":0},0.4]
["  - сумма выплат","руб.","х",5427.11,"х",5173.83,"х",5707.46,{"$f":"(I16+I19+I22)*I24","v":7127.8859520000005},{"$f":"(J16+J19+J22)*J24","v":0},{"$f":"(K16+K19+K22)*K24","v":0},{"$f":"(L16+L19+L22)*L24","v":0}]
["Вознаграждение за выслугу лет:"]
["  - процент выплаты","%","х",{"$f":"IF(D16=0,0,D28/D16)","v":0},"х",{"$f":"IF(F16=0,0,F28/F16)","v":0},"х",{"$f":"IF(H16=0,0,H28/H16)","v":0},0.05]
["  - сумма выплат","руб.","х",731.65,"х",305.57799999999997,null,323.5,{"$f":"I16*I27","v":749.98800000000006},{"$f":"J16*J27","v":0},{"$f":"K16*K27","v":0},{"$f":"L16*L27","v":0}]
["Выплаты по итогам года:"]
["  - процент выплаты","%","х",{"$f":"IF(D16=0,0,D31/D16)","v":0},"х",{"$f":"IF(F16=0,0,F31/F16)","v":0},"х",{"$f":"IF(H16=0,0,H31/H16)","v":0}]
["  - сумма выплат","руб.","х",null,"х",null,"х",null,{"$f":"I16*I30","v":0},{"$f":"J16*J30","v":0},{"$f":"K16*K30","v":0},{"$f":"L16*L30","v":0}]
["Другие доплаты и премии"]
["  - процент выплаты","%","х",{"$f":"IF(D16=0,0,D34/D16)","v":0},"х",{"$f":"IF(F16=0,0,F34/F16)","v":0},"х",{"$f":"IF(H16=0,0,H34/H16)","v":0},0.1]
["  - сумма выплат","руб.","х",487.68,"х",547.22,null,581.57000000000005,{"$f":"I16*I33","v":1499.9760000000001},{"$f":"J16*J33","v":0},{"$f":"K16*K33","v":0},{"$f":"L16*L33","v":0}]
["ИТОГО среднемесячная оплата труда на 1 рабочего","руб.","х",{"$f":"D16+D19+D22+D25+D28+D31+D34","v":24670.910000000003},"х",{"$f":"F16+F19+F22+F25+F28+F31+F34","v":22728.993000000002},"х",{"$f":"H16+H19+H22+H25+H28+H31+H34","v":25068.46},27197.564832,0,0,0]
["ИТОГО средства на оплату труда основных производственных рабочих","тыс.руб.","х",{"$f":"D35*D10*12/1000","v":6809.1711599999999},"х",{"$f":"F35*F10*12/1000","v":6545.9499840000008},"х",{"$f":"H35*H10*12/1000","v":7520.5379999999996},{"$f":"I35*I10*12/1000","v":9464.7525615360009},{"$f":"J35*J10*12/1000","v":0},{"$f":"K35*K10*12/1000","v":0},{"$f":"L35*L10*12/1000","v":0}]
["Среднемесячная заработная плата 1 работника цехового персонала","руб.","х",{"$f":"IF(D38=0,0,D38/D11/12*1000)","v":0},"х",{"$f":"IF(F38=0,0,F38/F11/12*1000)","v":0},"х",{"$f":"IF(H38=0,0,H38/H11/12*1000)","v":0},{"$f":"IF(I38=0,0,I38/I11/12*1000)","v":0},{"$f":"IF(J38=0,0,J38/J11/12*1000)","v":0},{"$f":"IF(K38=0,0,K38/K11/12*1000)","v":0},{"$f":"IF(L38=0,0,L38/L11/12*1000)","v":0}]
["ИТОГО средства на оплату труда цехового персонала","тыс.руб.","х",null,"х",null,"х"]
["Среднемесячная заработная плата 1 работника общеэксплуатационного персонала","руб.","х",{"$f":"IF(D40=0,0,D40/12/D12*1000)","v":31249.524509803927},"х",{"$f":"IF(F40=0,0,F40/12/F12*1000)","v":41547.321428571428},"х",{"$f":"IF(H40=0,0,H40/12/H12*1000)","v":36340.686555555556},{"$f":"IF(I40=0,0,I40/12/I12*1000)","v":37794.277777777781},{"$f":"IF(J40=0,0,J40/12/J12*1000)","v":0},{"$f":"IF(K40=0,0,K40/12/K12*1000)","v":0},{"$f":"IF(L40=0,0,L40/12/L12*1000)","v":0}]
["ИТОГО средства на оплату труда общеэксплуатационного персонала","тыс.руб.","х",6374.9030000000002,"х",6979.95,"х",6541.3235800000002,6802.97]
["ИТОГО средства на оплату труда","тыс.руб.",{"$f":"'Подконтрольные расходы'!F17","v":11429.162249024097},{"$f":"D36+D38+D40","v":13184.07416},{"$f":"'Подконтрольные расходы'!H17","v":12064.662592782948},{"$f":"F36+F38+F40","v":13525.899984},{"$f":"'Подконтрольные расходы'!J17","v":12532.880404675218},{"$f":"H36+H38+H40","v":14061.861580000001},16267.722561536,0,0,0]
["Среднемесячная оплата труда 1 работника организации ","руб.","х",{"$f":"IF(D9=0,0,D41/D9/12*1000)","v":27466.821166666665},"х",29662.061368421051,"х",29295.544958333336,30810.0806089697,0,0,0]
[]
["Руководитель организации",null,null,{"$f":"'Инф-я'!$C$21","v":"Окунев Василий Михайлович"}]

{"sheet":"УПХ","index":12,"n_rows":56,"n_cols":11,"rows_kept":56,"cut":false,"hidden":false,"merged":[[3,16375,3,16382],[55,3,55,5],[3,16335,3,16342],[3,16343,3,16350],[3,16351,3,16358],[3,16359,3,16366],[3,16367,3,16374],[3,16295,3,16302],[3,16303,3,16310],[3,16311,3,16318],[3,16319,3,16326],[3,16327,3,16334],[3,16255,3,16262],[3,16263,3,16270],[3,16271,3,16278],[3,16279,3,16286],[3,16287,3,16294],[3,16215,3,16222],[3,16223,3,16230],[3,16231,3,16238],[3,16239,3,16246],[3,16247,3,16254],[3,16175,3,16182],[3,16183,3,16190],[3,16191,3,16198],[3,16199,3,16206],[3,16207,3,16214],[3,16135,3,16142],[3,16143,3,16150],[3,16151,3,16158],[3,16159,3,16166],[3,16167,3,16174],[3,16095,3,16102],[3,16103,3,16110],[3,16111,3,16118],[3,16119,3,16126],[3,16127,3,16134],[3,16055,3,16062],[3,16063,3,16070],[3,16071,3,16078],[3,16079,3,16086],[3,16087,3,16094],[3,16015,3,16022],[3,16023,3,16030],[3,16031,3,16038],[3,16039,3,16046],[3,16047,3,16054],[3,15975,3,15982],[3,15983,3,15990],[3,15991,3,15998],[3,15999,3,16006],[3,16007,3,16014],[3,15935,3,15942],[3,15943,3,15950],[3,15951,3,15958],[3,15959,3,15966],[3,15967,3,15974],[3,15895,3,15902],[3,15903,3,15910],[3,15911,3,15918],[3,15919,3,15926],[3,15927,3,15934],[3,15855,3,15862],[3,15863,3,15870],[3,15871,3,15878],[3,15879,3,15886],[3,15887,3,15894],[3,15815,3,15822],[3,15823,3,15830],[3,15831,3,15838],[3,15839,3,15846],[3,15847,3,15854],[3,15775,3,15782],[3,15783,3,15790],[3,15791,3,15798],[3,15799,3,15806],[3,15807,3,15814],[3,15735,3,15742],[3,15743,3,15750],[3,15751,3,15758],[3,15759,3,15766],[3,15767,3,15774],[3,15695,3,15702],[3,15703,3,15710],[3,15711,3,15718],[3,15719,3,15726],[3,15727,3,15734],[3,15655,3,15662],[3,15663,3,15670],[3,15671,3,15678],[3,15679,3,15686],[3,15687,3,15694],[3,15615,3,15622],[3,15623,3,15630],[3,15631,3,15638],[3,15639,3,15646],[3,15647,3,15654],[3,15575,3,15582],[3,15583,3,15590],[3,15591,3,15598],[3,15599,3,15606],[3,15607,3,15614],[3,15535,3,15542],[3,15543,3,15550],[3,15551,3,15558],[3,15559,3,15566],[3,15567,3,15574],[3,15495,3,15502],[3,15503,3,15510],[3,15511,3,15518],[3,15519,3,15526],[3,15527,3,15534],[3,15455,3,15462],[3,15463,3,15470],[3,15471,3,15478],[3,15479,3,15486],[3,15487,3,15494],[3,15415,3,15422],[3,15423,3,15430],[3,15431,3,15438],[3,15439,3,15446],[3,15447,3,15454],[3,15375,3,15382],[3,15383,3,15390],[3,15391,3,15398],[3,15399,3,15406],[3,15407,3,15414],[3,15335,3,15342],[3,15343,3,15350],[3,15351,3,15358],[3,15359,3,15366],[3,15367,3,15374],[3,15295,3,15302],[3,15303,3,15310],[3,15311,3,15318],[3,15319,3,15326],[3,15327,3,15334],[3,15255,3,15262],[3,15263,3,15270],[3,15271,3,15278],[3,15279,3,15286],[3,15287,3,15294],[3,15215,3,15222],[3,15223,3,15230],[3,15231,3,15238],[3,15239,3,15246],[3,15247,3,15254],[3,15175,3,15182],[3,15183,3,15190],[3,15191,3,15198],[3,15199,3,15206],[3,15207,3,15214],[3,15135,3,15142],[3,15143,3,15150],[3,15151,3,15158],[3,15159,3,15166],[3,15167,3,15174],[3,15095,3,15102],[3,15103,3,15110],[3,15111,3,15118],[3,15119,3,15126],[3,15127,3,15134],[3,15055,3,15062],[3,15063,3,15070],[3,15071,3,15078],[3,15079,3,15086],[3,15087,3,15094],[3,15015,3,15022],[3,15023,3,15030],[3,15031,3,15038],[3,15039,3,15046],[3,15047,3,15054],[3,14975,3,14982],[3,14983,3,14990],[3,14991,3,14998],[3,14999,3,15006],[3,15007,3,15014],[3,14935,3,14942],[3,14943,3,14950],[3,14951,3,14958],[3,14959,3,14966],[3,14967,3,14974],[3,14895,3,14902],[3,14903,3,14910],[3,14911,3,14918],[3,14919,3,14926],[3,14927,3,14934],[3,14855,3,14862],[3,14863,3,14870],[3,14871,3,14878],[3,14879,3,14886],[3,14887,3,14894],[3,14815,3,14822],[3,14823,3,14830],[3,14831,3,14838],[3,14839,3,14846],[3,14847,3,14854],[3,14775,3,14782],[3,14783,3,14790],[3,14791,3,14798],[3,14799,3,14806],[3,14807,3,14814],[3,14735,3,14742],[3,14743,3,14750],[3,14751,3,14758],[3,14759,3,14766],[3,14767,3,14774],[3,14695,3,14702],[3,14703,3,14710],[3,14711,3,14718],[3,14719,3,14726],[3,14727,3,14734],[3,14655,3,14662],[3,14663,3,14670],[3,14671,3,14678],[3,14679,3,14686],[3,14687,3,14694],[3,14615,3,14622],[3,14623,3,14630],[3,14631,3,14638],[3,14639,3,14646],[3,14647,3,14654],[3,14575,3,14582],[3,14583,3,14590],[3,14591,3,14598],[3,14599,3,14606],[3,14607,3,14614],[3,14535,3,14542],[3,14543,3,14550],[3,14551,3,14558],[3,14559,3,14566],[3,14567,3,14574],[3,14495,3,14502],[3,14503,3,14510],[3,14511,3,14518],[3,14519,3,14526],[3,14527,3,14534],[3,14455,3,14462],[3,14463,3,14470],[3,14471,3,14478],[3,14479,3,14486],[3,14487,3,14494],[3,14415,3,14422],[3,14423,3,14430],[3,14431,3,14438],[3,14439,3,14446],[3,14447,3,14454],[3,14375,3,14382],[3,14383,3,14390],[3,14391,3,14398],[3,14399,3,14406],[3,14407,3,14414],[3,14335,3,14342],[3,14343,3,14350],[3,14351,3,14358],[3,14359,3,14366],[3,14367,3,14374],[3,14295,3,14302],[3,14303,3,14310],[3,14311,3,14318],[3,14319,3,14326],[3,14327,3,14334],[3,14255,3,14262],[3,14263,3,14270],[3,14271,3,14278],[3,14279,3,14286],[3,14287,3,14294],[3,14215,3,14222],[3,14223,3,14230],[3,14231,3,14238],[3,14239,3,14246],[3,14247,3,14254],[3,14175,3,14182],[3,14183,3,14190],[3,14191,3,14198],[3,14199,3,14206],[3,14207,3,14214],[3,14135,3,14142],[3,14143,3,14150],[3,14151,3,14158],[3,14159,3,14166],[3,14167,3,14174],[3,14095,3,14102],[3,14103,3,14110],[3,14111,3,14118],[3,14119,3,14126],[3,14127,3,14134],[3,14055,3,14062],[3,14063,3,14070],[3,14071,3,14078],[3,14079,3,14086],[3,14087,3,14094],[3,14015,3,14022],[3,14023,3,14030],[3,14031,3,14038],[3,14039,3,14046],[3,14047,3,14054],[3,13975,3,13982],[3,13983,3,13990],[3,13991,3,13998],[3,13999,3,14006],[3,14007,3,14014],[3,13935,3,13942],[3,13943,3,13950],[3,13951,3,13958],[3,13959,3,13966],[3,13967,3,13974],[3,13895,3,13902],[3,13903,3,13910],[3,13911,3,13918],[3,13919,3,13926],[3,13927,3,13934],[3,13855,3,13862],[3,13863,3,13870],[3,13871,3,13878],[3,13879,3,13886],[3,13887,3,13894],[3,13815,3,13822],[3,13823,3,13830],[3,13831,3,13838],[3,13839,3,13846],[3,13847,3,13854],[3,13775,3,13782],[3,13783,3,13790],[3,13791,3,13798],[3,13799,3,13806],[3,13807,3,13814],[3,13735,3,13742],[3,13743,3,13750],[3,13751,3,13758],[3,13759,3,13766],[3,13767,3,13774],[3,13695,3,13702],[3,13703,3,13710],[3,13711,3,13718],[3,13719,3,13726],[3,13727,3,13734],[3,13655,3,13662],[3,13663,3,13670],[3,13671,3,13678],[3,13679,3,13686],[3,13687,3,13694],[3,13615,3,13622],[3,13623,3,13630],[3,13631,3,13638],[3,13639,3,13646],[3,13647,3,13654],[3,13575,3,13582],[3,13583,3,13590],[3,13591,3,13598],[3,13599,3,13606],[3,13607,3,13614],[3,13535,3,13542],[3,13543,3,13550],[3,13551,3,13558],[3,13559,3,13566],[3,13567,3,13574],[3,13495,3,13502],[3,13503,3,13510],[3,13511,3,13518],[3,13519,3,13526],[3,13527,3,13534],[3,13455,3,13462],[3,13463,3,13470],[3,13471,3,13478],[3,13479,3,13486],[3,13487,3,13494],[3,13415,3,13422],[3,13423,3,13430],[3,13431,3,13438],[3,13439,3,13446],[3,13447,3,13454],[3,13375,3,13382],[3,13383,3,13390],[3,13391,3,13398],[3,13399,3,13406],[3,13407,3,13414],[3,13335,3,13342],[3,13343,3,13350],[3,13351,3,13358],[3,13359,3,13366],[3,13367,3,13374],[3,13295,3,13302],[3,13303,3,13310],[3,13311,3,13318],[3,13319,3,13326],[3,13327,3,13334],[3,13255,3,13262],[3,13263,3,13270],[3,13271,3,13278],[3,13279,3,13286],[3,13287,3,13294],[3,13215,3,13222],[3,13223,3,13230],[3,13231,3,13238],[3,13239,3,13246],[3,13247,3,13254],[3,13175,3,13182],[3,13183,3,13190],[3,13191,3,13198],[3,13199,3,13206],[3,13207,3,13214],[3,13135,3,13142],[3,13143,3,13150],[3,13151,3,13158],[3,13159,3,13166],[3,13167,3,13174],[3,13095,3,13102],[3,13103,3,13110],[3,13111,3,13118],[3,13119,3,13126],[3,13127,3,13134],[3,13055,3,13062],[3,13063,3,13070],[3,13071,3,13078],[3,13079,3,13086],[3,13087,3,13094],[3,13015,3,13022],[3,13023,3,13030],[3,13031,3,13038],[3,13039,3,13046],[3,13047,3,13054],[3,12975,3,12982],[3,12983,3,12990],[3,12991,3,12998],[3,12999,3,13006],[3,13007,3,13014],[3,12935,3,12942],[3,12943,3,12950],[3,12951,3,12958],[3,12959,3,12966],[3,12967,3,12974],[3,12895,3,12902],[3,12903,3,12910],[3,12911,3,12918],[3,12919,3,12926],[3,12927,3,12934],[3,12855,3,12862],[3,12863,3,12870],[3,12871,3,12878],[3,12879,3,12886],[3,12887,3,12894],[3,12815,3,12822],[3,12823,3,12830],[3,12831,3,12838],[3,12839,3,12846],[3,12847,3,12854],[3,12775,3,12782],[3,12783,3,12790],[3,12791,3,12798],[3,12799,3,12806],[3,12807,3,12814],[3,12735,3,12742],[3,12743,3,12750],[3,12751,3,12758],[3,12759,3,12766],[3,12767,3,12774],[3,12695,3,12702],[3,12703,3,12710],[3,12711,3,12718],[3,12719,3,12726],[3,12727,3,12734],[3,12655,3,12662],[3,12663,3,12670],[3,12671,3,12678],[3,12679,3,12686],[3,12687,3,12694],[3,12615,3,12622],[3,12623,3,12630],[3,12631,3,12638],[3,12639,3,12646],[3,12647,3,12654],[3,12575,3,12582],[3,12583,3,12590],[3,12591,3,12598],[3,12599,3,12606],[3,12607,3,12614],[3,12535,3,12542],[3,12543,3,12550],[3,12551,3,12558],[3,12559,3,12566],[3,12567,3,12574],[3,12495,3,12502],[3,12503,3,12510],[3,12511,3,12518],[3,12519,3,12526],[3,12527,3,12534],[3,12455,3,12462],[3,12463,3,12470],[3,12471,3,12478],[3,12479,3,12486],[3,12487,3,12494],[3,12415,3,12422],[3,12423,3,12430],[3,12431,3,12438],[3,12439,3,12446],[3,12447,3,12454],[3,12375,3,12382],[3,12383,3,12390],[3,12391,3,12398],[3,12399,3,12406],[3,12407,3,12414],[3,12335,3,12342],[3,12343,3,12350],[3,12351,3,12358],[3,12359,3,12366],[3,12367,3,12374],[3,12295,3,12302],[3,12303,3,12310],[3,12311,3,12318],[3,12319,3,12326],[3,12327,3,12334],[3,12255,3,12262],[3,12263,3,12270],[3,12271,3,12278],[3,12279,3,12286],[3,12287,3,12294],[3,12215,3,12222],[3,12223,3,12230],[3,12231,3,12238],[3,12239,3,12246],[3,12247,3,12254],[3,12175,3,12182],[3,12183,3,12190],[3,12191,3,12198],[3,12199,3,12206],[3,12207,3,12214],[3,12135,3,12142],[3,12143,3,12150],[3,12151,3,12158],[3,12159,3,12166],[3,12167,3,12174],[3,12095,3,12102],[3,12103,3,12110],[3,12111,3,12118],[3,12119,3,12126],[3,12127,3,12134],[3,12055,3,12062],[3,12063,3,12070],[3,12071,3,12078],[3,12079,3,12086],[3,12087,3,12094],[3,12015,3,12022],[3,12023,3,12030],[3,12031,3,12038],[3,12039,3,12046],[3,12047,3,12054],[3,11975,3,11982],[3,11983,3,11990],[3,11991,3,11998],[3,11999,3,12006],[3,12007,3,12014],[3,11935,3,11942],[3,11943,3,11950],[3,11951,3,11958],[3,11959,3,11966],[3,11967,3,11974],[3,11895,3,11902],[3,11903,3,11910],[3,11911,3,11918],[3,11919,3,11926],[3,11927,3,11934],[3,11855,3,11862],[3,11863,3,11870],[3,11871,3,11878],[3,11879,3,11886],[3,11887,3,11894],[3,11815,3,11822],[3,11823,3,11830],[3,11831,3,11838],[3,11839,3,11846],[3,11847,3,11854],[3,11775,3,11782],[3,11783,3,11790],[3,11791,3,11798],[3,11799,3,11806],[3,11807,3,11814],[3,11735,3,11742],[3,11743,3,11750],[3,11751,3,11758],[3,11759,3,11766],[3,11767,3,11774],[3,11695,3,11702],[3,11703,3,11710],[3,11711,3,11718],[3,11719,3,11726],[3,11727,3,11734],[3,11655,3,11662],[3,11663,3,11670],[3,11671,3,11678],[3,11679,3,11686],[3,11687,3,11694],[3,11615,3,11622],[3,11623,3,11630],[3,11631,3,11638],[3,11639,3,11646],[3,11647,3,11654],[3,11575,3,11582],[3,11583,3,11590],[3,11591,3,11598],[3,11599,3,11606],[3,11607,3,11614],[3,11535,3,11542],[3,11543,3,11550],[3,11551,3,11558],[3,11559,3,11566],[3,11567,3,11574],[3,11495,3,11502],[3,11503,3,11510],[3,11511,3,11518],[3,11519,3,11526],[3,11527,3,11534],[3,11455,3,11462],[3,11463,3,11470],[3,11471,3,11478],[3,11479,3,11486],[3,11487,3,11494],[3,11415,3,11422],[3,11423,3,11430],[3,11431,3,11438],[3,11439,3,11446],[3,11447,3,11454],[3,11375,3,11382],[3,11383,3,11390],[3,11391,3,11398],[3,11399,3,11406],[3,11407,3,11414],[3,11335,3,11342],[3,11343,3,11350],[3,11351,3,11358],[3,11359,3,11366],[3,11367,3,11374],[3,11295,3,11302],[3,11303,3,11310],[3,11311,3,11318],[3,11319,3,11326],[3,11327,3,11334],[3,11255,3,11262],[3,11263,3,11270],[3,11271,3,11278],[3,11279,3,11286],[3,11287,3,11294],[3,11215,3,11222],[3,11223,3,11230],[3,11231,3,11238],[3,11239,3,11246],[3,11247,3,11254],[3,11175,3,11182],[3,11183,3,11190],[3,11191,3,11198],[3,11199,3,11206],[3,11207,3,11214],[3,11135,3,11142],[3,11143,3,11150],[3,11151,3,11158],[3,11159,3,11166],[3,11167,3,11174],[3,11095,3,11102],[3,11103,3,11110],[3,11111,3,11118],[3,11119,3,11126],[3,11127,3,11134],[3,11055,3,11062],[3,11063,3,11070],[3,11071,3,11078],[3,11079,3,11086],[3,11087,3,11094],[3,11015,3,11022],[3,11023,3,11030],[3,11031,3,11038],[3,11039,3,11046],[3,11047,3,11054],[3,10975,3,10982],[3,10983,3,10990],[3,10991,3,10998],[3,10999,3,11006],[3,11007,3,11014],[3,10935,3,10942],[3,10943,3,10950],[3,10951,3,10958],[3,10959,3,10966],[3,10967,3,10974],[3,10895,3,10902],[3,10903,3,10910],[3,10911,3,10918],[3,10919,3,10926],[3,10927,3,10934],[3,10855,3,10862],[3,10863,3,10870],[3,10871,3,10878],[3,10879,3,10886],[3,10887,3,10894],[3,10815,3,10822],[3,10823,3,10830],[3,10831,3,10838],[3,10839,3,10846],[3,10847,3,10854],[3,10775,3,10782],[3,10783,3,10790],[3,10791,3,10798],[3,10799,3,10806],[3,10807,3,10814],[3,10735,3,10742],[3,10743,3,10750],[3,10751,3,10758],[3,10759,3,10766],[3,10767,3,10774],[3,10695,3,10702],[3,10703,3,10710],[3,10711,3,10718],[3,10719,3,10726],[3,10727,3,10734],[3,10655,3,10662],[3,10663,3,10670],[3,10671,3,10678],[3,10679,3,10686],[3,10687,3,10694],[3,10615,3,10622],[3,10623,3,10630],[3,10631,3,10638],[3,10639,3,10646],[3,10647,3,10654],[3,10575,3,10582],[3,10583,3,10590],[3,10591,3,10598],[3,10599,3,10606],[3,10607,3,10614],[3,10535,3,10542],[3,10543,3,10550],[3,10551,3,10558],[3,10559,3,10566],[3,10567,3,10574],[3,10495,3,10502],[3,10503,3,10510],[3,10511,3,10518],[3,10519,3,10526],[3,10527,3,10534],[3,10455,3,10462],[3,10463,3,10470],[3,10471,3,10478],[3,10479,3,10486],[3,10487,3,10494],[3,10415,3,10422],[3,10423,3,10430],[3,10431,3,10438],[3,10439,3,10446],[3,10447,3,10454],[3,10375,3,10382],[3,10383,3,10390],[3,10391,3,10398],[3,10399,3,10406],[3,10407,3,10414],[3,10335,3,10342],[3,10343,3,10350],[3,10351,3,10358],[3,10359,3,10366],[3,10367,3,10374],[3,10295,3,10302],[3,10303,3,10310],[3,10311,3,10318],[3,10319,3,10326],[3,10327,3,10334],[3,10255,3,10262],[3,10263,3,10270],[3,10271,3,10278],[3,10279,3,10286],[3,10287,3,10294],[3,10215,3,10222],[3,10223,3,10230],[3,10231,3,10238],[3,10239,3,10246],[3,10247,3,10254],[3,10175,3,10182],[3,10183,3,10190],[3,10191,3,10198],[3,10199,3,10206],[3,10207,3,10214],[3,10135,3,10142],[3,10143,3,10150],[3,10151,3,10158],[3,10159,3,10166],[3,10167,3,10174],[3,10095,3,10102],[3,10103,3,10110],[3,10111,3,10118],[3,10119,3,10126],[3,10127,3,10134],[3,10055,3,10062],[3,10063,3,10070],[3,10071,3,10078],[3,10079,3,10086],[3,10087,3,10094],[3,10015,3,10022],[3,10023,3,10030],[3,10031,3,10038],[3,10039,3,10046],[3,10047,3,10054],[3,9975,3,9982],[3,9983,3,9990],[3,9991,3,9998],[3,9999,3,10006],[3,10007,3,10014],[3,9935,3,9942],[3,9943,3,9950],[3,9951,3,9958],[3,9959,3,9966],[3,9967,3,9974],[3,9895,3,9902],[3,9903,3,9910],[3,9911,3,9918],[3,9919,3,9926],[3,9927,3,9934],[3,9855,3,9862],[3,9863,3,9870],[3,9871,3,9878],[3,9879,3,9886],[3,9887,3,9894],[3,9815,3,9822],[3,9823,3,9830],[3,9831,3,9838],[3,9839,3,9846],[3,9847,3,9854],[3,9775,3,9782],[3,9783,3,9790],[3,9791,3,9798],[3,9799,3,9806],[3,9807,3,9814],[3,9735,3,9742],[3,9743,3,9750],[3,9751,3,9758],[3,9759,3,9766],[3,9767,3,9774],[3,9695,3,9702],[3,9703,3,9710],[3,9711,3,9718],[3,9719,3,9726],[3,9727,3,9734],[3,9655,3,9662],[3,9663,3,9670],[3,9671,3,9678],[3,9679,3,9686],[3,9687,3,9694],[3,9615,3,9622],[3,9623,3,9630],[3,9631,3,9638],[3,9639,3,9646],[3,9647,3,9654],[3,9575,3,9582],[3,9583,3,9590],[3,9591,3,9598],[3,9599,3,9606],[3,9607,3,9614],[3,9535,3,9542],[3,9543,3,9550],[3,9551,3,9558],[3,9559,3,9566],[3,9567,3,9574],[3,9495,3,9502],[3,9503,3,9510],[3,9511,3,9518],[3,9519,3,9526],[3,9527,3,9534],[3,9455,3,9462],[3,9463,3,9470],[3,9471,3,9478],[3,9479,3,9486],[3,9487,3,9494],[3,9415,3,9422],[3,9423,3,9430],[3,9431,3,9438],[3,9439,3,9446],[3,9447,3,9454],[3,9375,3,9382],[3,9383,3,9390],[3,9391,3,9398],[3,9399,3,9406],[3,9407,3,9414],[3,9335,3,9342],[3,9343,3,9350],[3,9351,3,9358],[3,9359,3,9366],[3,9367,3,9374],[3,9295,3,9302],[3,9303,3,9310],[3,9311,3,9318],[3,9319,3,9326],[3,9327,3,9334],[3,9255,3,9262],[3,9263,3,9270],[3,9271,3,9278],[3,9279,3,9286],[3,9287,3,9294],[3,9215,3,9222],[3,9223,3,9230],[3,9231,3,9238],[3,9239,3,9246],[3,9247,3,9254],[3,9175,3,9182],[3,9183,3,9190],[3,9191,3,9198],[3,9199,3,9206],[3,9207,3,9214],[3,9135,3,9142],[3,9143,3,9150],[3,9151,3,9158],[3,9159,3,9166],[3,9167,3,9174],[3,9095,3,9102],[3,9103,3,9110],[3,9111,3,9118],[3,9119,3,9126],[3,9127,3,9134],[3,9055,3,9062],[3,9063,3,9070],[3,9071,3,9078],[3,9079,3,9086],[3,9087,3,9094],[3,9015,3,9022],[3,9023,3,9030],[3,9031,3,9038],[3,9039,3,9046],[3,9047,3,9054],[3,8975,3,8982],[3,8983,3,8990],[3,8991,3,8998],[3,8999,3,9006],[3,9007,3,9014],[3,8935,3,8942],[3,8943,3,8950],[3,8951,3,8958],[3,8959,3,8966],[3,8967,3,8974],[3,8895,3,8902],[3,8903,3,8910],[3,8911,3,8918],[3,8919,3,8926],[3,8927,3,8934],[3,8855,3,8862],[3,8863,3,8870],[3,8871,3,8878],[3,8879,3,8886],[3,8887,3,8894],[3,8815,3,8822],[3,8823,3,8830],[3,8831,3,8838],[3,8839,3,8846],[3,8847,3,8854],[3,8775,3,8782],[3,8783,3,8790],[3,8791,3,8798],[3,8799,3,8806],[3,8807,3,8814],[3,8735,3,8742],[3,8743,3,8750],[3,8751,3,8758],[3,8759,3,8766],[3,8767,3,8774],[3,8695,3,8702],[3,8703,3,8710],[3,8711,3,8718],[3,8719,3,8726],[3,8727,3,8734],[3,8655,3,8662],[3,8663,3,8670],[3,8671,3,8678],[3,8679,3,8686],[3,8687,3,8694],[3,8615,3,8622],[3,8623,3,8630],[3,8631,3,8638],[3,8639,3,8646],[3,8647,3,8654],[3,8575,3,8582],[3,8583,3,8590],[3,8591,3,8598],[3,8599,3,8606],[3,8607,3,8614],[3,8535,3,8542],[3,8543,3,8550],[3,8551,3,8558],[3,8559,3,8566],[3,8567,3,8574],[3,8495,3,8502],[3,8503,3,8510],[3,8511,3,8518],[3,8519,3,8526],[3,8527,3,8534],[3,8455,3,8462],[3,8463,3,8470],[3,8471,3,8478],[3,8479,3,8486],[3,8487,3,8494],[3,8415,3,8422],[3,8423,3,8430],[3,8431,3,8438],[3,8439,3,8446],[3,8447,3,8454],[3,8375,3,8382],[3,8383,3,8390],[3,8391,3,8398]],"merged_total":2061,"flags":["merged_cut"]}
[]
["Услуги производственного характера, связанные с передачей электрической энергии"]
[]
[{"$f":"'Инф-я'!C13","v":"ООО \"Энергетик\""}]
[]
["Показатели","2017 год ",null,"2018 год ",null,"2019 год ",null,"2020 год ",null,"2017 год","2018 год"]
[null,"Утвержденные"," Факт","Утвержденные"," Факт","Утвержденные","Ожидаемые","По данным организации","По данным экспертов","Факт по расчету экспертов","Факт по расчету экспертов"]
[1,2,3,4,5,6,7,8,9,10,11]
["Транспортные услуги сторонних организаций","х",{"$f":"SUM(C10:C13)","v":0},"х",{"$f":"SUM(E10:E13)","v":0},"х",{"$f":"SUM(G10:G13)","v":0},{"$f":"SUM(H10:H13)","v":0},{"$f":"SUM(I10:I14)","v":0},{"$f":"SUM(J10:J14)","v":0},0]
["договор  с _____ от_____№  __ на_________","х",null,"х",null,"х"]
["договор  с _____ от_____№  __ на_________","х",null,"х",null,"х"]
["договор  с _____ от_____№  __ на_________","х",null,"х",null,"х"]
["договор  с _____ от_____№  __ на_________","х",null,"х",null,"х"]
["Добавить"]
["Наладочные работы ","х",{"$f":"SUM(C16:C21)","v":0},"х",{"$f":"SUM(E16:E21)","v":0},"х",{"$f":"SUM(G16:G21)","v":0},{"$f":"SUM(H16:H21)","v":0},{"$f":"SUM(I16:I22)","v":0},{"$f":"SUM(J16:J22)","v":0},0]
["договор  с _____ от_____№  __ на_________","х",null,"х",null,"х"]
["договор  с _____ от_____№  __ на_________","х",null,"х",null,"х"]
["договор  с _____ от_____№  __ на_________","х",null,"х",null,"х"]
["договор  с _____ от_____№  __ на_________","х",null,"х",null,"х"]
["договор  с _____ от_____№  __ на_________","х",null,"х",null,"х"]
["договор  с _____ от_____№  __ на_________","х",null,"х",null,"х"]
["Добавить"]
["Техническое обслуживание основных средств","х",{"$f":"SUM(C24:C27)","v":0},"х",{"$f":"SUM(E24:E27)","v":0},"х",{"$f":"SUM(G24:G27)","v":0},{"$f":"SUM(H24:H27)","v":0},{"$f":"SUM(I24:I28)","v":0},{"$f":"SUM(J24:J28)","v":0},0]
["договор  с _____ от_____№  __ на_________","х",null,"х",null,"х"]
["договор  с _____ от_____№  __ на_________","х",null,"х",null,"х"]
["договор  с _____ от_____№  __ на_________","х",null,"х",null,"х"]
["договор  с _____ от_____№  __ на_________","х",null,"х",null,"х"]
["Добавить"]
["Поверка средств измерений","х",{"$f":"SUM(C30:C41)","v":0},"х",{"$f":"SUM(E30:E41)","v":0},"х",{"$f":"SUM(G30:G41)","v":0},{"$f":"SUM(H30:H41)","v":0},{"$f":"SUM(I30:I42)","v":0},{"$f":"SUM(J30:J42)","v":0},0]
["договор  с _____ от_____№  __ на_________","х",null,"х",null,"х"]
["договор  с _____ от_____№  __ на_________","х",null,"х",null,"х"]
["договор  с _____ от_____№  __ на_________","х",null,"х",null,"х"]
["договор  с _____ от_____№  __ на_________","х",null,"х",null,"х"]
["договор  с _____ от_____№  __ на_________","х",null,"х",null,"х"]
["договор  с _____ от_____№  __ на_________","х",null,"х",null,"х"]
["договор  с _____ от_____№  __ на_________","х",null,"х",null,"х"]
["договор  с _____ от_____№  __ на_________","х",null,"х",null,"х"]
["договор  с _____ от_____№  __ на_________","х",null,"х",null,"х"]
["договор  с _____ от_____№  __ на_________","х",null,"х",null,"х"]
["договор  с _____ от_____№  __ на_________","х",null,"х",null,"х"]
["договор  с _____ от_____№  __ на_________","х",null,"х",null,"х"]
["Добавить"]
["Прочие","х",{"$f":"SUM(C44:C52)","v":168.13370000000003},"х",{"$f":"SUM(E44:E52)","v":292.04043999999999},"х",{"$f":"SUM(G44:G52)","v":276.59999999999997},{"$f":"SUM(H44:H52)","v":287.69999999999993},{"$f":"SUM(I44:I53)","v":0},{"$f":"SUM(J44:J53)","v":0},0]
["договор  с ООО \"Желдорэкспедиция\" на услуги по перевозке","х",15.23,"х",null,"х"]
["договор  с ООО \"Желдорэкспедиция-Москва\" на услуги по перевозке","х",2.9980000000000002,"х",9.91,"х",10.5,11]
["договор  с ООО \"Деловые линии\" на услуги по перевозке","х",null,"х",1.056,"х",1.5,1.6]
["договор  с ООО \"Матрица\" на ремонт электросчетчиков","х",34.573999999999998,"х",79.423439999999999,"х",82.6,85.9]
["договор  с ООО \"Про-Сервис\" на охрану ТП","х",35.095570000000002,"х",21.489000000000001,"х",23.8,24.8]
["договор  с ОВО по Александровскому району на охрану ТП","х",66.936130000000006,"х",130.96199999999999,"х",136.19999999999999,141.6]
["договор  с ООО \"Тензор\" на ЭКЦП","х",13.3,"х",18,"х",18.7,19.399999999999999]
["договор  с ООО \"Гранд-Владимир\" на обновление программы \"ГрандСмета\"","х",null,"х",3.2,"х",3.3,3.4]
["договор  с ООО \"Энергомонтаж\" на доставку груза","х",null,"х",28,"х"]
["Добавить"]
["ИТОГО услуги производственного характера",{"$f":"'Подконтрольные расходы'!F21","v":0},{"$f":"C9+C15+C23+C29+C43","v":168.13370000000003},{"$f":"'Подконтрольные расходы'!H21","v":0},{"$f":"E9+E15+E23+E29+E43","v":292.04043999999999},{"$f":"'Подконтрольные расходы'!J21","v":0},{"$f":"G9+G15+G23+G29+G43","v":276.59999999999997},{"$f":"H9+H15+H23+H29+H43","v":287.69999999999993},{"$f":"I9+I15+I23+I29+I43","v":0},{"$f":"J9+J15+J23+J29+J43","v":0},0]
[]
["Руководитель организации",null,null,{"$f":"'Инф-я'!$C$21","v":"Окунев Василий Михайлович"}]

{"sheet":"УНПХ","index":13,"n_rows":46,"n_cols":11,"rows_kept":46,"cut":false,"hidden":false,"merged":[[3,16375,3,16382],[45,3,45,5],[3,16335,3,16342],[3,16343,3,16350],[3,16351,3,16358],[3,16359,3,16366],[3,16367,3,16374],[3,16295,3,16302],[3,16303,3,16310],[3,16311,3,16318],[3,16319,3,16326],[3,16327,3,16334],[3,16255,3,16262],[3,16263,3,16270],[3,16271,3,16278],[3,16279,3,16286],[3,16287,3,16294],[3,16215,3,16222],[3,16223,3,16230],[3,16231,3,16238],[3,16239,3,16246],[3,16247,3,16254],[3,16175,3,16182],[3,16183,3,16190],[3,16191,3,16198],[3,16199,3,16206],[3,16207,3,16214],[3,16135,3,16142],[3,16143,3,16150],[3,16151,3,16158],[3,16159,3,16166],[3,16167,3,16174],[3,16095,3,16102],[3,16103,3,16110],[3,16111,3,16118],[3,16119,3,16126],[3,16127,3,16134],[3,16055,3,16062],[3,16063,3,16070],[3,16071,3,16078],[3,16079,3,16086],[3,16087,3,16094],[3,16015,3,16022],[3,16023,3,16030],[3,16031,3,16038],[3,16039,3,16046],[3,16047,3,16054],[3,15975,3,15982],[3,15983,3,15990],[3,15991,3,15998],[3,15999,3,16006],[3,16007,3,16014],[3,15935,3,15942],[3,15943,3,15950],[3,15951,3,15958],[3,15959,3,15966],[3,15967,3,15974],[3,15895,3,15902],[3,15903,3,15910],[3,15911,3,15918],[3,15919,3,15926],[3,15927,3,15934],[3,15855,3,15862],[3,15863,3,15870],[3,15871,3,15878],[3,15879,3,15886],[3,15887,3,15894],[3,15815,3,15822],[3,15823,3,15830],[3,15831,3,15838],[3,15839,3,15846],[3,15847,3,15854],[3,15775,3,15782],[3,15783,3,15790],[3,15791,3,15798],[3,15799,3,15806],[3,15807,3,15814],[3,15735,3,15742],[3,15743,3,15750],[3,15751,3,15758],[3,15759,3,15766],[3,15767,3,15774],[3,15695,3,15702],[3,15703,3,15710],[3,15711,3,15718],[3,15719,3,15726],[3,15727,3,15734],[3,15655,3,15662],[3,15663,3,15670],[3,15671,3,15678],[3,15679,3,15686],[3,15687,3,15694],[3,15615,3,15622],[3,15623,3,15630],[3,15631,3,15638],[3,15639,3,15646],[3,15647,3,15654],[3,15575,3,15582],[3,15583,3,15590],[3,15591,3,15598],[3,15599,3,15606],[3,15607,3,15614],[3,15535,3,15542],[3,15543,3,15550],[3,15551,3,15558],[3,15559,3,15566],[3,15567,3,15574],[3,15495,3,15502],[3,15503,3,15510],[3,15511,3,15518],[3,15519,3,15526],[3,15527,3,15534],[3,15455,3,15462],[3,15463,3,15470],[3,15471,3,15478],[3,15479,3,15486],[3,15487,3,15494],[3,15415,3,15422],[3,15423,3,15430],[3,15431,3,15438],[3,15439,3,15446],[3,15447,3,15454],[3,15375,3,15382],[3,15383,3,15390],[3,15391,3,15398],[3,15399,3,15406],[3,15407,3,15414],[3,15335,3,15342],[3,15343,3,15350],[3,15351,3,15358],[3,15359,3,15366],[3,15367,3,15374],[3,15295,3,15302],[3,15303,3,15310],[3,15311,3,15318],[3,15319,3,15326],[3,15327,3,15334],[3,15255,3,15262],[3,15263,3,15270],[3,15271,3,15278],[3,15279,3,15286],[3,15287,3,15294],[3,15215,3,15222],[3,15223,3,15230],[3,15231,3,15238],[3,15239,3,15246],[3,15247,3,15254],[3,15175,3,15182],[3,15183,3,15190],[3,15191,3,15198],[3,15199,3,15206],[3,15207,3,15214],[3,15135,3,15142],[3,15143,3,15150],[3,15151,3,15158],[3,15159,3,15166],[3,15167,3,15174],[3,15095,3,15102],[3,15103,3,15110],[3,15111,3,15118],[3,15119,3,15126],[3,15127,3,15134],[3,15055,3,15062],[3,15063,3,15070],[3,15071,3,15078],[3,15079,3,15086],[3,15087,3,15094],[3,15015,3,15022],[3,15023,3,15030],[3,15031,3,15038],[3,15039,3,15046],[3,15047,3,15054],[3,14975,3,14982],[3,14983,3,14990],[3,14991,3,14998],[3,14999,3,15006],[3,15007,3,15014],[3,14935,3,14942],[3,14943,3,14950],[3,14951,3,14958],[3,14959,3,14966],[3,14967,3,14974],[3,14895,3,14902],[3,14903,3,14910],[3,14911,3,14918],[3,14919,3,14926],[3,14927,3,14934],[3,14855,3,14862],[3,14863,3,14870],[3,14871,3,14878],[3,14879,3,14886],[3,14887,3,14894],[3,14815,3,14822],[3,14823,3,14830],[3,14831,3,14838],[3,14839,3,14846],[3,14847,3,14854],[3,14775,3,14782],[3,14783,3,14790],[3,14791,3,14798],[3,14799,3,14806],[3,14807,3,14814],[3,14735,3,14742],[3,14743,3,14750],[3,14751,3,14758],[3,14759,3,14766],[3,14767,3,14774],[3,14695,3,14702],[3,14703,3,14710],[3,14711,3,14718],[3,14719,3,14726],[3,14727,3,14734],[3,14655,3,14662],[3,14663,3,14670],[3,14671,3,14678],[3,14679,3,14686],[3,14687,3,14694],[3,14615,3,14622],[3,14623,3,14630],[3,14631,3,14638],[3,14639,3,14646],[3,14647,3,14654],[3,14575,3,14582],[3,14583,3,14590],[3,14591,3,14598],[3,14599,3,14606],[3,14607,3,14614],[3,14535,3,14542],[3,14543,3,14550],[3,14551,3,14558],[3,14559,3,14566],[3,14567,3,14574],[3,14495,3,14502],[3,14503,3,14510],[3,14511,3,14518],[3,14519,3,14526],[3,14527,3,14534],[3,14455,3,14462],[3,14463,3,14470],[3,14471,3,14478],[3,14479,3,14486],[3,14487,3,14494],[3,14415,3,14422],[3,14423,3,14430],[3,14431,3,14438],[3,14439,3,14446],[3,14447,3,14454],[3,14375,3,14382],[3,14383,3,14390],[3,14391,3,14398],[3,14399,3,14406],[3,14407,3,14414],[3,14335,3,14342],[3,14343,3,14350],[3,14351,3,14358],[3,14359,3,14366],[3,14367,3,14374],[3,14295,3,14302],[3,14303,3,14310],[3,14311,3,14318],[3,14319,3,14326],[3,14327,3,14334],[3,14255,3,14262],[3,14263,3,14270],[3,14271,3,14278],[3,14279,3,14286],[3,14287,3,14294],[3,14215,3,14222],[3,14223,3,14230],[3,14231,3,14238],[3,14239,3,14246],[3,14247,3,14254],[3,14175,3,14182],[3,14183,3,14190],[3,14191,3,14198],[3,14199,3,14206],[3,14207,3,14214],[3,14135,3,14142],[3,14143,3,14150],[3,14151,3,14158],[3,14159,3,14166],[3,14167,3,14174],[3,14095,3,14102],[3,14103,3,14110],[3,14111,3,14118],[3,14119,3,14126],[3,14127,3,14134],[3,14055,3,14062],[3,14063,3,14070],[3,14071,3,14078],[3,14079,3,14086],[3,14087,3,14094],[3,14015,3,14022],[3,14023,3,14030],[3,14031,3,14038],[3,14039,3,14046],[3,14047,3,14054],[3,13975,3,13982],[3,13983,3,13990],[3,13991,3,13998],[3,13999,3,14006],[3,14007,3,14014],[3,13935,3,13942],[3,13943,3,13950],[3,13951,3,13958],[3,13959,3,13966],[3,13967,3,13974],[3,13895,3,13902],[3,13903,3,13910],[3,13911,3,13918],[3,13919,3,13926],[3,13927,3,13934],[3,13855,3,13862],[3,13863,3,13870],[3,13871,3,13878],[3,13879,3,13886],[3,13887,3,13894],[3,13815,3,13822],[3,13823,3,13830],[3,13831,3,13838],[3,13839,3,13846],[3,13847,3,13854],[3,13775,3,13782],[3,13783,3,13790],[3,13791,3,13798],[3,13799,3,13806],[3,13807,3,13814],[3,13735,3,13742],[3,13743,3,13750],[3,13751,3,13758],[3,13759,3,13766],[3,13767,3,13774],[3,13695,3,13702],[3,13703,3,13710],[3,13711,3,13718],[3,13719,3,13726],[3,13727,3,13734],[3,13655,3,13662],[3,13663,3,13670],[3,13671,3,13678],[3,13679,3,13686],[3,13687,3,13694],[3,13615,3,13622],[3,13623,3,13630],[3,13631,3,13638],[3,13639,3,13646],[3,13647,3,13654],[3,13575,3,13582],[3,13583,3,13590],[3,13591,3,13598],[3,13599,3,13606],[3,13607,3,13614],[3,13535,3,13542],[3,13543,3,13550],[3,13551,3,13558],[3,13559,3,13566],[3,13567,3,13574],[3,13495,3,13502],[3,13503,3,13510],[3,13511,3,13518],[3,13519,3,13526],[3,13527,3,13534],[3,13455,3,13462],[3,13463,3,13470],[3,13471,3,13478],[3,13479,3,13486],[3,13487,3,13494],[3,13415,3,13422],[3,13423,3,13430],[3,13431,3,13438],[3,13439,3,13446],[3,13447,3,13454],[3,13375,3,13382],[3,13383,3,13390],[3,13391,3,13398],[3,13399,3,13406],[3,13407,3,13414],[3,13335,3,13342],[3,13343,3,13350],[3,13351,3,13358],[3,13359,3,13366],[3,13367,3,13374],[3,13295,3,13302],[3,13303,3,13310],[3,13311,3,13318],[3,13319,3,13326],[3,13327,3,13334],[3,13255,3,13262],[3,13263,3,13270],[3,13271,3,13278],[3,13279,3,13286],[3,13287,3,13294],[3,13215,3,13222],[3,13223,3,13230],[3,13231,3,13238],[3,13239,3,13246],[3,13247,3,13254],[3,13175,3,13182],[3,13183,3,13190],[3,13191,3,13198],[3,13199,3,13206],[3,13207,3,13214],[3,13135,3,13142],[3,13143,3,13150],[3,13151,3,13158],[3,13159,3,13166],[3,13167,3,13174],[3,13095,3,13102],[3,13103,3,13110],[3,13111,3,13118],[3,13119,3,13126],[3,13127,3,13134],[3,13055,3,13062],[3,13063,3,13070],[3,13071,3,13078],[3,13079,3,13086],[3,13087,3,13094],[3,13015,3,13022],[3,13023,3,13030],[3,13031,3,13038],[3,13039,3,13046],[3,13047,3,13054],[3,12975,3,12982],[3,12983,3,12990],[3,12991,3,12998],[3,12999,3,13006],[3,13007,3,13014],[3,12935,3,12942],[3,12943,3,12950],[3,12951,3,12958],[3,12959,3,12966],[3,12967,3,12974],[3,12895,3,12902],[3,12903,3,12910],[3,12911,3,12918],[3,12919,3,12926],[3,12927,3,12934],[3,12855,3,12862],[3,12863,3,12870],[3,12871,3,12878],[3,12879,3,12886],[3,12887,3,12894],[3,12815,3,12822],[3,12823,3,12830],[3,12831,3,12838],[3,12839,3,12846],[3,12847,3,12854],[3,12775,3,12782],[3,12783,3,12790],[3,12791,3,12798],[3,12799,3,12806],[3,12807,3,12814],[3,12735,3,12742],[3,12743,3,12750],[3,12751,3,12758],[3,12759,3,12766],[3,12767,3,12774],[3,12695,3,12702],[3,12703,3,12710],[3,12711,3,12718],[3,12719,3,12726],[3,12727,3,12734],[3,12655,3,12662],[3,12663,3,12670],[3,12671,3,12678],[3,12679,3,12686],[3,12687,3,12694],[3,12615,3,12622],[3,12623,3,12630],[3,12631,3,12638],[3,12639,3,12646],[3,12647,3,12654],[3,12575,3,12582],[3,12583,3,12590],[3,12591,3,12598],[3,12599,3,12606],[3,12607,3,12614],[3,12535,3,12542],[3,12543,3,12550],[3,12551,3,12558],[3,12559,3,12566],[3,12567,3,12574],[3,12495,3,12502],[3,12503,3,12510],[3,12511,3,12518],[3,12519,3,12526],[3,12527,3,12534],[3,12455,3,12462],[3,12463,3,12470],[3,12471,3,12478],[3,12479,3,12486],[3,12487,3,12494],[3,12415,3,12422],[3,12423,3,12430],[3,12431,3,12438],[3,12439,3,12446],[3,12447,3,12454],[3,12375,3,12382],[3,12383,3,12390],[3,12391,3,12398],[3,12399,3,12406],[3,12407,3,12414],[3,12335,3,12342],[3,12343,3,12350],[3,12351,3,12358],[3,12359,3,12366],[3,12367,3,12374],[3,12295,3,12302],[3,12303,3,12310],[3,12311,3,12318],[3,12319,3,12326],[3,12327,3,12334],[3,12255,3,12262],[3,12263,3,12270],[3,12271,3,12278],[3,12279,3,12286],[3,12287,3,12294],[3,12215,3,12222],[3,12223,3,12230],[3,12231,3,12238],[3,12239,3,12246],[3,12247,3,12254],[3,12175,3,12182],[3,12183,3,12190],[3,12191,3,12198],[3,12199,3,12206],[3,12207,3,12214],[3,12135,3,12142],[3,12143,3,12150],[3,12151,3,12158],[3,12159,3,12166],[3,12167,3,12174],[3,12095,3,12102],[3,12103,3,12110],[3,12111,3,12118],[3,12119,3,12126],[3,12127,3,12134],[3,12055,3,12062],[3,12063,3,12070],[3,12071,3,12078],[3,12079,3,12086],[3,12087,3,12094],[3,12015,3,12022],[3,12023,3,12030],[3,12031,3,12038],[3,12039,3,12046],[3,12047,3,12054],[3,11975,3,11982],[3,11983,3,11990],[3,11991,3,11998],[3,11999,3,12006],[3,12007,3,12014],[3,11935,3,11942],[3,11943,3,11950],[3,11951,3,11958],[3,11959,3,11966],[3,11967,3,11974],[3,11895,3,11902],[3,11903,3,11910],[3,11911,3,11918],[3,11919,3,11926],[3,11927,3,11934],[3,11855,3,11862],[3,11863,3,11870],[3,11871,3,11878],[3,11879,3,11886],[3,11887,3,11894],[3,11815,3,11822],[3,11823,3,11830],[3,11831,3,11838],[3,11839,3,11846],[3,11847,3,11854],[3,11775,3,11782],[3,11783,3,11790],[3,11791,3,11798],[3,11799,3,11806],[3,11807,3,11814],[3,11735,3,11742],[3,11743,3,11750],[3,11751,3,11758],[3,11759,3,11766],[3,11767,3,11774],[3,11695,3,11702],[3,11703,3,11710],[3,11711,3,11718],[3,11719,3,11726],[3,11727,3,11734],[3,11655,3,11662],[3,11663,3,11670],[3,11671,3,11678],[3,11679,3,11686],[3,11687,3,11694],[3,11615,3,11622],[3,11623,3,11630],[3,11631,3,11638],[3,11639,3,11646],[3,11647,3,11654],[3,11575,3,11582],[3,11583,3,11590],[3,11591,3,11598],[3,11599,3,11606],[3,11607,3,11614],[3,11535,3,11542],[3,11543,3,11550],[3,11551,3,11558],[3,11559,3,11566],[3,11567,3,11574],[3,11495,3,11502],[3,11503,3,11510],[3,11511,3,11518],[3,11519,3,11526],[3,11527,3,11534],[3,11455,3,11462],[3,11463,3,11470],[3,11471,3,11478],[3,11479,3,11486],[3,11487,3,11494],[3,11415,3,11422],[3,11423,3,11430],[3,11431,3,11438],[3,11439,3,11446],[3,11447,3,11454],[3,11375,3,11382],[3,11383,3,11390],[3,11391,3,11398],[3,11399,3,11406],[3,11407,3,11414],[3,11335,3,11342],[3,11343,3,11350],[3,11351,3,11358],[3,11359,3,11366],[3,11367,3,11374],[3,11295,3,11302],[3,11303,3,11310],[3,11311,3,11318],[3,11319,3,11326],[3,11327,3,11334],[3,11255,3,11262],[3,11263,3,11270],[3,11271,3,11278],[3,11279,3,11286],[3,11287,3,11294],[3,11215,3,11222],[3,11223,3,11230],[3,11231,3,11238],[3,11239,3,11246],[3,11247,3,11254],[3,11175,3,11182],[3,11183,3,11190],[3,11191,3,11198],[3,11199,3,11206],[3,11207,3,11214],[3,11135,3,11142],[3,11143,3,11150],[3,11151,3,11158],[3,11159,3,11166],[3,11167,3,11174],[3,11095,3,11102],[3,11103,3,11110],[3,11111,3,11118],[3,11119,3,11126],[3,11127,3,11134],[3,11055,3,11062],[3,11063,3,11070],[3,11071,3,11078],[3,11079,3,11086],[3,11087,3,11094],[3,11015,3,11022],[3,11023,3,11030],[3,11031,3,11038],[3,11039,3,11046],[3,11047,3,11054],[3,10975,3,10982],[3,10983,3,10990],[3,10991,3,10998],[3,10999,3,11006],[3,11007,3,11014],[3,10935,3,10942],[3,10943,3,10950],[3,10951,3,10958],[3,10959,3,10966],[3,10967,3,10974],[3,10895,3,10902],[3,10903,3,10910],[3,10911,3,10918],[3,10919,3,10926],[3,10927,3,10934],[3,10855,3,10862],[3,10863,3,10870],[3,10871,3,10878],[3,10879,3,10886],[3,10887,3,10894],[3,10815,3,10822],[3,10823,3,10830],[3,10831,3,10838],[3,10839,3,10846],[3,10847,3,10854],[3,10775,3,10782],[3,10783,3,10790],[3,10791,3,10798],[3,10799,3,10806],[3,10807,3,10814],[3,10735,3,10742],[3,10743,3,10750],[3,10751,3,10758],[3,10759,3,10766],[3,10767,3,10774],[3,10695,3,10702],[3,10703,3,10710],[3,10711,3,10718],[3,10719,3,10726],[3,10727,3,10734],[3,10655,3,10662],[3,10663,3,10670],[3,10671,3,10678],[3,10679,3,10686],[3,10687,3,10694],[3,10615,3,10622],[3,10623,3,10630],[3,10631,3,10638],[3,10639,3,10646],[3,10647,3,10654],[3,10575,3,10582],[3,10583,3,10590],[3,10591,3,10598],[3,10599,3,10606],[3,10607,3,10614],[3,10535,3,10542],[3,10543,3,10550],[3,10551,3,10558],[3,10559,3,10566],[3,10567,3,10574],[3,10495,3,10502],[3,10503,3,10510],[3,10511,3,10518],[3,10519,3,10526],[3,10527,3,10534],[3,10455,3,10462],[3,10463,3,10470],[3,10471,3,10478],[3,10479,3,10486],[3,10487,3,10494],[3,10415,3,10422],[3,10423,3,10430],[3,10431,3,10438],[3,10439,3,10446],[3,10447,3,10454],[3,10375,3,10382],[3,10383,3,10390],[3,10391,3,10398],[3,10399,3,10406],[3,10407,3,10414],[3,10335,3,10342],[3,10343,3,10350],[3,10351,3,10358],[3,10359,3,10366],[3,10367,3,10374],[3,10295,3,10302],[3,10303,3,10310],[3,10311,3,10318],[3,10319,3,10326],[3,10327,3,10334],[3,10255,3,10262],[3,10263,3,10270],[3,10271,3,10278],[3,10279,3,10286],[3,10287,3,10294],[3,10215,3,10222],[3,10223,3,10230],[3,10231,3,10238],[3,10239,3,10246],[3,10247,3,10254],[3,10175,3,10182],[3,10183,3,10190],[3,10191,3,10198],[3,10199,3,10206],[3,10207,3,10214],[3,10135,3,10142],[3,10143,3,10150],[3,10151,3,10158],[3,10159,3,10166],[3,10167,3,10174],[3,10095,3,10102],[3,10103,3,10110],[3,10111,3,10118],[3,10119,3,10126],[3,10127,3,10134],[3,10055,3,10062],[3,10063,3,10070],[3,10071,3,10078],[3,10079,3,10086],[3,10087,3,10094],[3,10015,3,10022],[3,10023,3,10030],[3,10031,3,10038],[3,10039,3,10046],[3,10047,3,10054],[3,9975,3,9982],[3,9983,3,9990],[3,9991,3,9998],[3,9999,3,10006],[3,10007,3,10014],[3,9935,3,9942],[3,9943,3,9950],[3,9951,3,9958],[3,9959,3,9966],[3,9967,3,9974],[3,9895,3,9902],[3,9903,3,9910],[3,9911,3,9918],[3,9919,3,9926],[3,9927,3,9934],[3,9855,3,9862],[3,9863,3,9870],[3,9871,3,9878],[3,9879,3,9886],[3,9887,3,9894],[3,9815,3,9822],[3,9823,3,9830],[3,9831,3,9838],[3,9839,3,9846],[3,9847,3,9854],[3,9775,3,9782],[3,9783,3,9790],[3,9791,3,9798],[3,9799,3,9806],[3,9807,3,9814],[3,9735,3,9742],[3,9743,3,9750],[3,9751,3,9758],[3,9759,3,9766],[3,9767,3,9774],[3,9695,3,9702],[3,9703,3,9710],[3,9711,3,9718],[3,9719,3,9726],[3,9727,3,9734],[3,9655,3,9662],[3,9663,3,9670],[3,9671,3,9678],[3,9679,3,9686],[3,9687,3,9694],[3,9615,3,9622],[3,9623,3,9630],[3,9631,3,9638],[3,9639,3,9646],[3,9647,3,9654],[3,9575,3,9582],[3,9583,3,9590],[3,9591,3,9598],[3,9599,3,9606],[3,9607,3,9614],[3,9535,3,9542],[3,9543,3,9550],[3,9551,3,9558],[3,9559,3,9566],[3,9567,3,9574],[3,9495,3,9502],[3,9503,3,9510],[3,9511,3,9518],[3,9519,3,9526],[3,9527,3,9534],[3,9455,3,9462],[3,9463,3,9470],[3,9471,3,9478],[3,9479,3,9486],[3,9487,3,9494],[3,9415,3,9422],[3,9423,3,9430],[3,9431,3,9438],[3,9439,3,9446],[3,9447,3,9454],[3,9375,3,9382],[3,9383,3,9390],[3,9391,3,9398],[3,9399,3,9406],[3,9407,3,9414],[3,9335,3,9342],[3,9343,3,9350],[3,9351,3,9358],[3,9359,3,9366],[3,9367,3,9374],[3,9295,3,9302],[3,9303,3,9310],[3,9311,3,9318],[3,9319,3,9326],[3,9327,3,9334],[3,9255,3,9262],[3,9263,3,9270],[3,9271,3,9278],[3,9279,3,9286],[3,9287,3,9294],[3,9215,3,9222],[3,9223,3,9230],[3,9231,3,9238],[3,9239,3,9246],[3,9247,3,9254],[3,9175,3,9182],[3,9183,3,9190],[3,9191,3,9198],[3,9199,3,9206],[3,9207,3,9214],[3,9135,3,9142],[3,9143,3,9150],[3,9151,3,9158],[3,9159,3,9166],[3,9167,3,9174],[3,9095,3,9102],[3,9103,3,9110],[3,9111,3,9118],[3,9119,3,9126],[3,9127,3,9134],[3,9055,3,9062],[3,9063,3,9070],[3,9071,3,9078],[3,9079,3,9086],[3,9087,3,9094],[3,9015,3,9022],[3,9023,3,9030],[3,9031,3,9038],[3,9039,3,9046],[3,9047,3,9054],[3,8975,3,8982],[3,8983,3,8990],[3,8991,3,8998],[3,8999,3,9006],[3,9007,3,9014],[3,8935,3,8942],[3,8943,3,8950],[3,8951,3,8958],[3,8959,3,8966],[3,8967,3,8974],[3,8895,3,8902],[3,8903,3,8910],[3,8911,3,8918],[3,8919,3,8926],[3,8927,3,8934],[3,8855,3,8862],[3,8863,3,8870],[3,8871,3,8878],[3,8879,3,8886],[3,8887,3,8894],[3,8815,3,8822],[3,8823,3,8830],[3,8831,3,8838],[3,8839,3,8846],[3,8847,3,8854],[3,8775,3,8782],[3,8783,3,8790],[3,8791,3,8798],[3,8799,3,8806],[3,8807,3,8814],[3,8735,3,8742],[3,8743,3,8750],[3,8751,3,8758],[3,8759,3,8766],[3,8767,3,8774],[3,8695,3,8702],[3,8703,3,8710],[3,8711,3,8718],[3,8719,3,8726],[3,8727,3,8734],[3,8655,3,8662],[3,8663,3,8670],[3,8671,3,8678],[3,8679,3,8686],[3,8687,3,8694],[3,8615,3,8622],[3,8623,3,8630],[3,8631,3,8638],[3,8639,3,8646],[3,8647,3,8654],[3,8575,3,8582],[3,8583,3,8590],[3,8591,3,8598],[3,8599,3,8606],[3,8607,3,8614],[3,8535,3,8542],[3,8543,3,8550],[3,8551,3,8558],[3,8559,3,8566],[3,8567,3,8574],[3,8495,3,8502],[3,8503,3,8510],[3,8511,3,8518],[3,8519,3,8526],[3,8527,3,8534],[3,8455,3,8462],[3,8463,3,8470],[3,8471,3,8478],[3,8479,3,8486],[3,8487,3,8494],[3,8415,3,8422],[3,8423,3,8430],[3,8431,3,8438],[3,8439,3,8446],[3,8447,3,8454],[3,8375,3,8382],[3,8383,3,8390],[3,8391,3,8398]],"merged_total":2060,"flags":["merged_cut"]}
[]
["Услуги непроизводственного характера, связанные с передачей электрической энергии"]
[]
[{"$f":"'Инф-я'!C13","v":"ООО \"Энергетик\""}]
[]
["Показатели","2017 год ",null,"2018 год ",null,"2019 год ",null,"2020 год ",null,"2017 год","2018 год"]
[null,"Утвержденные"," Факт","Утвержденные"," Факт","Утвержденные","Ожидаемые","По данным организации","По данным экспертов","Факт по расчету экспертов","Факт по расчету экспертов"]
[1,2,3,4,5,6,7,8,9,10,11]
["Услуги связи","х",{"$f":"SUM(C10:C14)","v":137.29300000000001},"х",{"$f":"SUM(E10:E14)","v":146.13900000000001},"х",151.98455999999999,158.06394240000003,{"$f":"SUM(I10:I15)","v":0},{"$f":"SUM(J10:J15)","v":0},0]
["договор  с ООО \"Телеком Сервис_____ от_____№  __ на_________","х",2.2200000000000002,"х",3.2149999999999999,"х",{"$f":"E10*1.04","v":3.3435999999999999},{"$f":"G10*1.04","v":3.477344}]
["договор  с ООО \"Инфокар\" от_____№  __ на_________","х",54,"х",54,"х",{"$f":"E11*1.04","v":56.160000000000004},{"$f":"G11*1.04","v":58.406400000000005}]
["договор  с ООО \"Новосистем\" от_____№  __ на_________","х",38.975000000000001,"х",32.506999999999998,"х",33.807279999999999,35.159571200000002]
["договор  с ПАО \"Ростелеком\" от_____№  __ на_________","х",37.542999999999999,"х",34.204000000000001,"х",35.572160000000004,36.995046400000007]
["договор  с  УФ ПАО \"Мегафон\" от_____№  __ на_________","х",4.5549999999999997,"х",22.213000000000001,"х",23.101520000000001,24.0255808]
["Добавить"]
["Услуги по охране помещений","х",{"$f":"SUM(C17:C18)","v":0},"х",{"$f":"SUM(E17:E18)","v":0},"х",0,0,{"$f":"SUM(I17:I19)","v":0},{"$f":"SUM(J17:J19)","v":0},0]
["договор  с _____ от_____№  __ на_________","х",null,"х",null,"х"]
["договор  с _____ от_____№  __ на_________","х",null,"х",null,"х"]
["Добавить"]
["Юридические и информационные услуги","х",{"$f":"SUM(C21:C22)","v":304.5},"х",{"$f":"SUM(E21:E22)","v":635.5},"х",{"$f":"SUM(G21:G22)","v":660.92000000000007},687.35680000000013,{"$f":"SUM(I21:I22)","v":0},{"$f":"SUM(J21:J22)","v":0},0]
["договор  с ООО \"Лига Оптима\"от_____№  __ на_________","х",296.5,"х",635.5,"х",{"$f":"E21*1.04","v":660.92000000000007},{"$f":"G21*1.04","v":687.35680000000013}]
["договор  с ООО \"Графика\"_____ от_____№  __ на_________","х",8,"х",null,"х"]
["Аудиторские и консультационные услуги","х",{"$f":"SUM(C24:C27)","v":1721.828},"х",{"$f":"SUM(E24:E27)","v":1632},"х",{"$f":"SUM(G24:G27)","v":1710.3200000000002},{"$f":"SUM(H24:H27)","v":1778.6768000000002},0,{"$f":"SUM(J24:J27)","v":0},0]
["договор  с ООО \"Анит-Аудит\" от_____№  __ на_________","х",80,"х",80,"х",83.2,86.5]
["договор  с ООО ФГУ \"Владимирэнерго\" от_____№  __ на_________","х",1600,"х",1523,"х",{"$f":"E25*1.04","v":1583.92},{"$f":"G25*1.04","v":1647.2768000000001}]
["договор  с ООО \"Креол\"от_____№  __ на_________","х",41.828000000000003,"х",29,"х",43.2,44.9]
[null,"х",null,"х",null,"х"]
["Добавить"]
["Электрическая энергия на хозяйственные нужды","х",{"$f":"SUM(C30:C35)","v":154.17500000000001},"х",{"$f":"SUM(E30:E35)","v":142.99700000000001},"х",{"$f":"SUM(G30:G35)","v":156},{"$f":"SUM(H30:H35)","v":162.19999999999999},0,{"$f":"SUM(J30:J35)","v":0},0]
["договор  с ООО \"Владимирэнергосбыт\" от_____№  __ на_________","х",76.113,"х",null,"х"]
["договор  с ПАО \"МРСК Центра и Приволжья\" Филиал \"Владимирэнерго\" от_____№  __ на_________","х",78.061999999999998,"х",42.804000000000002,"х"]
["договор  сООО \"ЭСВ\" от_____№  __ на_________","х",null,"х",100.193,"х",156,162.19999999999999]
["договор  с _____ от_____№  __ на_________","х",null,"х",null,"х"]
["договор  с _____ от_____№  __ на_________","х",null,"х",null,"х"]
["договор  с _____ от_____№  __ на_________","х",null,"х",null,"х"]
["Прочие услуги непроизводственного характера","х",{"$f":"SUM(C37:C42)","v":97.731000000000009},"х",{"$f":"SUM(E37:E42)","v":140.89999999999998},"х",{"$f":"SUM(G37:G42)","v":146.5},{"$f":"SUM(H37:H42)","v":152.4},{"$f":"SUM(I37:I43)","v":0},{"$f":"SUM(J37:J43)","v":0},{"$f":"SUM(K37:K43)","v":0}]
["договор  с ООО \"Техкадастр\" на присвоение кадастрового номера","х",20.7,"х",null,"х"]
["договор  с ООО \"Медиа-КП\"_____ от_____№  __ на_________","х",12,"х",null,"х"]
["договор  с ООО \"АиФ Владимир\" от_____№  __ на_________","х",29.475000000000001,"х",77.7,"х",80.8,84]
["договор  с ООО \"КоммерсантЭксперт\"от_____№  __ на_________","х",17.556000000000001,"х",null,"х"]
["договор  с ООО \"Новый Мир\"от_____№  __ на_________","х",18,"х",62,"х",64.5,67.099999999999994]
["договор  с ООО \"Голос труда\"от_____№  __ на_________","х",null,"х",1.2,"х",1.2,1.3]
["Добавить"]
["ИТОГО услуги непроизводственного характера",{"$f":"'Подконтрольные расходы'!F22","v":553.25657889385661},{"$f":"C9+C16+C20+C36+C23+C29","v":2415.527},{"$f":"'Подконтрольные расходы'!H22","v":584.01952882957153},{"$f":"E9+E16+E20+E36+E23+E29","v":2697.5359999999996},{"$f":"'Подконтрольные расходы'!J22","v":606.68475827863313},{"$f":"G9+G16+G20+G36+G23+G29","v":2825.7245600000001},2938.6975424000002,0,0,0]
[]
["Руководитель организации",null,null,{"$f":"'Инф-я'!$C$21","v":"Окунев Василий Михайлович"}]

{"sheet":"Страхов","index":14,"n_rows":28,"n_cols":11,"rows_kept":28,"cut":false,"hidden":false,"merged":[[20,0,20,10],[24,0,24,10],[27,3,27,5],[0,6,0,7],[1,0,1,7],[3,0,3,7],[5,0,6,0],[5,1,5,2],[5,3,5,4],[5,5,5,6],[5,7,5,8],[12,0,12,10],[16,0,16,10]]}
[]
["Расходы на страхование "]
[]
[{"$f":"'Инф-я'!C13","v":"ООО \"Энергетик\""}]
[]
["Показатели","2017 год ",null,"2018 год ",null,"2019 год ",null,"2020 год ",null,"2017 год","2018 год"]
[null,"Утвержденные"," Факт","Утвержденные"," Факт","Утвержденные","Ожидаемые","По данным организации","По данным экспертов","Факт по расчету экспертов","Факт по расчету экспертов"]
[1,2,3,4,5,6,7,8,9,10,11]
["Страхование имущества","х",{"$f":"SUM(C10:C12)","v":25.774999999999999},"х",0,"х",{"$f":"SUM(G10:G12)","v":0},{"$f":"SUM(H10:H12)","v":0},{"$f":"SUM(I10:I13)","v":0},{"$f":"SUM(J10:J13)","v":0},0]
["договор  с Росгосстрах от_____№  __ ","х",25.774999999999999,"х",null,"х"]
["договор  с _____ от_____№  __ ","х",null,"х",null,"х"]
["договор  с _____ от_____№  __ ","х",null,"х",null,"х"]
["Добавить"]
["Страхование работников от несчастных случаев","х",{"$f":"SUM(C15:C16)","v":0},"х",0,"х",{"$f":"SUM(G15:G16)","v":0},{"$f":"SUM(H15:H16)","v":0},{"$f":"SUM(I15:I16)","v":0},{"$f":"SUM(J15:J16)","v":0},0]
["договор  с _____ от_____№  __ ","х",null,"х",null,"х"]
["договор  с _____ от_____№  __ ","х",null,"х",null,"х"]
["Добавить"]
["Страхование гражданской ответственности владельцев транспортных средств","х",{"$f":"SUM(C19:C20)","v":0},"х",0,"х",{"$f":"SUM(G19:G20)","v":0},{"$f":"SUM(H19:H20)","v":0},{"$f":"SUM(I19:I21)","v":0},{"$f":"SUM(J19:J21)","v":0},0]
["Данные полиса","х",null,"х",null,"х"]
["Данные полиса","х",null,"х",null,"х"]
["Добавить"]
["Другие виды страхования","х",{"$f":"SUM(C23:C24)","v":0},"х",0,"х",{"$f":"SUM(G23:G24)","v":0},{"$f":"SUM(H23:H24)","v":0},{"$f":"SUM(I23:I25)","v":0},{"$f":"SUM(J23:J25)","v":0},0]
["договор  с _____ от_____№  __ ","х",null,"х",null,"х"]
["договор  с _____ от_____№  __ ","х",null,"х",null,"х"]
["Добавить"]
["ИТОГО расходы на страхование",{"$f":"'Подконтрольные расходы'!F26","v":0},{"$f":"C9+C14+C18+C22","v":25.774999999999999},{"$f":"'Подконтрольные расходы'!H26","v":0},{"$f":"E9+E14+E18+E22","v":0},{"$f":"'Подконтрольные расходы'!J26","v":0},{"$f":"G9+G14+G18+G22","v":0},0,0,0,0]
[]
["Руководитель организации",null,null,{"$f":"'Инф-я'!$C$21","v":"Окунев Василий Михайлович"}]

{"sheet":"Обуч","index":15,"n_rows":18,"n_cols":11,"rows_kept":18,"cut":false,"hidden":false,"merged":[[17,3,17,5],[1,0,1,7],[0,6,0,7],[3,0,3,7],[5,0,6,0],[5,1,5,2],[5,3,5,4],[5,5,5,6],[5,7,5,8],[14,0,14,10]]}
[]
["Расходы на обучение, подготовку и переподготовку кадров"]
[]
[{"$f":"'Инф-я'!C13","v":"ООО \"Энергетик\""}]
[]
["Показатели","2017 год ",null,"2018 год ",null,"2019 год ",null,"2020 год ",null,"2017 год","2018 год"]
[null,"Утвержденные"," Факт","Утвержденные"," Факт","Утвержденные","Ожидаемые","По данным организации","По данным экспертов","Факт по расчету экспертов","Факт по расчету экспертов"]
[1,2,3,4,5,6,7,8,9,10,11]
["договор  с ООО \"Стройресурс\" на обучение","х",11,"х",null,"х",null,15]
["договор  с ИП Дементьева Н.И.от_____№  __ на обучение","х",6.6,"х",6.25,"х",6.5,6.7]
["договор  с _____ от_____№  __ на_________","х",null,"х",null,"х",8]
["договор  с _____ от_____№  __ на_________","х",null,"х",null,"х"]
["договор  с _____ от_____№  __ на_________","х",null,"х",null,"х"]
["договор  с _____ от_____№  __ на_________","х",null,"х",null,"х"]
["Добавить"]
["ИТОГО расходы на обучение",{"$f":"'Подконтрольные расходы'!F25","v":99.258511147095945},{"$f":"SUM(C9:C14)","v":17.600000000000001},{"$f":"'Подконтрольные расходы'!H25","v":104.77762239782277},{"$f":"SUM(E9:E14)","v":6.25},{"$f":"'Подконтрольные расходы'!J25","v":108.84393993609606},{"$f":"SUM(G9:G14)","v":14.5},{"$f":"SUM(H9:H14)","v":21.7},{"$f":"SUM(I9:I14)","v":0},0,0]
[]
["Руководитель организации",null,null,{"$f":"'Инф-я'!$C$21","v":"Окунев Василий Михайлович"}]

{"sheet":"ОТ и ТБ","index":16,"n_rows":25,"n_cols":11,"rows_kept":25,"cut":false,"hidden":false,"merged":[[3,16375,3,16382],[24,3,24,5],[3,16335,3,16342],[3,16343,3,16350],[3,16351,3,16358],[3,16359,3,16366],[3,16367,3,16374],[3,16295,3,16302],[3,16303,3,16310],[3,16311,3,16318],[3,16319,3,16326],[3,16327,3,16334],[3,16255,3,16262],[3,16263,3,16270],[3,16271,3,16278],[3,16279,3,16286],[3,16287,3,16294],[3,16215,3,16222],[3,16223,3,16230],[3,16231,3,16238],[3,16239,3,16246],[3,16247,3,16254],[3,16175,3,16182],[3,16183,3,16190],[3,16191,3,16198],[3,16199,3,16206],[3,16207,3,16214],[3,16135,3,16142],[3,16143,3,16150],[3,16151,3,16158],[3,16159,3,16166],[3,16167,3,16174],[3,16095,3,16102],[3,16103,3,16110],[3,16111,3,16118],[3,16119,3,16126],[3,16127,3,16134],[3,16055,3,16062],[3,16063,3,16070],[3,16071,3,16078],[3,16079,3,16086],[3,16087,3,16094],[3,16015,3,16022],[3,16023,3,16030],[3,16031,3,16038],[3,16039,3,16046],[3,16047,3,16054],[3,15975,3,15982],[3,15983,3,15990],[3,15991,3,15998],[3,15999,3,16006],[3,16007,3,16014],[3,15935,3,15942],[3,15943,3,15950],[3,15951,3,15958],[3,15959,3,15966],[3,15967,3,15974],[3,15895,3,15902],[3,15903,3,15910],[3,15911,3,15918],[3,15919,3,15926],[3,15927,3,15934],[3,15855,3,15862],[3,15863,3,15870],[3,15871,3,15878],[3,15879,3,15886],[3,15887,3,15894],[3,15815,3,15822],[3,15823,3,15830],[3,15831,3,15838],[3,15839,3,15846],[3,15847,3,15854],[3,15775,3,15782],[3,15783,3,15790],[3,15791,3,15798],[3,15799,3,15806],[3,15807,3,15814],[3,15735,3,15742],[3,15743,3,15750],[3,15751,3,15758],[3,15759,3,15766],[3,15767,3,15774],[3,15695,3,15702],[3,15703,3,15710],[3,15711,3,15718],[3,15719,3,15726],[3,15727,3,15734],[3,15655,3,15662],[3,15663,3,15670],[3,15671,3,15678],[3,15679,3,15686],[3,15687,3,15694],[3,15615,3,15622],[3,15623,3,15630],[3,15631,3,15638],[3,15639,3,15646],[3,15647,3,15654],[3,15575,3,15582],[3,15583,3,15590],[3,15591,3,15598],[3,15599,3,15606],[3,15607,3,15614],[3,15535,3,15542],[3,15543,3,15550],[3,15551,3,15558],[3,15559,3,15566],[3,15567,3,15574],[3,15495,3,15502],[3,15503,3,15510],[3,15511,3,15518],[3,15519,3,15526],[3,15527,3,15534],[3,15455,3,15462],[3,15463,3,15470],[3,15471,3,15478],[3,15479,3,15486],[3,15487,3,15494],[3,15415,3,15422],[3,15423,3,15430],[3,15431,3,15438],[3,15439,3,15446],[3,15447,3,15454],[3,15375,3,15382],[3,15383,3,15390],[3,15391,3,15398],[3,15399,3,15406],[3,15407,3,15414],[3,15335,3,15342],[3,15343,3,15350],[3,15351,3,15358],[3,15359,3,15366],[3,15367,3,15374],[3,15295,3,15302],[3,15303,3,15310],[3,15311,3,15318],[3,15319,3,15326],[3,15327,3,15334],[3,15255,3,15262],[3,15263,3,15270],[3,15271,3,15278],[3,15279,3,15286],[3,15287,3,15294],[3,15215,3,15222],[3,15223,3,15230],[3,15231,3,15238],[3,15239,3,15246],[3,15247,3,15254],[3,15175,3,15182],[3,15183,3,15190],[3,15191,3,15198],[3,15199,3,15206],[3,15207,3,15214],[3,15135,3,15142],[3,15143,3,15150],[3,15151,3,15158],[3,15159,3,15166],[3,15167,3,15174],[3,15095,3,15102],[3,15103,3,15110],[3,15111,3,15118],[3,15119,3,15126],[3,15127,3,15134],[3,15055,3,15062],[3,15063,3,15070],[3,15071,3,15078],[3,15079,3,15086],[3,15087,3,15094],[3,15015,3,15022],[3,15023,3,15030],[3,15031,3,15038],[3,15039,3,15046],[3,15047,3,15054],[3,14975,3,14982],[3,14983,3,14990],[3,14991,3,14998],[3,14999,3,15006],[3,15007,3,15014],[3,14935,3,14942],[3,14943,3,14950],[3,14951,3,14958],[3,14959,3,14966],[3,14967,3,14974],[3,14895,3,14902],[3,14903,3,14910],[3,14911,3,14918],[3,14919,3,14926],[3,14927,3,14934],[3,14855,3,14862],[3,14863,3,14870],[3,14871,3,14878],[3,14879,3,14886],[3,14887,3,14894],[3,14815,3,14822],[3,14823,3,14830],[3,14831,3,14838],[3,14839,3,14846],[3,14847,3,14854],[3,14775,3,14782],[3,14783,3,14790],[3,14791,3,14798],[3,14799,3,14806],[3,14807,3,14814],[3,14735,3,14742],[3,14743,3,14750],[3,14751,3,14758],[3,14759,3,14766],[3,14767,3,14774],[3,14695,3,14702],[3,14703,3,14710],[3,14711,3,14718],[3,14719,3,14726],[3,14727,3,14734],[3,14655,3,14662],[3,14663,3,14670],[3,14671,3,14678],[3,14679,3,14686],[3,14687,3,14694],[3,14615,3,14622],[3,14623,3,14630],[3,14631,3,14638],[3,14639,3,14646],[3,14647,3,14654],[3,14575,3,14582],[3,14583,3,14590],[3,14591,3,14598],[3,14599,3,14606],[3,14607,3,14614],[3,14535,3,14542],[3,14543,3,14550],[3,14551,3,14558],[3,14559,3,14566],[3,14567,3,14574],[3,14495,3,14502],[3,14503,3,14510],[3,14511,3,14518],[3,14519,3,14526],[3,14527,3,14534],[3,14455,3,14462],[3,14463,3,14470],[3,14471,3,14478],[3,14479,3,14486],[3,14487,3,14494],[3,14415,3,14422],[3,14423,3,14430],[3,14431,3,14438],[3,14439,3,14446],[3,14447,3,14454],[3,14375,3,14382],[3,14383,3,14390],[3,14391,3,14398],[3,14399,3,14406],[3,14407,3,14414],[3,14335,3,14342],[3,14343,3,14350],[3,14351,3,14358],[3,14359,3,14366],[3,14367,3,14374],[3,14295,3,14302],[3,14303,3,14310],[3,14311,3,14318],[3,14319,3,14326],[3,14327,3,14334],[3,14255,3,14262],[3,14263,3,14270],[3,14271,3,14278],[3,14279,3,14286],[3,14287,3,14294],[3,14215,3,14222],[3,14223,3,14230],[3,14231,3,14238],[3,14239,3,14246],[3,14247,3,14254],[3,14175,3,14182],[3,14183,3,14190],[3,14191,3,14198],[3,14199,3,14206],[3,14207,3,14214],[3,14135,3,14142],[3,14143,3,14150],[3,14151,3,14158],[3,14159,3,14166],[3,14167,3,14174],[3,14095,3,14102],[3,14103,3,14110],[3,14111,3,14118],[3,14119,3,14126],[3,14127,3,14134],[3,14055,3,14062],[3,14063,3,14070],[3,14071,3,14078],[3,14079,3,14086],[3,14087,3,14094],[3,14015,3,14022],[3,14023,3,14030],[3,14031,3,14038],[3,14039,3,14046],[3,14047,3,14054],[3,13975,3,13982],[3,13983,3,13990],[3,13991,3,13998],[3,13999,3,14006],[3,14007,3,14014],[3,13935,3,13942],[3,13943,3,13950],[3,13951,3,13958],[3,13959,3,13966],[3,13967,3,13974],[3,13895,3,13902],[3,13903,3,13910],[3,13911,3,13918],[3,13919,3,13926],[3,13927,3,13934],[3,13855,3,13862],[3,13863,3,13870],[3,13871,3,13878],[3,13879,3,13886],[3,13887,3,13894],[3,13815,3,13822],[3,13823,3,13830],[3,13831,3,13838],[3,13839,3,13846],[3,13847,3,13854],[3,13775,3,13782],[3,13783,3,13790],[3,13791,3,13798],[3,13799,3,13806],[3,13807,3,13814],[3,13735,3,13742],[3,13743,3,13750],[3,13751,3,13758],[3,13759,3,13766],[3,13767,3,13774],[3,13695,3,13702],[3,13703,3,13710],[3,13711,3,13718],[3,13719,3,13726],[3,13727,3,13734],[3,13655,3,13662],[3,13663,3,13670],[3,13671,3,13678],[3,13679,3,13686],[3,13687,3,13694],[3,13615,3,13622],[3,13623,3,13630],[3,13631,3,13638],[3,13639,3,13646],[3,13647,3,13654],[3,13575,3,13582],[3,13583,3,13590],[3,13591,3,13598],[3,13599,3,13606],[3,13607,3,13614],[3,13535,3,13542],[3,13543,3,13550],[3,13551,3,13558],[3,13559,3,13566],[3,13567,3,13574],[3,13495,3,13502],[3,13503,3,13510],[3,13511,3,13518],[3,13519,3,13526],[3,13527,3,13534],[3,13455,3,13462],[3,13463,3,13470],[3,13471,3,13478],[3,13479,3,13486],[3,13487,3,13494],[3,13415,3,13422],[3,13423,3,13430],[3,13431,3,13438],[3,13439,3,13446],[3,13447,3,13454],[3,13375,3,13382],[3,13383,3,13390],[3,13391,3,13398],[3,13399,3,13406],[3,13407,3,13414],[3,13335,3,13342],[3,13343,3,13350],[3,13351,3,13358],[3,13359,3,13366],[3,13367,3,13374],[3,13295,3,13302],[3,13303,3,13310],[3,13311,3,13318],[3,13319,3,13326],[3,13327,3,13334],[3,13255,3,13262],[3,13263,3,13270],[3,13271,3,13278],[3,13279,3,13286],[3,13287,3,13294],[3,13215,3,13222],[3,13223,3,13230],[3,13231,3,13238],[3,13239,3,13246],[3,13247,3,13254],[3,13175,3,13182],[3,13183,3,13190],[3,13191,3,13198],[3,13199,3,13206],[3,13207,3,13214],[3,13135,3,13142],[3,13143,3,13150],[3,13151,3,13158],[3,13159,3,13166],[3,13167,3,13174],[3,13095,3,13102],[3,13103,3,13110],[3,13111,3,13118],[3,13119,3,13126],[3,13127,3,13134],[3,13055,3,13062],[3,13063,3,13070],[3,13071,3,13078],[3,13079,3,13086],[3,13087,3,13094],[3,13015,3,13022],[3,13023,3,13030],[3,13031,3,13038],[3,13039,3,13046],[3,13047,3,13054],[3,12975,3,12982],[3,12983,3,12990],[3,12991,3,12998],[3,12999,3,13006],[3,13007,3,13014],[3,12935,3,12942],[3,12943,3,12950],[3,12951,3,12958],[3,12959,3,12966],[3,12967,3,12974],[3,12895,3,12902],[3,12903,3,12910],[3,12911,3,12918],[3,12919,3,12926],[3,12927,3,12934],[3,12855,3,12862],[3,12863,3,12870],[3,12871,3,12878],[3,12879,3,12886],[3,12887,3,12894],[3,12815,3,12822],[3,12823,3,12830],[3,12831,3,12838],[3,12839,3,12846],[3,12847,3,12854],[3,12775,3,12782],[3,12783,3,12790],[3,12791,3,12798],[3,12799,3,12806],[3,12807,3,12814],[3,12735,3,12742],[3,12743,3,12750],[3,12751,3,12758],[3,12759,3,12766],[3,12767,3,12774],[3,12695,3,12702],[3,12703,3,12710],[3,12711,3,12718],[3,12719,3,12726],[3,12727,3,12734],[3,12655,3,12662],[3,12663,3,12670],[3,12671,3,12678],[3,12679,3,12686],[3,12687,3,12694],[3,12615,3,12622],[3,12623,3,12630],[3,12631,3,12638],[3,12639,3,12646],[3,12647,3,12654],[3,12575,3,12582],[3,12583,3,12590],[3,12591,3,12598],[3,12599,3,12606],[3,12607,3,12614],[3,12535,3,12542],[3,12543,3,12550],[3,12551,3,12558],[3,12559,3,12566],[3,12567,3,12574],[3,12495,3,12502],[3,12503,3,12510],[3,12511,3,12518],[3,12519,3,12526],[3,12527,3,12534],[3,12455,3,12462],[3,12463,3,12470],[3,12471,3,12478],[3,12479,3,12486],[3,12487,3,12494],[3,12415,3,12422],[3,12423,3,12430],[3,12431,3,12438],[3,12439,3,12446],[3,12447,3,12454],[3,12375,3,12382],[3,12383,3,12390],[3,12391,3,12398],[3,12399,3,12406],[3,12407,3,12414],[3,12335,3,12342],[3,12343,3,12350],[3,12351,3,12358],[3,12359,3,12366],[3,12367,3,12374],[3,12295,3,12302],[3,12303,3,12310],[3,12311,3,12318],[3,12319,3,12326],[3,12327,3,12334],[3,12255,3,12262],[3,12263,3,12270],[3,12271,3,12278],[3,12279,3,12286],[3,12287,3,12294],[3,12215,3,12222],[3,12223,3,12230],[3,12231,3,12238],[3,12239,3,12246],[3,12247,3,12254],[3,12175,3,12182],[3,12183,3,12190],[3,12191,3,12198],[3,12199,3,12206],[3,12207,3,12214],[3,12135,3,12142],[3,12143,3,12150],[3,12151,3,12158],[3,12159,3,12166],[3,12167,3,12174],[3,12095,3,12102],[3,12103,3,12110],[3,12111,3,12118],[3,12119,3,12126],[3,12127,3,12134],[3,12055,3,12062],[3,12063,3,12070],[3,12071,3,12078],[3,12079,3,12086],[3,12087,3,12094],[3,12015,3,12022],[3,12023,3,12030],[3,12031,3,12038],[3,12039,3,12046],[3,12047,3,12054],[3,11975,3,11982],[3,11983,3,11990],[3,11991,3,11998],[3,11999,3,12006],[3,12007,3,12014],[3,11935,3,11942],[3,11943,3,11950],[3,11951,3,11958],[3,11959,3,11966],[3,11967,3,11974],[3,11895,3,11902],[3,11903,3,11910],[3,11911,3,11918],[3,11919,3,11926],[3,11927,3,11934],[3,11855,3,11862],[3,11863,3,11870],[3,11871,3,11878],[3,11879,3,11886],[3,11887,3,11894],[3,11815,3,11822],[3,11823,3,11830],[3,11831,3,11838],[3,11839,3,11846],[3,11847,3,11854],[3,11775,3,11782],[3,11783,3,11790],[3,11791,3,11798],[3,11799,3,11806],[3,11807,3,11814],[3,11735,3,11742],[3,11743,3,11750],[3,11751,3,11758],[3,11759,3,11766],[3,11767,3,11774],[3,11695,3,11702],[3,11703,3,11710],[3,11711,3,11718],[3,11719,3,11726],[3,11727,3,11734],[3,11655,3,11662],[3,11663,3,11670],[3,11671,3,11678],[3,11679,3,11686],[3,11687,3,11694],[3,11615,3,11622],[3,11623,3,11630],[3,11631,3,11638],[3,11639,3,11646],[3,11647,3,11654],[3,11575,3,11582],[3,11583,3,11590],[3,11591,3,11598],[3,11599,3,11606],[3,11607,3,11614],[3,11535,3,11542],[3,11543,3,11550],[3,11551,3,11558],[3,11559,3,11566],[3,11567,3,11574],[3,11495,3,11502],[3,11503,3,11510],[3,11511,3,11518],[3,11519,3,11526],[3,11527,3,11534],[3,11455,3,11462],[3,11463,3,11470],[3,11471,3,11478],[3,11479,3,11486],[3,11487,3,11494],[3,11415,3,11422],[3,11423,3,11430],[3,11431,3,11438],[3,11439,3,11446],[3,11447,3,11454],[3,11375,3,11382],[3,11383,3,11390],[3,11391,3,11398],[3,11399,3,11406],[3,11407,3,11414],[3,11335,3,11342],[3,11343,3,11350],[3,11351,3,11358],[3,11359,3,11366],[3,11367,3,11374],[3,11295,3,11302],[3,11303,3,11310],[3,11311,3,11318],[3,11319,3,11326],[3,11327,3,11334],[3,11255,3,11262],[3,11263,3,11270],[3,11271,3,11278],[3,11279,3,11286],[3,11287,3,11294],[3,11215,3,11222],[3,11223,3,11230],[3,11231,3,11238],[3,11239,3,11246],[3,11247,3,11254],[3,11175,3,11182],[3,11183,3,11190],[3,11191,3,11198],[3,11199,3,11206],[3,11207,3,11214],[3,11135,3,11142],[3,11143,3,11150],[3,11151,3,11158],[3,11159,3,11166],[3,11167,3,11174],[3,11095,3,11102],[3,11103,3,11110],[3,11111,3,11118],[3,11119,3,11126],[3,11127,3,11134],[3,11055,3,11062],[3,11063,3,11070],[3,11071,3,11078],[3,11079,3,11086],[3,11087,3,11094],[3,11015,3,11022],[3,11023,3,11030],[3,11031,3,11038],[3,11039,3,11046],[3,11047,3,11054],[3,10975,3,10982],[3,10983,3,10990],[3,10991,3,10998],[3,10999,3,11006],[3,11007,3,11014],[3,10935,3,10942],[3,10943,3,10950],[3,10951,3,10958],[3,10959,3,10966],[3,10967,3,10974],[3,10895,3,10902],[3,10903,3,10910],[3,10911,3,10918],[3,10919,3,10926],[3,10927,3,10934],[3,10855,3,10862],[3,10863,3,10870],[3,10871,3,10878],[3,10879,3,10886],[3,10887,3,10894],[3,10815,3,10822],[3,10823,3,10830],[3,10831,3,10838],[3,10839,3,10846],[3,10847,3,10854],[3,10775,3,10782],[3,10783,3,10790],[3,10791,3,10798],[3,10799,3,10806],[3,10807,3,10814],[3,10735,3,10742],[3,10743,3,10750],[3,10751,3,10758],[3,10759,3,10766],[3,10767,3,10774],[3,10695,3,10702],[3,10703,3,10710],[3,10711,3,10718],[3,10719,3,10726],[3,10727,3,10734],[3,10655,3,10662],[3,10663,3,10670],[3,10671,3,10678],[3,10679,3,10686],[3,10687,3,10694],[3,10615,3,10622],[3,10623,3,10630],[3,10631,3,10638],[3,10639,3,10646],[3,10647,3,10654],[3,10575,3,10582],[3,10583,3,10590],[3,10591,3,10598],[3,10599,3,10606],[3,10607,3,10614],[3,10535,3,10542],[3,10543,3,10550],[3,10551,3,10558],[3,10559,3,10566],[3,10567,3,10574],[3,10495,3,10502],[3,10503,3,10510],[3,10511,3,10518],[3,10519,3,10526],[3,10527,3,10534],[3,10455,3,10462],[3,10463,3,10470],[3,10471,3,10478],[3,10479,3,10486],[3,10487,3,10494],[3,10415,3,10422],[3,10423,3,10430],[3,10431,3,10438],[3,10439,3,10446],[3,10447,3,10454],[3,10375,3,10382],[3,10383,3,10390],[3,10391,3,10398],[3,10399,3,10406],[3,10407,3,10414],[3,10335,3,10342],[3,10343,3,10350],[3,10351,3,10358],[3,10359,3,10366],[3,10367,3,10374],[3,10295,3,10302],[3,10303,3,10310],[3,10311,3,10318],[3,10319,3,10326],[3,10327,3,10334],[3,10255,3,10262],[3,10263,3,10270],[3,10271,3,10278],[3,10279,3,10286],[3,10287,3,10294],[3,10215,3,10222],[3,10223,3,10230],[3,10231,3,10238],[3,10239,3,10246],[3,10247,3,10254],[3,10175,3,10182],[3,10183,3,10190],[3,10191,3,10198],[3,10199,3,10206],[3,10207,3,10214],[3,10135,3,10142],[3,10143,3,10150],[3,10151,3,10158],[3,10159,3,10166],[3,10167,3,10174],[3,10095,3,10102],[3,10103,3,10110],[3,10111,3,10118],[3,10119,3,10126],[3,10127,3,10134],[3,10055,3,10062],[3,10063,3,10070],[3,10071,3,10078],[3,10079,3,10086],[3,10087,3,10094],[3,10015,3,10022],[3,10023,3,10030],[3,10031,3,10038],[3,10039,3,10046],[3,10047,3,10054],[3,9975,3,9982],[3,9983,3,9990],[3,9991,3,9998],[3,9999,3,10006],[3,10007,3,10014],[3,9935,3,9942],[3,9943,3,9950],[3,9951,3,9958],[3,9959,3,9966],[3,9967,3,9974],[3,9895,3,9902],[3,9903,3,9910],[3,9911,3,9918],[3,9919,3,9926],[3,9927,3,9934],[3,9855,3,9862],[3,9863,3,9870],[3,9871,3,9878],[3,9879,3,9886],[3,9887,3,9894],[3,9815,3,9822],[3,9823,3,9830],[3,9831,3,9838],[3,9839,3,9846],[3,9847,3,9854],[3,9775,3,9782],[3,9783,3,9790],[3,9791,3,9798],[3,9799,3,9806],[3,9807,3,9814],[3,9735,3,9742],[3,9743,3,9750],[3,9751,3,9758],[3,9759,3,9766],[3,9767,3,9774],[3,9695,3,9702],[3,9703,3,9710],[3,9711,3,9718],[3,9719,3,9726],[3,9727,3,9734],[3,9655,3,9662],[3,9663,3,9670],[3,9671,3,9678],[3,9679,3,9686],[3,9687,3,9694],[3,9615,3,9622],[3,9623,3,9630],[3,9631,3,9638],[3,9639,3,9646],[3,9647,3,9654],[3,9575,3,9582],[3,9583,3,9590],[3,9591,3,9598],[3,9599,3,9606],[3,9607,3,9614],[3,9535,3,9542],[3,9543,3,9550],[3,9551,3,9558],[3,9559,3,9566],[3,9567,3,9574],[3,9495,3,9502],[3,9503,3,9510],[3,9511,3,9518],[3,9519,3,9526],[3,9527,3,9534],[3,9455,3,9462],[3,9463,3,9470],[3,9471,3,9478],[3,9479,3,9486],[3,9487,3,9494],[3,9415,3,9422],[3,9423,3,9430],[3,9431,3,9438],[3,9439,3,9446],[3,9447,3,9454],[3,9375,3,9382],[3,9383,3,9390],[3,9391,3,9398],[3,9399,3,9406],[3,9407,3,9414],[3,9335,3,9342],[3,9343,3,9350],[3,9351,3,9358],[3,9359,3,9366],[3,9367,3,9374],[3,9295,3,9302],[3,9303,3,9310],[3,9311,3,9318],[3,9319,3,9326],[3,9327,3,9334],[3,9255,3,9262],[3,9263,3,9270],[3,9271,3,9278],[3,9279,3,9286],[3,9287,3,9294],[3,9215,3,9222],[3,9223,3,9230],[3,9231,3,9238],[3,9239,3,9246],[3,9247,3,9254],[3,9175,3,9182],[3,9183,3,9190],[3,9191,3,9198],[3,9199,3,9206],[3,9207,3,9214],[3,9135,3,9142],[3,9143,3,9150],[3,9151,3,9158],[3,9159,3,9166],[3,9167,3,9174],[3,9095,3,9102],[3,9103,3,9110],[3,9111,3,9118],[3,9119,3,9126],[3,9127,3,9134],[3,9055,3,9062],[3,9063,3,9070],[3,9071,3,9078],[3,9079,3,9086],[3,9087,3,9094],[3,9015,3,9022],[3,9023,3,9030],[3,9031,3,9038],[3,9039,3,9046],[3,9047,3,9054],[3,8975,3,8982],[3,8983,3,8990],[3,8991,3,8998],[3,8999,3,9006],[3,9007,3,9014],[3,8935,3,8942],[3,8943,3,8950],[3,8951,3,8958],[3,8959,3,8966],[3,8967,3,8974],[3,8895,3,8902],[3,8903,3,8910],[3,8911,3,8918],[3,8919,3,8926],[3,8927,3,8934],[3,8855,3,8862],[3,8863,3,8870],[3,8871,3,8878],[3,8879,3,8886],[3,8887,3,8894],[3,8815,3,8822],[3,8823,3,8830],[3,8831,3,8838],[3,8839,3,8846],[3,8847,3,8854],[3,8775,3,8782],[3,8783,3,8790],[3,8791,3,8798],[3,8799,3,8806],[3,8807,3,8814],[3,8735,3,8742],[3,8743,3,8750],[3,8751,3,8758],[3,8759,3,8766],[3,8767,3,8774],[3,8695,3,8702],[3,8703,3,8710],[3,8711,3,8718],[3,8719,3,8726],[3,8727,3,8734],[3,8655,3,8662],[3,8663,3,8670],[3,8671,3,8678],[3,8679,3,8686],[3,8687,3,8694],[3,8615,3,8622],[3,8623,3,8630],[3,8631,3,8638],[3,8639,3,8646],[3,8647,3,8654],[3,8575,3,8582],[3,8583,3,8590],[3,8591,3,8598],[3,8599,3,8606],[3,8607,3,8614],[3,8535,3,8542],[3,8543,3,8550],[3,8551,3,8558],[3,8559,3,8566],[3,8567,3,8574],[3,8495,3,8502],[3,8503,3,8510],[3,8511,3,8518],[3,8519,3,8526],[3,8527,3,8534],[3,8455,3,8462],[3,8463,3,8470],[3,8471,3,8478],[3,8479,3,8486],[3,8487,3,8494],[3,8415,3,8422],[3,8423,3,8430],[3,8431,3,8438],[3,8439,3,8446],[3,8447,3,8454],[3,8375,3,8382],[3,8383,3,8390],[3,8391,3,8398]],"merged_total":2058,"flags":["merged_cut"]}
[]
["Расходы на обеспечение нормальных условий труда и техники безопасности"]
[]
[{"$f":"'Инф-я'!C13","v":"ООО \"Энергетик\""}]
[]
["Показатели","2017 год ",null,"2018 год ",null,"2019 год ",null,"2020 год ",null,"2017 год","2018 год"]
[null,"Утвержденные"," Факт","Утвержденные"," Факт","Утвержденные","Ожидаемые","По данным организации","По данным экспертов","Факт по расчету экспертов","Факт по расчету экспертов"]
[1,2,3,4,5,6,7,8,9,10,11]
["Спецпитание","х",null,"х",null,"х"]
["Средства индивидуальной защиты","х",43.1,"х",311.3,"х",50,320]
["Смывающие и обезвреживающие средства","х",null,"х",null,"х"]
["Медицинские осмотры","х",{"$f":"SUM(C13:C16)","v":0},"х",{"$f":"SUM(E13:E16)","v":0},"х",{"$f":"SUM(G13:G16)","v":0},{"$f":"SUM(H13:H16)","v":0},{"$f":"SUM(I13:I16)","v":0},{"$f":"SUM(J13:J16)","v":0},0]
["договор  с _____ от_____№  __ на_________","х",null,"х",null,"х"]
["договор  с _____ от_____№  __ на_________","х",null,"х",null,"х"]
["договор  с _____ от_____№  __ на_________","х",null,"х",null,"х"]
["договор  с _____ от_____№  __ на_________","х",null,"х",null,"х"]
["Добавить"]
["Прочие расходы на обеспечение нормальных условий труда и техники безопасности","х",{"$f":"SUM(C19:C21)","v":36},"х",{"$f":"SUM(E19:E21)","v":36},"х",42,42,{"$f":"SUM(I19:I22)","v":0},{"$f":"SUM(J19:J22)","v":0},0]
["договор  с ФГУП \"Профдезинсекция\" от 19.05.2016г. № 68 на дератизацию","х",36,"х",36,"х",42,42]
["договор  с _____ от_____№  __ на_________","х",null,"х",null,"х"]
["договор  с _____ от_____№  __ на_________","х",null,"х",null,"х"]
["Добавить"]
["ИТОГО расходы на обеспечение нормальных условий труда и техники безопасности",{"$f":"'Подконтрольные расходы'!F23","v":76.525838241451467},{"$f":"C9+C10+C11+C12+C18","v":79.099999999999994},{"$f":"'Подконтрольные расходы'!H23","v":80.780935461112435},{"$f":"E9+E10+E11+E12+E18","v":347.3},{"$f":"'Подконтрольные расходы'!J23","v":83.91596493693369},{"$f":"G9+G10+G11+G12+G18","v":92},{"$f":"H9+H10+H11+H12+H18","v":362},{"$f":"I9+I10+I11+I12+I18","v":0},{"$f":"J9+J10+J11+J12+J18","v":0},0]
[]
["Руководитель организации",null,null,{"$f":"'Инф-я'!$C$21","v":"Окунев Василий Михайлович"}]

{"sheet":"Команд","index":17,"n_rows":15,"n_cols":11,"rows_kept":15,"cut":false,"hidden":false,"merged":[[1,0,1,8],[0,7,0,8],[3,0,3,8],[14,3,14,5],[5,0,6,0],[5,1,5,2],[5,3,5,4],[5,5,5,6],[5,7,5,8]]}
[]
["Расходы на командировки"]
[]
[{"$f":"'Инф-я'!C13","v":"ООО \"Энергетик\""}]
[]
["Показатели","2017 год ",null,"2018 год ",null,"2019 год ",null,"2020 год ",null,"2017 год","2018 год"]
[null,"Утвержденные"," Факт","Утвержденные"," Факт","Утвержденные","Ожидаемые","По данным организации","По данным экспертов","Факт по расчету экспертов","Факт по расчету экспертов"]
[1,2,3,4,5,6,7,8,9,10,11]
[null,"х",null,"х",null,"х"]
[null,"х",null,"х",null,"х"]
[null,"х",null,"х",null,"х"]
[null,"х",null,"х",null,"х"]
["Итого расходы на командировки",{"$f":"'Подконтрольные расходы'!F24","v":0},{"$f":"SUM(C9:C12)","v":0},{"$f":"'Подконтрольные расходы'!H24","v":0},{"$f":"SUM(E9:E12)","v":0},{"$f":"'Подконтрольные расходы'!J24","v":0},0,0,0,0,0]
[]
["Руководитель организации",null,null,{"$f":"'Инф-я'!$C$21","v":"Окунев Василий Михайлович"}]

{"sheet":"Услуги банков","index":18,"n_rows":16,"n_cols":11,"rows_kept":16,"cut":false,"hidden":false,"merged":[[15,3,15,5],[0,9,0,10],[0,6,0,7],[1,0,1,7],[3,0,3,7],[5,0,6,0],[5,1,5,2],[5,3,5,4],[5,5,5,6],[5,7,5,8],[12,0,12,10]]}
[]
["Расходы на оплату услуг банков"]
[]
[{"$f":"'Инф-я'!C13","v":"ООО \"Энергетик\""}]
[]
["Показатели","2017 год ",null,"2018 год ",null,"2019 год ",null,"2020 год ",null,"2017 год","2018 год"]
[null,"Утвержденные"," Факт","Утвержденные"," Факт","Утвержденные","Ожидаемые","По данным организации","По данным экспертов","Факт по расчету экспертов","Факт по расчету экспертов"]
[1,2,3,4,5,6,7,8,9,10,11]
["договор  с ПАО Сбербанк от_____№  __ ","х",119.446,"х",63.808,"х",66.36,69.013999999999996]
["договор  с _____ от_____№  __ ","х",null,"х",null,"х"]
["договор  с _____ от_____№  __ ","х",null,"х",null,"х"]
["договор  с _____ от_____№  __ ","х",null,"х",null,"х"]
["Добавить"]
["ИТОГО расходы на оплату услуг банков",{"$f":"'Подконтрольные расходы'!F27","v":158.00595040373682},{"$f":"SUM(C9:C12)","v":119.446},{"$f":"'Подконтрольные расходы'!H27","v":166.79161934514087},63.808,{"$f":"'Подконтрольные расходы'!J27","v":173.26463974261691},66.36,69.013999999999996,0,0,0]
[]
["Руководитель организации",null,null,{"$f":"'Инф-я'!$C$21","v":"Окунев Василий Михайлович"}]

{"sheet":"Прочие ПР","index":19,"n_rows":16,"n_cols":11,"rows_kept":16,"cut":false,"hidden":false,"merged":[[15,3,15,5],[1,0,1,7],[0,9,0,10],[0,6,0,7],[3,0,3,7],[5,0,6,0],[5,1,5,2],[5,3,5,4],[5,5,5,6],[5,7,5,8],[12,0,12,10]]}
[]
["Прочие обоснованные  подконтрольные расходы, связанные с передачей электрической энергии "]
[]
[{"$f":"'Инф-я'!C13","v":"ООО \"Энергетик\""}]
[]
["Показатели","2017 год ",null,"2018 год ",null,"2019 год ",null,"2020 год ",null,"2017 год","2018 год"]
[null,"Утвержденные"," Факт","Утвержденные"," Факт","Утвержденные","Ожидаемые","По данным организации","По данным экспертов","Факт по расчету экспертов","Факт по расчету экспертов"]
[1,2,3,4,5,6,7,8,9,10,11]
[null,"х",null,"х",null,"х"]
[null,"х",null,"х",null,"х"]
[null,"х",null,"х",null,"х"]
[null,"х",null,"х",null,"х"]
["Добавить"]
["ИТОГО другие расходы, связанные с передачей электроэнергии",{"$f":"'Подконтрольные расходы'!F28","v":0},{"$f":"SUM(C9:C12)","v":0},{"$f":"'Подконтрольные расходы'!H28","v":0},{"$f":"SUM(E9:E12)","v":0},{"$f":"'Подконтрольные расходы'!J28","v":0},{"$f":"SUM(G9:G12)","v":0},{"$f":"SUM(H9:H12)","v":0},{"$f":"SUM(I9:I12)","v":0},0,0]
[]
["Руководитель организации",null,null,{"$f":"'Инф-я'!$C$21","v":"Окунев Василий Михайлович"}]

{"sheet":"Расходы по кол дог","index":20,"n_rows":31,"n_cols":11,"rows_kept":31,"cut":false,"hidden":false,"merged":[[3,16375,3,16382],[30,3,30,5],[3,16335,3,16342],[3,16343,3,16350],[3,16351,3,16358],[3,16359,3,16366],[3,16367,3,16374],[3,16295,3,16302],[3,16303,3,16310],[3,16311,3,16318],[3,16319,3,16326],[3,16327,3,16334],[3,16255,3,16262],[3,16263,3,16270],[3,16271,3,16278],[3,16279,3,16286],[3,16287,3,16294],[3,16215,3,16222],[3,16223,3,16230],[3,16231,3,16238],[3,16239,3,16246],[3,16247,3,16254],[3,16175,3,16182],[3,16183,3,16190],[3,16191,3,16198],[3,16199,3,16206],[3,16207,3,16214],[3,16135,3,16142],[3,16143,3,16150],[3,16151,3,16158],[3,16159,3,16166],[3,16167,3,16174],[3,16095,3,16102],[3,16103,3,16110],[3,16111,3,16118],[3,16119,3,16126],[3,16127,3,16134],[3,16055,3,16062],[3,16063,3,16070],[3,16071,3,16078],[3,16079,3,16086],[3,16087,3,16094],[3,16015,3,16022],[3,16023,3,16030],[3,16031,3,16038],[3,16039,3,16046],[3,16047,3,16054],[3,15975,3,15982],[3,15983,3,15990],[3,15991,3,15998],[3,15999,3,16006],[3,16007,3,16014],[3,15935,3,15942],[3,15943,3,15950],[3,15951,3,15958],[3,15959,3,15966],[3,15967,3,15974],[3,15895,3,15902],[3,15903,3,15910],[3,15911,3,15918],[3,15919,3,15926],[3,15927,3,15934],[3,15855,3,15862],[3,15863,3,15870],[3,15871,3,15878],[3,15879,3,15886],[3,15887,3,15894],[3,15815,3,15822],[3,15823,3,15830],[3,15831,3,15838],[3,15839,3,15846],[3,15847,3,15854],[3,15775,3,15782],[3,15783,3,15790],[3,15791,3,15798],[3,15799,3,15806],[3,15807,3,15814],[3,15735,3,15742],[3,15743,3,15750],[3,15751,3,15758],[3,15759,3,15766],[3,15767,3,15774],[3,15695,3,15702],[3,15703,3,15710],[3,15711,3,15718],[3,15719,3,15726],[3,15727,3,15734],[3,15655,3,15662],[3,15663,3,15670],[3,15671,3,15678],[3,15679,3,15686],[3,15687,3,15694],[3,15615,3,15622],[3,15623,3,15630],[3,15631,3,15638],[3,15639,3,15646],[3,15647,3,15654],[3,15575,3,15582],[3,15583,3,15590],[3,15591,3,15598],[3,15599,3,15606],[3,15607,3,15614],[3,15535,3,15542],[3,15543,3,15550],[3,15551,3,15558],[3,15559,3,15566],[3,15567,3,15574],[3,15495,3,15502],[3,15503,3,15510],[3,15511,3,15518],[3,15519,3,15526],[3,15527,3,15534],[3,15455,3,15462],[3,15463,3,15470],[3,15471,3,15478],[3,15479,3,15486],[3,15487,3,15494],[3,15415,3,15422],[3,15423,3,15430],[3,15431,3,15438],[3,15439,3,15446],[3,15447,3,15454],[3,15375,3,15382],[3,15383,3,15390],[3,15391,3,15398],[3,15399,3,15406],[3,15407,3,15414],[3,15335,3,15342],[3,15343,3,15350],[3,15351,3,15358],[3,15359,3,15366],[3,15367,3,15374],[3,15295,3,15302],[3,15303,3,15310],[3,15311,3,15318],[3,15319,3,15326],[3,15327,3,15334],[3,15255,3,15262],[3,15263,3,15270],[3,15271,3,15278],[3,15279,3,15286],[3,15287,3,15294],[3,15215,3,15222],[3,15223,3,15230],[3,15231,3,15238],[3,15239,3,15246],[3,15247,3,15254],[3,15175,3,15182],[3,15183,3,15190],[3,15191,3,15198],[3,15199,3,15206],[3,15207,3,15214],[3,15135,3,15142],[3,15143,3,15150],[3,15151,3,15158],[3,15159,3,15166],[3,15167,3,15174],[3,15095,3,15102],[3,15103,3,15110],[3,15111,3,15118],[3,15119,3,15126],[3,15127,3,15134],[3,15055,3,15062],[3,15063,3,15070],[3,15071,3,15078],[3,15079,3,15086],[3,15087,3,15094],[3,15015,3,15022],[3,15023,3,15030],[3,15031,3,15038],[3,15039,3,15046],[3,15047,3,15054],[3,14975,3,14982],[3,14983,3,14990],[3,14991,3,14998],[3,14999,3,15006],[3,15007,3,15014],[3,14935,3,14942],[3,14943,3,14950],[3,14951,3,14958],[3,14959,3,14966],[3,14967,3,14974],[3,14895,3,14902],[3,14903,3,14910],[3,14911,3,14918],[3,14919,3,14926],[3,14927,3,14934],[3,14855,3,14862],[3,14863,3,14870],[3,14871,3,14878],[3,14879,3,14886],[3,14887,3,14894],[3,14815,3,14822],[3,14823,3,14830],[3,14831,3,14838],[3,14839,3,14846],[3,14847,3,14854],[3,14775,3,14782],[3,14783,3,14790],[3,14791,3,14798],[3,14799,3,14806],[3,14807,3,14814],[3,14735,3,14742],[3,14743,3,14750],[3,14751,3,14758],[3,14759,3,14766],[3,14767,3,14774],[3,14695,3,14702],[3,14703,3,14710],[3,14711,3,14718],[3,14719,3,14726],[3,14727,3,14734],[3,14655,3,14662],[3,14663,3,14670],[3,14671,3,14678],[3,14679,3,14686],[3,14687,3,14694],[3,14615,3,14622],[3,14623,3,14630],[3,14631,3,14638],[3,14639,3,14646],[3,14647,3,14654],[3,14575,3,14582],[3,14583,3,14590],[3,14591,3,14598],[3,14599,3,14606],[3,14607,3,14614],[3,14535,3,14542],[3,14543,3,14550],[3,14551,3,14558],[3,14559,3,14566],[3,14567,3,14574],[3,14495,3,14502],[3,14503,3,14510],[3,14511,3,14518],[3,14519,3,14526],[3,14527,3,14534],[3,14455,3,14462],[3,14463,3,14470],[3,14471,3,14478],[3,14479,3,14486],[3,14487,3,14494],[3,14415,3,14422],[3,14423,3,14430],[3,14431,3,14438],[3,14439,3,14446],[3,14447,3,14454],[3,14375,3,14382],[3,14383,3,14390],[3,14391,3,14398],[3,14399,3,14406],[3,14407,3,14414],[3,14335,3,14342],[3,14343,3,14350],[3,14351,3,14358],[3,14359,3,14366],[3,14367,3,14374],[3,14295,3,14302],[3,14303,3,14310],[3,14311,3,14318],[3,14319,3,14326],[3,14327,3,14334],[3,14255,3,14262],[3,14263,3,14270],[3,14271,3,14278],[3,14279,3,14286],[3,14287,3,14294],[3,14215,3,14222],[3,14223,3,14230],[3,14231,3,14238],[3,14239,3,14246],[3,14247,3,14254],[3,14175,3,14182],[3,14183,3,14190],[3,14191,3,14198],[3,14199,3,14206],[3,14207,3,14214],[3,14135,3,14142],[3,14143,3,14150],[3,14151,3,14158],[3,14159,3,14166],[3,14167,3,14174],[3,14095,3,14102],[3,14103,3,14110],[3,14111,3,14118],[3,14119,3,14126],[3,14127,3,14134],[3,14055,3,14062],[3,14063,3,14070],[3,14071,3,14078],[3,14079,3,14086],[3,14087,3,14094],[3,14015,3,14022],[3,14023,3,14030],[3,14031,3,14038],[3,14039,3,14046],[3,14047,3,14054],[3,13975,3,13982],[3,13983,3,13990],[3,13991,3,13998],[3,13999,3,14006],[3,14007,3,14014],[3,13935,3,13942],[3,13943,3,13950],[3,13951,3,13958],[3,13959,3,13966],[3,13967,3,13974],[3,13895,3,13902],[3,13903,3,13910],[3,13911,3,13918],[3,13919,3,13926],[3,13927,3,13934],[3,13855,3,13862],[3,13863,3,13870],[3,13871,3,13878],[3,13879,3,13886],[3,13887,3,13894],[3,13815,3,13822],[3,13823,3,13830],[3,13831,3,13838],[3,13839,3,13846],[3,13847,3,13854],[3,13775,3,13782],[3,13783,3,13790],[3,13791,3,13798],[3,13799,3,13806],[3,13807,3,13814],[3,13735,3,13742],[3,13743,3,13750],[3,13751,3,13758],[3,13759,3,13766],[3,13767,3,13774],[3,13695,3,13702],[3,13703,3,13710],[3,13711,3,13718],[3,13719,3,13726],[3,13727,3,13734],[3,13655,3,13662],[3,13663,3,13670],[3,13671,3,13678],[3,13679,3,13686],[3,13687,3,13694],[3,13615,3,13622],[3,13623,3,13630],[3,13631,3,13638],[3,13639,3,13646],[3,13647,3,13654],[3,13575,3,13582],[3,13583,3,13590],[3,13591,3,13598],[3,13599,3,13606],[3,13607,3,13614],[3,13535,3,13542],[3,13543,3,13550],[3,13551,3,13558],[3,13559,3,13566],[3,13567,3,13574],[3,13495,3,13502],[3,13503,3,13510],[3,13511,3,13518],[3,13519,3,13526],[3,13527,3,13534],[3,13455,3,13462],[3,13463,3,13470],[3,13471,3,13478],[3,13479,3,13486],[3,13487,3,13494],[3,13415,3,13422],[3,13423,3,13430],[3,13431,3,13438],[3,13439,3,13446],[3,13447,3,13454],[3,13375,3,13382],[3,13383,3,13390],[3,13391,3,13398],[3,13399,3,13406],[3,13407,3,13414],[3,13335,3,13342],[3,13343,3,13350],[3,13351,3,13358],[3,13359,3,13366],[3,13367,3,13374],[3,13295,3,13302],[3,13303,3,13310],[3,13311,3,13318],[3,13319,3,13326],[3,13327,3,13334],[3,13255,3,13262],[3,13263,3,13270],[3,13271,3,13278],[3,13279,3,13286],[3,13287,3,13294],[3,13215,3,13222],[3,13223,3,13230],[3,13231,3,13238],[3,13239,3,13246],[3,13247,3,13254],[3,13175,3,13182],[3,13183,3,13190],[3,13191,3,13198],[3,13199,3,13206],[3,13207,3,13214],[3,13135,3,13142],[3,13143,3,13150],[3,13151,3,13158],[3,13159,3,13166],[3,13167,3,13174],[3,13095,3,13102],[3,13103,3,13110],[3,13111,3,13118],[3,13119,3,13126],[3,13127,3,13134],[3,13055,3,13062],[3,13063,3,13070],[3,13071,3,13078],[3,13079,3,13086],[3,13087,3,13094],[3,13015,3,13022],[3,13023,3,13030],[3,13031,3,13038],[3,13039,3,13046],[3,13047,3,13054],[3,12975,3,12982],[3,12983,3,12990],[3,12991,3,12998],[3,12999,3,13006],[3,13007,3,13014],[3,12935,3,12942],[3,12943,3,12950],[3,12951,3,12958],[3,12959,3,12966],[3,12967,3,12974],[3,12895,3,12902],[3,12903,3,12910],[3,12911,3,12918],[3,12919,3,12926],[3,12927,3,12934],[3,12855,3,12862],[3,12863,3,12870],[3,12871,3,12878],[3,12879,3,12886],[3,12887,3,12894],[3,12815,3,12822],[3,12823,3,12830],[3,12831,3,12838],[3,12839,3,12846],[3,12847,3,12854],[3,12775,3,12782],[3,12783,3,12790],[3,12791,3,12798],[3,12799,3,12806],[3,12807,3,12814],[3,12735,3,12742],[3,12743,3,12750],[3,12751,3,12758],[3,12759,3,12766],[3,12767,3,12774],[3,12695,3,12702],[3,12703,3,12710],[3,12711,3,12718],[3,12719,3,12726],[3,12727,3,12734],[3,12655,3,12662],[3,12663,3,12670],[3,12671,3,12678],[3,12679,3,12686],[3,12687,3,12694],[3,12615,3,12622],[3,12623,3,12630],[3,12631,3,12638],[3,12639,3,12646],[3,12647,3,12654],[3,12575,3,12582],[3,12583,3,12590],[3,12591,3,12598],[3,12599,3,12606],[3,12607,3,12614],[3,12535,3,12542],[3,12543,3,12550],[3,12551,3,12558],[3,12559,3,12566],[3,12567,3,12574],[3,12495,3,12502],[3,12503,3,12510],[3,12511,3,12518],[3,12519,3,12526],[3,12527,3,12534],[3,12455,3,12462],[3,12463,3,12470],[3,12471,3,12478],[3,12479,3,12486],[3,12487,3,12494],[3,12415,3,12422],[3,12423,3,12430],[3,12431,3,12438],[3,12439,3,12446],[3,12447,3,12454],[3,12375,3,12382],[3,12383,3,12390],[3,12391,3,12398],[3,12399,3,12406],[3,12407,3,12414],[3,12335,3,12342],[3,12343,3,12350],[3,12351,3,12358],[3,12359,3,12366],[3,12367,3,12374],[3,12295,3,12302],[3,12303,3,12310],[3,12311,3,12318],[3,12319,3,12326],[3,12327,3,12334],[3,12255,3,12262],[3,12263,3,12270],[3,12271,3,12278],[3,12279,3,12286],[3,12287,3,12294],[3,12215,3,12222],[3,12223,3,12230],[3,12231,3,12238],[3,12239,3,12246],[3,12247,3,12254],[3,12175,3,12182],[3,12183,3,12190],[3,12191,3,12198],[3,12199,3,12206],[3,12207,3,12214],[3,12135,3,12142],[3,12143,3,12150],[3,12151,3,12158],[3,12159,3,12166],[3,12167,3,12174],[3,12095,3,12102],[3,12103,3,12110],[3,12111,3,12118],[3,12119,3,12126],[3,12127,3,12134],[3,12055,3,12062],[3,12063,3,12070],[3,12071,3,12078],[3,12079,3,12086],[3,12087,3,12094],[3,12015,3,12022],[3,12023,3,12030],[3,12031,3,12038],[3,12039,3,12046],[3,12047,3,12054],[3,11975,3,11982],[3,11983,3,11990],[3,11991,3,11998],[3,11999,3,12006],[3,12007,3,12014],[3,11935,3,11942],[3,11943,3,11950],[3,11951,3,11958],[3,11959,3,11966],[3,11967,3,11974],[3,11895,3,11902],[3,11903,3,11910],[3,11911,3,11918],[3,11919,3,11926],[3,11927,3,11934],[3,11855,3,11862],[3,11863,3,11870],[3,11871,3,11878],[3,11879,3,11886],[3,11887,3,11894],[3,11815,3,11822],[3,11823,3,11830],[3,11831,3,11838],[3,11839,3,11846],[3,11847,3,11854],[3,11775,3,11782],[3,11783,3,11790],[3,11791,3,11798],[3,11799,3,11806],[3,11807,3,11814],[3,11735,3,11742],[3,11743,3,11750],[3,11751,3,11758],[3,11759,3,11766],[3,11767,3,11774],[3,11695,3,11702],[3,11703,3,11710],[3,11711,3,11718],[3,11719,3,11726],[3,11727,3,11734],[3,11655,3,11662],[3,11663,3,11670],[3,11671,3,11678],[3,11679,3,11686],[3,11687,3,11694],[3,11615,3,11622],[3,11623,3,11630],[3,11631,3,11638],[3,11639,3,11646],[3,11647,3,11654],[3,11575,3,11582],[3,11583,3,11590],[3,11591,3,11598],[3,11599,3,11606],[3,11607,3,11614],[3,11535,3,11542],[3,11543,3,11550],[3,11551,3,11558],[3,11559,3,11566],[3,11567,3,11574],[3,11495,3,11502],[3,11503,3,11510],[3,11511,3,11518],[3,11519,3,11526],[3,11527,3,11534],[3,11455,3,11462],[3,11463,3,11470],[3,11471,3,11478],[3,11479,3,11486],[3,11487,3,11494],[3,11415,3,11422],[3,11423,3,11430],[3,11431,3,11438],[3,11439,3,11446],[3,11447,3,11454],[3,11375,3,11382],[3,11383,3,11390],[3,11391,3,11398],[3,11399,3,11406],[3,11407,3,11414],[3,11335,3,11342],[3,11343,3,11350],[3,11351,3,11358],[3,11359,3,11366],[3,11367,3,11374],[3,11295,3,11302],[3,11303,3,11310],[3,11311,3,11318],[3,11319,3,11326],[3,11327,3,11334],[3,11255,3,11262],[3,11263,3,11270],[3,11271,3,11278],[3,11279,3,11286],[3,11287,3,11294],[3,11215,3,11222],[3,11223,3,11230],[3,11231,3,11238],[3,11239,3,11246],[3,11247,3,11254],[3,11175,3,11182],[3,11183,3,11190],[3,11191,3,11198],[3,11199,3,11206],[3,11207,3,11214],[3,11135,3,11142],[3,11143,3,11150],[3,11151,3,11158],[3,11159,3,11166],[3,11167,3,11174],[3,11095,3,11102],[3,11103,3,11110],[3,11111,3,11118],[3,11119,3,11126],[3,11127,3,11134],[3,11055,3,11062],[3,11063,3,11070],[3,11071,3,11078],[3,11079,3,11086],[3,11087,3,11094],[3,11015,3,11022],[3,11023,3,11030],[3,11031,3,11038],[3,11039,3,11046],[3,11047,3,11054],[3,10975,3,10982],[3,10983,3,10990],[3,10991,3,10998],[3,10999,3,11006],[3,11007,3,11014],[3,10935,3,10942],[3,10943,3,10950],[3,10951,3,10958],[3,10959,3,10966],[3,10967,3,10974],[3,10895,3,10902],[3,10903,3,10910],[3,10911,3,10918],[3,10919,3,10926],[3,10927,3,10934],[3,10855,3,10862],[3,10863,3,10870],[3,10871,3,10878],[3,10879,3,10886],[3,10887,3,10894],[3,10815,3,10822],[3,10823,3,10830],[3,10831,3,10838],[3,10839,3,10846],[3,10847,3,10854],[3,10775,3,10782],[3,10783,3,10790],[3,10791,3,10798],[3,10799,3,10806],[3,10807,3,10814],[3,10735,3,10742],[3,10743,3,10750],[3,10751,3,10758],[3,10759,3,10766],[3,10767,3,10774],[3,10695,3,10702],[3,10703,3,10710],[3,10711,3,10718],[3,10719,3,10726],[3,10727,3,10734],[3,10655,3,10662],[3,10663,3,10670],[3,10671,3,10678],[3,10679,3,10686],[3,10687,3,10694],[3,10615,3,10622],[3,10623,3,10630],[3,10631,3,10638],[3,10639,3,10646],[3,10647,3,10654],[3,10575,3,10582],[3,10583,3,10590],[3,10591,3,10598],[3,10599,3,10606],[3,10607,3,10614],[3,10535,3,10542],[3,10543,3,10550],[3,10551,3,10558],[3,10559,3,10566],[3,10567,3,10574],[3,10495,3,10502],[3,10503,3,10510],[3,10511,3,10518],[3,10519,3,10526],[3,10527,3,10534],[3,10455,3,10462],[3,10463,3,10470],[3,10471,3,10478],[3,10479,3,10486],[3,10487,3,10494],[3,10415,3,10422],[3,10423,3,10430],[3,10431,3,10438],[3,10439,3,10446],[3,10447,3,10454],[3,10375,3,10382],[3,10383,3,10390],[3,10391,3,10398],[3,10399,3,10406],[3,10407,3,10414],[3,10335,3,10342],[3,10343,3,10350],[3,10351,3,10358],[3,10359,3,10366],[3,10367,3,10374],[3,10295,3,10302],[3,10303,3,10310],[3,10311,3,10318],[3,10319,3,10326],[3,10327,3,10334],[3,10255,3,10262],[3,10263,3,10270],[3,10271,3,10278],[3,10279,3,10286],[3,10287,3,10294],[3,10215,3,10222],[3,10223,3,10230],[3,10231,3,10238],[3,10239,3,10246],[3,10247,3,10254],[3,10175,3,10182],[3,10183,3,10190],[3,10191,3,10198],[3,10199,3,10206],[3,10207,3,10214],[3,10135,3,10142],[3,10143,3,10150],[3,10151,3,10158],[3,10159,3,10166],[3,10167,3,10174],[3,10095,3,10102],[3,10103,3,10110],[3,10111,3,10118],[3,10119,3,10126],[3,10127,3,10134],[3,10055,3,10062],[3,10063,3,10070],[3,10071,3,10078],[3,10079,3,10086],[3,10087,3,10094],[3,10015,3,10022],[3,10023,3,10030],[3,10031,3,10038],[3,10039,3,10046],[3,10047,3,10054],[3,9975,3,9982],[3,9983,3,9990],[3,9991,3,9998],[3,9999,3,10006],[3,10007,3,10014],[3,9935,3,9942],[3,9943,3,9950],[3,9951,3,9958],[3,9959,3,9966],[3,9967,3,9974],[3,9895,3,9902],[3,9903,3,9910],[3,9911,3,9918],[3,9919,3,9926],[3,9927,3,9934],[3,9855,3,9862],[3,9863,3,9870],[3,9871,3,9878],[3,9879,3,9886],[3,9887,3,9894],[3,9815,3,9822],[3,9823,3,9830],[3,9831,3,9838],[3,9839,3,9846],[3,9847,3,9854],[3,9775,3,9782],[3,9783,3,9790],[3,9791,3,9798],[3,9799,3,9806],[3,9807,3,9814],[3,9735,3,9742],[3,9743,3,9750],[3,9751,3,9758],[3,9759,3,9766],[3,9767,3,9774],[3,9695,3,9702],[3,9703,3,9710],[3,9711,3,9718],[3,9719,3,9726],[3,9727,3,9734],[3,9655,3,9662],[3,9663,3,9670],[3,9671,3,9678],[3,9679,3,9686],[3,9687,3,9694],[3,9615,3,9622],[3,9623,3,9630],[3,9631,3,9638],[3,9639,3,9646],[3,9647,3,9654],[3,9575,3,9582],[3,9583,3,9590],[3,9591,3,9598],[3,9599,3,9606],[3,9607,3,9614],[3,9535,3,9542],[3,9543,3,9550],[3,9551,3,9558],[3,9559,3,9566],[3,9567,3,9574],[3,9495,3,9502],[3,9503,3,9510],[3,9511,3,9518],[3,9519,3,9526],[3,9527,3,9534],[3,9455,3,9462],[3,9463,3,9470],[3,9471,3,9478],[3,9479,3,9486],[3,9487,3,9494],[3,9415,3,9422],[3,9423,3,9430],[3,9431,3,9438],[3,9439,3,9446],[3,9447,3,9454],[3,9375,3,9382],[3,9383,3,9390],[3,9391,3,9398],[3,9399,3,9406],[3,9407,3,9414],[3,9335,3,9342],[3,9343,3,9350],[3,9351,3,9358],[3,9359,3,9366],[3,9367,3,9374],[3,9295,3,9302],[3,9303,3,9310],[3,9311,3,9318],[3,9319,3,9326],[3,9327,3,9334],[3,9255,3,9262],[3,9263,3,9270],[3,9271,3,9278],[3,9279,3,9286],[3,9287,3,9294],[3,9215,3,9222],[3,9223,3,9230],[3,9231,3,9238],[3,9239,3,9246],[3,9247,3,9254],[3,9175,3,9182],[3,9183,3,9190],[3,9191,3,9198],[3,9199,3,9206],[3,9207,3,9214],[3,9135,3,9142],[3,9143,3,9150],[3,9151,3,9158],[3,9159,3,9166],[3,9167,3,9174],[3,9095,3,9102],[3,9103,3,9110],[3,9111,3,9118],[3,9119,3,9126],[3,9127,3,9134],[3,9055,3,9062],[3,9063,3,9070],[3,9071,3,9078],[3,9079,3,9086],[3,9087,3,9094],[3,9015,3,9022],[3,9023,3,9030],[3,9031,3,9038],[3,9039,3,9046],[3,9047,3,9054],[3,8975,3,8982],[3,8983,3,8990],[3,8991,3,8998],[3,8999,3,9006],[3,9007,3,9014],[3,8935,3,8942],[3,8943,3,8950],[3,8951,3,8958],[3,8959,3,8966],[3,8967,3,8974],[3,8895,3,8902],[3,8903,3,8910],[3,8911,3,8918],[3,8919,3,8926],[3,8927,3,8934],[3,8855,3,8862],[3,8863,3,8870],[3,8871,3,8878],[3,8879,3,8886],[3,8887,3,8894],[3,8815,3,8822],[3,8823,3,8830],[3,8831,3,8838],[3,8839,3,8846],[3,8847,3,8854],[3,8775,3,8782],[3,8783,3,8790],[3,8791,3,8798],[3,8799,3,8806],[3,8807,3,8814],[3,8735,3,8742],[3,8743,3,8750],[3,8751,3,8758],[3,8759,3,8766],[3,8767,3,8774],[3,8695,3,8702],[3,8703,3,8710],[3,8711,3,8718],[3,8719,3,8726],[3,8727,3,8734],[3,8655,3,8662],[3,8663,3,8670],[3,8671,3,8678],[3,8679,3,8686],[3,8687,3,8694],[3,8615,3,8622],[3,8623,3,8630],[3,8631,3,8638],[3,8639,3,8646],[3,8647,3,8654],[3,8575,3,8582],[3,8583,3,8590],[3,8591,3,8598],[3,8599,3,8606],[3,8607,3,8614],[3,8535,3,8542],[3,8543,3,8550],[3,8551,3,8558],[3,8559,3,8566],[3,8567,3,8574],[3,8495,3,8502],[3,8503,3,8510],[3,8511,3,8518],[3,8519,3,8526],[3,8527,3,8534],[3,8455,3,8462],[3,8463,3,8470],[3,8471,3,8478],[3,8479,3,8486],[3,8487,3,8494],[3,8415,3,8422],[3,8423,3,8430],[3,8431,3,8438],[3,8439,3,8446],[3,8447,3,8454],[3,8375,3,8382],[3,8383,3,8390],[3,8391,3,8398]],"merged_total":2060,"flags":["merged_cut"]}
[]
["Расходы по коллективным договорам"]
[]
[{"$f":"'Инф-я'!C13","v":"ООО \"Энергетик\""}]
[]
["Показатели","2017 год ",null,"2018 год ",null,"2019 год ",null,"2020 год ",null,"2017 год","2018 год"]
[null,"Утвержденные"," Факт","Утвержденные"," Факт","Утвержденные","Ожидаемые","По данным организации","По данным экспертов","Факт по расчету экспертов","Факт по расчету экспертов"]
[1,2,3,4,5,6,7,8,9,10,11]
["  Вознаграждения, премии, всего, в том числе:","х",{"$f":"SUM(C10:C13)","v":0},"х",{"$f":"SUM(E10:E13)","v":0},"х",{"$f":"SUM(G10:G13)","v":0},{"$f":"SUM(H10:H13)","v":0},{"$f":"SUM(I10:I13)","v":0},{"$f":"SUM(J10:J13)","v":0},0]
["Материальная помощь","х",null,"х",null,"х"]
["Введите название","х",null,"х",null,"х"]
["Введите название","х",null,"х",null,"х"]
["Введите название","х",null,"х",null,"х"]
["Добавить"]
["  Материальная помощь, всего, в том числе:","х",{"$f":"SUM(C16:C18)","v":432.52499999999998},"х",{"$f":"SUM(E16:E18)","v":692.79},"х",{"$f":"SUM(G16:G18)","v":762.06899999999996},{"$f":"SUM(H16:H18)","v":792.55},{"$f":"SUM(I16:I18)","v":0},{"$f":"SUM(J16:J18)","v":0},0]
["Введите название","х",432.52499999999998,"х",692.79,"х",762.06899999999996,792.55]
["Введите название","х",null,"х",null,"х"]
["Введите название","х",null,"х",null,"х"]
["Добавить"]
["  Оплата дополнительных отпусков","х",null,"х",null,"х"]
["  Оплата проезда","х",null,"х",null,"х"]
["  Оплата путевок на лечение и отдых","х",null,"х",null,"х"]
["Прочие расходы социального характера, всего, в том числе:","х",{"$f":"SUM(C24:C27)","v":0},"х",{"$f":"SUM(E24:E27)","v":0},"х",{"$f":"SUM(G24:G27)","v":0},{"$f":"SUM(H24:H27)","v":0},{"$f":"SUM(I24:I27)","v":0},{"$f":"SUM(J24:J27)","v":0},0]
["Введите название","х",null,"х",null,"х"]
["Введите название","х",null,"х",null,"х"]
["Введите название","х",null,"х",null,"х"]
["Введите название","х",null,"х",null,"х"]
["Добавить"]
["ИТОГО расходов на выплаты социального характера",{"$f":"'Подконтрольные расходы'!F30","v":329.843937710202},{"$f":"C9+C15+C20+C21+C22+C23","v":432.52499999999998},{"$f":"'Подконтрольные расходы'!H30","v":348.18438395065192},{"$f":"E9+E15+E20+E21+E22+E23","v":692.79},{"$f":"'Подконтрольные расходы'!J30","v":361.6970809808991},{"$f":"G9+G15+G20+G21+G22+G23","v":762.06899999999996},{"$f":"H9+H15+H20+H21+H22+H23","v":792.55},{"$f":"I9+I15+I20+I21+I22+I23","v":0},{"$f":"J9+J15+J20+J21+J22+J23","v":0},0]
[]
["Руководитель организации",null,null,{"$f":"'Инф-я'!$C$21","v":"Окунев Василий Михайлович"}]

{"sheet":"другие расходы прибыль","index":21,"n_rows":17,"n_cols":11,"rows_kept":17,"cut":false,"hidden":false,"merged":[[3,16375,3,16382],[16,4,16,6],[3,16335,3,16342],[3,16343,3,16350],[3,16351,3,16358],[3,16359,3,16366],[3,16367,3,16374],[3,16295,3,16302],[3,16303,3,16310],[3,16311,3,16318],[3,16319,3,16326],[3,16327,3,16334],[3,16255,3,16262],[3,16263,3,16270],[3,16271,3,16278],[3,16279,3,16286],[3,16287,3,16294],[3,16215,3,16222],[3,16223,3,16230],[3,16231,3,16238],[3,16239,3,16246],[3,16247,3,16254],[3,16175,3,16182],[3,16183,3,16190],[3,16191,3,16198],[3,16199,3,16206],[3,16207,3,16214],[3,16135,3,16142],[3,16143,3,16150],[3,16151,3,16158],[3,16159,3,16166],[3,16167,3,16174],[3,16095,3,16102],[3,16103,3,16110],[3,16111,3,16118],[3,16119,3,16126],[3,16127,3,16134],[3,16055,3,16062],[3,16063,3,16070],[3,16071,3,16078],[3,16079,3,16086],[3,16087,3,16094],[3,16015,3,16022],[3,16023,3,16030],[3,16031,3,16038],[3,16039,3,16046],[3,16047,3,16054],[3,15975,3,15982],[3,15983,3,15990],[3,15991,3,15998],[3,15999,3,16006],[3,16007,3,16014],[3,15935,3,15942],[3,15943,3,15950],[3,15951,3,15958],[3,15959,3,15966],[3,15967,3,15974],[3,15895,3,15902],[3,15903,3,15910],[3,15911,3,15918],[3,15919,3,15926],[3,15927,3,15934],[3,15855,3,15862],[3,15863,3,15870],[3,15871,3,15878],[3,15879,3,15886],[3,15887,3,15894],[3,15815,3,15822],[3,15823,3,15830],[3,15831,3,15838],[3,15839,3,15846],[3,15847,3,15854],[3,15775,3,15782],[3,15783,3,15790],[3,15791,3,15798],[3,15799,3,15806],[3,15807,3,15814],[3,15735,3,15742],[3,15743,3,15750],[3,15751,3,15758],[3,15759,3,15766],[3,15767,3,15774],[3,15695,3,15702],[3,15703,3,15710],[3,15711,3,15718],[3,15719,3,15726],[3,15727,3,15734],[3,15655,3,15662],[3,15663,3,15670],[3,15671,3,15678],[3,15679,3,15686],[3,15687,3,15694],[3,15615,3,15622],[3,15623,3,15630],[3,15631,3,15638],[3,15639,3,15646],[3,15647,3,15654],[3,15575,3,15582],[3,15583,3,15590],[3,15591,3,15598],[3,15599,3,15606],[3,15607,3,15614],[3,15535,3,15542],[3,15543,3,15550],[3,15551,3,15558],[3,15559,3,15566],[3,15567,3,15574],[3,15495,3,15502],[3,15503,3,15510],[3,15511,3,15518],[3,15519,3,15526],[3,15527,3,15534],[3,15455,3,15462],[3,15463,3,15470],[3,15471,3,15478],[3,15479,3,15486],[3,15487,3,15494],[3,15415,3,15422],[3,15423,3,15430],[3,15431,3,15438],[3,15439,3,15446],[3,15447,3,15454],[3,15375,3,15382],[3,15383,3,15390],[3,15391,3,15398],[3,15399,3,15406],[3,15407,3,15414],[3,15335,3,15342],[3,15343,3,15350],[3,15351,3,15358],[3,15359,3,15366],[3,15367,3,15374],[3,15295,3,15302],[3,15303,3,15310],[3,15311,3,15318],[3,15319,3,15326],[3,15327,3,15334],[3,15255,3,15262],[3,15263,3,15270],[3,15271,3,15278],[3,15279,3,15286],[3,15287,3,15294],[3,15215,3,15222],[3,15223,3,15230],[3,15231,3,15238],[3,15239,3,15246],[3,15247,3,15254],[3,15175,3,15182],[3,15183,3,15190],[3,15191,3,15198],[3,15199,3,15206],[3,15207,3,15214],[3,15135,3,15142],[3,15143,3,15150],[3,15151,3,15158],[3,15159,3,15166],[3,15167,3,15174],[3,15095,3,15102],[3,15103,3,15110],[3,15111,3,15118],[3,15119,3,15126],[3,15127,3,15134],[3,15055,3,15062],[3,15063,3,15070],[3,15071,3,15078],[3,15079,3,15086],[3,15087,3,15094],[3,15015,3,15022],[3,15023,3,15030],[3,15031,3,15038],[3,15039,3,15046],[3,15047,3,15054],[3,14975,3,14982],[3,14983,3,14990],[3,14991,3,14998],[3,14999,3,15006],[3,15007,3,15014],[3,14935,3,14942],[3,14943,3,14950],[3,14951,3,14958],[3,14959,3,14966],[3,14967,3,14974],[3,14895,3,14902],[3,14903,3,14910],[3,14911,3,14918],[3,14919,3,14926],[3,14927,3,14934],[3,14855,3,14862],[3,14863,3,14870],[3,14871,3,14878],[3,14879,3,14886],[3,14887,3,14894],[3,14815,3,14822],[3,14823,3,14830],[3,14831,3,14838],[3,14839,3,14846],[3,14847,3,14854],[3,14775,3,14782],[3,14783,3,14790],[3,14791,3,14798],[3,14799,3,14806],[3,14807,3,14814],[3,14735,3,14742],[3,14743,3,14750],[3,14751,3,14758],[3,14759,3,14766],[3,14767,3,14774],[3,14695,3,14702],[3,14703,3,14710],[3,14711,3,14718],[3,14719,3,14726],[3,14727,3,14734],[3,14655,3,14662],[3,14663,3,14670],[3,14671,3,14678],[3,14679,3,14686],[3,14687,3,14694],[3,14615,3,14622],[3,14623,3,14630],[3,14631,3,14638],[3,14639,3,14646],[3,14647,3,14654],[3,14575,3,14582],[3,14583,3,14590],[3,14591,3,14598],[3,14599,3,14606],[3,14607,3,14614],[3,14535,3,14542],[3,14543,3,14550],[3,14551,3,14558],[3,14559,3,14566],[3,14567,3,14574],[3,14495,3,14502],[3,14503,3,14510],[3,14511,3,14518],[3,14519,3,14526],[3,14527,3,14534],[3,14455,3,14462],[3,14463,3,14470],[3,14471,3,14478],[3,14479,3,14486],[3,14487,3,14494],[3,14415,3,14422],[3,14423,3,14430],[3,14431,3,14438],[3,14439,3,14446],[3,14447,3,14454],[3,14375,3,14382],[3,14383,3,14390],[3,14391,3,14398],[3,14399,3,14406],[3,14407,3,14414],[3,14335,3,14342],[3,14343,3,14350],[3,14351,3,14358],[3,14359,3,14366],[3,14367,3,14374],[3,14295,3,14302],[3,14303,3,14310],[3,14311,3,14318],[3,14319,3,14326],[3,14327,3,14334],[3,14255,3,14262],[3,14263,3,14270],[3,14271,3,14278],[3,14279,3,14286],[3,14287,3,14294],[3,14215,3,14222],[3,14223,3,14230],[3,14231,3,14238],[3,14239,3,14246],[3,14247,3,14254],[3,14175,3,14182],[3,14183,3,14190],[3,14191,3,14198],[3,14199,3,14206],[3,14207,3,14214],[3,14135,3,14142],[3,14143,3,14150],[3,14151,3,14158],[3,14159,3,14166],[3,14167,3,14174],[3,14095,3,14102],[3,14103,3,14110],[3,14111,3,14118],[3,14119,3,14126],[3,14127,3,14134],[3,14055,3,14062],[3,14063,3,14070],[3,14071,3,14078],[3,14079,3,14086],[3,14087,3,14094],[3,14015,3,14022],[3,14023,3,14030],[3,14031,3,14038],[3,14039,3,14046],[3,14047,3,14054],[3,13975,3,13982],[3,13983,3,13990],[3,13991,3,13998],[3,13999,3,14006],[3,14007,3,14014],[3,13935,3,13942],[3,13943,3,13950],[3,13951,3,13958],[3,13959,3,13966],[3,13967,3,13974],[3,13895,3,13902],[3,13903,3,13910],[3,13911,3,13918],[3,13919,3,13926],[3,13927,3,13934],[3,13855,3,13862],[3,13863,3,13870],[3,13871,3,13878],[3,13879,3,13886],[3,13887,3,13894],[3,13815,3,13822],[3,13823,3,13830],[3,13831,3,13838],[3,13839,3,13846],[3,13847,3,13854],[3,13775,3,13782],[3,13783,3,13790],[3,13791,3,13798],[3,13799,3,13806],[3,13807,3,13814],[3,13735,3,13742],[3,13743,3,13750],[3,13751,3,13758],[3,13759,3,13766],[3,13767,3,13774],[3,13695,3,13702],[3,13703,3,13710],[3,13711,3,13718],[3,13719,3,13726],[3,13727,3,13734],[3,13655,3,13662],[3,13663,3,13670],[3,13671,3,13678],[3,13679,3,13686],[3,13687,3,13694],[3,13615,3,13622],[3,13623,3,13630],[3,13631,3,13638],[3,13639,3,13646],[3,13647,3,13654],[3,13575,3,13582],[3,13583,3,13590],[3,13591,3,13598],[3,13599,3,13606],[3,13607,3,13614],[3,13535,3,13542],[3,13543,3,13550],[3,13551,3,13558],[3,13559,3,13566],[3,13567,3,13574],[3,13495,3,13502],[3,13503,3,13510],[3,13511,3,13518],[3,13519,3,13526],[3,13527,3,13534],[3,13455,3,13462],[3,13463,3,13470],[3,13471,3,13478],[3,13479,3,13486],[3,13487,3,13494],[3,13415,3,13422],[3,13423,3,13430],[3,13431,3,13438],[3,13439,3,13446],[3,13447,3,13454],[3,13375,3,13382],[3,13383,3,13390],[3,13391,3,13398],[3,13399,3,13406],[3,13407,3,13414],[3,13335,3,13342],[3,13343,3,13350],[3,13351,3,13358],[3,13359,3,13366],[3,13367,3,13374],[3,13295,3,13302],[3,13303,3,13310],[3,13311,3,13318],[3,13319,3,13326],[3,13327,3,13334],[3,13255,3,13262],[3,13263,3,13270],[3,13271,3,13278],[3,13279,3,13286],[3,13287,3,13294],[3,13215,3,13222],[3,13223,3,13230],[3,13231,3,13238],[3,13239,3,13246],[3,13247,3,13254],[3,13175,3,13182],[3,13183,3,13190],[3,13191,3,13198],[3,13199,3,13206],[3,13207,3,13214],[3,13135,3,13142],[3,13143,3,13150],[3,13151,3,13158],[3,13159,3,13166],[3,13167,3,13174],[3,13095,3,13102],[3,13103,3,13110],[3,13111,3,13118],[3,13119,3,13126],[3,13127,3,13134],[3,13055,3,13062],[3,13063,3,13070],[3,13071,3,13078],[3,13079,3,13086],[3,13087,3,13094],[3,13015,3,13022],[3,13023,3,13030],[3,13031,3,13038],[3,13039,3,13046],[3,13047,3,13054],[3,12975,3,12982],[3,12983,3,12990],[3,12991,3,12998],[3,12999,3,13006],[3,13007,3,13014],[3,12935,3,12942],[3,12943,3,12950],[3,12951,3,12958],[3,12959,3,12966],[3,12967,3,12974],[3,12895,3,12902],[3,12903,3,12910],[3,12911,3,12918],[3,12919,3,12926],[3,12927,3,12934],[3,12855,3,12862],[3,12863,3,12870],[3,12871,3,12878],[3,12879,3,12886],[3,12887,3,12894],[3,12815,3,12822],[3,12823,3,12830],[3,12831,3,12838],[3,12839,3,12846],[3,12847,3,12854],[3,12775,3,12782],[3,12783,3,12790],[3,12791,3,12798],[3,12799,3,12806],[3,12807,3,12814],[3,12735,3,12742],[3,12743,3,12750],[3,12751,3,12758],[3,12759,3,12766],[3,12767,3,12774],[3,12695,3,12702],[3,12703,3,12710],[3,12711,3,12718],[3,12719,3,12726],[3,12727,3,12734],[3,12655,3,12662],[3,12663,3,12670],[3,12671,3,12678],[3,12679,3,12686],[3,12687,3,12694],[3,12615,3,12622],[3,12623,3,12630],[3,12631,3,12638],[3,12639,3,12646],[3,12647,3,12654],[3,12575,3,12582],[3,12583,3,12590],[3,12591,3,12598],[3,12599,3,12606],[3,12607,3,12614],[3,12535,3,12542],[3,12543,3,12550],[3,12551,3,12558],[3,12559,3,12566],[3,12567,3,12574],[3,12495,3,12502],[3,12503,3,12510],[3,12511,3,12518],[3,12519,3,12526],[3,12527,3,12534],[3,12455,3,12462],[3,12463,3,12470],[3,12471,3,12478],[3,12479,3,12486],[3,12487,3,12494],[3,12415,3,12422],[3,12423,3,12430],[3,12431,3,12438],[3,12439,3,12446],[3,12447,3,12454],[3,12375,3,12382],[3,12383,3,12390],[3,12391,3,12398],[3,12399,3,12406],[3,12407,3,12414],[3,12335,3,12342],[3,12343,3,12350],[3,12351,3,12358],[3,12359,3,12366],[3,12367,3,12374],[3,12295,3,12302],[3,12303,3,12310],[3,12311,3,12318],[3,12319,3,12326],[3,12327,3,12334],[3,12255,3,12262],[3,12263,3,12270],[3,12271,3,12278],[3,12279,3,12286],[3,12287,3,12294],[3,12215,3,12222],[3,12223,3,12230],[3,12231,3,12238],[3,12239,3,12246],[3,12247,3,12254],[3,12175,3,12182],[3,12183,3,12190],[3,12191,3,12198],[3,12199,3,12206],[3,12207,3,12214],[3,12135,3,12142],[3,12143,3,12150],[3,12151,3,12158],[3,12159,3,12166],[3,12167,3,12174],[3,12095,3,12102],[3,12103,3,12110],[3,12111,3,12118],[3,12119,3,12126],[3,12127,3,12134],[3,12055,3,12062],[3,12063,3,12070],[3,12071,3,12078],[3,12079,3,12086],[3,12087,3,12094],[3,12015,3,12022],[3,12023,3,12030],[3,12031,3,12038],[3,12039,3,12046],[3,12047,3,12054],[3,11975,3,11982],[3,11983,3,11990],[3,11991,3,11998],[3,11999,3,12006],[3,12007,3,12014],[3,11935,3,11942],[3,11943,3,11950],[3,11951,3,11958],[3,11959,3,11966],[3,11967,3,11974],[3,11895,3,11902],[3,11903,3,11910],[3,11911,3,11918],[3,11919,3,11926],[3,11927,3,11934],[3,11855,3,11862],[3,11863,3,11870],[3,11871,3,11878],[3,11879,3,11886],[3,11887,3,11894],[3,11815,3,11822],[3,11823,3,11830],[3,11831,3,11838],[3,11839,3,11846],[3,11847,3,11854],[3,11775,3,11782],[3,11783,3,11790],[3,11791,3,11798],[3,11799,3,11806],[3,11807,3,11814],[3,11735,3,11742],[3,11743,3,11750],[3,11751,3,11758],[3,11759,3,11766],[3,11767,3,11774],[3,11695,3,11702],[3,11703,3,11710],[3,11711,3,11718],[3,11719,3,11726],[3,11727,3,11734],[3,11655,3,11662],[3,11663,3,11670],[3,11671,3,11678],[3,11679,3,11686],[3,11687,3,11694],[3,11615,3,11622],[3,11623,3,11630],[3,11631,3,11638],[3,11639,3,11646],[3,11647,3,11654],[3,11575,3,11582],[3,11583,3,11590],[3,11591,3,11598],[3,11599,3,11606],[3,11607,3,11614],[3,11535,3,11542],[3,11543,3,11550],[3,11551,3,11558],[3,11559,3,11566],[3,11567,3,11574],[3,11495,3,11502],[3,11503,3,11510],[3,11511,3,11518],[3,11519,3,11526],[3,11527,3,11534],[3,11455,3,11462],[3,11463,3,11470],[3,11471,3,11478],[3,11479,3,11486],[3,11487,3,11494],[3,11415,3,11422],[3,11423,3,11430],[3,11431,3,11438],[3,11439,3,11446],[3,11447,3,11454],[3,11375,3,11382],[3,11383,3,11390],[3,11391,3,11398],[3,11399,3,11406],[3,11407,3,11414],[3,11335,3,11342],[3,11343,3,11350],[3,11351,3,11358],[3,11359,3,11366],[3,11367,3,11374],[3,11295,3,11302],[3,11303,3,11310],[3,11311,3,11318],[3,11319,3,11326],[3,11327,3,11334],[3,11255,3,11262],[3,11263,3,11270],[3,11271,3,11278],[3,11279,3,11286],[3,11287,3,11294],[3,11215,3,11222],[3,11223,3,11230],[3,11231,3,11238],[3,11239,3,11246],[3,11247,3,11254],[3,11175,3,11182],[3,11183,3,11190],[3,11191,3,11198],[3,11199,3,11206],[3,11207,3,11214],[3,11135,3,11142],[3,11143,3,11150],[3,11151,3,11158],[3,11159,3,11166],[3,11167,3,11174],[3,11095,3,11102],[3,11103,3,11110],[3,11111,3,11118],[3,11119,3,11126],[3,11127,3,11134],[3,11055,3,11062],[3,11063,3,11070],[3,11071,3,11078],[3,11079,3,11086],[3,11087,3,11094],[3,11015,3,11022],[3,11023,3,11030],[3,11031,3,11038],[3,11039,3,11046],[3,11047,3,11054],[3,10975,3,10982],[3,10983,3,10990],[3,10991,3,10998],[3,10999,3,11006],[3,11007,3,11014],[3,10935,3,10942],[3,10943,3,10950],[3,10951,3,10958],[3,10959,3,10966],[3,10967,3,10974],[3,10895,3,10902],[3,10903,3,10910],[3,10911,3,10918],[3,10919,3,10926],[3,10927,3,10934],[3,10855,3,10862],[3,10863,3,10870],[3,10871,3,10878],[3,10879,3,10886],[3,10887,3,10894],[3,10815,3,10822],[3,10823,3,10830],[3,10831,3,10838],[3,10839,3,10846],[3,10847,3,10854],[3,10775,3,10782],[3,10783,3,10790],[3,10791,3,10798],[3,10799,3,10806],[3,10807,3,10814],[3,10735,3,10742],[3,10743,3,10750],[3,10751,3,10758],[3,10759,3,10766],[3,10767,3,10774],[3,10695,3,10702],[3,10703,3,10710],[3,10711,3,10718],[3,10719,3,10726],[3,10727,3,10734],[3,10655,3,10662],[3,10663,3,10670],[3,10671,3,10678],[3,10679,3,10686],[3,10687,3,10694],[3,10615,3,10622],[3,10623,3,10630],[3,10631,3,10638],[3,10639,3,10646],[3,10647,3,10654],[3,10575,3,10582],[3,10583,3,10590],[3,10591,3,10598],[3,10599,3,10606],[3,10607,3,10614],[3,10535,3,10542],[3,10543,3,10550],[3,10551,3,10558],[3,10559,3,10566],[3,10567,3,10574],[3,10495,3,10502],[3,10503,3,10510],[3,10511,3,10518],[3,10519,3,10526],[3,10527,3,10534],[3,10455,3,10462],[3,10463,3,10470],[3,10471,3,10478],[3,10479,3,10486],[3,10487,3,10494],[3,10415,3,10422],[3,10423,3,10430],[3,10431,3,10438],[3,10439,3,10446],[3,10447,3,10454],[3,10375,3,10382],[3,10383,3,10390],[3,10391,3,10398],[3,10399,3,10406],[3,10407,3,10414],[3,10335,3,10342],[3,10343,3,10350],[3,10351,3,10358],[3,10359,3,10366],[3,10367,3,10374],[3,10295,3,10302],[3,10303,3,10310],[3,10311,3,10318],[3,10319,3,10326],[3,10327,3,10334],[3,10255,3,10262],[3,10263,3,10270],[3,10271,3,10278],[3,10279,3,10286],[3,10287,3,10294],[3,10215,3,10222],[3,10223,3,10230],[3,10231,3,10238],[3,10239,3,10246],[3,10247,3,10254],[3,10175,3,10182],[3,10183,3,10190],[3,10191,3,10198],[3,10199,3,10206],[3,10207,3,10214],[3,10135,3,10142],[3,10143,3,10150],[3,10151,3,10158],[3,10159,3,10166],[3,10167,3,10174],[3,10095,3,10102],[3,10103,3,10110],[3,10111,3,10118],[3,10119,3,10126],[3,10127,3,10134],[3,10055,3,10062],[3,10063,3,10070],[3,10071,3,10078],[3,10079,3,10086],[3,10087,3,10094],[3,10015,3,10022],[3,10023,3,10030],[3,10031,3,10038],[3,10039,3,10046],[3,10047,3,10054],[3,9975,3,9982],[3,9983,3,9990],[3,9991,3,9998],[3,9999,3,10006],[3,10007,3,10014],[3,9935,3,9942],[3,9943,3,9950],[3,9951,3,9958],[3,9959,3,9966],[3,9967,3,9974],[3,9895,3,9902],[3,9903,3,9910],[3,9911,3,9918],[3,9919,3,9926],[3,9927,3,9934],[3,9855,3,9862],[3,9863,3,9870],[3,9871,3,9878],[3,9879,3,9886],[3,9887,3,9894],[3,9815,3,9822],[3,9823,3,9830],[3,9831,3,9838],[3,9839,3,9846],[3,9847,3,9854],[3,9775,3,9782],[3,9783,3,9790],[3,9791,3,9798],[3,9799,3,9806],[3,9807,3,9814],[3,9735,3,9742],[3,9743,3,9750],[3,9751,3,9758],[3,9759,3,9766],[3,9767,3,9774],[3,9695,3,9702],[3,9703,3,9710],[3,9711,3,9718],[3,9719,3,9726],[3,9727,3,9734],[3,9655,3,9662],[3,9663,3,9670],[3,9671,3,9678],[3,9679,3,9686],[3,9687,3,9694],[3,9615,3,9622],[3,9623,3,9630],[3,9631,3,9638],[3,9639,3,9646],[3,9647,3,9654],[3,9575,3,9582],[3,9583,3,9590],[3,9591,3,9598],[3,9599,3,9606],[3,9607,3,9614],[3,9535,3,9542],[3,9543,3,9550],[3,9551,3,9558],[3,9559,3,9566],[3,9567,3,9574],[3,9495,3,9502],[3,9503,3,9510],[3,9511,3,9518],[3,9519,3,9526],[3,9527,3,9534],[3,9455,3,9462],[3,9463,3,9470],[3,9471,3,9478],[3,9479,3,9486],[3,9487,3,9494],[3,9415,3,9422],[3,9423,3,9430],[3,9431,3,9438],[3,9439,3,9446],[3,9447,3,9454],[3,9375,3,9382],[3,9383,3,9390],[3,9391,3,9398],[3,9399,3,9406],[3,9407,3,9414],[3,9335,3,9342],[3,9343,3,9350],[3,9351,3,9358],[3,9359,3,9366],[3,9367,3,9374],[3,9295,3,9302],[3,9303,3,9310],[3,9311,3,9318],[3,9319,3,9326],[3,9327,3,9334],[3,9255,3,9262],[3,9263,3,9270],[3,9271,3,9278],[3,9279,3,9286],[3,9287,3,9294],[3,9215,3,9222],[3,9223,3,9230],[3,9231,3,9238],[3,9239,3,9246],[3,9247,3,9254],[3,9175,3,9182],[3,9183,3,9190],[3,9191,3,9198],[3,9199,3,9206],[3,9207,3,9214],[3,9135,3,9142],[3,9143,3,9150],[3,9151,3,9158],[3,9159,3,9166],[3,9167,3,9174],[3,9095,3,9102],[3,9103,3,9110],[3,9111,3,9118],[3,9119,3,9126],[3,9127,3,9134],[3,9055,3,9062],[3,9063,3,9070],[3,9071,3,9078],[3,9079,3,9086],[3,9087,3,9094],[3,9015,3,9022],[3,9023,3,9030],[3,9031,3,9038],[3,9039,3,9046],[3,9047,3,9054],[3,8975,3,8982],[3,8983,3,8990],[3,8991,3,8998],[3,8999,3,9006],[3,9007,3,9014],[3,8935,3,8942],[3,8943,3,8950],[3,8951,3,8958],[3,8959,3,8966],[3,8967,3,8974],[3,8895,3,8902],[3,8903,3,8910],[3,8911,3,8918],[3,8919,3,8926],[3,8927,3,8934],[3,8855,3,8862],[3,8863,3,8870],[3,8871,3,8878],[3,8879,3,8886],[3,8887,3,8894],[3,8815,3,8822],[3,8823,3,8830],[3,8831,3,8838],[3,8839,3,8846],[3,8847,3,8854],[3,8775,3,8782],[3,8783,3,8790],[3,8791,3,8798],[3,8799,3,8806],[3,8807,3,8814],[3,8735,3,8742],[3,8743,3,8750],[3,8751,3,8758],[3,8759,3,8766],[3,8767,3,8774],[3,8695,3,8702],[3,8703,3,8710],[3,8711,3,8718],[3,8719,3,8726],[3,8727,3,8734],[3,8655,3,8662],[3,8663,3,8670],[3,8671,3,8678],[3,8679,3,8686],[3,8687,3,8694],[3,8615,3,8622],[3,8623,3,8630],[3,8631,3,8638],[3,8639,3,8646],[3,8647,3,8654],[3,8575,3,8582],[3,8583,3,8590],[3,8591,3,8598],[3,8599,3,8606],[3,8607,3,8614],[3,8535,3,8542],[3,8543,3,8550],[3,8551,3,8558],[3,8559,3,8566],[3,8567,3,8574],[3,8495,3,8502],[3,8503,3,8510],[3,8511,3,8518],[3,8519,3,8526],[3,8527,3,8534],[3,8455,3,8462],[3,8463,3,8470],[3,8471,3,8478],[3,8479,3,8486],[3,8487,3,8494],[3,8415,3,8422],[3,8423,3,8430],[3,8431,3,8438],[3,8439,3,8446],[3,8447,3,8454],[3,8375,3,8382],[3,8383,3,8390],[3,8391,3,8398]],"merged_total":2057,"flags":["merged_cut"]}
[]
["Другие расходы из прибыли"]
[]
[{"$f":"'Инф-я'!C13","v":"ООО \"Энергетик\""}]
[]
["Показатели","2017 год ",null,"2018 год ",null,"2019 год ",null,"2020 год ",null,"2017 год","2018 год"]
[null,"Утвержденные"," Факт","Утвержденные"," Факт","Утвержденные","Ожидаемые","По данным организации","По данным экспертов","Факт по расчету экспертов","Факт по расчету экспертов"]
[1,2,3,4,5,6,7,8,9,10,11]
["Введите название","х",null,"х",null,"х"]
["Введите название","х",null,"х",null,"х"]
["Введите название","х",null,"х",null,"х"]
["Введите название","х",null,"х",null,"х"]
["Введите название","х",null,"х",null,"х"]
["Добавить"]
["Всего расходов",{"$f":"'Подконтрольные расходы'!F31","v":0},{"$f":"SUM(C9:C13)","v":0},{"$f":"'Подконтрольные расходы'!H31","v":0},{"$f":"SUM(E9:E13)","v":0},{"$f":"'Подконтрольные расходы'!J31","v":0},{"$f":"SUM(G9:G13)","v":0},{"$f":"SUM(H9:H13)","v":0},{"$f":"SUM(I9:I14)","v":0},{"$f":"SUM(J9:J14)","v":0},0]
[]
["Руководитель организации",null,null,null,{"$f":"'Инф-я'!$C$21","v":"Окунев Василий Михайлович"}]

{"sheet":"Расчет аморт. max срок ","index":22,"n_rows":110,"n_cols":23,"rows_kept":110,"cut":false,"hidden":false,"merged":[[1,0,1,19],[2,0,2,19],[4,0,5,0],[4,1,5,1],[4,2,4,3],[4,4,4,6],[4,7,4,10],[4,11,4,13],[4,14,5,14],[4,15,5,15],[21,0,21,22],[4,16,5,16],[4,17,4,18],[4,19,5,19],[4,20,5,20],[4,21,4,22],[6,0,6,22],[10,0,10,22],[11,0,11,22],[15,0,15,22],[16,0,16,22],[20,0,20,22],[82,0,82,22],[25,0,25,22],[26,0,26,22],[30,0,30,22],[31,0,31,22],[63,0,63,22],[64,0,64,22],[71,0,71,22],[72,0,72,22],[76,0,76,22],[77,0,77,22],[81,0,81,22],[99,0,99,22],[100,0,100,22],[106,0,106,22],[109,0,109,2],[109,5,109,7]]}
["Заполняется в Рублях !"]
["Расчет амортизационных отчислений основных средств, участвующих в передаче электрической энергии по максимальному сроку использования и расчет среднегодовой стоимости ОС"]
[{"$f":"'Инф-я'!C13","v":"ООО \"Энергетик\""}]
[]
["Группа учета ОС \\ Амортизационная группа \\ Основное средство, Инвентарный номер, Дата принятия к учету","Год ввода","Срок полезного использования, мес.",null,"На начало 01.01.2019 г.",null,null,"За 1 квартал 2019 года",null,null,null,"На конец 31.03.2019 г.",null,null,"Амортизация (2-4 квартал 2019)","Амортизация (2019 год)","Остаточная стоимость на начало 2020 года","Амортизация на 2020 год",null,"Остаточная стоимость на начало 2021 года","Налоговая ставка (%)","Среднегодовая остаточная стоимость ОС"]
[null,null,"бух.учет","Максимальный срок по группе ","Стоимость","Накопленная амортизация (износ)","Остаточная стоимость","Увеличение стоимости","Начисление амортизации (износа)","Уменьшение стоимости","Списание амортизации (износа)","Стоимость","Накопленная амортизация (износ)","Остаточная стоимость",null,"Амортизация (2015 год)","Остаточная стоимость на начало 2016 года","бух.учет","Максимальный срок по группе",null,null,"облагаемых по ставке 2,2 %"," необлагаемых налогом (движимое имущество)"]
["Первая группа (от 1 года до 2 лет включительно)"]
[null,null,24,24,null,null,null,null,null,null,null,null,null,null,{"$f":"IF(C8>0,IF(N8>L8/C8*9,(L8/C8*9),N8),0)","v":0},{"$f":"I8+O8","v":0},{"$f":"IF((N8-O8)>0,(N8-O8),0)","v":0},{"$f":"IF(C8>0,IF(Q8>L8/C8*12,(L8/C8*12),Q8),0)","v":0},{"$f":"IF(D8>0,IF(Q8>L8/D8*12,(L8/D8*12),Q8),0)","v":0},{"$f":"IF((Q8-R8)>0,(Q8-R8),0)","v":0},null,{"$f":"IF(U8=2.2,(T8+Q8)/2,0)","v":0},{"$f":"IF(U8=0,(T8+Q8)/2,0)","v":0}]
[null,null,null,{"$f":"$D$8","v":24},null,null,null,null,null,null,null,null,null,null,0,{"$f":"I9+O9","v":0},{"$f":"IF((N9-O9)>0,(N9-O9),0)","v":0},{"$f":"IF(C9>0,IF(Q9>L9/C9*12,(L9/C9*12),Q9),0)","v":0},{"$f":"IF(D9>0,IF(Q9>L9/D9*12,(L9/D9*12),Q9),0)","v":0},{"$f":"IF((Q9-R9)>0,(Q9-R9),0)","v":0},null,{"$f":"IF(U9=2.2,(T9+Q9)/2,0)","v":0},{"$f":"IF(U9=0,(T9+Q9)/2,0)","v":0}]
[null,null,null,{"$f":"$D$8","v":24},null,null,null,null,null,null,null,null,null,null,0,{"$f":"I10+O10","v":0},{"$f":"IF((N10-O10)>0,(N10-O10),0)","v":0},{"$f":"IF(C10>0,IF(Q10>L10/C10*12,(L10/C10*12),Q10),0)","v":0},{"$f":"IF(D10>0,IF(Q10>L10/D10*12,(L10/D10*12),Q10),0)","v":0},{"$f":"IF((Q10-R10)>0,(Q10-R10),0)","v":0},null,{"$f":"IF(U10=2.2,(T10+Q10)/2,0)","v":0},{"$f":"IF(U10=0,(T10+Q10)/2,0)","v":0}]
["Добавить"]
["Вторая группа (свыше 2 лет до 3 лет включительно)"]
[null,null,36,36,null,null,null,null,null,null,null,null,null,null,{"$f":"IF(C13>0,IF(N13>L13/C13*9,(L13/C13*9),N13),0)","v":0},{"$f":"I13+O13","v":0},{"$f":"IF((N13-O13)>0,(N13-O13),0)","v":0},{"$f":"IF(C13>0,IF(Q13>L13/C13*12,(L13/C13*12),Q13),0)","v":0},{"$f":"IF(D13>0,IF(Q13>L13/D13*12,(L13/D13*12),Q13),0)","v":0},{"$f":"IF((Q13-R13)>0,(Q13-R13),0)","v":0},2.2000000000000002,{"$f":"IF(U13=2.2,(T13+Q13)/2,0)","v":0},{"$f":"IF(U13=0,(T13+Q13)/2,0)","v":0}]
[null,null,null,{"$f":"$D$13","v":36},null,null,null,null,null,null,null,null,null,null,{"$f":"IF(C14>0,IF(N14>L14/C14*9,(L14/C14*9),N14),0)","v":0},{"$f":"I14+O14","v":0},{"$f":"IF((N14-O14)>0,(N14-O14),0)","v":0},{"$f":"IF(C14>0,IF(Q14>L14/C14*12,(L14/C14*12),Q14),0)","v":0},{"$f":"IF(D14>0,IF(Q14>L14/D14*12,(L14/D14*12),Q14),0)","v":0},{"$f":"IF((Q14-R14)>0,(Q14-R14),0)","v":0},null,{"$f":"IF(U14=2.2,(T14+Q14)/2,0)","v":0},{"$f":"IF(U14=0,(T14+Q14)/2,0)","v":0}]
[null,null,null,{"$f":"$D$13","v":36},null,null,null,null,null,null,null,null,null,null,0,{"$f":"I15+O15","v":0},{"$f":"IF((N15-O15)>0,(N15-O15),0)","v":0},{"$f":"IF(C15>0,IF(Q15>L15/C15*12,(L15/C15*12),Q15),0)","v":0},{"$f":"IF(D15>0,IF(Q15>L15/D15*12,(L15/D15*12),Q15),0)","v":0},{"$f":"IF((Q15-R15)>0,(Q15-R15),0)","v":0},null,{"$f":"IF(U15=2.2,(T15+Q15)/2,0)","v":0},{"$f":"IF(U15=0,(T15+Q15)/2,0)","v":0}]
["Добавить"]
["Третья группа (свыше 3 лет до 5 лет включительно)"]
["Зеркальная камера",null,60,60,89980,50988.78,{"$f":"E18-F18","v":38991.22},null,4499.01,89980,55487.79,null,null,null,{"$f":"IF(C18>0,IF(N18>L18/C18*9,(L18/C18*9),N18),0)","v":0},{"$f":"I18+O18","v":4499.01},{"$f":"IF((N18-O18)>0,(N18-O18),0)","v":0},{"$f":"IF(C18>0,IF(Q18>L18/C18*12,(L18/C18*12),Q18),0)","v":0},{"$f":"IF(D18>0,IF(Q18>L18/D18*12,(L18/D18*12),Q18),0)","v":0},{"$f":"IF((Q18-R18)>0,(Q18-R18),0)","v":0},null,{"$f":"IF(U18=2.2,(T18+Q18)/2,0)","v":0},{"$f":"IF(U18=0,(T18+Q18)/2,0)","v":0}]
["Планшет 12,9* Apple IPAD Pro Wi-Fi",null,60,{"$f":"$D$18","v":60},76990,72712.7,4277.3,null,4277.26,76990,76990,null,null,null,0,{"$f":"I19+O19","v":4277.26},{"$f":"IF((N19-O19)>0,(N19-O19),0)","v":0},{"$f":"IF(C19>0,IF(Q19>L19/C19*12,(L19/C19*12),Q19),0)","v":0},{"$f":"IF(D19>0,IF(Q19>L19/D19*12,(L19/D19*12),Q19),0)","v":0},{"$f":"IF((Q19-R19)>0,(Q19-R19),0)","v":0},null,{"$f":"IF(U19=2.2,(T19+Q19)/2,0)","v":0},{"$f":"IF(U19=0,(T19+Q19)/2,0)","v":0}]
[null,null,null,{"$f":"$D$18","v":60},null,null,null,null,null,null,null,null,null,null,0,{"$f":"I20+O20","v":0},{"$f":"IF((N20-O20)>0,(N20-O20),0)","v":0},{"$f":"IF(C20>0,IF(Q20>L20/C20*12,(L20/C20*12),Q20),0)","v":0},{"$f":"IF(D20>0,IF(Q20>L20/D20*12,(L20/D20*12),Q20),0)","v":0},{"$f":"IF((Q20-R20)>0,(Q20-R20),0)","v":0},null,{"$f":"IF(U20=2.2,(T20+Q20)/2,0)","v":0},{"$f":"IF(U20=0,(T20+Q20)/2,0)","v":0}]
["Добавить"]
["Четвертая группа (свыше 5 лет до 7 лет включительно)"]
["Подъемник 2-х стоечный электрогидравлический",null,84,84,162000,39876.959999999999,{"$f":"E23-F23","v":122123.04000000001},null,7476.93,162000,47353.89,null,null,null,{"$f":"IF(C23>0,IF(N23>L23/C23*9,(L23/C23*9),N23),0)","v":0},{"$f":"I23+O23","v":7476.93},{"$f":"IF((N23-O23)>0,(N23-O23),0)","v":0},{"$f":"IF(C23>0,IF(Q23>L23/C23*12,(L23/C23*12),Q23),0)","v":0},{"$f":"IF(D23>0,IF(Q23>L23/D23*12,(L23/D23*12),Q23),0)","v":0},{"$f":"IF((Q23-R23)>0,(Q23-R23),0)","v":0},null,{"$f":"IF(U23=2.2,(T23+Q23)/2,0)","v":0},{"$f":"IF(U23=0,(T23+Q23)/2,0)","v":0}]
["Подъемник 2-х стоечный электрогидравлический",null,84,{"$f":"$D$23","v":84},162000,59815.44,102184.56,null,7476.93,162000,67292.37,null,null,null,0,{"$f":"I24+O24","v":7476.93},{"$f":"IF((N24-O24)>0,(N24-O24),0)","v":0},{"$f":"IF(C24>0,IF(Q24>L24/C24*12,(L24/C24*12),Q24),0)","v":0},{"$f":"IF(D24>0,IF(Q24>L24/D24*12,(L24/D24*12),Q24),0)","v":0},{"$f":"IF((Q24-R24)>0,(Q24-R24),0)","v":0},null,{"$f":"IF(U24=2.2,(T24+Q24)/2,0)","v":0},{"$f":"IF(U24=0,(T24+Q24)/2,0)","v":0}]
[null,null,null,{"$f":"$D$23","v":84},null,null,null,null,null,null,null,null,null,null,0,{"$f":"I25+O25","v":0},{"$f":"IF((N25-O25)>0,(N25-O25),0)","v":0},{"$f":"IF(C25>0,IF(Q25>L25/C25*12,(L25/C25*12),Q25),0)","v":0},{"$f":"IF(D25>0,IF(Q25>L25/D25*12,(L25/D25*12),Q25),0)","v":0},{"$f":"IF((Q25-R25)>0,(Q25-R25),0)","v":0},null,{"$f":"IF(U25=2.2,(T25+Q25)/2,0)","v":0},{"$f":"IF(U25=0,(T25+Q25)/2,0)","v":0}]
["Добавить"]
["Пятая группа (свыше 7 лет до 10 лет включительно)"]
["Аппарат высокого давления 1,286-500 HD 10/25-4 SX",null,120,120,116394,39767.949999999997,{"$f":"E28-F28","v":76626.05},null,2909.85,116394,42677.8,null,null,null,{"$f":"IF(C28>0,IF(N28>L28/C28*9,(L28/C28*9),N28),0)","v":0},{"$f":"I28+O28","v":2909.85},{"$f":"IF((N28-O28)>0,(N28-O28),0)","v":0},{"$f":"IF(C28>0,IF(Q28>L28/C28*12,(L28/C28*12),Q28),0)","v":0},{"$f":"IF(D28>0,IF(Q28>L28/D28*12,(L28/D28*12),Q28),0)","v":0},{"$f":"IF((Q28-R28)>0,(Q28-R28),0)","v":0},null,{"$f":"IF(U28=2.2,(T28+Q28)/2,0)","v":0},{"$f":"IF(U28=0,(T28+Q28)/2,0)","v":0}]
[null,null,null,{"$f":"$D$28","v":120},null,null,null,null,null,null,null,null,null,null,0,{"$f":"I29+O29","v":0},{"$f":"IF((N29-O29)>0,(N29-O29),0)","v":0},{"$f":"IF(C29>0,IF(Q29>L29/C29*12,(L29/C29*12),Q29),0)","v":0},{"$f":"IF(D29>0,IF(Q29>L29/D29*12,(L29/D29*12),Q29),0)","v":0},{"$f":"IF((Q29-R29)>0,(Q29-R29),0)","v":0},null,{"$f":"IF(U29=2.2,(T29+Q29)/2,0)","v":0},{"$f":"IF(U29=0,(T29+Q29)/2,0)","v":0}]
[null,null,null,{"$f":"$D$28","v":120},null,null,null,null,null,null,null,null,null,null,0,{"$f":"I30+O30","v":0},{"$f":"IF((N30-O30)>0,(N30-O30),0)","v":0},{"$f":"IF(C30>0,IF(Q30>L30/C30*12,(L30/C30*12),Q30),0)","v":0},{"$f":"IF(D30>0,IF(Q30>L30/D30*12,(L30/D30*12),Q30),0)","v":0},{"$f":"IF((Q30-R30)>0,(Q30-R30),0)","v":0},null,{"$f":"IF(U30=2.2,(T30+Q30)/2,0)","v":0},{"$f":"IF(U30=0,(T30+Q30)/2,0)","v":0}]
["Добавить"]
["Шестая группа (свыше 10 лет до 15 лет включительно)"]
[" Возд. двухц(ВЛ)10кВ от ПС\"Караб.\"доТП13ф1003,1005",null,180,180,1398812.18,544138.57999999996,{"$f":"E33-F33","v":854673.6},null,23313.54,null,null,{"$f":"E33","v":1398812.18},{"$f":"F33+I33","v":567452.12},{"$f":"L33-M33","v":831360.05999999994},{"$f":"IF(C33>0,IF(N33>L33/C33*9,(L33/C33*9),N33),0)","v":69940.608999999997},{"$f":"I33+O33","v":93254.149000000005},{"$f":"IF((N33-O33)>0,(N33-O33),0)","v":761419.45099999988},{"$f":"IF(C33>0,IF(Q33>L33/C33*12,(L33/C33*12),Q33),0)","v":93254.145333333319},{"$f":"IF(D33>0,IF(Q33>L33/D33*12,(L33/D33*12),Q33),0)","v":93254.145333333319},{"$f":"IF((Q33-R33)>0,(Q33-R33),0)","v":668165.30566666659},null,{"$f":"IF(U33=2.2,(T33+Q33)/2,0)","v":0},{"$f":"IF(U33=0,(T33+Q33)/2,0)","v":714792.37833333318}]
["Возд. одноц(ВЛ)10кВ от ТП 2 до ТП 62ф1003",null,180,{"$f":"$D$57","v":180},659289.64,307668.47999999998,351621.16000000003,null,10988.16,null,null,{"$f":"E34","v":659289.64},{"$f":"F34+I34","v":318656.63999999996},340633.00000000006,32964.482000000004,43952.642000000007,307668.51800000004,43952.642666666667,43952.642666666667,263715.87533333339,null,0,285692.19666666671]
[" Возд. одноц(ВЛ)10кВ от ТП 55 до ТП 57ф1022",null,180,{"$f":"$D$57","v":180},748971.92,320393.92,428578.00000000006,null,12482.88,null,null,748971.92,332876.79999999999,416095.12000000005,37448.596000000005,49931.476000000002,378646.52400000003,49931.46133333334,49931.46133333334,328715.06266666669,null,0,353680.79333333333]
[" Возд. одноц(ВЛ)10кВ от ТП 55 до ТП3ф1022",null,180,180,558227.64,260505.84,297721.80000000005,null,9303.7800000000007,null,null,558227.64,269809.62,288418.02,27911.382000000001,37215.162000000004,260506.63800000001,37215.176000000007,37215.176000000007,223291.462,null,0,241899.05]
[" Возд. одноц(ВЛ)10кВ от ТП 55 до ТП54ф1022",null,180,{"$f":"$D$57","v":180},400737.9,187010.88,213727.02000000002,null,6678.96,null,null,400737.9,193689.84,207048.06000000003,20036.895,26715.855,187011.16500000004,26715.86,26715.86,160295.30500000005,null,0,173653.23500000004]
["Возд-каб. двухц(ВЛ)10кВ от ТП 1 до ТП 63ф1003,1005",null,180,{"$f":"$D$57","v":180},2303696.7200000002,838696.95,1464999.7700000003,null,38394.959999999999,null,null,2303696.7200000002,877091.90999999992,1426604.8100000003,115184.83600000001,153579.796,1311419.9740000004,153579.78133333335,153579.78133333335,1157840.192666667,null,0,1234630.0833333337]
[" Возд-каб. двухц(ВЛ+КЛ)10кВотПС\"Караб\"доТП51",null,180,180,8415145.5199999996,2804959.87,5610185.6499999994,null,140252.43,null,null,8415145.5199999996,2945212.3000000003,5469933.2199999988,420757.27599999995,561009.70600000001,5049175.9439999992,561009.70133333327,561009.70133333327,4488166.2426666655,null,0,4768671.0933333319]
["Воздушн. одноц.(ВЛ)10кВ от ТП8 до ТП83,84 ф1001",null,180,{"$f":"$D$57","v":180},616520.09,205506.6,411013.49,null,10275.33,null,null,616520.09,215781.93,400738.16,30826.004499999999,41101.334499999997,369912.15549999999,41101.33933333333,41101.33933333333,328810.81616666669,null,0,349361.48583333334]
["Воздушн. одноцеп. (ВЛ) 10кВ от ТП39 до ТП40 ф1004",null,180,{"$f":"$D$57","v":180},700537.25,245187.81,455349.44,null,11675.61,null,null,700537.25,256863.41999999998,443673.83,35026.862500000003,46702.472500000003,408646.96750000003,46702.483333333337,46702.483333333337,361944.48416666669,null,0,385295.72583333333]
[" Воздушн. одноцеп. (ВЛ) 10кВ отТП38 доТП39 ф1004",null,180,180,1096068.19,383624.01,712444.17999999993,null,18267.810000000001,null,null,1096068.19,401891.82,694176.36999999988,{"$f":"IF(C42>0,IF(N42>L42/C42*9,(L42/C42*9),N42),0)","v":54803.409499999994},73071.219499999992,639372.96049999993,73071.212666666659,73071.212666666659,566301.74783333321,null,0,602837.35416666651]
[" Воздушн. одноцеп. (ВЛ) 10кВ отТП40 доТП58/37 ф1004",null,180,{"$f":"$D$57","v":180},537327.69999999995,188064.45,349263.24999999994,null,8955.4500000000007,null,null,537327.69999999995,197019.90000000002,340307.79999999993,26866.384999999998,35821.834999999999,313441.41499999992,35821.846666666665,35821.846666666665,277619.56833333324,null,0,295530.49166666658]
["Воздушн. одноцеп. (ВЛ) 10кВ отТП55 доТП56 ф1022",null,180,{"$f":"$D$57","v":180},833308.07,291657.87,541650.19999999995,null,13888.47,null,null,833308.07,305546.33999999997,527761.73,41665.4035,55553.873500000002,486096.32649999997,55553.871333333329,55553.871333333329,430542.45516666665,null,0,458319.39083333331]
[" Воздушн. одноцеп. (ВЛ) 10кВ отТП56 доТП82/20 ф1022",null,180,180,429493.27,150322.41,279170.86,null,7158.21,null,null,429493.27,157480.62,272012.65000000002,21474.663500000002,28632.873500000002,250537.98650000003,28632.884666666669,28632.884666666669,221905.10183333335,null,0,236221.54416666669]
["Воздушн. одноцеп.(ВЛ)10кВ от опоры №16доТП44 ф1001",null,180,{"$f":"$D$57","v":180},187578.58,62526,125052.57999999999,null,3126.3,null,null,187578.58,65652.3,121926.27999999998,9378.9290000000001,12505.228999999999,112547.35099999998,12505.238666666668,12505.238666666668,100042.11233333331,null,0,106294.73166666664]
[" Воздушная двухц(ВЛ)10кВ от ТП1 до ТП61 ф1003,1005",null,180,{"$f":"$D$57","v":180},641304.05000000005,299275.2,342028.85000000003,null,10688.4,null,null,641304.05000000005,309963.60000000003,331340.45,32065.202499999999,42753.602500000001,299275.2475,42753.603333333333,42753.603333333333,256521.64416666667,null,0,277898.4458333333]
[" Воздушная двухц(ВЛ)10кВ от ТП13 до ТП1 ф1003,1005",null,180,180,2130397.7200000002,778874.84,1351522.8800000004,null,35506.620000000003,null,null,2130397.7200000002,814381.46,1316016.2600000002,{"$f":"IF(C48>0,IF(N48>L48/C48*9,(L48/C48*9),N48),0)","v":106519.886},142026.50599999999,1209496.3740000003,142026.51466666668,142026.51466666668,1067469.8593333336,null,0,1138483.1166666669]
[" Воздушная двухц(ВЛ)10кВ от ТП9-ТП8-ТП32-ТП18 ф1001,1005",null,180,{"$f":"$D$57","v":180},4547113.62,1364133.96,3182979.66,null,75785.22,null,null,4547113.62,1439919.18,3107194.4400000004,227355.68100000001,303140.90100000001,2879838.7590000005,303140.90800000005,303140.90800000005,2576697.8510000007,null,0,2728268.3050000006]
["ВЛ 10кВ ТП №11-ТП №66 Ф 1001",null,180,{"$f":"$D$57","v":180},2604937.89,564403.31999999995,2040534.5700000003,null,43415.64,null,null,2604937.89,607818.96,1997118.9300000002,130246.89450000001,173662.53450000001,1866872.0355000002,173662.52600000001,173662.52600000001,1693209.5095000002,null,0,1780040.7725000002]
["ВЛ 10кВ ТП №12-ТП №11 Ф 1001",null,180,180,1804578.12,421068.06,1383510.06,null,30076.29,null,null,1804578.12,451144.35,1353433.77,90228.906000000017,120305.19600000003,1263204.8640000001,120305.20800000001,120305.20800000001,1142899.656,null,0,1203052.26]
["ВЛ 0,4 кВ и мачтовые подстанции №94 ул.Первомайская, №90 ул.Пионерская, №97 ВРУ 0,4 кВ",null,180,{"$f":"$D$57","v":180},8559056.2200000007,998556.51,7560499.7100000009,null,142650.93,null,null,8559056.2200000007,1141207.44,7417848.7800000012,427952.81099999999,570603.74099999992,6989895.9690000014,570603.74800000002,570603.74800000002,6419292.2210000018,null,0,6704594.0950000016]
["ВЛ 10 кВ и мачтовые подстанции №93 СНТ \"Заря\" и №92 ул.Красногорская",null,180,{"$f":"$D$57","v":180},1460815.16,170428.44,1290386.72,null,24346.92,null,null,1460815.16,194775.36,1266039.7999999998,73040.758000000002,97387.678,1192999.0419999999,97387.677333333326,97387.677333333326,1095611.3646666666,null,0,1144305.2033333331]
["ВЛ от ТП 24 до ул. Мира 30А",null,180,180,171464.46,40008.36,131456.09999999998,null,2857.74,null,null,171464.46,42866.1,128598.35999999999,8573.223,11430.963,120025.13699999999,11430.964,11430.964,108594.17299999998,null,0,114309.65499999998]
["ВЛ от ТП 32 по ул. Красноармейская с подкл. В ТП 18",null,180,{"$f":"$D$57","v":180},245516.82,57287.16,188229.66,null,4091.94,null,null,245516.82,61379.100000000006,184137.72,12275.841,16367.781000000001,171861.87900000002,16367.788,16367.788,155494.09100000001,null,0,163677.98500000002]
["Воздушная линия 10 кВ Ф1004",null,180,{"$f":"$D$57","v":180},5287101.45,616828.59,4670272.8600000003,null,88118.37,null,null,5287101.45,704946.96,4582154.49,264355.07250000001,352473.4425,4317799.4175000004,352473.43000000005,352473.43000000005,3965325.9875000003,null,0,4141562.7025000006]
["Воздушная двухц(ВЛ)10кВ от ТП2 до ТП22 ф1003,1005",null,180,180,192147.14,89668.32,102478.82,null,3202.44,null,null,192147.14,92870.760000000009,99276.38,{"$f":"IF(C57>0,IF(N57>L57/C57*9,(L57/C57*9),N57),0)","v":9607.357},12809.797,89669.023000000001,12809.809333333335,12809.809333333335,76859.213666666663,null,0,83264.118333333332]
["ВЛ 10кВ энергетический комплекс \"Больница\" Ф 1001",null,180,{"$f":"$D$57","v":180},4726559.22,288845.26,4437713.96,null,78775.98,null,null,4726559.22,367621.24,4358937.9799999995,236327.96100000001,315103.94099999999,4122610.0189999994,315103.94799999997,315103.94799999997,3807506.0709999995,null,0,3965058.0449999995]
["Воздушная линия 0,4 кВ от ТП45",2018,180,180,4600845.55,0,{"$f":"E59-F59","v":4600845.55},null,76680.75,null,null,{"$f":"E59","v":4600845.55},{"$f":"F59+I59","v":76680.75},{"$f":"L59-M59","v":4524164.8},{"$f":"IF(C59>0,IF(N59>L59/C59*9,(L59/C59*9),N59),0)","v":230042.27749999997},306723.02749999997,4294122.5225,306723.03666666662,306723.03666666662,3987399.4858333333,null,0,4140761.0041666664]
["ВЛ 10 кВ (двухцепная) от ПС \"Карабаново\" до ТП12 Ф1001 ул.Иванова",2019,180,180,null,null,0,null,null,null,null,3604938.1,0,3604938.1,180246.905,180246.905,3424691.1950000003,240329.20666666667,240329.20666666667,3184361.9883333337,null,0,3304526.5916666668]
["ВЛ 10 кВ (двухцепная) от ТП10 до ТП27 Ф1001 ул.Горького-Больничный городок",2019,180,180,null,null,0,null,null,null,null,2138149.4,0,2138149.4,106907.47,106907.47,2031241.93,142543.29333333333,142543.29333333333,1888698.6366666667,null,0,1959970.2833333332]
["ВЛ 10 кВ (двухцепная) от ТП12 до ТП62 Ф1001 ул.Иванова-2я Школьная",2019,180,180,null,null,0,null,null,null,null,1783832.9,0,1783832.9,89191.645000000004,89191.645000000004,1694641.2549999999,118922.19333333333,118922.19333333333,1575719.0616666665,null,0,1635180.1583333332]
["ВЛ 10 кВ ТП9-ТП62",2018,180,180,1554512.01,17272.36,1537239.65,null,25908.54,null,null,{"$f":"E63","v":1554512.01},{"$f":"F63+I63","v":43180.9},{"$f":"L63-M63","v":1511331.11},77725.6005,103634.14050000001,1433605.5095000002,103634.13399999999,103634.13399999999,1329971.3755000001,null,0,1381788.4425000001]
["Добавить"]
["Седьмая группа (свыше 15 лет до 20 лет включительно)"]
[" Трансформаторная подстанция ТП 61 10/0,4-250кВА",null,240,240,1636018.1,572606.16,{"$f":"E66-F66","v":1063411.94},null,20450.22,null,null,{"$f":"E66","v":1636018.1},{"$f":"F66+I66","v":593056.38},{"$f":"L66-M66","v":1042961.7200000001},{"$f":"IF(C66>0,IF(N66>L66/C66*9,(L66/C66*9),N66),0)","v":61350.678749999999},{"$f":"I66+O66","v":81800.898749999993},{"$f":"IF((N66-O66)>0,(N66-O66),0)","v":981611.04125000013},{"$f":"IF(C66>0,IF(Q66>L66/C66*12,(L66/C66*12),Q66),0)","v":81800.904999999999},{"$f":"IF(D66>0,IF(Q66>L66/D66*12,(L66/D66*12),Q66),0)","v":81800.904999999999},{"$f":"IF((Q66-R66)>0,(Q66-R66),0)","v":899810.1362500001},null,{"$f":"IF(U66=2.2,(T66+Q66)/2,0)","v":0},{"$f":"IF(U66=0,(T66+Q66)/2,0)","v":940710.58875000011}]
[" Трансформаторная подстанция ТП 66 10/0,4-250кВА",null,240,{"$f":"$D$69","v":240},1653625.37,496087.92,1157537.4500000002,null,20670.330000000002,null,null,{"$f":"E67","v":1653625.37},{"$f":"F67+I67","v":516758.25},{"$f":"L67-M67","v":1136867.1200000001},62010.951375000004,82681.281375000006,1074856.1686250002,82681.268500000006,82681.268500000006,992174.90012500016,null,0,1033515.5343750002]
[" Мачтовая ТП 95 10/0,4-100кВА",null,240,{"$f":"$D$69","v":240},334555.90999999997,75274.92,259280.99,null,4181.9399999999996,null,null,334555.90999999997,79456.86,255099.05,12545.846625,16727.786625000001,242553.20337499998,16727.7955,16727.7955,225825.40787499998,null,0,234189.30562499998]
[" Мачтовая ТП 96 10/0,4-100кВА",null,240,240,334555.90999999997,75274.92,259280.99,null,4181.9399999999996,null,null,334555.90999999997,79456.86,255099.05,{"$f":"IF(C69>0,IF(N69>L69/C69*9,(L69/C69*9),N69),0)","v":12545.846625},16727.786625000001,242553.20337499998,16727.7955,16727.7955,225825.40787499998,null,0,234189.30562499998]
["АИИС КУЭ",null,192,{"$f":"$D$69","v":240},15315771.43,6169431.9400000004,9146339.4899999984,null,239308.92,null,null,15315771.43,6408740.8600000003,8907030.5700000003,717926.78578124999,957235.70578125003,8189103.78421875,957235.71437499998,765788.57149999996,7231868.0698437504,null,0,7710485.9270312507]
["Мачтовая ТП 88 ул. Чулкова",null,240,{"$f":"$D$69","v":240},296331.11,28398.33,267932.77999999997,null,3704.13,null,null,296331.11,32102.460000000003,264228.64999999997,11112.416625,14816.546624999999,253116.23337499995,14816.555499999999,14816.555499999999,238299.67787499996,null,0,245707.95562499994]
["Добавить"]
["Восьмая группа (свыше 20 лет до 25 лет включительно)"]
[null,null,null,300,null,null,null,null,null,null,null,null,null,null,{"$f":"IF(C74>0,IF(N74>L74/C74*9,(L74/C74*9),N74),0)","v":0},{"$f":"I74+O74","v":0},{"$f":"IF((N74-O74)>0,(N74-O74),0)","v":0},{"$f":"IF(C74>0,IF(Q74>L74/C74*12,(L74/C74*12),Q74),0)","v":0},{"$f":"IF(D74>0,IF(Q74>L74/D74*12,(L74/D74*12),Q74),0)","v":0},{"$f":"IF((Q74-R74)>0,(Q74-R74),0)","v":0},null,{"$f":"IF(U74=2.2,(T74+Q74)/2,0)","v":0},{"$f":"IF(U74=0,(T74+Q74)/2,0)","v":0}]
[null,null,null,{"$f":"$D$74","v":300},null,null,null,null,null,null,null,null,null,null,0,{"$f":"I75+O75","v":0},{"$f":"IF((N75-O75)>0,(N75-O75),0)","v":0},{"$f":"IF(C75>0,IF(Q75>L75/C75*12,(L75/C75*12),Q75),0)","v":0},{"$f":"IF(D75>0,IF(Q75>L75/D75*12,(L75/D75*12),Q75),0)","v":0},{"$f":"IF((Q75-R75)>0,(Q75-R75),0)","v":0},null,{"$f":"IF(U75=2.2,(T75+Q75)/2,0)","v":0},{"$f":"IF(U75=0,(T75+Q75)/2,0)","v":0}]
[null,null,null,{"$f":"$D$74","v":300},null,null,null,null,null,null,null,null,null,null,0,{"$f":"I76+O76","v":0},{"$f":"IF((N76-O76)>0,(N76-O76),0)","v":0},{"$f":"IF(C76>0,IF(Q76>L76/C76*12,(L76/C76*12),Q76),0)","v":0},{"$f":"IF(D76>0,IF(Q76>L76/D76*12,(L76/D76*12),Q76),0)","v":0},{"$f":"IF((Q76-R76)>0,(Q76-R76),0)","v":0},null,{"$f":"IF(U76=2.2,(T76+Q76)/2,0)","v":0},{"$f":"IF(U76=0,(T76+Q76)/2,0)","v":0}]
["Добавить"]
["Девятая группа (свыше 25 лет до 30 лет включительно)"]
[" Трансформаторная подстанция ТП 44 10/0,4-250кВА",null,360,360,298798.03000000003,49799.4,{"$f":"E79-F79","v":248998.63000000003},null,2489.9699999999998,null,null,{"$f":"E79","v":298798.03000000003},{"$f":"F79+I79","v":52289.37},{"$f":"L79-M79","v":246508.66000000003},{"$f":"IF(C79>0,IF(N79>L79/C79*9,(L79/C79*9),N79),0)","v":7469.9507500000009},{"$f":"I79+O79","v":9959.9207500000011},{"$f":"IF((N79-O79)>0,(N79-O79),0)","v":239038.70925000004},{"$f":"IF(C79>0,IF(Q79>L79/C79*12,(L79/C79*12),Q79),0)","v":9959.9343333333345},{"$f":"IF(D79>0,IF(Q79>L79/D79*12,(L79/D79*12),Q79),0)","v":9959.9343333333345},{"$f":"IF((Q79-R79)>0,(Q79-R79),0)","v":229078.77491666671},null,{"$f":"IF(U79=2.2,(T79+Q79)/2,0)","v":0},{"$f":"IF(U79=0,(T79+Q79)/2,0)","v":234058.74208333337}]
[null,null,null,{"$f":"$D$79","v":360},null,null,null,null,null,null,null,null,null,null,0,{"$f":"I80+O80","v":0},{"$f":"IF((N80-O80)>0,(N80-O80),0)","v":0},{"$f":"IF(C80>0,IF(Q80>L80/C80*12,(L80/C80*12),Q80),0)","v":0},{"$f":"IF(D80>0,IF(Q80>L80/D80*12,(L80/D80*12),Q80),0)","v":0},{"$f":"IF((Q80-R80)>0,(Q80-R80),0)","v":0},null,{"$f":"IF(U80=2.2,(T80+Q80)/2,0)","v":0},{"$f":"IF(U80=0,(T80+Q80)/2,0)","v":0}]
[null,null,null,{"$f":"$D$79","v":360},null,null,null,null,null,null,null,null,null,null,0,{"$f":"I81+O81","v":0},{"$f":"IF((N81-O81)>0,(N81-O81),0)","v":0},{"$f":"IF(C81>0,IF(Q81>L81/C81*12,(L81/C81*12),Q81),0)","v":0},{"$f":"IF(D81>0,IF(Q81>L81/D81*12,(L81/D81*12),Q81),0)","v":0},{"$f":"IF((Q81-R81)>0,(Q81-R81),0)","v":0},null,{"$f":"IF(U81=2.2,(T81+Q81)/2,0)","v":0},{"$f":"IF(U81=0,(T81+Q81)/2,0)","v":0}]
["Добавить"]
["Десятая группа (свыше 30 лет)"]
[" Трансформаторная подстанция ТП 38 10/0,4-250кВА",null,479.99956400174403,{"$f":"MAX(361,C84)","v":479.99956400174403},1200003.71,150000.6,{"$f":"E84-F84","v":1050003.1099999999},null,7500.03,null,null,{"$f":"E84","v":1200003.71},{"$f":"F84+I84","v":157500.63},{"$f":"L84-M84","v":1042503.08},{"$f":"IF(C84>0,IF(N84>L84/C84*9,(L84/C84*9),N84),0)","v":22500.089999999997},{"$f":"I84+O84","v":30000.119999999995},{"$f":"IF((N84-O84)>0,(N84-O84),0)","v":1020002.99},{"$f":"IF(C84>0,IF(Q84>L84/C84*12,(L84/C84*12),Q84),0)","v":30000.119999999995},{"$f":"IF(D84>0,IF(Q84>L84/D84*12,(L84/D84*12),Q84),0)","v":30000.119999999995},{"$f":"IF((Q84-R84)>0,(Q84-R84),0)","v":990002.87},null,{"$f":"IF(U84=2.2,(T84+Q84)/2,0)","v":0},{"$f":"IF(U84=0,(T84+Q84)/2,0)","v":1005002.9299999999}]
[" Трансформаторная подстанция ТП 39 10/0,4-250кВА",null,479.99999165287079,{"$f":"MAX(361,C85)","v":479.99999165287079},1725143.97,215643,1509500.97,null,10782.15,null,null,1725143.97,226425.15,1498718.82,32346.449999999993,43128.599999999991,1466372.37,43128.599999999991,43128.599999999991,1423243.77,null,0,1444808.07]
[" Трансформаторная подстанция ТП 45 10/0,4-250кВА",null,600.00067556451631,600.00067556451631,1714123.93,254093.52,1460030.41,null,8570.61,null,null,1714123.93,262664.13,1451459.7999999998,25711.83,34282.44,1425747.9699999997,34282.44,34282.44,1391465.5299999998,null,0,1408606.7499999998]
[" Трансформаторная подстанция ТП 51 Очистные сооружения",null,599.99971256149593,{"$f":"MAX(361,C87)","v":599.99971256149593},4153930.01,415393.2,3738536.8099999996,null,20769.66,null,null,4153930.01,436162.86,3717767.15,{"$f":"IF(C87>0,IF(N87>L87/C87*9,(L87/C87*9),N87),0)","v":62308.98},83078.64,3655458.17,83078.64,83078.64,3572379.53,null,0,3613918.8499999996]
[" Трансформаторная подстанция ТП 54 10/0,4-250кВА",null,479.99990465669839,479.99990465669839,1459986.91,319883.15999999997,1140103.75,null,9124.92,null,null,1459986.91,329008.07999999996,1130978.83,27374.759999999995,36499.679999999993,1103604.07,36499.679999999993,36499.679999999993,1067104.3900000001,null,0,1085354.23]
[" Трансформаторная подстанция ТП 55 10/0,4-400кВА",null,480.00002044724948,480.00002044724948,2112753.69,365056.04,1747697.65,null,13204.71,null,null,2112753.69,378260.75,1734492.94,39614.129999999997,52818.84,1694878.81,52818.84,52818.84,1642059.97,null,0,1668469.3900000001]
[" Трансформаторная подстанция ТП 56 10/0,4-400кВА*2",null,599.9999424645664,599.9999424645664,3337073.68,333707.40000000002,3003366.2800000003,null,16685.37,null,null,3337073.68,350392.77,2986680.91,50056.109999999993,66741.48,2936624.8000000003,66741.479999999981,66741.479999999981,2869883.3200000003,null,0,2903254.0600000005]
[" Трансформаторная подстанция ТП 62 10/0,4-400кВА",null,600.00037774829059,600.00037774829059,4367990.75,610230.86,3757759.89,null,21839.94,null,null,4367990.75,632070.79999999993,3735919.95,65519.819999999992,87359.76,3670400.1300000004,87359.76,87359.76,3583040.3700000006,null,0,3626720.2500000005]
[" Трансформаторная подстанция ТП 63 10/0,4-400кВА*2",null,599.99966758940081,599.99966758940081,4241739.6500000004,424174.2,3817565.45,null,21208.71,null,null,4241739.6500000004,445382.91000000003,3796356.74,63626.13,84834.84,3732730.6100000003,84834.84,84834.84,3647895.7700000005,null,0,3690313.1900000004]
[" Трансформаторная подстанция ТП 91 10/0,4-250кВА",null,479.99976604428809,479.99976604428809,1702885.57,212860.79999999999,1490024.77,null,10643.04,null,null,1702885.57,223503.84,1479381.73,31929.120000000003,42572.160000000003,1447452.6099999999,42572.160000000003,42572.160000000003,1404880.45,null,0,1426166.5299999998]
[" Трансформаторная подстанция ТП 10 10/0,4-100кВА",null,599.99941718394518,599.99941718394518,1708942.34,102536.64,1606405.7000000002,null,8544.7199999999993,null,null,1708942.34,111081.36,1597860.98,25634.160000000003,34178.880000000005,1572226.82,34178.880000000005,34178.880000000005,1538047.94,null,0,1555137.38]
[" Трансформаторная подстанция ТП 11 10/0,4-250кВА",null,600.00084675522498,600.00084675522498,1339231.8899999999,80353.8,1258878.0899999999,null,6696.15,null,null,1339231.8899999999,87049.95,1252181.94,20088.449999999997,26784.6,1232093.49,26784.6,26784.6,1205308.8899999999,null,0,1218701.19]
[" Трансформаторная подстанция ТП 37 10/0,4-250кВА*2",null,599.9992536559198,599.9992536559198,2315283.12,138917.16,2176365.96,null,11576.43,null,null,2315283.12,150493.59,2164789.5300000003,34729.29,46305.72,2130060.2400000002,46305.72,46305.72,2083754.5200000003,null,0,2106907.3800000004]
["Подстанция ТП-13",null,600.00210828592708,600.00210828592708,660254.31999999995,39615.120000000003,620639.19999999995,null,3301.26,null,null,660254.31999999995,42916.380000000005,617337.93999999994,9903.7800000000007,13205.04,607434.15999999992,13205.04,13205.04,594229.11999999988,null,0,600831.6399999999]
["Подстанция ТП-2",null,599.99929441906033,599.99929441906033,875872.97,52552.44,823320.53,null,4379.37,null,null,875872.97,56931.810000000005,818941.15999999992,13138.109999999997,17517.479999999996,805803.04999999993,17517.479999999996,17517.479999999996,788285.57,null,0,797044.30999999994]
["КТП 41 ул. Мира",null,480,480,5933777.6699999999,135982.44,5797795.2299999995,null,37086.120000000003,null,null,5933777.6699999999,173068.56,5760709.1100000003,111258.3313125,148344.45131249999,5649450.7786875004,148344.44175,148344.44175,5501106.3369375002,null,0,5575278.5578125007]
["Добавить"]
["Неамортизируемое имущество (Земельные участки)"]
[null,null,null,null,null,null,null,null,null,null,null,null,null,null,"х","х","х","х","х",{"$f":"Q102","v":"х"},"х","х","х"]
[null,null,null,null,null,null,null,null,null,null,null,null,null,null,"х","х","х","х","х",{"$f":"Q103","v":"х"},"х","х","х"]
[null,null,null,null,null,null,null,null,null,null,null,null,null,null,"х","х","х","х","х",{"$f":"Q104","v":"х"},"х","х","х"]
[null,null,null,null,null,null,null,null,null,null,null,null,null,null,"х","х","х","х","х",{"$f":"Q105","v":"х"},"х","х","х"]
[null,null,null,null,null,null,null,null,null,null,null,null,null,null,"х","х","х","х","х",{"$f":"Q106","v":"х"},"х","х","х"]
["Добавить"]
["Итого","x","x","x",{"$f":"SUM(E8:E10)+SUM(E13:E15)+SUM(E18:E20)+SUM(E23:E25)+SUM(E28:E30)+SUM(E33:E63)+SUM(E66:E71)+SUM(E74:E76)+SUM(E79:E81)+SUM(E84:E99)+SUM(E102:E106)","v":116738078.13999999},24077949.849999998,92660128.289999992,0,1490408.2899999998,607364,289801.84999999998,123657634.53999999,25278556.330000002,98379078.210000008,4767651.2428437499,6258059.53284375,93611426.967156261,6356868.3237916669,{"$f":"SUM(S8:S10)+SUM(S13:S15)+SUM(S18:S20)+SUM(S23:S25)+SUM(S28:S30)+SUM(S33:S63)+SUM(S66:S71)+SUM(S74:S76)+SUM(S79:S81)+SUM(S84:S99)+SUM(S102:S106)","v":6165421.180916667},{"$f":"SUM(T8:T10)+SUM(T13:T15)+SUM(T18:T20)+SUM(T23:T25)+SUM(T28:T30)+SUM(T33:T63)+SUM(T66:T71)+SUM(T74:T76)+SUM(T79:T81)+SUM(T84:T99)+SUM(T102:T106)","v":87254558.643364593},"х",{"$f":"SUM(V8:V10)+SUM(V13:V15)+SUM(V18:V20)+SUM(V23:V25)+SUM(V28:V30)+SUM(V33:V63)+SUM(V66:V71)+SUM(V74:V76)+SUM(V79:V81)+SUM(V84:V99)+SUM(V102:V106)","v":0},{"$f":"SUM(W8:W10)+SUM(W13:W15)+SUM(W18:W20)+SUM(W23:W25)+SUM(W28:W30)+SUM(W33:W63)+SUM(W66:W71)+SUM(W74:W76)+SUM(W79:W81)+SUM(W84:W99)+SUM(W102:W106)","v":90432992.80526042}]
[]
["Руководитель организации",null,null,null,null,{"$f":"'Инф-я'!$C$21","v":"Окунев Василий Михайлович"}]

{"sheet":"Ввод выбытие ОС  ","index":23,"n_rows":33,"n_cols":21,"rows_kept":33,"cut":false,"hidden":false,"merged":[[13,0,13,20],[1,0,1,16],[3,0,3,16],[5,0,6,0],[5,1,5,10],[5,11,5,20],[30,0,30,4],[32,0,33,16],[17,0,17,16],[17,17,17,23],[20,0,21,0],[27,0,27,20],[20,11,20,20],[20,1,20,10]]}
[]
["Справка о вводе основных средств в 2019 году  (с 01.04.2019 г.), участвующих в передаче электрической энергии"]
[]
[{"$f":"'Инф-я'!C13","v":"ООО \"Энергетик\""}]
[]
["Наименование вводимых  объектов основных фондов","По данным организации",null,null,null,null,null,null,null,null,null,"По данным экспертов"]
[null,"Является ли  ОС недвижимым имуществом? (да/нет)","Амортизационная группа","Порядковый номер месяца ввода","Первоначальная стоимость, тыс. руб. ","Норма амортизационных отчислений, %","Корректировка годовой суммы амортизационных отчислений по вводимым объектам (тыс. руб.)","Амортизация  2019 год","Остаточная стоимость на 01.01.2020","Остаточная стоимость на 01.01.2021","Среднегодовая остаточная стоимость ОС за 2020 год","Является ли  ОС недвижимым имуществом? (да/нет)","Амортизационная группа","Порядковый номер месяца ввода","Первоначальная стоимость, тыс. руб. ","Норма амортизационных отчислений, %","Корректировка годовой суммы амортизационных отчислений по вводимым объектам (тыс. руб.)","Амортизация  2019 год","Остаточная стоимость на 01.01.2020","Остаточная стоимость на 01.01.2021","Среднегодовая остаточная стоимость ОС за 2020 год"]
[1,2,3,4,5,6,7,8,9,10,11,12,13,14,15,16,17,18,19,20,21]
["Установка КРУН (10кВ)на выходе с ПС \"Карабаново\"фидера 1001 1 ячейка","да",6,12,1010.13,6.6659999999999997E-2,{"$f":"E9*F9","v":67.335265800000002},{"$f":"(12-D9)*E9/12*F9","v":0},{"$f":"E9-H9","v":1010.13},{"$f":"I9-G9","v":942.79473419999999},{"$f":"IF(B9=\"да\",(I9+J9)/2,\"\")","v":976.46236709999994},null,null,null,null,null,{"$f":"O9*P9","v":0},{"$f":"(12-N9)*O9/12*P9","v":0},{"$f":"O9-R9","v":0},{"$f":"S9-Q9","v":0},{"$f":"IF(L9=\"да\",(S9+T9)/2,\"\")","v":""}]
["Установка КРУН (10кВ)на выходе с ПС \"Карабаново\"фидера 1022 2 ячейки","да",6,12,2240.77,6.6659999999999997E-2,{"$f":"E10*F10","v":149.3697282},{"$f":"(12-D10)*E10/12*F10","v":0},{"$f":"E10-H10","v":2240.77},{"$f":"I10-G10","v":2091.4002718000002},{"$f":"IF(B10=\"да\",(I10+J10)/2,\"\")","v":2166.0851358999998},null,null,null,null,null,{"$f":"O10*P10","v":0},{"$f":"(12-N10)*O10/12*P10","v":0},{"$f":"O10-R10","v":0},{"$f":"S10-Q10","v":0},{"$f":"IF(L10=\"да\",(S10+T10)/2,\"\")","v":""}]
["Установка КРУН (10кВ)на выходе с ПС \"Карабаново\"фидера 1003 2 ячейки","да",6,12,2341.65,6.6659999999999997E-2,156.09438900000001,0,2341.65,2185.5556110000002,2263.6028055000002,null,null,null,null,null,0,{"$f":"(12-N11)*O11/12*P11","v":0},{"$f":"O11-R11","v":0},{"$f":"S11-Q11","v":0},{"$f":"IF(L11=\"да\",(S11+T11)/2,\"\")","v":""}]
[null,null,null,null,null,null,0,0,0,0,"",null,null,null,null,null,0,{"$f":"(12-N12)*O12/12*P12","v":0},{"$f":"O12-R12","v":0},{"$f":"S12-Q12","v":0},{"$f":"IF(L12=\"да\",(S12+T12)/2,\"\")","v":""}]
[null,null,null,null,null,null,0,0,0,0,"",null,null,null,null,null,0,{"$f":"(12-N13)*O13/12*P13","v":0},{"$f":"O13-R13","v":0},{"$f":"S13-Q13","v":0},{"$f":"IF(L13=\"да\",(S13+T13)/2,\"\")","v":""}]
["Добавить"]
["Всего по вводимым объектам в 2019 году  (с 01.04.2019 г.), участвующим в передаче электрической энергии","х","х","х",{"$f":"SUM(E9:E13)","v":5592.55},"х",{"$f":"SUM(G9:G13)","v":372.79938300000003},{"$f":"SUM(H9:H13)","v":0},5592.55,5219.7506169999997,5406.1503085000004,"х","х","х","х","х",{"$f":"SUM(Q9:Q13)","v":0},{"$f":"SUM(R9:R13)","v":0},0,0,0]
[]
[]
["Справка о выбытии не полностью самортизированных основных средств в 2019 году  (с 01.04.2019 г.), участвующих в передаче электрической энергии"]
[]
[]
["Наименование вводимых  объектов основных фондов","По данным организации",null,null,null,null,null,null,null,null,null,"По данным экспертов"]
[null,"Является ли  ОС недвижимым имуществом? (да/нет)","Амортизационная группа","Остаточная стоимость на начало 2019 года, тыс. руб. ","Первоначальная стоимость, тыс. руб. ","Норма амортизационных отчислений, %","Корректировка годовой суммы амортизационных отчислений по вводимым объектам (тыс. руб.)","Амортизация  в год","Остаточная стоимость на 01.01.2020","Остаточная стоимость на 01.01.2021","Среднегодовая остаточная стоимость ОС за 2020 год","Является ли  ОС недвижимым имуществом? (да/нет)","Амортизационная группа","Порядковый номер месяца ввода","Первоначальная стоимость, тыс. руб. ","Норма амортизационных отчислений, %","Корректировка годовой суммы амортизационных отчислений по вводимым объектам (тыс. руб.)","Амортизация  2019 год","Остаточная стоимость на 01.01.2020","Остаточная стоимость на 01.01.2021","Среднегодовая остаточная стоимость ОС за 2020 год"]
[1,2,3,4,5,6,7,8,9,10,11,12,13,14,15,16,17,18,19,20,21]
[null,null,null,null,null,null,{"$f":"E24*F24","v":0},{"$f":"E24*F24","v":0},{"$f":"IF(D24>H24,D24-H24,0)","v":0},{"$f":"IF(I24>H24,I24-H24,0)","v":0},{"$f":"IF(B24=\"да\",(I24+J24)/2,\"\")","v":""},null,null,null,null,null,{"$f":"O24*P24","v":0},{"$f":"O24*P24","v":0},{"$f":"IF(N24>R24,N24-R24,0)","v":0},{"$f":"IF(S24>R24,S24-R24,0)","v":0},{"$f":"IF(L24=\"да\",(S24+T24)/2,\"\")","v":""}]
[null,null,null,null,null,null,{"$f":"E25*F25","v":0},{"$f":"E25*F25","v":0},{"$f":"IF(D25>H25,D25-H25,0)","v":0},{"$f":"IF(I25>H25,I25-H25,0)","v":0},{"$f":"IF(B25=\"да\",(I25+J25)/2,\"\")","v":""},null,null,null,null,null,{"$f":"O25*P25","v":0},{"$f":"O25*P25","v":0},{"$f":"IF(N25>R25,N25-R25,0)","v":0},{"$f":"IF(S25>R25,S25-R25,0)","v":0},{"$f":"IF(L25=\"да\",(S25+T25)/2,\"\")","v":""}]
[null,null,null,null,null,null,0,0,0,0,"",null,null,null,null,null,0,0,0,0,""]
[null,null,null,null,null,null,0,0,0,0,"",null,null,null,null,null,0,0,0,0,""]
["Добавить"]
["Всего по выбывающим объектам в 2019 году  (с 01.04.2019 г.), участвующим в передаче электрической энергии","х","х","х",{"$f":"SUM(E24:E27)","v":0},"х",{"$f":"SUM(G24:G27)","v":0},"х","х","х",{"$f":"SUM(K24:K27)","v":0},"х","х","х","х","х",{"$f":"SUM(Q24:Q27)","v":0},"х","х","х",{"$f":"SUM(U24:U27)","v":0}]
[]
["Руководитель организации",null,null,null,null,null,{"$f":"'Инф-я'!$C$21","v":"Окунев Василий Михайлович"}]
[]
["В справке о выбытии основных средств указывается информация о выбывающих объектах (продажа, ликвидация)"]

{"sheet":"Свод по амортизации","index":24,"n_rows":15,"n_cols":15,"rows_kept":15,"cut":false,"hidden":false,"merged":[[14,3,14,5],[5,0,6,0],[5,1,5,2],[5,3,5,4],[5,5,5,6],[1,0,1,13],[3,0,3,13],[5,7,5,8],[5,9,5,10],[5,11,5,12],[5,13,5,14]]}
[]
["Сводный расчет амортизационных отчислений на восстановление основных производственных фондов,  участвующих в передаче электрической энергии"]
[]
[{"$f":"'Инф-я'!C13","v":"ООО \"Энергетик\""}]
[null,null,null,null,null,null,null,null,null,null,null,null,null,"тыс. руб."]
["Наименование","2018 год",null,"2019 год",null,"2020 год",null,"2021 год",null,"2022 год",null,"2023 год",null,"2024 год"]
[null,"Утверждено","Факт","Утверждено","Ожидаемые","По данным организации","По данным экспертов","По данным организации","По данным экспертов","По данным организации","По данным экспертов","По данным организации","По данным экспертов","По данным организации","По данным экспертов"]
[1,2,3,4,5,6,null,7," ",8," ",9," ",10," "]
["Амортизационные отчисления на 2019 год по основным средствам по состоянию на 01.04.2019 г.","х","х","х","х",{"$f":"'Расчет аморт. max срок '!S108/1000","v":6165.4211809166673},null,"х","х","х","х","х","х","х","х"]
["Корректировка годовой суммы амортизационных отчислений, в том числе:","х","х","х","х",{"$f":"F11-F12","v":372.79938300000003},{"$f":"G11-G12","v":0},"х","х","х","х","х","х","х","х"]
["по вводимым объектам основных средств после 01.04.2019 г. (+)","х","х","х","х",{"$f":"'Ввод выбытие ОС  '!G15","v":372.79938300000003},{"$f":"'Ввод выбытие ОС  '!Q15","v":0},"х","х","х","х","х","х","х","х"]
["по выбывающим объектам основных средств  после 01.04.2019 г.(-)","х","х","х","х",{"$f":"'Ввод выбытие ОС  '!G29","v":0},{"$f":"'Ввод выбытие ОС  '!Q29","v":0},"х","х","х","х","х","х","х","х"]
["Годовая сумма амортизационных отчислений",4803.3639014746677,5538.4819399999997,5333.7663558460972,6271.55627,{"$f":"F9+F10","v":6538.2205639166677},{"$f":"G9+G10","v":0},{"$f":"F13","v":6538.2205639166677},{"$f":"G13","v":0},{"$f":"H13","v":6538.2205639166677},0,6538.2205639166677,0,6538.2205639166677,0]
[]
["Руководитель организации",null,null,{"$f":"'Инф-я'!C21","v":"Окунев Василий Михайлович"}]

{"sheet":"Страховые взносы","index":25,"n_rows":38,"n_cols":18,"rows_kept":38,"cut":false,"hidden":false,"merged":[[1,1,1,15],[3,1,3,15],[26,0,26,8],[5,0,6,0],[5,1,6,1],[5,2,6,2],[5,3,5,4],[5,5,5,6],[5,7,5,8],[5,9,5,10],[5,11,5,12],[5,13,5,14],[5,15,5,16],[23,4,23,6]]}
[]
[null,"Расчет расходов на страховые взносы"]
[]
[null,{"$f":"'Инф-я'!C13","v":"ООО \"Энергетик\""}]
[null,null,null,null,null,null,null,null,null,null,null,null,null,null,null,"тыс. руб."]
["№ п/п","Наименование","Ед.изм.","2018 год",null,"2019 год",null,"2020 год",null,"2021 год",null,"2022 год",null,"2023 год",null,"2024 год",null,"2018 год"]
[null,null,null,"Утверждено","Факт","Утверждено","Ожидаемые","По данным организации","По данным экспертов","По данным организации","По данным экспертов","По данным организации","По данным экспертов","По данным организации","По данным экспертов","По данным организации","По данным экспертов","Факт по данным экспертов"]
[1,2,3,4,5,6,7,8,9,10,11,12,13,14,15,16,17,18]
["1.","Сумма выплат и иных вознаграждений, начисленных в пользу физических лиц, в соответствии со статьей 420 НК РФ","тыс. руб.","х","х",12894.577485656117,14425.7,{"$f":"H10+H11","v":17060.272561536},0,17584.382761223678,0,18225.432235528293,0,18832.637424023935,0,19464.660735974176,0,"х"]
["1.1.","Расходы из фонда оплаты труда","тыс. руб.","х","х",12532.880404675218,14425.7,{"$f":"'Подконтрольные расходы'!N17","v":16267.722561535998},{"$f":"'Подконтрольные расходы'!Q17","v":0},{"$f":"'Подконтрольные расходы'!R17","v":16767.484759908682},{"$f":"'Подконтрольные расходы'!S17","v":0},{"$f":"'Подконтрольные расходы'!T17","v":17378.753715817267},{"$f":"'Подконтрольные расходы'!U17","v":0},{"$f":"'Подконтрольные расходы'!V17","v":17957.750652046925},{"$f":"'Подконтрольные расходы'!W17","v":0},{"$f":"'Подконтрольные расходы'!X17","v":18560.41276392962},{"$f":"'Подконтрольные расходы'!Y17","v":0},"х"]
["1.2.","Расходы по коллективным договорам","тыс. руб.","х","х",361.6970809808991,762.06899999999996,{"$f":"'Подконтрольные расходы'!N30","v":792.54999999999984},{"$f":"'Подконтрольные расходы'!Q30","v":0},{"$f":"'Подконтрольные расходы'!R30","v":816.89800131499589},{"$f":"'Подконтрольные расходы'!S30","v":0},{"$f":"'Подконтрольные расходы'!T30","v":846.67851971102664},{"$f":"'Подконтрольные расходы'!U30","v":0},{"$f":"'Подконтрольные расходы'!V30","v":874.88677197700872},{"$f":"'Подконтрольные расходы'!W30","v":0},{"$f":"'Подконтрольные расходы'!X30","v":904.24797204455717},{"$f":"'Подконтрольные расходы'!Y30","v":0},"х"]
["2.","Суммы, не подлежащие обложению страховыми взносами, в соответствии со статьей 422 НК РФ","тыс. руб.","х","х",115.04902602017751,115,null,null,null,null,null,null,null,null,null,null,"х"]
["3.","Тарифы страховых взносов:","%","х","х","х","х","х","х","х","х","х","х","х","х","х","х","х"]
["3.1.","на обязательное пенсионное страхование","%","х","х",0.22,0.22,0.22,0.22,0.22,0.22,0.22,0.22,0.22,0.22,0.22,0.22,"х"]
["3.2.","на обязательное медицинское страхование ","%","х","х",5.0999999999999997E-2,5.0999999999999997E-2,5.0999999999999997E-2,5.0999999999999997E-2,5.0999999999999997E-2,5.0999999999999997E-2,5.0999999999999997E-2,5.0999999999999997E-2,5.0999999999999997E-2,5.0999999999999997E-2,5.0999999999999997E-2,5.0999999999999997E-2,"х"]
["3.3.","на обязательное социальное страхование на случай временной нетрудоспособности и в связи с материнством","%","х","х",2.9000000000000001E-2,2.9000000000000001E-2,2.9000000000000001E-2,2.9000000000000001E-2,2.9000000000000001E-2,2.9000000000000001E-2,2.9000000000000001E-2,2.9000000000000001E-2,2.9000000000000001E-2,2.9000000000000001E-2,2.9000000000000001E-2,2.9000000000000001E-2,"х"]
["3.4.","на обязательное страхование от несчастных случаев","%","х","х",null,4.0000000000000001E-3,4.0000000000000001E-3,null,4.0000000000000001E-3,null,4.0000000000000001E-3,null,4.0000000000000001E-3,null,4.0000000000000001E-3,null,"х"]
["4.","Расходы на страховые взносы:","тыс. руб.",3706.1689387649494,4238.7,3884.9766517293256,{"$f":"G19+G20+G21+G22","v":4350.4528},5186.3228587069443,0,5345.6523594119981,0,5540.5313996006016,0,5725.1217769032755,0,5917.2568637361492,0]
["4.1.","на обязательное пенсионное страхование","тыс. руб.","х",3067.3944099999999,"х",{"$f":"(G9-G12)*G14","v":3148.3540000000003},3753.2599635379197,0,3868.5642074692091,0,4009.5950918162243,0,4143.1802332852658,0,4282.2253619143185,0]
["4.2.","на обязательное медицинское страхование ","тыс. руб.","х",721.14801,"х",{"$f":"(G9-G12)*G15","v":729.84569999999997},870.07390063833589,0,896.80352082240756,0,929.49704401194288,0,960.46450862522056,0,992.6976975346829,0]
["4.3.","на обязательное социальное страхование на случай временной нетрудоспособности и в связи с материнством","тыс. руб.","х",393.59251999999998,"х",{"$f":"(G9-G12)*G16","v":415.01030000000003},494.74790428454401,0,509.94710007548667,0,528.53753483032051,0,546.1464852966941,0,564.4751613432511,0]
["4.4.","на обязательное страхование от несчастных случаев","тыс. руб.","х",56.564579999999999,"х",{"$f":"(G9-G12)*G17","v":57.242800000000003},68.241090246143997,0,70.337531044894718,0,72.901728942113166,0,75.330549696095744,0,77.858642943896697,0]
[]
[null,"Руководитель организации",null,null,{"$f":"'Инф-я'!$C$21","v":"Окунев Василий Михайлович"}]
[]
[]
[]
[]
[]
[]
["№ п./п.","Показатели","По расчету Общества"]
[1,2,3]
["1.","Расходы на оплату труда, включаемые в базу для начисления страховых взносов",{"$f":"H9","v":17060.272561536}]
["2.","Выплаты работникам по коллективному договору - всего. в т. ч.",0]
["3.","суммы, не подлежащие обложению страховыми взносами в соответствии со ст. 9 закона от 24.07.2009 г. № 212-ФЗ",0]
["4.","Итого база страховых взносов  (п.1+п.2-п.3)",{"$f":"C33+C34","v":17060.272561536}]
["5.","Отчисления во внебюджетные фонды ",{"$f":"C36*C38/100","v":5186.3228587069434}]
["6.","Процент отчислений (%)",30.4]

{"sheet":"Расходы рег. орг-ий","index":26,"n_rows":25,"n_cols":16,"rows_kept":25,"cut":false,"hidden":false,"merged":[[12,0,12,15],[16,0,16,15],[21,0,21,15],[24,3,24,4],[1,0,1,6],[3,0,3,6],[6,0,7,0],[6,1,6,2],[6,3,6,4],[6,5,6,6],[6,7,6,8],[6,9,6,10],[6,11,6,12],[6,13,6,14]]}
[]
["Расходы на оплату услуг организаций, осуществляющих регулируемые виды деятельности"]
[]
[{"$f":"'Инф-я'!C13","v":"ООО \"Энергетик\""}]
[]
[null,null,null,null,null,null,null,null,null,null,null,null,null,"тыс. руб."]
["Наименование","2018 год",null,"2019 год",null,"2020 год",null,"2021 год",null,"2022 год",null,"2023 год",null,"2024 год",null,"2018 год"]
[null,"Утверждено","Факт","Утверждено","Ожидаемые","По данным организации","По данным экспертов","По данным организации","По данным экспертов","По данным организации","По данным экспертов","По данным организации","По данным экспертов","По данным организации","По данным экспертов","Факт по данным экспертов"]
[1,2,3,4,5,6,7,6,7,6,7,6,7,6,7,8]
["Тепловая энергия",209.18947094000001,{"$f":"SUM(C11:C12)","v":210.77799999999999},218.65787200000003,{"$f":"SUM(E11:E12)","v":210.779},227.98,0,{"$f":"SUM(H11:H12)","v":237.1},246.584,{"$f":"SUM(J11:J12)","v":246.58},256.44320000000005,{"$f":"SUM(L11:L12)","v":256.44},266.69760000000002,{"$f":"SUM(N11:N12)","v":266.7},0,0]
["договор  с ООО \"Теплосеть\" от_____№  __ на_________","х",210.77799999999999,"х",210.779,227.98,null,237.1,{"$f":"H11*1.04","v":246.584},246.58,256.44320000000005,256.44,266.69760000000002,266.7]
["договор  с _____ от_____№  __ на_________","х",null,"х"]
["Добавить"]
["Водоснабжение и канализация",27.284604640799998,{"$f":"SUM(C15:C16)","v":23.260999999999999},12.777604800000001,{"$f":"SUM(E15:E16)","v":23.26},25.16,0,{"$f":"SUM(H15:H16)","v":26.17},0,{"$f":"SUM(J15:J16)","v":27.22},0,{"$f":"SUM(L15:L16)","v":28.31},0,{"$f":"SUM(N15:N16)","v":29.44},0,0]
["договор  с ООО \"ВодКанал\"от_____№  __ на_________","х",23.260999999999999,"х",23.26,25.16,null,26.17,null,27.22,null,28.31,null,29.44]
["договор  с _____ от_____№  __ на_________","х",null,"х"]
["Добавить"]
["Прочие услуги по регулируемым тарифам ",13.4722924128,{"$f":"SUM(C19:C21)","v":12.978999999999999},13.822201036800001,{"$f":"SUM(E19:E21)","v":13.5},14.04,0,{"$f":"SUM(H19:H21)","v":14.6},0,{"$f":"SUM(J19:J21)","v":15.18},0,{"$f":"SUM(L19:L21)","v":15.79},0,{"$f":"SUM(N19:N21)","v":16.420000000000002},0,0]
["договор  с ООО \"Аккор\" от_____№  __ на_________","х",12.978999999999999,"х",13.5,14.04,null,14.6,null,15.18,null,15.79,null,16.420000000000002]
["договор  с _____ от_____№  __ на_________","х",null,"х"]
["договор  с _____ от_____№  __ на_________","х",null,"х"]
["Добавить"]
["Итого",{"$f":"B10+B14+B18","v":249.94636799359998},247.01799999999997,245.25767783680004,247.53899999999999,267.18,{"$f":"G10+G14+G18","v":0},{"$f":"H10+H14+H18","v":277.87},{"$f":"I10+I14+I18","v":246.584},{"$f":"J10+J14+J18","v":288.98},{"$f":"K10+K14+K18","v":256.44320000000005},{"$f":"L10+L14+L18","v":300.54000000000002},{"$f":"M10+M14+M18","v":266.69760000000002},{"$f":"N10+N14+N18","v":312.56},{"$f":"O10+O14+O18","v":0},{"$f":"P10+P14+P18","v":0}]
[]
["Руководитель организации",null,null,{"$f":"'Инф-я'!C21","v":"Окунев Василий Михайлович"}]

{"sheet":"Аренда имущества","index":27,"n_rows":51,"n_cols":30,"rows_kept":51,"cut":false,"hidden":false,"merged":[[5,0,8,0],[5,1,7,2],[5,3,7,4],[5,5,5,20],[1,0,1,27],[3,0,3,27],[5,29,8,29],[6,5,6,12],[6,13,6,20],[7,5,8,5],[7,6,8,6],[7,7,7,12],[7,13,8,13],[7,14,8,14],[7,15,7,20],[5,21,7,22],[5,23,7,24],[5,25,7,26],[5,27,7,28],[14,0,14,29],[20,0,20,29],[35,0,35,29],[42,0,42,29],[50,3,50,5]]}
[]
["Расходы по аренде имущества в части амортизации и налогов, относимых к арендуемому имуществу"]
[]
[{"$f":"'Инф-я'!C13","v":"ООО \"Энергетик\""}]
[]
["Наименование","2018 год",null,"2019 год",null,"2020 год",null,null,null,null,null,null,null,null,null,null,null,null,null,null,null,"2021 год",null,"2022 год",null,"2023 год",null,"2024 год",null,"2018 год Факт по данным экспертов"]
[null,null,null,null,null,"По данным организации",null,null,null,null,null,null,null,"По расчету экспертов"]
[null,null,null,null,null,"Сумма арендной платы для включения в тариф","Стоимость арендной платы по договору","Стоимость арендной платы в соответствии с требованиями п. 28 Основ ценообразования",null,null,null,null,null,"Сумма арендной платы для включения в тариф","Стоимость арендной платы по договору","Стоимость арендной платы расчитанной в соответствии с требованиями п. 28 Основ ценообразования"]
[null,"Утверждено","Факт","Утверждено","Ожидаемые",null,null,"Всего","амортизационные отчисления","налог на имущество","транспортный налог","плата за землю","иные обязательные платежи предусмотренные законодательством, связанные с арендуемым имуществом",null,null,"Всего","амортизационные отчисления","налог на имущество","транспортный налог","плата за землю","иные обязательные платежи предусмотренные законодательством, связанные с арендуемым имуществом","По данным организации","По данным экспертов","По данным организации","По данным экспертов","По данным организации","По данным экспертов","По данным организации","По данным экспертов"]
[1,2,3,4,5,6,7,8,9,10,11,12,13,14,15,16,17,18,19,20,21,22,23,24,25,26,27,28,29,30]
["Аренда объектов электросетевого хозяйства",{"$f":"SUM(B12:B14)","v":2976},{"$f":"SUM(C12:C14)","v":2976},2976,2976,2976,2976,2976,2976,0,0,0,0,{"$f":"SUM(N12:N14)","v":0},{"$f":"SUM(O12:O14)","v":0},0,0,0,0,0,0,2976,0,{"$f":"SUM(X12:X14)","v":2976},0,{"$f":"SUM(Z12:Z14)","v":2976},0,{"$f":"SUM(AB12:AB14)","v":2976},0,0]
["договор  с ООО \"Техстройэнерго\" от 01.12.2017г № 13А-18",2976,2976,2976,{"$f":"G12","v":2976},{"$f":"MIN(G12,H12)","v":2976},2976,{"$f":"I12+J12+K12+L12+M12","v":2976},2976,null,null,null,null,{"$f":"MIN(O12,P12)","v":0},null,{"$f":"Q12+R12+S12+T12+U12","v":0},null,null,null,null,null,{"$f":"G12","v":2976},null,{"$f":"G12","v":2976},null,{"$f":"G12","v":2976},null,{"$f":"G12","v":2976}]
["договор  с _____ от_____№  __ ",null,null,null,null,0,null,0,null,null,null,null,null,0,null,0]
["договор  с _____ от_____№  __ ",null,null,null,null,0,null,0,null,null,null,null,null,0,null,0]
["Добавить "]
["Аренда зданий, соружений, помещений, основных средств",{"$f":"SUM(B17:B20)","v":228.48},{"$f":"SUM(C17:C20)","v":228.48},228.48,228.48,228.48,228.48,228.48,228.48,0,0,0,0,{"$f":"SUM(N17:N20)","v":0},{"$f":"SUM(O17:O20)","v":0},0,0,0,0,0,0,228.48,0,{"$f":"SUM(X17:X20)","v":228.48},0,{"$f":"SUM(Z17:Z20)","v":228.48},0,{"$f":"SUM(AB17:AB20)","v":228.48},0,0]
["договор  с ООО \"Техстройэнерго\" от 01.12.2017г № 12А-18",228.48,228.48,228.48,{"$f":"G17","v":228.48},{"$f":"MIN(G17,H17)","v":228.48},228.48,{"$f":"I17+J17+K17+L17+M17","v":228.48},228.48,null,null,null,null,{"$f":"MIN(O17,P17)","v":0},null,{"$f":"Q17+R17+S17+T17+U17","v":0},null,null,null,null,null,{"$f":"G17","v":228.48},null,{"$f":"G17","v":228.48},null,{"$f":"G17","v":228.48},null,{"$f":"G17","v":228.48}]
["договор  с _____ от_____№  __ ",null,null,null,null,0,null,0,null,null,null,null,null,0,null,0]
["договор  с _____ от_____№  __ ",null,null,null,null,0,null,0,null,null,null,null,null,0,null,0]
["договор  с _____ от_____№  __ ",null,null,null,null,0,null,0,null,null,null,null,null,0,null,0]
["Добавить"]
["Аренда транспортных средств",{"$f":"SUM(B23:B35)","v":1639.8},{"$f":"SUM(C23:C35)","v":1593.2193600000001},1639.8,1686.019,1566.0170000000001,1566.019,1566.02,1566.02,0,0,0,0,{"$f":"SUM(N23:N35)","v":0},{"$f":"SUM(O23:O35)","v":0},0,0,0,0,0,0,1566.019,0,{"$f":"SUM(X23:X35)","v":1566.019},0,{"$f":"SUM(Z23:Z35)","v":1566.019},0,{"$f":"SUM(AB23:AB35)","v":1566.019},0,0]
["договор  с ООО \"Техстройэнерго\" от 01.12.2017г. № 11А-18 на аренду УАЗ-3909 (VIN XTT39090030476836)",59.3,63.576999999999998,59.3,63.576999999999998,{"$f":"MIN(G23,H23)","v":63.576999999999998},63.576999999999998,{"$f":"I23+J23+K23+L23+M23","v":63.58},63.58,null,null,null,null,{"$f":"MIN(O23,P23)","v":0},null,{"$f":"Q23+R23+S23+T23+U23","v":0},null,null,null,null,null,{"$f":"G23","v":63.576999999999998},null,{"$f":"G23","v":63.576999999999998},null,{"$f":"G23","v":63.576999999999998},null,{"$f":"G23","v":63.576999999999998}]
["договор  с ООО \"Техстройэнерго\" от 01.12.2017г. № 8А-18 на аренду ЗИЛ-130 Г (VIN отсутствует; год выпуска 1985г.; модель двигателя 508.400; двигатель № 292036)",234.5,240,234.5,240,240,240,240,240,null,null,null,null,0,null,0,null,null,null,null,null,240,null,240,null,240,null,240]
["договор  с ООО \"Техстройэнерго\" от 01.12.2017г. № 02А-18 на аренду ГАЗ-6612 (VIN )",234.5,120,null,null,0,null,0,null,null,null,null,null,0,null,0,null,null,null,null,null,0,null,0,null,0,null,0]
["договор  с ООО \"Техстройэнерго\" от 01.12.2017г. № 6А-18 на аренду АПТ-17Э (VIN XTH330700R1536123)",234.5,240,234.5,240,240,240,240,240,null,null,null,null,0,null,0,null,null,null,null,null,240,null,240,null,240,null,240]
["договор  с ООО \"Техстройэнерго\" от 01.12.2017г. № 7А-18 на аренду ГАЗ-5312 (VIN XTH531200M1403186)",114.5,30,114.5,120,0,0,0,0,null,null,null,null,0,null,0,null,null,null,null,null,0,null,0,null,0,null,0]
["договор  с ООО \"Техстройэнерго\" от 01.12.2017г. № 9А-18 на аренду ВАЗ-2105 (VIN ХТА210540А2178050)",34,38.442360000000001,34,38.442,38.44,38.442,38.44,38.44,null,null,null,null,0,null,0,null,null,null,null,null,38.442,null,38.442,null,38.442,null,38.442]
["договор  с ООО \"Техстройэнерго\" от 01.12.2017г. № 5А-18 на аренду ВАЗ-11193 (VIN XTA11193070022812)",79.5,18.2,0,null,0,0,0,0,null,null,null,null,0,null,0,null,null,null,null,null,0,null,0,null,0,null,0]
["договор  с ООО \"Техстройэнерго\" от 01.12.2017г. № 4А-18 на аренду ЗИЛ-131 (VIN отсутствует; год выпуска 1993г.; модель двигателя отсутствует; двигатель № 146550)",414.5,420,414.5,420,420,420,420,420,null,null,null,null,0,null,0,null,null,null,null,null,420,null,420,null,420,null,420]
["договор  с ООО \"Техстройэнерго\" от 01.12.2017г. № 10А-18 на аренду ТА-18 (VIN X89483713FCAH3011)",234.5,240,234.5,240,240,240,240,240,null,null,null,null,0,null,0,null,null,null,null,null,240,null,240,null,240,null,240]
["договор  с ООО \"Техстройэнерго\" от 01.04.2018г. № 15А-18  на аренду LADA GRANDA (VIN XTA219010J0532195)",null,63,79.5,84,84,84,84,84,null,null,null,null,0,null,0,null,null,null,null,null,84,null,84,null,84,null,84]
["договор  с ООО \"Техстройэнерго\" от 01.07.2018г. №16А-18 на аренду ГАЗ-66",null,120,234.5,240,240,240,240,240,null,null,null,null,0,null,0,null,null,null,null,null,240,null,240,null,240,null,240]
["договор  с _____ от_____№  __ ",null,null,null,null,{"$f":"MIN(G34,H34)","v":0},null,{"$f":"I34+J34+K34+L34+M34","v":0},null,null,null,null,null,{"$f":"MIN(O34,P34)","v":0},null,{"$f":"Q34+R34+S34+T34+U34","v":0}]
["договор  с _____ от_____№  __ ",null,null,null,null,0,null,0,null,null,null,null,null,0,null,0]
["Добавить"]
["Лизинг",{"$f":"SUM(B38:B42)","v":0},{"$f":"SUM(C38:C42)","v":0},0,0,0,"х","х","х","х","х","х","х",{"$f":"SUM(N38:N42)","v":0},"х","х","х","х","х","х","х",{"$f":"SUM(V38:V42)","v":0},0,{"$f":"SUM(X38:X42)","v":0},0,{"$f":"SUM(Z38:Z42)","v":0},0,{"$f":"SUM(AB38:AB42)","v":0},0,{"$f":"SUM(AD38:AD42)","v":0}]
["объектов электросетевого хозяйства договор  с _____ от_____№  __ ",null,null,null,null,null,"х","х","х","х","х","х","х",null,"х","х","х","х","х","х","х"]
["иного имущества договор  с _____ от_____№  __ ",null,null,null,null,null,"х","х","х","х","х","х","х",null,"х","х","х","х","х","х","х"]
["договор  с _____ от_____№  __ ",null,null,null,null,null,"х","х","х","х","х","х","х",null,"х","х","х","х","х","х","х"]
["договор  с _____ от_____№  __ ",null,null,null,null,null,"х","х","х","х","х","х","х",null,"х","х","х","х","х","х","х"]
["договор  с _____ от_____№  __ ",null,null,null,null,null,"х","х","х","х","х","х","х",null,"х","х","х","х","х","х","х"]
["Добавить"]
["ИТОГО расходы по аренде имущества, всего в том числе",{"$f":"B11+B16+B22+B37","v":4844.28},{"$f":"C11+C16+C22+C37","v":4797.6993600000005},{"$f":"D11+D16+D22+D37","v":4844.28},{"$f":"E11+E16+E22+E37","v":4890.4989999999998},{"$f":"F11+F16+F22+F37","v":4770.4970000000003},{"$f":"G11+G16+G22","v":4770.4989999999998},{"$f":"H11+H16+H22","v":4770.5},4770.5,0,0,0,0,{"$f":"N11+N16+N22+N37","v":0},{"$f":"O11+O16+O22","v":0},{"$f":"P11+P16+P22","v":0},0,0,0,0,0,{"$f":"V11+V16+V22+V37","v":4770.4989999999998},0,4770.4989999999998,0,4770.4989999999998,0,4770.4989999999998,0,0]
["в т.ч. по уровням напряжения:  ВН","х","х",null,"х",null,"х","х","х","х","х","х","х",null,"х","х","х","х","х","х","х",null,"х",null,"х",null,"х",null,"х"]
["СН1","х","х",null,"х",null,"х","х","х","х","х","х","х",null,"х","х","х","х","х","х","х",null,"х",null,"х",null,"х",null,"х"]
["СН2","х","х",null,"х",null,"х","х","х","х","х","х","х",null,"х","х","х","х","х","х","х",null,"х",null,"х",null,"х",null,"х"]
["НН","х","х",null,"х",null,"х","х","х","х","х","х","х",null,"х","х","х","х","х","х","х",null,"х",null,"х",null,"х",null,"х"]
["Для проверки прибыли на капитальные вложения (аренда и лизинг  объектов электросетевого хозяйства)",{"$f":"B11+B38","v":2976},{"$f":"C11+C38","v":2976},{"$f":"D11+D38","v":2976},{"$f":"E11+E38","v":2976},{"$f":"F11+F38","v":2976},"х","х","х","х","х","х","х",{"$f":"N11+N38","v":0},"х","х","х","х","х","х","х",{"$f":"V11+V38","v":2976},0,2976,0,2976,0,2976,0,0]
[]
["Руководитель организации",null,null,{"$f":"'Инф-я'!$C$21","v":"Окунев Василий Михайлович"}]

{"sheet":"Плата за землю","index":28,"n_rows":19,"n_cols":16,"rows_kept":19,"cut":false,"hidden":false,"merged":[[1,0,1,13],[3,0,3,13],[15,0,15,15],[18,0,18,1],[18,3,18,5],[5,0,6,0],[5,1,5,2],[5,3,5,4],[5,5,5,6],[5,7,5,8],[5,9,5,10],[5,11,5,12],[5,13,5,14]]}
[]
["Плата за землю "]
[]
[{"$f":"'Инф-я'!C13","v":"ООО \"Энергетик\""}]
[null,null,null,null,null,null,null,null,null,null,null,null,null,null,"тыс. руб."]
["Наименование","2018 год",null,"2019 год",null,"2020 год",null,"2021 год",null,"2022 год",null,"2023 год",null,"2024 год",null,"2018 год"]
[null,"Утверждено","Факт","Утверждено","Ожидаемые","По данным организации","По данным экспертов","По данным организации","По данным экспертов","По данным организации","По данным экспертов","По данным организации","По данным экспертов","По данным организации","По данным экспертов","Факт по данным экспертов"]
[1,2,3,4,5,6,7,8,9,10,11,12,13,14,15,16]
["Земельный налог"]
[]
["Арендная плата за землю",369.59416970319995,{"$f":"SUM(C12:C15)","v":109.97977},502.51673,{"$f":"SUM(E12:E15)","v":225.18960000000001},235,0,301,0,350,0,411,0,435,0,0]
["договор № ___ от ____","x",109.97977,"x",225.18960000000001,235,null,301,null,350,null,411,null,435]
["договор № ___ от ____","x",null,"x"]
["договор № ___ от ____","x",null,"x"]
["договор № ___ от ____","x",null,"x"]
["Добавить"]
["Всего плата за землю",{"$f":"B9+B11","v":369.59416970319995},109.97977,502.51673,225.18960000000001,235,0,{"$f":"H9+H11","v":301},0,{"$f":"J9+J11","v":350},0,{"$f":"L9+L11","v":411},0,{"$f":"N9+N11","v":435},0,0]
[]
["Руководитель организации",null,null,{"$f":"'Инф-я'!$C$21","v":"Окунев Василий Михайлович"}]

{"sheet":"Транспортный налог","index":29,"n_rows":19,"n_cols":20,"rows_kept":19,"cut":false,"hidden":false,"merged":[[14,0,14,19],[18,0,18,1],[18,3,18,6],[5,11,6,12],[5,13,6,14],[5,0,7,0],[5,1,7,1],[5,2,7,2],[5,3,6,4],[5,5,6,6],[5,7,5,10],[6,7,6,8],[6,9,6,10],[1,0,1,17],[3,0,3,17],[5,15,6,16],[5,17,6,18],[6,19,7,19]]}
[]
["Расчет транспортного налога "]
[]
[{"$f":"'Инф-я'!C13","v":"ООО \"Энергетик\""}]
[null,null,null,null,null,null,null,null,"тыс. руб."]
["Объект налогообложения (вид и марка транспортного средства)","Налоговая база, (л.с.)","Налоговая ставка, руб.","2018 год",null,"2019 год",null,"2020 год",null,null,null,"2021 год",null,"2022 год",null,"2023 год",null,"2024 год",null,"2018 год"]
[null,null,null,null,null,null,null,"По расчету организации",null,"По расчету экспертов",null,null,null,null,null,null,null,null,null,"Факт по данным экспертов"]
[null,null,null,"Утверждено","Факт","Утверждено","Ожидаемые","Коэф. использ.","Годовая сумма налога,  тыс.руб.","Коэф. использ.","Годовая сумма налога, тыс. руб.","По данным организации","По данным экспертов","По данным организации","По данным экспертов","По данным организации","По данным экспертов","По данным организации","По данным экспертов"]
[1,2,3,4,5,6,7,8,9,10,11,12,13,14,15,16,17,18,19,20]
[null,null,null,"х",null,"х",null,null,{"$f":"B10*C10*H10/1000","v":0},null,{"$f":"B10*C10*J10/1000","v":0}]
[null,null,null,"х",null,"х",null,null,{"$f":"B11*C11*H11/1000","v":0},null,{"$f":"B11*C11*J11/1000","v":0}]
[null,null,null,"х",null,"х",null,null,0,null,0]
[null,null,null,"х",null,"х",null,null,0,null,0]
[null,null,null,"х",null,"х",null,null,0,null,0]
["Добавить"]
["Транспортный налог всего, в т.ч.","х","х",null,{"$f":"SUM(E10:E14)","v":0},null,{"$f":"SUM(G10:G14)","v":0},"х",{"$f":"SUM(I10:I14)","v":0},"х",{"$f":"SUM(K10:K14)","v":0},0,0,0,0,0,0,0,0,0]
[" относимый на услугу по передаче электрической энергии","х","х",null,null,null,null,"х",null,"х"]
["* Условное форматирование: если в ячейке не указано значение - форматируется красным цветом"]
["Руководитель организации",null,null,{"$f":"'Инф-я'!$C$21","v":"Окунев Василий Михайлович"}]

{"sheet":"Налог на имущество","index":30,"n_rows":17,"n_cols":17,"rows_kept":17,"cut":false,"hidden":false,"merged":[[16,0,16,1],[16,3,16,5],[5,0,6,0],[5,1,5,2],[5,3,5,4],[5,5,5,6],[1,0,1,13],[3,0,3,13],[5,7,5,8],[5,9,5,10],[5,11,5,12],[5,13,5,14]]}
[]
["Налог на имущество"]
[]
[{"$f":"'Инф-я'!C13","v":"ООО \"Энергетик\""}]
[null,null,null,null,null,null,null,null,null,null,null,null,null,"тыс. руб."]
["Наименование","2018 год",null,"2019 год",null,"2020 год",null,"2021 год",null,"2022 год",null,"2023 год",null,"2024 год",null,"2018 год"]
[null,"Утверждено","Факт","Утверждено","Ожидаемые","По данным организации","По данным экспертов","По данным организации","По данным экспертов","По данным организации","По данным экспертов","По данным организации","По данным экспертов","По данным организации","По данным экспертов","Факт по данным экспертов"]
[1,2,3,4,5,6,7,6,7,6,7,6,7,6,7,8]
["Среднегодовая остаточная стоимость основных средств, всего, в том числе:","х",{"$f":"C10+C12+C11","v":0},"х",{"$f":"E10+E11","v":0},95839.143113760423,0,0,0,0,0,0,0,0,0,{"$f":"P10+P12+P11","v":0}]
["-облагаемых по ставке 2,2 %","х",null,"х",null,{"$f":"'Расчет аморт. max срок '!V108/1000+'Ввод выбытие ОС  '!K15-'Ввод выбытие ОС  '!K29","v":5406.1503085000004}]
["- необлагаемых (движимое имущество)","х",null,"х",null,{"$f":"'Расчет аморт. max срок '!W108/1000","v":90432.992805260423}]
["-облагаемых по льготной ставке ","х",null,"х","х","х","х","х","х","х","х","х","х","х","х"]
["Льготная ставка налога ","х",1.9E-2,"х","х","х","х","х","х","х","х","х","х","х","х",1.9E-2]
["Налог на имущество",null,{"$f":"C10*2.2%+C12*C13","v":0},null,{"$f":"E10*2.2%","v":0},118.93530678700002,0,0,0,0,0,0,0,0,0,{"$f":"P10*2.2%+P12*P13","v":0}]
["Налог на имущество, относимый на услугу по передаче электрической энергии",null,null,null,null,null,null,null,null,null,null,null,null,null,null,null,"Условное форматирование: если в ячейке не указано значение -форматируется красным цветом"]
[]
["Руководитель организации",null,null,{"$f":"'Инф-я'!$C$21","v":"Окунев Василий Михайлович"}]

{"sheet":"Налог прим при УСНО","index":31,"n_rows":14,"n_cols":16,"rows_kept":14,"cut":false,"hidden":false,"merged":[[5,7,5,8],[5,9,5,10],[5,11,5,12],[5,13,5,14],[1,1,1,13],[3,1,3,13],[13,0,13,6],[9,0,9,1],[11,0,11,1],[5,0,6,0],[5,1,6,1],[5,2,5,3],[5,5,5,6],[11,3,11,4]]}
[]
[null,"Налог организаций, применяющих УСНО от деятельности по передаче и технологического присоединения "]
[]
[null,{"$f":"'Инф-я'!C13","v":"ООО \"Энергетик\""}]
[null,null,null,null,null,null,null,null,null,null,null,null,null,"тыс. руб."]
["№ п/п","Наименование","2018 год",null,"2019 год","2020 год",null,"2021 год",null,"2022 год",null,"2023 год",null,"2024 год",null,"2018 год"]
[null,null,"Утверждено","Факт","Утверждено","По данным организации","По данным экспертов","По данным организации","По данным экспертов","По данным организации","По данным экспертов","По данным организации","По данным экспертов","По данным организации","По данным экспертов","Факт по данным экспертов"]
[1,2,3,4,5,6,7,6,7,6,7,6,7,6,7,8]
[1,{"$f":"'[15]Налог прим при УСНО'!$B$9","v":"Налог организаций, применяющих УСНО всего по декларации"},"х",791.17600000000004,"х","х","х","х","х","х","х","х","х","х","х",0]
[{"$f":"'[15]Налог прим при УСНО'!$A$10:$B$10","v":"Налог организаций, применяющих УСНО от деятельности по передаче и технологического присоединения "},null,991.89499999999998,{"$f":"D9","v":791.17600000000004},1318.8040000000001,{"$f":"D10","v":791.17600000000004},{"$f":"P10","v":0},{"$f":"F10","v":791.17600000000004},{"$f":"$G$10","v":0},{"$f":"H10","v":791.17600000000004},{"$f":"$G$10","v":0},{"$f":"J10","v":791.17600000000004},{"$f":"$G$10","v":0},{"$f":"L10","v":791.17600000000004},{"$f":"$G$10","v":0},{"$f":"P9","v":0}]
[]
["Руководитель организации",null,null,{"$f":"'Инф-я'!$C$21","v":"Окунев Василий Михайлович"}]
[]
["Постановлением Правительства РФ от 11 июня 2014 года № 542 внесены изменения в п. 20 Основ ценообразования в области регулируемых цен (тарифов) в электроэнергетике, утвержденных постановлением Правительства РФ от 29 декабря 2011 г. № 1178 в части определения налога на прибыль:\n«В необходимую валовую выручку включается величина налога на прибыль организаций по регулируемому виду деятельности, сформированная по данным бухгалтерского учета за последний истекший период.\nПри установлении тарифов на услуги по передаче электрической энергии учитывается величина налога на прибыль организаций, которая относится по данным раздельного учета к деятельности по оказанию услуг по передаче электрической энергии и осуществлению технологического присоединения к электрическим сетям»."]

{"sheet":"Негативное возд. на окр. среду ","index":32,"n_rows":60,"n_cols":18,"rows_kept":60,"cut":false,"hidden":false,"merged":[[1,1,1,14],[3,1,3,14],[28,0,28,1],[30,1,30,2],[30,4,30,6],[5,0,6,0],[5,1,6,1],[5,2,5,3],[5,4,5,5],[5,6,5,7],[5,8,5,9],[5,10,5,11],[5,12,5,13],[5,14,5,15],[27,0,27,1]]}
[]
[null,"Расчет платы за негативное воздействие на окружающую среду"]
[]
[null,{"$f":"'Инф-я'!C13","v":"ООО \"Энергетик\""}]
[null,null,null,null,null,null,null,null,null,null,null,null,null,null,"тыс. руб."]
["№ п./п.","Наименование","2018 год",null,"2019 год",null,"2020 год",null,"2021 год",null,"2022 год",null,"2023 год",null,"2024 год",null,"2018 год"]
[null,null,"Утверждено","Факт","Утверждено","Ожидаемые","По данным организации","По данным экспертов","По данным организации","По данным экспертов","По данным организации","По данным экспертов","По данным организации","По данным экспертов","По данным организации","По данным экспертов","Факт по данным экспертов"]
[1,2,3,4,5,6,7,null,8,null,9,null,10,null,11]
["1.","Плата за выбросы загрязняющих веществ в атмосферный воздух стационарными объектами, исчисленная без учета корректировки, в том числе:","x",{"$f":"SUM(D10:D12)","v":0.23},"x","x",{"$f":"SUM(G10:G12)","v":0.23},{"$f":"SUM(H10:H12)","v":0},{"$f":"SUM(I10:I12)","v":0.23499999999999999},{"$f":"SUM(J10:J12)","v":0},{"$f":"SUM(K10:K12)","v":0.24},0,{"$f":"SUM(M10:M12)","v":0.245},{"$f":"SUM(N10:N12)","v":0},{"$f":"SUM(O10:O12)","v":0.25},0,0]
["1.1.","плата за выбросы в пределах предельно-допустимых выбросов (ПДВ) ","x",null,"x","x"]
["1.2.","плата за выбросы в пределах лимитов на выбросы загрязняющих веществ (временно согласованные выбросы ВСВ)","x",null,"x","x"]
["1.3.","плата за выбросы, превышающие установленные разрешениями на выброс загрязняющих веществ в атмосферный воздух ","x",0.23,"x","x",0.23,null,0.23499999999999999,null,0.24,null,0.245,null,0.25]
["2.","Плата за сбросы загрязняющих веществ в водные объекты  ","x",{"$f":"SUM(D14:D16)","v":0},"x","x",{"$f":"SUM(G14:G16)","v":0},{"$f":"SUM(H14:H16)","v":0},{"$f":"SUM(I14:I16)","v":0},{"$f":"SUM(J14:J16)","v":0},{"$f":"SUM(K14:K16)","v":0},0,{"$f":"SUM(M14:M16)","v":0},{"$f":"SUM(N14:N16)","v":0},{"$f":"SUM(O14:O16)","v":0},0,0]
["2.1.","плата за сбросы в пределах нормативов допустимых сбросов (НДС)","x",null,"x","x"]
["2.2.","плата за сбросы в пределах лимитов на сбросы загрязняющих веществ (временно согласованный сбор ВСС)","x",null,"x","x"]
["2.3.","плата за сбросы, превышающие установленные разрешениями  на сброс загрязняющих веществ (сверх лимита на сбросы)","x",null,"x","x"]
["3.","Плата за размещение отходов производства и потребления, исчисленная без учета корректировки, в том числе:","x",{"$f":"SUM(D18:D19)","v":0},"x","x",{"$f":"SUM(G18:G19)","v":0},{"$f":"SUM(H18:H19)","v":0},{"$f":"SUM(I18:I19)","v":0},{"$f":"SUM(J18:J19)","v":0},{"$f":"SUM(K18:K19)","v":0},0,{"$f":"SUM(M18:M19)","v":0},{"$f":"SUM(N18:N19)","v":0},{"$f":"SUM(O18:O19)","v":0},0,0]
["3.1.","плата за размещение отходов в пределах установленного лимита на их размещение  ","x",null,"x","x"]
["3.2.","плата за размещение отходов сверх установленного лимита на их размещение","x",null,"x","x"]
["4.","Сумма средств на выполнение мероприятий по снижению негативного воздействия на окружающую среду, всего (п.4.1.+п.4.2.+п.4.3.), в том числе","x",{"$f":"D21+D23+D25","v":0},"x","x",{"$f":"G21+G23+G25","v":0},{"$f":"H21+H23+H25","v":0},{"$f":"I21+I23+I25","v":0},{"$f":"J21+J23+J25","v":0},{"$f":"K21+K23+K25","v":0},0,{"$f":"M21+M23+M25","v":0},{"$f":"N21+N23+N25","v":0},{"$f":"O21+O23+O25","v":0},0,0]
["4.1.","платы за выбросы","x",null,"x","x"]
["4.1.1.","средства, уменьшающие плату за выбросы в части предельно допустимых выбросов","x",{"$f":"IF(D9=0,0,D21*((D10+D11)/D9))","v":0},"x","x",{"$f":"IF(G9=0,0,G21*((G10+G11)/G9))","v":0},{"$f":"IF(H9=0,0,H21*((H10+H11)/H9))","v":0},{"$f":"IF(I9=0,0,I21*((I10+I11)/I9))","v":0},{"$f":"IF(J9=0,0,J21*((J10+J11)/J9))","v":0},{"$f":"IF(K9=0,0,K21*((K10+K11)/K9))","v":0},0,{"$f":"IF(M9=0,0,M21*((M10+M11)/M9))","v":0},{"$f":"IF(N9=0,0,N21*((N10+N11)/N9))","v":0},{"$f":"IF(O9=0,0,O21*((O10+O11)/O9))","v":0},0,0]
["4.2.","платы за сбросы","x",null,"x","x"]
["4.2.1.","средства, уменьшающие плату за сбросы в части нормативов сбросов","x",{"$f":"IF(D13=0,0,D23*((D14+D15)/D13))","v":0},"x","x",{"$f":"IF(G13=0,0,G23*((G14+G15)/G13))","v":0},{"$f":"IF(H13=0,0,H23*((H14+H15)/H13))","v":0},{"$f":"IF(I13=0,0,I23*((I14+I15)/I13))","v":0},{"$f":"IF(J13=0,0,J23*((J14+J15)/J13))","v":0},{"$f":"IF(K13=0,0,K23*((K14+K15)/K13))","v":0},0,{"$f":"IF(M13=0,0,M23*((M14+M15)/M13))","v":0},{"$f":"IF(N13=0,0,N23*((N14+N15)/N13))","v":0},{"$f":"IF(O13=0,0,O23*((O14+O15)/O13))","v":0},0,0]
["4.3.","платы за размещение отходов","x",null,"x","x"]
["4.3.1.","средства, уменьшающие плату за размещение отходов в части лимита","x",{"$f":"IF(D17=0,0,D25*(D18/D17))","v":0},"x","x",{"$f":"IF(G17=0,0,G25*(G18/G17))","v":0},{"$f":"IF(H17=0,0,H25*(H18/H17))","v":0},{"$f":"IF(I17=0,0,I25*(I18/I17))","v":0},{"$f":"IF(J17=0,0,J25*(J18/J17))","v":0},{"$f":"IF(K17=0,0,K25*(K18/K17))","v":0},0,{"$f":"IF(M17=0,0,M25*(M18/M17))","v":0},{"$f":"IF(N17=0,0,N25*(N18/N17))","v":0},{"$f":"IF(O17=0,0,O25*(O18/O17))","v":0},0,0]
["5.","Сумма платы, подлежащей внесению в бюджет, всего (п.1+п.2+п.3-п.4), в том числе","x",{"$f":"D9+D13+D17-D20","v":0.23},"x","x",{"$f":"G9+G13+G17-G20","v":0.23},{"$f":"H9+H13+H17-H20","v":0},{"$f":"I9+I13+I17-I20","v":0.23499999999999999},{"$f":"J9+J13+J17-J20","v":0},{"$f":"K9+K13+K17-K20","v":0.24},0,{"$f":"M9+M13+M17-M20","v":0.245},{"$f":"N9+N13+N17-N20","v":0},{"$f":"O9+O13+O17-O20","v":0.25},0,0]
["Плата за негативное воздействие на окружающую среду в пределах лимитов",null,null,{"$f":"D10+D11-D22+D14+D15-D24+D18-D26","v":0},null,null,{"$f":"G10+G11-G22+G14+G15-G24+G18-G26","v":0},0,0,0,0,0,0,0,0,0,{"$f":"Q10+Q11-Q22+Q14+Q15-Q24+Q18-Q26","v":0}]
["Плата за негативное воздействие на окружающую среду, относимая на услугу по передаче электрической энергии",null,null,null,null,null,null,null,null,null,null,null,null,null,null,null,null,"Условное форматирование: если в ячейке не указано значение -форматируется красным цветом"]
[]
[null,"Руководитель организации",null,null,{"$f":"'Инф-я'!$C$21","v":"Окунев Василий Михайлович"}]
[]
[]
[]
[null,"Плата вносится раздельно по четырем компонентам окружающей среды: плата за выбросы, плата за выбросы ПНГ, плата за сбросы в водные объекты и плата за размещение отходов. Каждая по своему КБК (коду бюджетной классификации)"]
[null,"1. Плата за выбросы загрязняющих веществ в атмосферный воздух стационарными объектами, исчисленная без учета корректировки, в том числе:"]
[null,"1.1. плата за выбросы в пределах предельно-допустимых выбросов (ПДВ) "]
[null,"1.2. плата за выбросы в пределах лимитов на выбросы загрязняющих веществ (временно согласованные выбросы ВСВ)"]
[null,"1.3. плата за выбросы, превышающие установленные разрешениями на выброс загрязняющих веществ в атмосферный воздух "]
[null,"2. Плата за выбросы загрязняющих веществ при сжигании и (или) рассеивании попутного нефтяного газа"]
[null,"2.1. плата за выбросы ПНГ в пределах ПДВ"]
[null,"2.2. плата за выбросы ПНГ в пределах лимитов  на выбросы загрязняющих веществ (ВСВ)"]
[null,"2.3. плата за выбросы ПНГ сверх лимита на выбросы"]
[null,"3. Плата за сбросы загрязняющих веществ в водные объекты  "]
[null,"3.1. плата за сбросы в пределах НДС"]
[null,"3.2. плата за сбросы в пределах лимитов на сбросы загрязняющих веществ (ВСС)"]
[null,"3.3. плата за сбросы, превышающие установленные разрешениями  на сброс загрязняющих веществ (сверх лимита на сбросы)"]
[null,"4. Плата за размещение отходов производства и потребления, исчисленная без учета корректировки, в том числе:"]
[null,"4.1. плата за размещение отходов в пределах установленного лимита на их размещение  "]
[null,"4.2. плата за размещение отходов сверх установленного лимита на их размещение"]
[null,"5. Сумма средств на выполнение мероприятий по снижению негативного воздействия на окружающую среду, всего    "]
[null,"5.1. платы за выбросы "]
[null,"5.2. платы за выбросы ПНГ"]
[null,"5.3. платы за сбросы"]
[null,"5.4. платы за размещение отходов"]
[null,"Сумма платы, подлежащей внесению в бюджет, всего (п.1+п.2+п.3+п.4-п.5)"]
[]
[null,"НК, Статья 270. Расходы, не учитываемые в целях налогообложения"]
[null,"4) в виде суммы налога, а также суммы платежей за выбросы загрязняющих веществ в атмосферный воздух, сбросы загрязняющих веществ в составе сточных вод в водные объекты, "]
[null,"осуществляемые с превышением нормативов допустимых сбросов, за размещение отходов производства и потребления с превышением установленных лимитов на их размещение;"]

{"sheet":"Услуги ФСК","index":33,"n_rows":35,"n_cols":24,"rows_kept":35,"cut":false,"hidden":false,"merged":[[1,0,1,21],[2,0,2,21],[4,21,4,22],[5,21,6,21],[5,22,6,22],[4,15,4,16],[4,17,4,18],[5,17,6,17],[5,18,6,18],[4,19,4,20],[5,19,6,19],[5,20,6,20],[5,23,6,23],[18,0,18,1],[18,3,18,4],[20,0,20,14],[4,0,6,0],[4,1,4,4],[4,5,4,8],[4,9,4,14],[5,2,5,4],[5,6,5,8],[5,9,5,11],[5,12,5,14],[5,16,6,16],[5,15,6,15]]}
[]
["Оплата услуг ПАО \"ФСК ЕЭС\""]
[{"$f":"'Инф-я'!C13","v":"ООО \"Энергетик\""}]
[null,null,null,null,null,null,null,null,null,null,null,null,null,null,null,null,null,null,null,null,null,"тыс. руб."]
["Показатели","2018 год",null,null,null,"2019 год",null,null,null,"2020 год",null,null,null,null,null,"2021 год",null,"2022 год",null,"2023 год",null,"2024 год",null,"2018 год"]
[null,"Утверждено","Факт",null,null,"Утверждено","Ожидаемые",null,null,"По данным организации",null,null,"По данным экспертов",null,null,"По данным организации","По данным экспертов","По данным организации","По данным экспертов","По данным организации","По данным экспертов","По данным организации","По данным экспертов","Факт по данным экспертов"]
[null,"год","1 полугодие","2 полугодие","год","год","1 полугодие","2 полугодие","год","1 полугодие","2 полугодие","год","1 полугодие","2 полугодие","год",null,"По данным экспертов",null,"По данным экспертов",null,"По данным экспертов",null,"По данным экспертов"]
[1,2,3,4,5,6,7,8,9,10,11,12,13,14,15,16,17,18,19,20,21,22,23,24]
["Расходы на содержание сетей, тыс. руб.","х",{"$f":"O26","v":0},{"$f":"P26","v":0},{"$f":"D9+C9","v":0},"х",{"$f":"G10*G11*6/1000","v":0},{"$f":"H10*H11*6/1000","v":0},{"$f":"H9+G9","v":0},{"$f":"J10*J11*6/1000","v":0},{"$f":"K10*K11*6/1000","v":0},{"$f":"K9+J9","v":0},{"$f":"M10*M11*6/1000","v":0},{"$f":"N10*N11*6/1000","v":0},{"$f":"M9+N9","v":0},"х","х","х","х","х","х","х","х","х"]
["Заявленная мощность в точках присоединения к сетям ПАО \"ФСК ЕЭС\", МВт","х",{"$f":"B24","v":0},{"$f":"H24","v":0},"х","х",null,null,"х",null,null,"х",null,null,"х","х","х","х","х","х","х","х","х","х"]
["Ставка тарифа услуги по передаче электрической энергии на содержание объектов электросетевого хозяйства, входящих в ЕНЭС, руб. МВт/мес.","х",{"$f":"B25","v":0},{"$f":"H25","v":0},"х","х",null,null,"х",null,null,"х",null,null,"х","х","х","х","х","х","х","х","х","х"]
["Расходы на компенсацию потерь, тыс. руб.","х",{"$f":"C13*C16","v":{"$error":"#DIV/0!"}},{"$f":"D13*D16","v":{"$error":"#DIV/0!"}},{"$f":"D12+C12","v":{"$error":"#DIV/0!"}},"х",{"$f":"G13*G16","v":0},{"$f":"H13*H16","v":0},{"$f":"G12+H12","v":0},{"$f":"J13*J16","v":0},{"$f":"K13*K16","v":0},{"$f":"J12+K12","v":0},{"$f":"M13*M16","v":0},{"$f":"N13*N16","v":0},{"$f":"M12+N12","v":0},"х","х","х","х","х","х","х","х","х"]
["Объем технологических потерь электрической энергии при ее передаче по ЕНЭС, млн. кВт.ч","х",{"$f":"C14*C15%","v":0},{"$f":"D14*D15%","v":0},{"$f":"E14*E15%","v":0},"х",{"$f":"G14*G15%","v":0},0,0,0,0,0,0,0,0,"х","х","х","х","х","х","х","х","х"]
["Объем отпуска электроэнергии из сети ПАО \"ФСК ЕЭС\" в сеть организации, млн. кВт.ч","х",{"$f":"O28/1000","v":0},{"$f":"P28/1000","v":0},{"$f":"D14+C14","v":0},"х",null,null,{"$f":"H14+G14","v":0},null,null,{"$f":"K14+J14","v":0},null,null,{"$f":"N14+M14","v":0},"х","х","х","х","х","х","х","х","х"]
["Норматив технологических потерь электрической энергии при ее передаче по ЕНЭС, применяемый к отпуску электроэнергии из сети ПАО \"ФСК ЕЭС\", %","х",{"$f":"B29","v":4.25},{"$f":"B29","v":4.25},{"$f":"B29","v":4.25},"х",3.89,3.89,3.89,3.89,3.89,3.89,3.89,3.89,3.89,"х","х","х","х","х","х","х","х","х"]
["Ставка тарифа на оплату нормативных технологических потерь электрической энергии в ЕНЭС, руб./МВт.ч","х",{"$f":"O31","v":{"$error":"#DIV/0!"}},{"$f":"P31","v":{"$error":"#DIV/0!"}},"х","х",null,null,"х",null,null,"х",null,null,"х","х","х","х","х","х","х","х","х","х"]
["ИТОГО оплата услуг ПАО \"ФСК ЕЭС\"",null,{"$f":"C9+C12","v":{"$error":"#DIV/0!"}},{"$error":"#DIV/0!"},{"$f":"IFERROR(E9+E12,0)","v":0},null,{"$f":"G9+G12","v":0},0,0,0,0,0,0,0,0]
[]
["Руководитель организации",null,null,{"$f":"'Инф-я'!$C$21","v":"Окунев Василий Михайлович"}]
[]
["Факт по данным организации за 2018 год"]
[]
[null,"янв","фев","мар","апр","май","июн","июль","авг","сент","окт","ноя","дек","Итого","1 полуг","2 полуг"]
["Заявленная мощность в точках присоединения к сетям ПАО \"ФСК ЕЭС\", МВт",null,null,null,null,null,null,null,null,null,null,null,null,"х","х","х"]
["Ставка тарифа услуги по передаче электрической энергии на содержание объектов электросетевого хозяйства, входящих в ЕНЭС, руб. МВт/мес.",null,{"$f":"B25","v":0},{"$f":"C25","v":0},0,0,0,null,{"$f":"H25","v":0},{"$f":"I25","v":0},0,0,{"$f":"L25","v":0},"х","х","х"]
["Стоимость услуги по передаче электрической энергии на содержание объектов элкутросетевого хозяйства, тыс. руб.",{"$f":"B24*B25/1000","v":0},{"$f":"C24*C25/1000","v":0},0,0,0,0,0,0,0,0,0,{"$f":"M24*M25/1000","v":0},{"$f":"SUM(B26:M26)","v":0},{"$f":"SUM(B26:G26)","v":0},{"$f":"SUM(H26:M26)","v":0}]
[null,"янв","фев","мар","апр","май","июн","июль","авг","сент","окт","ноя","дек","Итого","1 полуг","2 полуг"]
["Отпуск электрической энергии из сетей ПАО \"ФСК ЕЭС\" напряжением 220 кВ и ниже, МВт.ч",null,null,null,null,null,null,null,null,null,null,null,null,{"$f":"SUM(B28:M28)","v":0},{"$f":"SUM(B28:G28)","v":0},{"$f":"SUM(H28:M28)","v":0}]
["Норматив технологических потерь электрической энергии при ее передаче по ЕНЭС, применяемый к отпуску электроэнергии из сети ПАО \"ФСК ЕЭС\" , %",4.25,{"$f":"B29","v":4.25},{"$f":"C29","v":4.25},4.25,4.25,4.25,4.25,4.25,4.25,4.25,4.25,{"$f":"L29","v":4.25},"х","х","х"]
["Объем технологических потерь электрической энергии при ее передаче по ЕНЭС, МВт.ч",{"$f":"ROUND(B28*B29/100,3)","v":0},{"$f":"ROUND(C28*C29/100,3)","v":0},0,0,0,0,0,0,0,0,0,{"$f":"ROUND(M28*M29/100,3)","v":0},{"$f":"SUM(B30:M30)","v":0},{"$f":"SUM(B30:G30)","v":0},{"$f":"SUM(H30:M30)","v":0}]
["Ставка тарифа на оплату нормативных технологических потерь электрической энергии в ЕНЭС, руб./МВт.ч",null,null,null,null,null,null,null,null,null,null,null,null,{"$f":"N32/N30*1000","v":{"$error":"#DIV/0!"}},{"$f":"O32/O30*1000","v":{"$error":"#DIV/0!"}},{"$f":"P32/P30*1000","v":{"$error":"#DIV/0!"}}]
["Расходы на компенсацию потерь, тыс. руб.",{"$f":"B30*B31/1000","v":0},{"$f":"C30*C31/1000","v":0},0,0,0,0,0,0,0,0,0,{"$f":"M30*M31/1000","v":0},{"$f":"SUM(B32:M32)","v":0},{"$f":"SUM(B32:G32)","v":0},{"$f":"SUM(H32:M32)","v":0}]
["Итого расходы на услуги ФСК, тыс. руб.",{"$f":"B26+B32","v":0},{"$f":"C26+C32","v":0},0,0,0,0,0,0,0,0,0,{"$f":"M26+M32","v":0},{"$f":"N26+N32","v":0},{"$f":"O26+O32","v":0},{"$f":"P26+P32","v":0}]
[]
["Приказ Минэнерго от 27.12.2018 г. №1251 \"Об утверждении норматива потерь на 2019 год\" 220 кВ и ниже - 3,89, 330 кВ и выше  - 3,46"]

{"sheet":"Прочие НР","index":34,"n_rows":16,"n_cols":16,"rows_kept":16,"cut":false,"hidden":false,"merged":[[1,0,1,15],[2,0,2,15],[12,0,12,15],[15,0,15,1],[15,3,15,5],[4,0,5,0],[4,1,4,2],[4,3,4,4],[4,5,4,6],[4,7,4,8],[4,9,4,10],[4,11,4,12],[4,13,4,14]]}
[]
["Прочие обоснованные неподконтрольные расходы"]
[{"$f":"'Инф-я'!C13","v":"ООО \"Энергетик\""}]
[null,null,null,null,null,null,null,null,null,null,null,null,null,"тыс. руб."]
["Наименование","2018 год",null,"2019 год",null,"2020 год",null,"2021 год",null,"2022 год",null,"2023 год",null,"2024 год",null,"2018 год"]
[null,"Утверждено","Факт","Утверждено","Ожидаемые","По данным организации","По данным экспертов","По данным организации","По данным экспертов","По данным организации","По данным экспертов","По данным организации","По данным экспертов","По данным организации","По данным экспертов","Факт по данным экспертов"]
[1,2,3,4,5,6,7,8,9,10,11,12,13,14,15,16]
["Экспертиза НВВ по договору с ТОРИ-АУДИТ №Ф-07-Э-2014 от 05.02.2014г. Доп.соглашение от 17.01.2017г.",198.02600000000001,198.03,205.35300000000001,205.35]
["Расчет плановых показателей надежности и качества по договору с ООО \"ТОРИ-АУДИТ\" №Ф-07-НК от 25.01.2019г.",null,null,null,null,70]
["Экспертиза НВВ по договору с ТОРИ-АУДИТ на долгосрочный период 2020-2024гг",null,null,null,null,362.42099999999999]
[]
[]
["Добавить"]
["ИТОГО прочие обоснованные неподконтрольные расходы",{"$f":"SUM(B8:B12)","v":198.02600000000001},198.03,205.35300000000001,205.35,432.42099999999999,0,{"$f":"SUM(H8:H12)","v":0},0,{"$f":"SUM(J8:J12)","v":0},0,{"$f":"SUM(L8:L12)","v":0},0,{"$f":"SUM(N8:N12)","v":0},0,0]
[]
["Руководитель организации",null,null,{"$f":"'Инф-я'!$C$21","v":"Окунев Василий Михайлович"}]

{"sheet":" КВЛ","index":35,"n_rows":34,"n_cols":15,"rows_kept":34,"cut":false,"hidden":false,"merged":[[1,0,2,13],[3,0,3,13],[5,7,5,8],[5,9,5,10],[5,11,5,12],[5,13,5,14],[33,0,33,1],[33,3,33,5],[5,0,6,0],[5,1,5,2],[5,3,5,4],[5,5,5,6],[27,0,27,14]]}
[]
["Расходы на капитальные вложения"]
[]
[{"$f":"'Инф-я'!C13","v":"ООО \"Энергетик\""}]
[null,null,null,null,null,null,null,null,null,null,null,null,null,"тыс. руб."]
["Наименование капитальных вложений","2018 год",null,"2019 год",null,"2020 год",null,"2021 год",null,"2022 год",null,"2023 год",null,"2024 год"]
[null,"Утверждено","Факт","Утверждено","Ожидаемые","По данным организации","По данным экспертов","По данным организации","По данным экспертов","По данным организации","По данным экспертов","По данным организации","По данным экспертов","По данным организации","По данным экспертов"]
[1,2,3,4,5,6,7,8,9,10,11,12,13,14,15]
["Строительство ВЛ 10 кВ от ТП 9 до ТП 62 Ф1001, Фидер 1001",1554.5119999999999,1554.51]
["Строительство ВЛ 0,4 кВ от ТП 45, Технологическое присоединение абонентов в районе ул.Чистопольная, Луговая, Сосновая, Дружбы, Тихая, Фидер 1001",4600.8450000000003,4600.8500000000004]
["Установка КРУН (10кВ)на выходе с ПС \"Карабаново\"фидера 1001 1 ячейка",1010.134,1010.13]
["Установка КРУН (10кВ)на выходе с ПС \"Карабаново\"фидера 1022 2 ячейки",2240.77,2240.77]
["Реконструкция ВЛ 10 кВ от ТП 10 до ТП 27 (фидер 1001)",null,null,2138.1489999999999,2138.15]
["Строительство ВЛ 10 кВ от ТП 12 до ТП 62 Ф1001, Фидер 1001",null,null,1783.8320000000001,1783.83]
["Реконструкция ВЛ 10 кВ от ПС \"Карабаново\" до ТП 12 (фидер 1001) ",null,null,3604.9380000000001,3604.94]
["Установка КРУН (10кВ)на выходе с ПС \"Карабаново\"фидера 1003 2 ячейки",null,null,2341.6529999999998,2341.65]
["Строительство ТП 72",null,null,null,null,7524.7]
["Строительство ВЛ 10 кВ (двухцепная) от ТП63 до ТП64 Ф1003, 1005",null,null,null,null,2020.6]
["Строительство ТП 64",null,null,null,null,null,null,6633.7]
["Строительство ВЛ 10 кВ от ТП76 до ТП19 Ф1005",null,null,null,null,null,null,1279.5]
["Строительство ВЛ 10 кВ (двухцепная) от ТП72 до ж/д перехода Ф1003, 1005",null,null,null,null,null,null,408.3]
["Строительство ТП 76",null,null,null,null,null,null,null,null,7613.9]
["Строительство ВЛ 0,4 кВ от ТП40 для подключения потребителей ул.1-я и 2-я Воронцова",null,null,null,null,null,null,null,null,2086.9]
["Строительство многофункционального пункта энергосистемы г.Карабаново",null,null,null,null,null,null,null,null,null,null,6216]
["Строительство ВЛ 10 кВ (двухцепная) от ТП19 до ТП64 Ф1003, 1005",null,null,null,null,null,null,null,null,null,null,597.79999999999995]
["Реконструкция здания производственной базы",null,null,null,null,1143.14868,null,2367.0424899999998,null,985.06844000000001,null,3874.8997199999999,null,10688.557510000001]
["Введите название"]
["Добавить"]
["ИТОГО капитальных вложений",{"$f":"SUM(B9:B27)","v":9406.2610000000004},{"$f":"SUM(C9:C27)","v":9406.26},9868.5720000000001,9868.57,10688.44868,0,{"$f":"SUM(H9:H27)","v":10688.54249},0,10685.868439999998,0,10688.699720000001,0,10688.557510000001,0]
[" - амортизация",4681.2632088137834,{"$f":"'Свод по амортизации'!C13","v":5538.4819399999997},4681.5720000000001,{"$f":"'Свод по амортизации'!E13","v":6271.55627},{"$f":"'Свод по амортизации'!F13","v":6538.2205639166677},{"$f":"'Свод по амортизации'!G13","v":0},{"$f":"'Свод по амортизации'!H13","v":6538.2205639166677},{"$f":"'Свод по амортизации'!I13","v":0},{"$f":"'Свод по амортизации'!J13","v":6538.2205639166677},{"$f":"'Свод по амортизации'!K13","v":0},{"$f":"'Свод по амортизации'!L13","v":6538.2205639166677},{"$f":"'Свод по амортизации'!M13","v":0},{"$f":"'Свод по амортизации'!N13","v":6538.2205639166677},{"$f":"'Свод по амортизации'!O13","v":0}]
[" - прочие средства "]
[" - прибыль",{"$f":"IF((B29-B30-B31)<=0,0,(B29-B30-B31))","v":4724.997791186217},3867.7780600000006,5187,3597.0137299999997,{"$f":"IF((F29-F30-F31)<=0,0,(F29-F30-F31))","v":4150.2281160833318},0,{"$f":"IF((H29-H30-H31)<=0,0,(H29-H30-H31))","v":4150.3219260833321},{"$f":"IF((I29-I30-I31)<=0,0,(I29-I30-I31))","v":0},{"$f":"IF((J29-J30-J31)<=0,0,(J29-J30-J31))","v":4147.6478760833306},{"$f":"IF((K29-K30-K31)<=0,0,(K29-K30-K31))","v":0},{"$f":"IF((L29-L30-L31)<=0,0,(L29-L30-L31))","v":4150.4791560833328},{"$f":"IF((M29-M30-M31)<=0,0,(M29-M30-M31))","v":0},{"$f":"IF((N29-N30-N31)<=0,0,(N29-N30-N31))","v":4150.3369460833328},{"$f":"IF((O29-O30-O31)<=0,0,(O29-O30-O31))","v":0}]
[]
["Руководитель организации",null,null,{"$f":"'Инф-я'!$C$21","v":"Окунев Василий Михайлович"}]

{"sheet":"Выпадающий доход","index":36,"n_rows":26,"n_cols":5,"rows_kept":26,"cut":false,"hidden":true,"merged":[[25,0,25,1],[25,2,25,3],[1,0,1,4],[3,0,3,4],[5,0,6,0],[5,3,5,4],[23,0,23,4]]}
[]
["Расходы, связанные с компенсацией выпадающих доходов по льготному технологическому присоединению"]
[]
[{"$f":"'Инф-я'!C13","v":"ООО \"Энергетик\""}]
[null,null,null,"тыс. руб."]
["Наименование","2018 год","2019 год","2020 год"]
[null,"Утверждено","Утверждено","По данным организации","По данным экспертов"]
[1,2,3,4,5]
["   выпадающие доходы сетевой организации от присоединения энергопринимающих устройств максимальной мощностью, не превышающей 15 кВт включительно, исходя из стоимости мероприятий по технологическому присоединению в размере не более 550 рублей;",{"$f":"SUM(B10:B14)","v":0},0,0,0]
["             за 2016 год",{"$f":"'Расчет выпадающих до 15 кВт'!C50","v":0},"х","х","х"]
["             за 2017 год","х",null,"х","х"]
["             за 2018 год",{"$f":"'Расчет выпадающих до 15 кВт'!C51","v":0},"х",{"$f":"'Расчет выпадающих до 15 кВт'!C53","v":0}]
["             за 2019 год","х",null,"х","х"]
["             за 2020 год","х","х",{"$f":"'Расчет выпадающих до 15 кВт'!C54","v":0}]
["   выпадающие доходы сетевой организации от присоединения энергопринимающих устройств максимальной мощностью не более, чем 150 кВт на покрытие расходов на строительство объектов электросетевого хозяйства ",{"$f":"SUM(B16:B20)","v":0},{"$f":"SUM(C16:C20)","v":0},0,0]
["             за 2016 год",{"$f":"'Расчет выпадающих до 150 кВт'!C57","v":0},"х","х","х"]
["             за 2017 год","х",null,"х","х"]
["             за 2018 год",{"$f":"'Расчет выпадающих до 150 кВт'!C58","v":0},"х",{"$f":"'Расчет выпадающих до 150 кВт'!C60","v":0}]
["             за 2019 год","х",null,"х","х"]
["             за 2020 год","х","х",{"$f":"'Расчет выпадающих до 150 кВт'!C61","v":0}]
["   выпадающие доходы сетевой организации от выплаты процентов по кредитным договорам, связанным с рассрочкой по оплате субъектами малого и среднего предпринимательства технологического присоединения энергопринимающих устройств максимальной мощностью свыше 15 кВт и до 150 кВт включительно",null,null,{"$f":"'СВОД по % по рассрочке'!J18","v":0}]
["Итого расходы, связанные с компенсацией выпадающих доходов по льготному технологическому присоединению",{"$f":"B9+B21+B15","v":0},{"$f":"C9+C21+C15","v":0},0,0]
[]
[]
[]
["Руководитель организации",null,{"$f":"'Инф-я'!$C$21","v":"Окунев Василий Михайлович"}]

{"sheet":"Расчет выпадающих до 15 кВт","index":37,"n_rows":289,"n_cols":11,"rows_kept":289,"cut":false,"hidden":true,"merged":[[286,2,286,3],[287,1,287,4],[288,2,288,3],[180,0,180,4],[90,0,90,4],[281,1,281,4],[282,1,282,4],[283,2,283,3],[284,2,284,3],[285,2,285,3],[276,2,276,3],[277,2,277,3],[278,2,278,3],[279,2,279,3],[280,1,280,4],[271,2,271,3],[272,2,272,3],[273,2,273,3],[274,2,274,3],[275,2,275,3],[266,2,266,3],[267,2,267,3],[268,2,268,3],[269,1,269,4],[270,2,270,3],[261,1,261,4],[262,2,262,3],[263,1,263,4],[264,1,264,4],[265,2,265,3],[236,1,236,4],[245,1,245,4],[250,1,250,4],[257,1,257,4],[258,1,258,4],[201,1,201,4],[211,1,211,4],[220,1,220,4],[225,1,225,4],[226,1,226,4],[185,1,185,4],[186,1,186,4],[194,1,194,4],[199,1,199,4],[200,1,200,4],[178,2,178,3],[19,0,19,10],[182,1,183,1],[182,2,183,2],[182,3,183,3],[182,4,183,4],[173,1,173,4],[174,2,174,3],[175,1,175,4],[176,2,176,3],[177,1,177,4],[168,2,168,3],[169,2,169,3],[170,2,170,3],[171,2,171,3],[172,2,172,3],[163,2,163,3],[164,2,164,3],[165,2,165,3],[166,2,166,3],[167,2,167,3],[158,1,158,4],[159,2,159,3],[160,2,160,3],[161,2,161,3],[162,1,162,4],[152,2,152,3],[153,2,153,3],[154,2,154,3],[155,1,155,4],[157,1,157,4],[147,2,147,3],[148,1,148,4],[149,2,149,3],[150,2,150,3],[151,2,151,3],[126,1,126,4],[135,1,135,4],[137,1,137,4],[145,1,145,4],[146,1,146,4],[96,1,96,4],[104,1,104,4],[109,1,109,4],[110,1,110,4],[119,1,119,4],[95,1,95,4],[42,2,42,4],[42,5,42,7],[3,0,3,10],[4,0,4,10],[6,0,6,9],[8,0,10,0],[8,1,10,1],[8,2,9,4],[8,5,9,7],[8,8,9,10],[38,1,38,7],[40,2,40,4],[40,5,40,7],[41,2,41,4],[41,5,41,7],[51,6,51,7],[52,2,52,4],[53,2,53,4],[43,2,43,4],[48,2,48,4],[54,2,54,4],[56,1,56,2],[56,3,56,5],[49,2,49,4],[50,2,50,4],[51,2,51,4],[92,1,93,1],[92,2,93,2],[92,3,93,3],[92,4,93,4],[22,0,22,10],[24,0,24,10],[26,0,26,10],[28,0,28,10],[31,0,31,10],[43,5,43,7],[44,2,44,4],[44,5,44,7],[46,1,46,7]]}
[null,null,null,null,null,null,"Приложение 1"]
[null,null,null,null,null,null,"к Методическим указаниям, "]
[null,null,null,null,null,null,"утвержденным приказом ФСТ от 11.09.2014 г. №215-э/1"]
[]
["Расчет размера расходов, связанных с осуществлением технологического присоединения энергопринимающих устройств максимальной мощностью, не превышающей 15 кВт включительно, не включаемых в состав платы за технологическое присоединение за 2018 год и плановый период 2020 года"]
[]
[{"$f":"'Инф-я'!$C$13","v":"ООО \"Энергетик\""}]
[]
["№ п./п.","Показатели","Фактические данные за 2018 год",null,null,"Расчетные (фактические) данные за 2018 год",null,null,"Плановые показатели на 2020 год"]
[]
[null,null,"ставка платы (руб./кВт, руб./км, руб./шт.)","мощность, длина линий, количество (кВт, км, шт.)","Сумма (в соответствии с актами приемки выполненных работ) тыс. руб. ","стандартизированная ставка платы (руб./кВт, руб./км, руб./шт.)","мощность, длина линий, количество (кВт, км, шт.)","Сумма,   тыс. руб. ","стандартизированная ставка платы (руб./кВт, руб./км, руб./шт.)","мощность, длина линий, количество (кВт, км, шт.)","Сумма,   тыс. руб. "]
[1,2,3,4,5,6,7,8,9,10,11]
["1.","м",{"$f":"SUM(C14:C15)","v":0},{"$f":"F44","v":0},{"$f":"SUM(E14:E15)","v":0},{"$f":"SUM(F14:F15)","v":21128.05},{"$f":"D13","v":0},{"$f":"SUM(H14:H15)","v":0},21221,{"$f":"F45","v":0},{"$f":"I13*J13/1000","v":0}]
["1.1.","подготовка и выдача сетевой организацией технических условий (ТУ) Заявителю",{"$f":"IF(D14=0,0,E14/D14*1000)","v":0},{"$f":"D13","v":0},null,4479.37,{"$f":"G13","v":0},{"$f":"F14*G14/1000","v":0},"х","х","х"]
["1.2.","проверка сетевой организацией выполнения Заявителем ТУ",{"$f":"IF(D15=0,0,E15/D15*1000)","v":0},{"$f":"D13","v":0},null,16648.68,{"$f":"G13","v":0},{"$f":"F15*G15/1000","v":0},"х","х","х"]
["2.","Расходы по мероприятиям \"последней мили\", связанные с осуществлением технологического присоединения ","х","х",{"$f":"SUM(E17:E32)","v":0},{"$f":"C16","v":"х"},"х",{"$f":"SUM(H17:H32)","v":0},{"$f":"F16","v":"х"},"х",{"$f":"SUM(K17:K32)","v":0}]
["2.1.","строительство воздушных линий, на уровне напряжения i и (или) диапазоне мощности j",{"$f":"IF(D17=0,0,E17/D17*1000)","v":0},null,null,null,{"$f":"D17","v":0},{"$f":"F17*G17/1000","v":0},null,null,{"$f":"I17*J17/1000","v":0}]
[null,"строительство воздушных линий, на уровне напряжения i и (или) диапазоне мощности j",0,null,null,null,{"$f":"D18","v":0},0,null,null,0]
[null,"строительство воздушных линий, на уровне напряжения i и (или) диапазоне мощности j",{"$f":"IF(D19=0,0,E19/D19*1000)","v":0},null,null,null,{"$f":"D19","v":0},{"$f":"F19*G19/1000","v":0},null,null,{"$f":"I19*J19/1000","v":0}]
["Добавить"]
["2.2.","строительство кабельных линий, на уровне напряжения i и (или) диапазоне мощности j",{"$f":"IF(D21=0,0,E21/D21*1000)","v":0},null,null,null,{"$f":"D21","v":0},{"$f":"F21*G21/1000","v":0},null,null,{"$f":"I21*J21/1000","v":0}]
[null,"строительство кабельных линий, на уровне напряжения i и (или) диапазоне мощности j",{"$f":"IF(D22=0,0,E22/D22*1000)","v":0},null,null,null,{"$f":"D22","v":0},{"$f":"F22*G22/1000","v":0},null,null,{"$f":"I22*J22/1000","v":0}]
["Добавить"]
["2.3.","строительством пунктов секционирования, на уровне напряжения i и (или) диапазоне мощности j",{"$f":"IF(D24=0,0,E24/D24*1000)","v":0},null,null,null,{"$f":"D24","v":0},{"$f":"F24*G24/1000","v":0},null,null,{"$f":"I24*J24/1000","v":0}]
["Добавить"]
["2.4.","строительство комплектных трансформаторных подстанций (КТП) с уровнем напряжения до 35 кВ, на уровне напряжения i и (или) диапазоне мощности j",{"$f":"IF(D26=0,0,E26/D26*1000)","v":0},null,null,null,{"$f":"D26","v":0},{"$f":"F26*G26/1000","v":0},null,null,{"$f":"I26*J26/1000","v":0}]
["Добавить"]
["2.5.","строительство распределительных трансформаторных подстанций (РТП) с уровнем напряжения до 35 кВ, на уровне напряжения i и (или) диапазоне мощности j",{"$f":"IF(D28=0,0,E28/D28*1000)","v":0},null,null,null,{"$f":"D28","v":0},{"$f":"F28*G28/1000","v":0},null,null,{"$f":"I28*J28/1000","v":0}]
["Добавить"]
["2.6.","строительство центров питания, подстанций уровнем напряжения 35 кВ и выше (ПС), на уровне напряжения i и (или) диапазоне мощности j",{"$f":"IF(D30=0,0,E30/D30*1000)","v":0},null,null,null,{"$f":"D30","v":0},{"$f":"F30*G30/1000","v":0},null,null,{"$f":"I30*J30/1000","v":0}]
["2.6.","строительство центров питания, подстанций уровнем напряжения 35 кВ и выше (ПС), на уровне напряжения i и (или) диапазоне мощности j",{"$f":"IF(D31=0,0,E31/D31*1000)","v":0},null,null,null,{"$f":"D31","v":0},{"$f":"F31*G31/1000","v":0},null,null,{"$f":"I31*J31/1000","v":0}]
["Добавить"]
["3.","Суммарный размер платы за технологическое присоединение [п. 3.1 * п. 3.2 / 1000]:","х","х",{"$f":"E34*E35/1000","v":0},"х","х",{"$f":"H34*H35/1000","v":0},"х","х",{"$f":"K34*K35/1000","v":0}]
["3.1.","Размер платы за технологическое присоединение (руб. без НДС)","х","х",466.1,"х","х",466.1,"х","х",458.33]
["3.2.","Плановое количество договоров на осуществление технологическое присоединение к электрическим сетям (плановое количество членов объединений (организаций), указанных в п. 16 Методических указаний по определению размера платы за технологическое присоединение к электрическим сетям, утвержденных приказом ФАС России от 29 августа 2017 года, N 1135/17) (шт.)","х","х",{"$f":"C44","v":0},"х","х",{"$f":"C44","v":0},"х","х",{"$f":"C45","v":0}]
["4.","Размер расходов, связанных с осуществлением технологического присоединения к электрическим сетям, не включаемых в состав платы за технологическое присоединение (п. 1 + п. 2 - п. 3)","х","х",{"$f":"E13+E16-E33","v":0},"х","х",{"$f":"H13+H16-H33","v":0},"х","х",{"$f":"K13+K16-K33","v":0}]
[]
[]
[null,"Фактические средние данные по выполненым договорам технологического присоединения за 3 предыдущих года "]
[]
[null,"Год","Количество заявителей технологического присоединения, ед. (для расчета Доходов)",null,null,"Количество  технологических присоединений, ед. (для расчета Расходов)"]
[null,"Факт 2016 г."]
[null,"Факт 2017 г."]
[null,"Факт 2018 г."]
[null,"План 2020 г. (расчет плановых значений исходя из данных за 3 предыдущих периода)",{"$f":"ROUND((C42+C43+C44)/3,0)","v":0},null,null,{"$f":"ROUND((F42+F43+F44)/3,0)","v":0}]
[]
[null,"Сводный расчет выпадающих  доходов от льготного ТП, подлежащих учету в 2020 году, тыс. руб."]
[]
[null,"Выпадающие доходы, учтенные при тарифном регулировании на 2018 год  всего в т.ч.",{"$f":"C50+C51","v":0}]
[null,"фактические по итогам 2016 года"]
[null,"планового периода 2018 года"]
[null,"Выпадающие доходы по итогам 2018 года за минусом плановых показателей 2018 года, подлежащие учету в 2020 году, тыс. руб.",{"$f":"E36-C51","v":0},null,null,null,"ИПЦ, %"]
[null,"Выпадающие доходы по итогам 2018 года c учетом ИПЦ, подлежащие учету в 2020 году, тыс. руб.",{"$f":"C52*(1+H53)*(1+H54)","v":0},null,null,null,"2020 г. к 2019 г."]
[null,"Плановые выпадающие доходы на 2020 год",{"$f":"K36","v":0},null,null,null,"2019 г. к 2018 г."]
[null,"Итого выпадающие доходы от льготного ТП подлежащие учету в 2020 году, тыс. руб.",{"$f":"C54+C53","v":0}]
[]
[null,"Руководитель организации",null,{"$f":"'Инф-я'!$C$21","v":"Окунев Василий Михайлович"}]
[]
[]
[]
[]
[]
[]
[]
[]
["Виды строительства по МУ"]
[]
[3,"Строительство воздушных линий"]
["3. j","Материал опоры (деревянные (j = 1), металлические (j = 2), железобетонные (j = 3)"]
["3. j.k","Тип провода (изолированный провод (k = 1), неизолированный провод (k = 2)"]
["3. j.k.l","Материал провода (медный (l=1), стальной (l = 2), сталеалюминиевый (l = 3), алюминиевый (l = 4)"]
["3. j.k.l.m","Сечение провода (диапазон до 50 квадратных мм включительно (m = 1), от 50 до 100 квадратных мм включительно (m = 2), от 100 до 200 квадратных мм включительно (m = 3), от 200 до 500 квадратных мм включительно (m = 4), от 500 до 800 квадратных мм включительно (m = 5), свыше 800 квадратных мм (m = 6)"]
[4,"Строительство кабельных линий"]
["4. j","Способ прокладки кабельных линий (в траншеях (j = 1), в блоках (j = 2), в каналах (j = 3), в туннелях и коллекторах (j = 4), в галереях и эстакадах (j = 5), горизонтальное наклонное бурение (j = 6)"]
["4. j.k","Одножильные (k = 1) и многожильные (k = 2)"]
["4. j.k.l","Кабели с резиновой и пластмассовой изоляцией (l=1), бумажной изоляцией (l = 2)"]
["4. j.k.l.m","Сечение провода (диапазон до 50 квадратных мм включительно (m = 1), от 50 до 100 квадратных мм включительно (m = 2), от 100 до 200 квадратных мм включительно (m = 3), от 200 до 500 квадратных мм включительно (m = 4), от 500 до 800 квадратных мм включительно (m = 5), свыше 800 квадратных мм (m = 6)"]
[5,"Строительство пунктов секционирования"]
["5. j","Реклоузеры (j = 1 распределительные пункты (РП) (j = 2), переключательные пункты (ПП) (j = 3)"]
["5. j.k","Номинальный ток до 100 А включительно (k = 1), от 100 до 250 А включительно (k = 2), от 250 до 500 А включительно (k = 3), от 500 А до 1 000 А включительно (k = 4), свыше 1 000 А (k = 5)"]
[6,"Строительство трансформаторных подстанций (ТП), за исключением распределительных трансформаторных подстанций (РТП), с уровнем напряжения до 35 кВ"]
["6. j","Трансформаторные подстанции (ТП), за исключением распределительных трансформаторных подстанций (РТП)"]
["6. j.k","Однотрансформаторные (k=1), двухтрансформаторные и более (k = 2)"]
["6. j.k.l","Трансформаторная мощность до 25 кВА включительно (l = 1), от 25 до 100 кВА включительно (l = 2), от 100 до 250 кВА включительно (l = 3), от 250 до 500 кВА (l = 4), от 500 до 900 кВА включительно (l = 5), свыше 1000 кВА (l = 6)"]
[7,"Строительство распределительных трансформаторных подстанций (РТП) с уровнем напряжения до 35 кВ"]
["7. j","Распределительные трансформаторные подстанции (РТП)"]
["7. j.k","Однотрансформаторные (k=1), двухтрансформаторные и более (k = 2)"]
["7. j.k.l","Трансформаторная мощность до 25 кВА включительно (l=1), от 25 до 100 кВ А включительно (l = 2), от 100 до 250 кВА включительно (l = 3), от 250 до 500 кВА (l = 4), от 500 до 900 кВА включительно (l = 5), свыше 1000 кВА (l = 6)"]
[8,"Строительство центров питания, подстанций уровнем напряжения 35 кВ и выше (ПС)"]
["8. j","ПС 35 кВ (j = 1), ПС 110 кВ и выше (j = 2)"]
["Стандартизированные ставки, применяемые для расчета платы за технологическое присоединение устройств к электрическим сетям (С2, СЗ, С4, С5), без НДС (в ценах 2018 г.)"]
[]
["N","Стандартизированные тарифные ставки","Уровень напряжения в точке присоединения 0,4 кВ","Уровень напряжения в точке присоединения 6-10 кВ","Уровень напряжения в точке присоединения 35-110 кВ"]
["п/п"]
[1,2,3,4,5]
[2,"С2 - стандартизированная тарифная ставка на покрытие расходов сетевой организации на строительство воздушных линий электропередачи"]
["2.1.","Прокладка воздушных линий с установкой опор, руб./км"]
["2001-01-02","сечение жилы до 16 мм2",717297,"-","-"]
["2002-01-02","сечение жилы до 25 мм2",541675,"-","-"]
["2003-01-02","сечение жилы до 35 мм2",865225,1364873,"-"]
["2004-01-02","сечение жилы до 50 мм2",870017,1475522,"-"]
["2005-01-02","сечение жилы до 70 мм2",943132,1405579,"-"]
["2006-01-02","сечение жилы до 95 мм2",984942,1498292,"-"]
["2007-01-02","сечение жилы до 120 мм2",1158608,"-","-"]
["2.2.","Прокладка воздушных линий по существующим опорам, руб./км"]
["2001-02-02","сечение жилы до 16 мм2",322438,"-","-"]
["2002-02-02","сечение жилы до 25 мм2",397721,"-","-"]
["2003-02-02","сечение жилы до 35 мм2",545933,"-","-"]
["2004-02-02","сечение жилы до 50 мм2",525019,"-","-"]
[3,"С3 - стандартизированная тарифная ставка на покрытие расходов сетевой организации на строительство кабельных линий электропередачи"]
["3.1.","Прокладка одной КЛ в траншее (с благоустройством), руб./км"]
["2001-01-03","сечение жилы до 35 мм2",647881,"-","-"]
["2002-01-03","сечение жилы до 50 мм2",687655,1317933,"-"]
["2003-01-03","сечение жилы до 70 мм2",1111822,1496543,"-"]
["2004-01-03","сечение жилы до 95 мм2",931796,1682039,"-"]
["2005-01-03","сечение жилы до 120 мм2",2244755,1775170,"-"]
["2006-01-03","сечение жилы до 150 мм2",957616,2014663,"-"]
["2007-01-03","сечение жилы до 185 мм2",1232108,2256703,"-"]
["2008-01-03","сечение жилы до 240 мм2",1431202,2562382,"-"]
["3.2.","Прокладка двух КЛ в траншее (с благоустройством), руб./км"]
["2001-02-03","сечение жилы до 16 мм2",299583,"-","-"]
["2002-02-03","сечение жилы до 35 мм2",574329,"-","-"]
["2003-02-03","сечение жилы до 120 мм2","-",2260898,"-"]
["2004-02-03","сечение жилы до 150 мм2",679027,"-","-"]
["2005-02-03","сечение жилы до 185 мм2",2737754,"-","-"]
["2006-02-03","сечение жилы до 240 мм2",3866504,3478293,"-"]
["3.3.","Прокладка одной КЛ в полиэтиленовой трубе (с благоустройством), руб./км"]
["2001-03-03","сечение жилы до 35 мм2",779020,"-","-"]
["2002-03-03","сечение жилы до 50 мм2",738707,"-","-"]
["2003-03-03","сечение жилы до 70 мм2",1234707,1609675,"-"]
["2004-03-03","сечение жилы до 95 мм2",980094,1796650,"-"]
["2005-03-03","сечение жилы до 120 мм2",951115,1813010,"-"]
["2006-03-03","сечение жилы до 150 мм2",1255903,2112225,"-"]
["2007-03-03","сечение жилы до 185 мм2",1341496,2365159,"-"]
["2008-03-03","сечение жилы до 240 мм2",1519985,2673372,"-"]
["3.4.","Прокладка двух КЛ в полиэтиленовых трубах (с благоустройством), руб./км"]
["3.4.1.","сечение жилы до 120 мм2","-",4040285,"-"]
["3.5.","Прокладка одной КЛ методом ГНБ, руб./км"]
["2001-05-03","сечение жилы до 50 мм2",5482415,7092474,"-"]
["2002-05-03","сечение жилы до 70 мм2",5548401,6282313,"-"]
["2003-05-03","сечение жилы до 95 мм2",5677167,5733470,"-"]
["2004-05-03","сечение жилы до 120 мм2",5314366,6615307,"-"]
["2005-05-03","сечение жилы до 150 мм2",5798713,6656822,"-"]
["2006-05-03","сечение жилы до 185 мм2",5943888,7030091,"-"]
["2007-05-03","сечение жилы до 240 мм2",6150642,7335150,"-"]
[4,"С4 - стандартизированная тарифная ставка на покрытие расходов сетевой организации на строительство"]
["4.1.","Реклоузеры, руб./шт."]
["2001-01-04","мощностью до 630 кВА",1507393,null,"-"]
["4.2.","Переключательные пункты, руб./шт."]
["2001-02-04","мощностью до 250 кВА",1759310,null,"-"]
["2002-02-04","мощностью до 1000 кВА",1674164,null,"-"]
["2003-02-04","мощностью до 1250 кВА",2824472,null,"-"]
["2004-02-04","мощностью до 1600 кВА",1748482,null,"-"]
["2005-02-04","мощностью до 2500 кВА",1881231,null,"-"]
["2006-02-04","мощностью до 4000 кВА",3563450,null,"-"]
["4.3.","Распределительные пункты, руб./шт."]
["2001-03-04","мощностью до 4000 кВА","-","-",50072988]
[5,"С5 - стандартизированная тарифная ставка на покрытие расходов сетевой организации на строительство трансформаторных подстанций"]
["5.1.","Строительство блочных трансформаторных подстанций с двумя трансформаторами (все типы), руб./кВт"]
["2001-01-05","мощностью до 2 x 160 кВА",19698,null,"-"]
["2002-01-05","мощностью до 2 x 400 кВА",12446,null,"-"]
["2003-01-05","мощностью до 2 x 630 кВА",8538,null,"-"]
["5.2.","Строительство киосковых трансформаторных подстанций с одним трансформатором (все типы), руб./кВт"]
["2001-02-05","мощностью до 1 x 16 кВА",63383,null,"-"]
["2002-02-05","мощностью до 1 x 25 кВА",28636,null,"-"]
["2003-02-05","мощностью до 1 x 40 кВА",13463,null,"-"]
["2004-02-05","мощностью до 1 x 63 кВА",9193,null,"-"]
["2005-02-05","мощностью до 1 x 100 кВА",5836,null,"-"]
["2006-02-05","мощностью до 1 x 160 кВА",7734,null,"-"]
["2007-02-05","мощностью до 1 x 250 кВА",5231,null,"-"]
["2008-02-05","мощностью до 1 x 400 кВА",2300,null,"-"]
["2009-02-05","мощностью до 1 x 630 кВА",3339,null,"-"]
["2010-02-05","мощностью до 1 x 1000 кВА",2406,null,"-"]
["5.3.","Строительство киосковых трансформаторных подстанций с двумя трансформаторами (все типы), руб./кВт"]
["2001-03-05","мощностью до 2 x 400 кВА",4068,null,"-"]
["5.4.","Строительство столбовой трансформаторной подстанции с одним трансформатором, руб./кВт"]
["2001-04-05","мощностью до 1 x 16 кВА",24891.79,null,"-"]
[5.5,"Строительство комплектной трансформаторной подстанции с четырьмя трансформаторами, руб./кВт"]
["2001-05-05","мощностью 4 х 1000 кВА",4867.7299999999996,null,"-"]
[]
["Стандартизированные ставки, применяемые для расчета платы за технологическое присоединение устройств к электрическим сетям (С2, СЗ, С4, С5), без НДС (в ценах 2019 г.)"]
[]
["N","Стандартизированные тарифные ставки","Уровень напряжения 0,4 кВ","Уровень напряжения 6 - 10 кВ","Уровень напряжения 35 - 110 кВ"]
["п/п"]
[1,2,3,4,5]
[2,"С2 - стандартизированная тарифная ставка на покрытие расходов сетевой организации на строительство воздушных линий электропередачи"]
["2.1.","Прокладка воздушных линий с установкой опор, руб./км"]
["2001-01-02","сечение жилы до 16 мм2",561458,"-","-"]
["2002-01-02","сечение жилы до 25 мм2",680690,"-","-"]
["2003-01-02","сечение жилы до 35 мм2",930714,1422158,"-"]
["2004-01-02","сечение жилы до 50 мм2",1184804,1583985,"-"]
["2005-01-02","сечение жилы до 70 мм2",1025791,1510508,4983144]
["2006-01-02","сечение жилы до 95 мм2",1230668,"-","-"]
["2007-01-02","сечение жилы до 120 мм2",1263691,"-","-"]
["2.2.","Прокладка воздушных линий по существующим опорам, руб./км"]
["2001-02-02","сечение жилы до 16 мм2",583509,"-","-"]
["2002-02-02","сечение жилы до 25 мм2",400278,"-","-"]
["2003-02-02","сечение жилы до 35 мм2",381701,"-","-"]
["2004-02-02","сечение жилы до 50 мм2",606480,"-","-"]
[3,"С3 - стандартизированная тарифная ставка на покрытие расходов сетевой организации на строительство кабельных линий электропередачи"]
["3.1.","Прокладка одной КЛ в траншее, руб./км"]
["2001-01-03","Прокладка одной КЛ в траншее (с благоустройством), руб./км"]
["3.1.1.1","сечение жилы до 16 мм2",640869,"-","-"]
["3.1.1.2","сечение жилы до 35 мм2",639603,"-","-"]
["3.1.1.3","сечение жилы до 50 мм2",789642,"-","-"]
["3.1.1.4","сечение жилы до 70 мм2",945564,1630485,"-"]
["3.1.1.5","сечение жилы до 95 мм2",972676,1748962,"-"]
["3.1.1.6","сечение жилы до 120 мм2",1076218,1939213,"-"]
["3.1.1.7","сечение жилы до 150 мм2",1441925,2133986,"-"]
["3.1.1.8","сечение жилы до 185 мм2",1316334,2355608,"-"]
["3.1.1.9","сечение жилы до 240 мм2",1550787,2918329,"-"]
["2002-01-03","Прокладка одной КЛ в траншее (без благоустройства), руб./км"]
["3.1.2.1","сечение жилы до 35 мм2",382355,"-","-"]
["3.1.2.2","сечение жилы до 50 мм2","-",1585759,"-"]
["3.1.2.3","сечение жилы до 70 мм2",735363,"-","-"]
["3.1.2.4","сечение жилы до 95 мм2",597701,"-",","]
["3.1.2.5","сечение жилы до 120 мм2",1237450,1846495,"-"]
["3.1.2.6","сечение жилы до 150 мм2",1527436,"-","-"]
["3.1.2.7","сечение жилы до 185 мм2",784944,"-","-"]
["3.1.2.8","сечение жилы до 240 мм2",2004705,"-","-"]
["3.2.","Прокладка двух КЛ в траншее (с благоустройством), руб./км"]
["2001-02-03","сечение жилы до 120 мм2",1967587,"-","-"]
["2002-02-03","сечение жилы до 150 мм2",2346840,4077926,"-"]
["2003-02-03","сечение жилы до 185 мм2",2509234,"-","-"]
["2004-02-03","сечение жилы до 240 мм2",3013669,6017409,"-"]
["3.3.","Прокладка одной КЛ в полиэтиленовой трубе, руб./км"]
["2001-03-03","Прокладка одной КЛ в полиэтиленовой трубе (с благоустройством), руб./км"]
["3.3.1.1","сечение жилы до 16 мм2",753308,"-","-"]
["3.3.1.2","сечение жилы до 35 мм2",811856,"-","-"]
["3.3.1.3","сечение жилы до 50 мм2",995349,"-","-"]
["3.3.1.4","сечение жилы до 70 мм2",938058,1665467,"-"]
["3.3.1.5","сечение жилы до 95 мм2",1104765,1854000,"-"]
["3.3.1.6","сечение жилы до 120 мм2",1084936,2006887,"-"]
["3.3.1.7","сечение жилы до 150 мм2",1792909,2234745,"-"]
["3.3.1.8","сечение жилы до 185 мм2",1382467,2440902,"-"]
["3.3.1.9","сечение жилы до 240 мм2",1608080,3058640,"-"]
["2002-03-03","Прокладка одной КЛ в полиэтиленовой трубе (без благоустройства), руб./км"]
["3.3.2.1","сечение жилы до 35 мм2",379134,"-","-"]
["3.3.2.2","сечение жилы до 50 мм2","-",1710978,"-"]
["3.3.2.3","сечение жилы до 70 мм2",593580,"-","-"]
["3.3.2.4","сечение жилы до 95 мм2",480585,"-","-"]
["3.3.2.5","сечение жилы до 120 мм2","-",2222444,"-"]
["3.3.2.6","сечение жилы до 150 мм2",1323201,"-","-"]
["3.3.2.7","сечение жилы до 185 мм2",670565,"-","-"]
["3.3.2.8","сечение жилы до 240 мм2",2926092,"-","-"]
["3.4.","Прокладка двух КЛ в полиэтиленовых трубах (с благоустройством), руб./км"]
["2001-04-03","сечение жилы до 120 мм2",2121943,"-","-"]
["2002-04-03","сечение жилы до 150 мм2",2462129,4303639,"-"]
["2003-04-03","сечение жилы до 185 мм2",2704254,"-","-"]
["2004-04-03","сечение жилы до 240 мм2",3097080,6058233,"-"]
["3.5.","Прокладка одной КЛ методом ГНБ, руб./км"]
["2001-05-03","сечение жилы до 70 мм2","-",6911299,"-"]
["2002-05-03","сечение жилы до 95 мм2",6245335,7968367,"-"]
["2003-05-03","сечение жилы до 120 мм2",5666158,6894146,"-"]
["2004-05-03","сечение жилы до 150 мм2",7130715,7318326,"-"]
["2005-05-03","сечение жилы до 185 мм2",6322672,7533309,"-"]
["2006-05-03","сечение жилы до 240 мм2",6566589,7868175,"-"]
[4,"С4 - стандартизированная тарифная ставка на покрытие расходов сетевой организации на строительство"]
["4.1.","Реклоузеры, руб./шт."]
["2001-01-04","мощностью до 630 кВА","-",1571110,"-"]
["2002-01-04","мощностью до 1000 кВА","-",1877758,"-"]
["4.2.","Распределительные пункты, руб./шт."]
["2001-02-04","мощностью до 4000 кВА","-",null,33804569]
[5,"С5 - стандартизированная тарифная ставка на покрытие расходов сетевой организации на строительство трансформаторных подстанций"]
["5.1.","Строительство блочных трансформаторных подстанций с двумя трансформаторами (все типы), руб./кВт"]
["2001-01-05","мощностью до 2 х 160 кВА",19307,null,"-"]
["2002-01-05","мощностью до 2 х 250 кВА",19704,null,"-"]
["2003-01-05","мощностью до 2 х 400 кВА",14441,null,"-"]
["2004-01-05","мощностью до 2 х 630 кВА",9225,null,"-"]
["5.2.","Строительство киосковых трансформаторных подстанций с одним трансформатором (все типы), руб./кВт"]
["2001-02-05","мощностью до 1 х 16 кВА",54863,null,"-"]
["2002-02-05","мощностью до 1 х 25 кВА",36560,null,"-"]
["2003-02-05","мощностью до 1 х 40 кВА",12481,null,"-"]
["2004-02-05","мощностью до 1 х 63 кВА",9435,null,"-"]
["2005-02-05","мощностью до 1 х 100 кВА",5858,null,"-"]
["2006-02-05","мощностью до 1 х 160 кВА",7978,null,"-"]
["2007-02-05","мощностью до 1 х 250 кВА",3666,null,"-"]
["2008-02-05","мощностью до 1 х 400 кВА",5069,null,"-"]
["2009-02-05","мощностью до 1 х 630 кВА",3222,null,"-"]
["2010-02-05","мощностью до 1 х 1000 кВА",2508,null,"-"]
["5.3.","Строительство киосковых трансформаторных подстанций с двумя трансформаторами (все типы), руб./кВт"]
["2001-03-05","мощностью до 2 х 400 кВА"]
["5.4.","Строительство столбовой трансформаторной подстанции с одним трансформатором, руб./кВт"]
["2001-04-05","мощностью до 1 х 16 кВА",71665,null,"-"]
["2002-04-05","мощностью до 1 х 25 кВА",42208,null,"-"]
["2003-04-05","мощностью до 1 х 40 кВА",9291,null,"-"]
["2004-04-05","мощностью до 1 х 63 кВА",7971,null,"-"]
["5.5.","Строительство блочных трансформаторных подстанций с одним трансформатором (все типы), руб./кВт"]
["2001-05-05","мощностью до 1 х 1000 кВА",2991,null,"-"]

{"sheet":"Расчет выпадающих до 150 кВт","index":38,"n_rows":296,"n_cols":11,"rows_kept":296,"cut":false,"hidden":true,"merged":[[3,0,3,10],[6,0,6,9],[8,0,10,0],[8,1,10,1],[8,2,9,4],[8,5,9,7],[8,8,9,10],[45,1,45,7],[41,0,41,10],[33,0,33,10],[39,0,39,10],[37,0,37,10],[35,0,35,10],[16,0,16,10],[18,0,18,10],[20,0,20,10],[22,0,22,10],[24,0,24,10],[26,0,26,10],[53,1,53,7],[55,2,55,4],[56,2,56,4],[57,2,57,4],[58,2,58,4],[58,6,58,7],[99,1,100,1],[99,2,100,2],[99,3,100,3],[99,4,100,4],[102,1,102,4],[103,1,103,4],[59,2,59,4],[60,2,60,4],[61,2,61,4],[63,1,63,2],[63,3,63,5],[97,0,97,4],[144,1,144,4],[152,1,152,4],[153,1,153,4],[154,2,154,3],[155,1,155,4],[156,2,156,3],[111,1,111,4],[116,1,116,4],[117,1,117,4],[126,1,126,4],[133,1,133,4],[142,1,142,4],[164,1,164,4],[165,1,165,4],[166,2,166,3],[167,2,167,3],[168,2,168,3],[169,1,169,4],[157,2,157,3],[158,2,158,3],[159,2,159,3],[160,2,160,3],[161,2,161,3],[162,1,162,4],[176,2,176,3],[177,2,177,3],[178,2,178,3],[179,2,179,3],[180,1,180,4],[181,2,181,3],[170,2,170,3],[171,2,171,3],[172,2,172,3],[173,2,173,3],[174,2,174,3],[175,2,175,3],[182,1,182,4],[183,2,183,3],[184,1,184,4],[185,2,185,3],[187,0,187,4],[189,1,190,1],[189,2,190,2],[189,3,190,3],[189,4,190,4],[218,1,218,4],[227,1,227,4],[232,1,232,4],[233,1,233,4],[243,1,243,4],[252,1,252,4],[192,1,192,4],[193,1,193,4],[201,1,201,4],[206,1,206,4],[207,1,207,4],[208,1,208,4],[274,2,274,3],[275,2,275,3],[276,1,276,4],[257,1,257,4],[264,1,264,4],[265,1,265,4],[268,1,268,4],[269,2,269,3],[270,1,270,4],[295,2,295,3],[4,0,4,10],[31,0,31,10],[289,1,289,4],[290,2,290,3],[291,2,291,3],[292,2,292,3],[293,2,293,3],[294,1,294,4],[283,2,283,3],[284,2,284,3],[285,2,285,3],[286,2,286,3],[287,1,287,4],[288,1,288,4],[277,2,277,3],[278,2,278,3],[279,2,279,3],[280,2,280,3],[281,2,281,3],[282,2,282,3],[271,1,271,4],[272,2,272,3],[273,2,273,3]]}
[null,null,null,null,null,null,"Приложение 1"]
[null,null,null,null,null,null,"к Методическим указаниям, "]
[null,null,null,null,null,null,"утвержденным приказом ФСТ от 11.09.2014 г. №215-э/1"]
[]
["Расчет размера расходов, связанных с осуществлением технологического присоединения к электрическим сетям энергопринимающих устройств максимальной мощностью до 150 кВт включительно, не включаемых в состав платы за технологическое присоединение за 2018 год и плановый период 2020 года"]
[]
[{"$f":"'Инф-я'!$C$13","v":"ООО \"Энергетик\""}]
[]
["№ п./п.","Показатели","Фактические данные за 2018 год",null,null,"Расчетные (фактические) данные за 2018 год",null,null,"Плановые показатели на 2020 год"]
[]
[null,null,"ставка платы (руб./кВт, руб./км, руб./шт.)","мощность, длина линий, количество (кВт, км, шт.)","Сумма (в соответствии с актами приемки выполненных работ) тыс. руб. ","стандартизированная ставка платы (руб./кВт, руб./км, руб./шт.)","мощность, длина линий, количество (кВт, км, шт.)","Сумма,   тыс. руб. ","стандартизированная ставка платы (руб./кВт, руб./км, руб./шт.)","мощность, длина линий, количество (кВт, км, шт.)","Сумма,   тыс. руб. "]
[1,2,3,4,5,6,7,8,9,10,11]
["1.","Расходы по мероприятиям \"последней мили\", связанные с осуществлением технологического присоединения к электрическим сетям [п.1.1 + п.1.2 + п.1.3 + п.1.4+ п.1.5+ п.1.6]:","х","х",{"$f":"SUM(E14:E27)","v":0},{"$f":"C13","v":"х"},"х",{"$f":"SUM(H14:H27)","v":0},{"$f":"F13","v":"х"},"х",{"$f":"SUM(K14:K27)","v":0}]
["1.1.","строительство воздушных линий, на уровне напряжения i и (или) диапазоне мощности j",{"$f":"IF(D14=0,0,E14/D14*1000)","v":0},null,null,null,{"$f":"D14","v":0},{"$f":"F14*G14/1000","v":0},null,null,{"$f":"I14*J14/1000","v":0}]
[null,"строительство воздушных линий, на уровне напряжения i и (или) диапазоне мощности j",0,null,null,null,{"$f":"D15","v":0},0,null,null,0]
[null,"строительство воздушных линий, на уровне напряжения i и (или) диапазоне мощности j",{"$f":"IF(D16=0,0,E16/D16*1000)","v":0},null,null,null,{"$f":"D16","v":0},{"$f":"F16*G16/1000","v":0},null,null,0]
["Добавить"]
["1.2.","строительство кабельных линий, на уровне напряжения i и (или) диапазоне мощности j",{"$f":"IF(D18=0,0,E18/D18*1000)","v":0},null,null,null,{"$f":"D18","v":0},{"$f":"F18*G18/1000","v":0},null,null,{"$f":"I18*J18/1000","v":0}]
["Добавить"]
["1.3.","строительством пунктов секционирования, на уровне напряжения i и (или) диапазоне мощности j",{"$f":"IF(D20=0,0,E20/D20*1000)","v":0},null,null,null,{"$f":"D20","v":0},{"$f":"F20*G20/1000","v":0},null,null,{"$f":"I20*J20/1000","v":0}]
["Добавить"]
["1.4.","строительство комплектных трансформаторных подстанций (КТП) с уровнем напряжения до 35 кВ, на уровне напряжения i и (или) диапазоне мощности j",{"$f":"IF(D22=0,0,E22/D22*1000)","v":0},null,null,null,{"$f":"D22","v":0},{"$f":"F22*G22/1000","v":0},null,null,{"$f":"I22*J22/1000","v":0}]
["Добавить"]
["1.5.","строительство распределительных трансформаторных подстанций (РТП) с уровнем напряжения до 35 кВ, на уровне напряжения i и (или) диапазоне мощности j",{"$f":"IF(D24=0,0,E24/D24*1000)","v":0},null,null,null,{"$f":"D24","v":0},{"$f":"F24*G24/1000","v":0},null,null,{"$f":"I24*J24/1000","v":0}]
["Добавить"]
["1.6.","строительство центров питания, подстанций уровнем напряжения 35 кВ и выше (ПС), на уровне напряжения i и (или) диапазоне мощности j",{"$f":"IF(D26=0,0,E26/D26*1000)","v":0},null,null,null,{"$f":"D26","v":0},{"$f":"F26*G26/1000","v":0},null,null,{"$f":"I26*J26/1000","v":0}]
["Добавить"]
["2.","Суммарный размер платы за технологическое присоединение в части мероприятий \"последней мили\" [n.2.1 + п.2.2 + п.2.3 + п.2.4 + п.2.5+ п.2.6]:","х","х",{"$f":"SUM(E29:E42)","v":0},{"$f":"C28","v":"х"},{"$f":"D28","v":"х"},{"$f":"SUM(H29:H42)","v":0},{"$f":"F28","v":"х"},{"$f":"G28","v":"х"},{"$f":"SUM(K29:K42)","v":0}]
["2.1.","строительство воздушных линий, на уровне напряжения i и (или) диапазоне мощности j",{"$f":"IF(D29=0,0,E29/D29*1000)","v":0},null,null,null,{"$f":"D29","v":0},{"$f":"F29*G29/1000","v":0},null,null,{"$f":"I29*J29/1000","v":0}]
[null,"строительство воздушных линий, на уровне напряжения i и (или) диапазоне мощности j",0,null,null,null,{"$f":"D30","v":0},0,null,null,0]
[null,"строительство воздушных линий, на уровне напряжения i и (или) диапазоне мощности j",{"$f":"IF(D31=0,0,E31/D31*1000)","v":0},null,null,null,{"$f":"D31","v":0},{"$f":"F31*G31/1000","v":0},null,null,{"$f":"I31*J31/1000","v":0}]
["Добавить"]
["2.2.","строительство кабельных линий, на уровне напряжения i и (или) диапазоне мощности j",{"$f":"IF(D33=0,0,E33/D33*1000)","v":0},null,null,null,{"$f":"D33","v":0},{"$f":"F33*G33/1000","v":0},null,null,{"$f":"I33*J33/1000","v":0}]
["Добавить"]
["2.3.","строительством пунктов секционирования, на уровне напряжения i и (или) диапазоне мощности j",{"$f":"IF(D35=0,0,E35/D35*1000)","v":0},null,null,null,{"$f":"D35","v":0},{"$f":"F35*G35/1000","v":0},null,null,{"$f":"I35*J35/1000","v":0}]
["Добавить"]
["2.4.","строительство комплектных трансформаторных подстанций (КТП) с уровнем напряжения до 35 кВ, на уровне напряжения i и (или) диапазоне мощности j",{"$f":"IF(D37=0,0,E37/D37*1000)","v":0},null,null,null,{"$f":"D37","v":0},{"$f":"F37*G37/1000","v":0},null,null,{"$f":"I37*J37/1000","v":0}]
["Добавить"]
["2.5.","строительство распределительных трансформаторных подстанций (РТП) с уровнем напряжения до 35 кВ, на уровне напряжения i и (или) диапазоне мощности j",{"$f":"IF(D39=0,0,E39/D39*1000)","v":0},null,null,null,{"$f":"D39","v":0},{"$f":"F39*G39/1000","v":0},null,null,{"$f":"I39*J39/1000","v":0}]
["Добавить"]
["2.6.","строительство центров питания, подстанций уровнем напряжения 35 кВ и выше (ПС), на уровне напряжения i и (или) диапазоне мощности j",{"$f":"IF(D41=0,0,E41/D41*1000)","v":0},null,null,null,{"$f":"D41","v":0},{"$f":"F41*G41/1000","v":0},null,null,{"$f":"I41*J41/1000","v":0}]
["Добавить"]
["3.","Размер расходов по мероприятиям \"последней мили\", связанных с осуществлением технологического присоединения к электрическим сетям, не включаемых в плату за технологическое присоединение [п.1 - п.2]","х","х",{"$f":"E13-E28","v":0},"х","х",{"$f":"H13-H28","v":0},"х","х",{"$f":"K13-K28","v":0}]
[]
[]
[null,"Фактические средние данные по выполненым договорам технологического присоединения за 3 предыдущих года "]
[]
[null,"Год","строительство ВЛ, км","строительство КЛ, км","строительством пунктов секционирования, шт","строительство КТП с уровнем напряжения до 35 кВ, кВт","строительство РТП с уровнем напряжения до 35 кВ, кВт","строительство ПС, кВт"]
[null,"Факт 2016 г."]
[null,"Факт 2017 г."]
[null,"Факт 2018 г."]
[null,"План 2019 г. (расчет плановых значений исходя из данных за 3 предыдущих периода)",{"$f":"(C49+C50+C51)/3","v":0},{"$f":"(D49+D50+D51)/3","v":0},0,0,0,{"$f":"(H49+H50+H51)/3","v":0}]
[]
[null,"Сводный расчет выпадающих  доходов от льготного ТП, подлежащих учету в 2020 году, тыс. руб."]
[]
[null,"Выпадающие доходы, учтенные при тарифном регулировании на 2018 год  всего в т.ч.",{"$f":"C57+C58","v":0}]
[null,"фактические по итогам 2016 года"]
[null,"планового периода 2018 года"]
[null,"Выпадающие доходы по итогам 2018 года за минусом плановых показателей 2018 года, подлежащие учету в 2020 году, тыс. руб.",{"$f":"E43-C58","v":0},null,null,null,"ИПЦ, %"]
[null,"Выпадающие доходы по итогам 2018 года c учетом ИПЦ, подлежащие учету в 2020 году, тыс. руб.",{"$f":"C59*(1+H60)*(1+H61)","v":0},null,null,null,"2020 г. к 2019 г."]
[null,"Плановые выпадающие доходы на 2020 год",{"$f":"K43","v":0},null,null,null,"2019 г. к 2018 г."]
[null,"Итого выпадающие доходы от льготного ТП подлежащие учету в 2020 году, тыс. руб.",{"$f":"C61+C60","v":0}]
[]
[null,"Руководитель организации",null,{"$f":"'Инф-я'!$C$21","v":"Окунев Василий Михайлович"}]
[]
[]
[]
[]
[]
[]
[]
[]
["Виды строительства по МУ"]
[]
[3,"Строительство воздушных линий"]
["3. j","Материал опоры (деревянные (j = 1), металлические (j = 2), железобетонные (j = 3)"]
["3. j.k","Тип провода (изолированный провод (k = 1), неизолированный провод (k = 2)"]
["3. j.k.l","Материал провода (медный (l=1), стальной (l = 2), сталеалюминиевый (l = 3), алюминиевый (l = 4)"]
["3. j.k.l.m","Сечение провода (диапазон до 50 квадратных мм включительно (m = 1), от 50 до 100 квадратных мм включительно (m = 2), от 100 до 200 квадратных мм включительно (m = 3), от 200 до 500 квадратных мм включительно (m = 4), от 500 до 800 квадратных мм включительно (m = 5), свыше 800 квадратных мм (m = 6)"]
[4,"Строительство кабельных линий"]
["4. j","Способ прокладки кабельных линий (в траншеях (j = 1), в блоках (j = 2), в каналах (j = 3), в туннелях и коллекторах (j = 4), в галереях и эстакадах (j = 5), горизонтальное наклонное бурение (j = 6)"]
["4. j.k","Одножильные (k = 1) и многожильные (k = 2)"]
["4. j.k.l","Кабели с резиновой и пластмассовой изоляцией (l=1), бумажной изоляцией (l = 2)"]
["4. j.k.l.m","Сечение провода (диапазон до 50 квадратных мм включительно (m = 1), от 50 до 100 квадратных мм включительно (m = 2), от 100 до 200 квадратных мм включительно (m = 3), от 200 до 500 квадратных мм включительно (m = 4), от 500 до 800 квадратных мм включительно (m = 5), свыше 800 квадратных мм (m = 6)"]
[5,"Строительство пунктов секционирования"]
["5. j","Реклоузеры (j = 1 распределительные пункты (РП) (j = 2), переключательные пункты (ПП) (j = 3)"]
["5. j.k","Номинальный ток до 100 А включительно (k = 1), от 100 до 250 А включительно (k = 2), от 250 до 500 А включительно (k = 3), от 500 А до 1 000 А включительно (k = 4), свыше 1 000 А (k = 5)"]
[6,"Строительство трансформаторных подстанций (ТП), за исключением распределительных трансформаторных подстанций (РТП), с уровнем напряжения до 35 кВ"]
["6. j","Трансформаторные подстанции (ТП), за исключением распределительных трансформаторных подстанций (РТП)"]
["6. j.k","Однотрансформаторные (k=1), двухтрансформаторные и более (k = 2)"]
["6. j.k.l","Трансформаторная мощность до 25 кВА включительно (l = 1), от 25 до 100 кВА включительно (l = 2), от 100 до 250 кВА включительно (l = 3), от 250 до 500 кВА (l = 4), от 500 до 900 кВА включительно (l = 5), свыше 1000 кВА (l = 6)"]
[7,"Строительство распределительных трансформаторных подстанций (РТП) с уровнем напряжения до 35 кВ"]
["7. j","Распределительные трансформаторные подстанции (РТП)"]
["7. j.k","Однотрансформаторные (k=1), двухтрансформаторные и более (k = 2)"]
["7. j.k.l","Трансформаторная мощность до 25 кВА включительно (l=1), от 25 до 100 кВ А включительно (l = 2), от 100 до 250 кВА включительно (l = 3), от 250 до 500 кВА (l = 4), от 500 до 900 кВА включительно (l = 5), свыше 1000 кВА (l = 6)"]
[8,"Строительство центров питания, подстанций уровнем напряжения 35 кВ и выше (ПС)"]
["8. j","ПС 35 кВ (j = 1), ПС 110 кВ и выше (j = 2)"]
["Стандартизированные ставки, применяемые для расчета платы за технологическое присоединение устройств к электрическим сетям (С2, СЗ, С4, С5), без НДС (в ценах 2018 г.)"]
[]
["N","Стандартизированные тарифные ставки","Уровень напряжения в точке присоединения 0,4 кВ","Уровень напряжения в точке присоединения 6-10 кВ","Уровень напряжения в точке присоединения 35-110 кВ"]
["п/п"]
[1,2,3,4,5]
[2,"С2 - стандартизированная тарифная ставка на покрытие расходов сетевой организации на строительство воздушных линий электропередачи"]
["2.1.","Прокладка воздушных линий с установкой опор, руб./км"]
["2001-01-02","сечение жилы до 16 мм2",717297,"-","-"]
["2002-01-02","сечение жилы до 25 мм2",541675,"-","-"]
["2003-01-02","сечение жилы до 35 мм2",865225,1364873,"-"]
["2004-01-02","сечение жилы до 50 мм2",870017,1475522,"-"]
["2005-01-02","сечение жилы до 70 мм2",943132,1405579,"-"]
["2006-01-02","сечение жилы до 95 мм2",984942,1498292,"-"]
["2007-01-02","сечение жилы до 120 мм2",1158608,"-","-"]
["2.2.","Прокладка воздушных линий по существующим опорам, руб./км"]
["2001-02-02","сечение жилы до 16 мм2",322438,"-","-"]
["2002-02-02","сечение жилы до 25 мм2",397721,"-","-"]
["2003-02-02","сечение жилы до 35 мм2",545933,"-","-"]
["2004-02-02","сечение жилы до 50 мм2",525019,"-","-"]
[3,"С3 - стандартизированная тарифная ставка на покрытие расходов сетевой организации на строительство кабельных линий электропередачи"]
["3.1.","Прокладка одной КЛ в траншее (с благоустройством), руб./км"]
["2001-01-03","сечение жилы до 35 мм2",647881,"-","-"]
["2002-01-03","сечение жилы до 50 мм2",687655,1317933,"-"]
["2003-01-03","сечение жилы до 70 мм2",1111822,1496543,"-"]
["2004-01-03","сечение жилы до 95 мм2",931796,1682039,"-"]
["2005-01-03","сечение жилы до 120 мм2",2244755,1775170,"-"]
["2006-01-03","сечение жилы до 150 мм2",957616,2014663,"-"]
["2007-01-03","сечение жилы до 185 мм2",1232108,2256703,"-"]
["2008-01-03","сечение жилы до 240 мм2",1431202,2562382,"-"]
["3.2.","Прокладка двух КЛ в траншее (с благоустройством), руб./км"]
["2001-02-03","сечение жилы до 16 мм2",299583,"-","-"]
["2002-02-03","сечение жилы до 35 мм2",574329,"-","-"]
["2003-02-03","сечение жилы до 120 мм2","-",2260898,"-"]
["2004-02-03","сечение жилы до 150 мм2",679027,"-","-"]
["2005-02-03","сечение жилы до 185 мм2",2737754,"-","-"]
["2006-02-03","сечение жилы до 240 мм2",3866504,3478293,"-"]
["3.3.","Прокладка одной КЛ в полиэтиленовой трубе (с благоустройством), руб./км"]
["2001-03-03","сечение жилы до 35 мм2",779020,"-","-"]
["2002-03-03","сечение жилы до 50 мм2",738707,"-","-"]
["2003-03-03","сечение жилы до 70 мм2",1234707,1609675,"-"]
["2004-03-03","сечение жилы до 95 мм2",980094,1796650,"-"]
["2005-03-03","сечение жилы до 120 мм2",951115,1813010,"-"]
["2006-03-03","сечение жилы до 150 мм2",1255903,2112225,"-"]
["2007-03-03","сечение жилы до 185 мм2",1341496,2365159,"-"]
["2008-03-03","сечение жилы до 240 мм2",1519985,2673372,"-"]
["3.4.","Прокладка двух КЛ в полиэтиленовых трубах (с благоустройством), руб./км"]
["3.4.1.","сечение жилы до 120 мм2","-",4040285,"-"]
["3.5.","Прокладка одной КЛ методом ГНБ, руб./км"]
["2001-05-03","сечение жилы до 50 мм2",5482415,7092474,"-"]
["2002-05-03","сечение жилы до 70 мм2",5548401,6282313,"-"]
["2003-05-03","сечение жилы до 95 мм2",5677167,5733470,"-"]
["2004-05-03","сечение жилы до 120 мм2",5314366,6615307,"-"]
["2005-05-03","сечение жилы до 150 мм2",5798713,6656822,"-"]
["2006-05-03","сечение жилы до 185 мм2",5943888,7030091,"-"]
["2007-05-03","сечение жилы до 240 мм2",6150642,7335150,"-"]
[4,"С4 - стандартизированная тарифная ставка на покрытие расходов сетевой организации на строительство"]
["4.1.","Реклоузеры, руб./шт."]
["2001-01-04","мощностью до 630 кВА",1507393,null,"-"]
["4.2.","Переключательные пункты, руб./шт."]
["2001-02-04","мощностью до 250 кВА",1759310,null,"-"]
["2002-02-04","мощностью до 1000 кВА",1674164,null,"-"]
["2003-02-04","мощностью до 1250 кВА",2824472,null,"-"]
["2004-02-04","мощностью до 1600 кВА",1748482,null,"-"]
["2005-02-04","мощностью до 2500 кВА",1881231,null,"-"]
["2006-02-04","мощностью до 4000 кВА",3563450,null,"-"]
["4.3.","Распределительные пункты, руб./шт."]
["2001-03-04","мощностью до 4000 кВА","-","-",50072988]
[5,"С5 - стандартизированная тарифная ставка на покрытие расходов сетевой организации на строительство трансформаторных подстанций"]
["5.1.","Строительство блочных трансформаторных подстанций с двумя трансформаторами (все типы), руб./кВт"]
["2001-01-05","мощностью до 2 x 160 кВА",19698,null,"-"]
["2002-01-05","мощностью до 2 x 400 кВА",12446,null,"-"]
["2003-01-05","мощностью до 2 x 630 кВА",8538,null,"-"]
["5.2.","Строительство киосковых трансформаторных подстанций с одним трансформатором (все типы), руб./кВт"]
["2001-02-05","мощностью до 1 x 16 кВА",63383,null,"-"]
["2002-02-05","мощностью до 1 x 25 кВА",28636,null,"-"]
["2003-02-05","мощностью до 1 x 40 кВА",13463,null,"-"]
["2004-02-05","мощностью до 1 x 63 кВА",9193,null,"-"]
["2005-02-05","мощностью до 1 x 100 кВА",5836,null,"-"]
["2006-02-05","мощностью до 1 x 160 кВА",7734,null,"-"]
["2007-02-05","мощностью до 1 x 250 кВА",5231,null,"-"]
["2008-02-05","мощностью до 1 x 400 кВА",2300,null,"-"]
["2009-02-05","мощностью до 1 x 630 кВА",3339,null,"-"]
["2010-02-05","мощностью до 1 x 1000 кВА",2406,null,"-"]
["5.3.","Строительство киосковых трансформаторных подстанций с двумя трансформаторами (все типы), руб./кВт"]
["2001-03-05","мощностью до 2 x 400 кВА",4068,null,"-"]
["5.4.","Строительство столбовой трансформаторной подстанции с одним трансформатором, руб./кВт"]
["2001-04-05","мощностью до 1 x 16 кВА",24891.79,null,"-"]
[5.5,"Строительство комплектной трансформаторной подстанции с четырьмя трансформаторами, руб./кВт"]
["2001-05-05","мощностью 4 х 1000 кВА",4867.7299999999996,null,"-"]
[]
["Стандартизированные ставки, применяемые для расчета платы за технологическое присоединение устройств к электрическим сетям (С2, СЗ, С4, С5), без НДС (в ценах 2019 г.)"]
[]
["N","Стандартизированные тарифные ставки","Уровень напряжения 0,4 кВ","Уровень напряжения 6 - 10 кВ","Уровень напряжения 35 - 110 кВ"]
["п/п"]
[1,2,3,4,5]
[2,"С2 - стандартизированная тарифная ставка на покрытие расходов сетевой организации на строительство воздушных линий электропередачи"]
["2.1.","Прокладка воздушных линий с установкой опор, руб./км"]
["2001-01-02","сечение жилы до 16 мм2",561458,"-","-"]
["2002-01-02","сечение жилы до 25 мм2",680690,"-","-"]
["2003-01-02","сечение жилы до 35 мм2",930714,1422158,"-"]
["2004-01-02","сечение жилы до 50 мм2",1184804,1583985,"-"]
["2005-01-02","сечение жилы до 70 мм2",1025791,1510508,4983144]
["2006-01-02","сечение жилы до 95 мм2",1230668,"-","-"]
["2007-01-02","сечение жилы до 120 мм2",1263691,"-","-"]
["2.2.","Прокладка воздушных линий по существующим опорам, руб./км"]
["2001-02-02","сечение жилы до 16 мм2",583509,"-","-"]
["2002-02-02","сечение жилы до 25 мм2",400278,"-","-"]
["2003-02-02","сечение жилы до 35 мм2",381701,"-","-"]
["2004-02-02","сечение жилы до 50 мм2",606480,"-","-"]
[3,"С3 - стандартизированная тарифная ставка на покрытие расходов сетевой организации на строительство кабельных линий электропередачи"]
["3.1.","Прокладка одной КЛ в траншее, руб./км"]
["2001-01-03","Прокладка одной КЛ в траншее (с благоустройством), руб./км"]
["3.1.1.1","сечение жилы до 16 мм2",640869,"-","-"]
["3.1.1.2","сечение жилы до 35 мм2",639603,"-","-"]
["3.1.1.3","сечение жилы до 50 мм2",789642,"-","-"]
["3.1.1.4","сечение жилы до 70 мм2",945564,1630485,"-"]
["3.1.1.5","сечение жилы до 95 мм2",972676,1748962,"-"]
["3.1.1.6","сечение жилы до 120 мм2",1076218,1939213,"-"]
["3.1.1.7","сечение жилы до 150 мм2",1441925,2133986,"-"]
["3.1.1.8","сечение жилы до 185 мм2",1316334,2355608,"-"]
["3.1.1.9","сечение жилы до 240 мм2",1550787,2918329,"-"]
["2002-01-03","Прокладка одной КЛ в траншее (без благоустройства), руб./км"]
["3.1.2.1","сечение жилы до 35 мм2",382355,"-","-"]
["3.1.2.2","сечение жилы до 50 мм2","-",1585759,"-"]
["3.1.2.3","сечение жилы до 70 мм2",735363,"-","-"]
["3.1.2.4","сечение жилы до 95 мм2",597701,"-",","]
["3.1.2.5","сечение жилы до 120 мм2",1237450,1846495,"-"]
["3.1.2.6","сечение жилы до 150 мм2",1527436,"-","-"]
["3.1.2.7","сечение жилы до 185 мм2",784944,"-","-"]
["3.1.2.8","сечение жилы до 240 мм2",2004705,"-","-"]
["3.2.","Прокладка двух КЛ в траншее (с благоустройством), руб./км"]
["2001-02-03","сечение жилы до 120 мм2",1967587,"-","-"]
["2002-02-03","сечение жилы до 150 мм2",2346840,4077926,"-"]
["2003-02-03","сечение жилы до 185 мм2",2509234,"-","-"]
["2004-02-03","сечение жилы до 240 мм2",3013669,6017409,"-"]
["3.3.","Прокладка одной КЛ в полиэтиленовой трубе, руб./км"]
["2001-03-03","Прокладка одной КЛ в полиэтиленовой трубе (с благоустройством), руб./км"]
["3.3.1.1","сечение жилы до 16 мм2",753308,"-","-"]
["3.3.1.2","сечение жилы до 35 мм2",811856,"-","-"]
["3.3.1.3","сечение жилы до 50 мм2",995349,"-","-"]
["3.3.1.4","сечение жилы до 70 мм2",938058,1665467,"-"]
["3.3.1.5","сечение жилы до 95 мм2",1104765,1854000,"-"]
["3.3.1.6","сечение жилы до 120 мм2",1084936,2006887,"-"]
["3.3.1.7","сечение жилы до 150 мм2",1792909,2234745,"-"]
["3.3.1.8","сечение жилы до 185 мм2",1382467,2440902,"-"]
["3.3.1.9","сечение жилы до 240 мм2",1608080,3058640,"-"]
["2002-03-03","Прокладка одной КЛ в полиэтиленовой трубе (без благоустройства), руб./км"]
["3.3.2.1","сечение жилы до 35 мм2",379134,"-","-"]
["3.3.2.2","сечение жилы до 50 мм2","-",1710978,"-"]
["3.3.2.3","сечение жилы до 70 мм2",593580,"-","-"]
["3.3.2.4","сечение жилы до 95 мм2",480585,"-","-"]
["3.3.2.5","сечение жилы до 120 мм2","-",2222444,"-"]
["3.3.2.6","сечение жилы до 150 мм2",1323201,"-","-"]
["3.3.2.7","сечение жилы до 185 мм2",670565,"-","-"]
["3.3.2.8","сечение жилы до 240 мм2",2926092,"-","-"]
["3.4.","Прокладка двух КЛ в полиэтиленовых трубах (с благоустройством), руб./км"]
["2001-04-03","сечение жилы до 120 мм2",2121943,"-","-"]
["2002-04-03","сечение жилы до 150 мм2",2462129,4303639,"-"]
["2003-04-03","сечение жилы до 185 мм2",2704254,"-","-"]
["2004-04-03","сечение жилы до 240 мм2",3097080,6058233,"-"]
["3.5.","Прокладка одной КЛ методом ГНБ, руб./км"]
["2001-05-03","сечение жилы до 70 мм2","-",6911299,"-"]
["2002-05-03","сечение жилы до 95 мм2",6245335,7968367,"-"]
["2003-05-03","сечение жилы до 120 мм2",5666158,6894146,"-"]
["2004-05-03","сечение жилы до 150 мм2",7130715,7318326,"-"]
["2005-05-03","сечение жилы до 185 мм2",6322672,7533309,"-"]
["2006-05-03","сечение жилы до 240 мм2",6566589,7868175,"-"]
[4,"С4 - стандартизированная тарифная ставка на покрытие расходов сетевой организации на строительство"]
["4.1.","Реклоузеры, руб./шт."]
["2001-01-04","мощностью до 630 кВА","-",1571110,"-"]
["2002-01-04","мощностью до 1000 кВА","-",1877758,"-"]
["4.2.","Распределительные пункты, руб./шт."]
["2001-02-04","мощностью до 4000 кВА","-",null,33804569]
[5,"С5 - стандартизированная тарифная ставка на покрытие расходов сетевой организации на строительство трансформаторных подстанций"]
["5.1.","Строительство блочных трансформаторных подстанций с двумя трансформаторами (все типы), руб./кВт"]
["2001-01-05","мощностью до 2 х 160 кВА",19307,null,"-"]
["2002-01-05","мощностью до 2 х 250 кВА",19704,null,"-"]
["2003-01-05","мощностью до 2 х 400 кВА",14441,null,"-"]
["2004-01-05","мощностью до 2 х 630 кВА",9225,null,"-"]
["5.2.","Строительство киосковых трансформаторных подстанций с одним трансформатором (все типы), руб./кВт"]
["2001-02-05","мощностью до 1 х 16 кВА",54863,null,"-"]
["2002-02-05","мощностью до 1 х 25 кВА",36560,null,"-"]
["2003-02-05","мощностью до 1 х 40 кВА",12481,null,"-"]
["2004-02-05","мощностью до 1 х 63 кВА",9435,null,"-"]
["2005-02-05","мощностью до 1 х 100 кВА",5858,null,"-"]
["2006-02-05","мощностью до 1 х 160 кВА",7978,null,"-"]
["2007-02-05","мощностью до 1 х 250 кВА",3666,null,"-"]
["2008-02-05","мощностью до 1 х 400 кВА",5069,null,"-"]
["2009-02-05","мощностью до 1 х 630 кВА",3222,null,"-"]
["2010-02-05","мощностью до 1 х 1000 кВА",2508,null,"-"]
["5.3.","Строительство киосковых трансформаторных подстанций с двумя трансформаторами (все типы), руб./кВт"]
["2001-03-05","мощностью до 2 х 400 кВА"]
["5.4.","Строительство столбовой трансформаторной подстанции с одним трансформатором, руб./кВт"]
["2001-04-05","мощностью до 1 х 16 кВА",71665,null,"-"]
["2002-04-05","мощностью до 1 х 25 кВА",42208,null,"-"]
["2003-04-05","мощностью до 1 х 40 кВА",9291,null,"-"]
["2004-04-05","мощностью до 1 х 63 кВА",7971,null,"-"]
["5.5.","Строительство блочных трансформаторных подстанций с одним трансформатором (все типы), руб./кВт"]
["2001-05-05","мощностью до 1 х 1000 кВА",2991,null,"-"]

{"sheet":"СВОД по % по рассрочке","index":39,"n_rows":45,"n_cols":20,"rows_kept":45,"cut":false,"hidden":true,"merged":[[1,1,1,9],[3,0,3,9],[5,0,7,0],[5,1,7,4],[5,5,7,5],[5,6,7,6],[5,7,7,7],[5,8,7,8],[5,9,7,9],[31,0,31,16],[8,1,8,4],[9,1,9,4],[10,1,10,4],[11,1,11,4],[12,1,12,4],[13,1,13,4],[14,1,14,4],[15,1,15,4],[16,0,16,9],[17,0,17,7],[27,5,29,9],[44,0,44,9],[33,1,33,16],[35,0,36,0],[35,1,36,4],[35,5,35,9],[35,10,35,14],[35,15,35,19],[37,1,37,4],[38,1,38,4],[40,1,40,2],[40,3,40,4],[43,0,43,9]]}
[]
[null," Выпадающие доходы сетевой организации от выплаты процентов по кредитным договорам, связанным с рассрочкой по оплате субъектами малого и среднего предпринимательства технологического присоединения энергопринимающих устройств максимальной мощностью свыше 15 кВт и до 150 кВт включительно в 2020 году"]
[]
[{"$f":"'Инф-я'!$C$13","v":"ООО \"Энергетик\""}]
[]
["N п/п","Информация о договоре технологического присоединения (Контрагент (наименование), № договора ТП, Дата заключения договора)",null,null,null,"Ставка рефинансирования Центрального банка Российской Федерации ","Год закрытия","Квартал закрытия","Сумма договора,тыс. руб. с НДС","Размера расходов, связанных с предоставлением беспроцентной рассрочки в 2020 году, тыс. руб. "]
[]
[]
[1,2,null,null,null,3,4,5,6,7]
[1,{"$f":"Заявитель1!A4","v":0},null,null,null,{"$f":"Заявитель1!B31","v":0},{"$f":"Заявитель1!B34","v":0},{"$f":"Заявитель1!B32","v":0},{"$f":"Заявитель1!B33","v":0},{"$f":"Заявитель1!G36","v":0}]
[2,{"$f":"Заявитель2!A4","v":0},null,null,null,{"$f":"Заявитель2!B31","v":0},{"$f":"Заявитель2!B34","v":0},{"$f":"Заявитель2!B32","v":0},{"$f":"Заявитель2!B33","v":0},{"$f":"Заявитель2!G36","v":0}]
[3,{"$f":"Заявитель3!A4","v":0},null,null,null,{"$f":"Заявитель3!B31","v":0},{"$f":"Заявитель3!B34","v":0},{"$f":"Заявитель3!B32","v":0},{"$f":"Заявитель3!B33","v":0},{"$f":"Заявитель3!G36","v":0}]
[4,{"$f":"Заявитель4!A4","v":0},null,null,null,{"$f":"Заявитель4!B31","v":0},{"$f":"Заявитель4!B34","v":0},{"$f":"Заявитель4!B32","v":0},{"$f":"Заявитель4!B33","v":0},{"$f":"Заявитель4!G36","v":0}]
[]
[]
[]
["Добавить"]
["ИТОГО",null,null,null,null,null,null,null,{"$f":"SUM(I10:I17)","v":0},{"$f":"SUM(J10:J17)","v":0}]
[]
[null,"Свод по кварталам ","Сумма по договорам"]
[null,1,{"$f":"SUMIF(H$6:H$22,B21,I$6:I$22)","v":0}]
[null,2,{"$f":"SUMIF(H$6:H$22,B22,I$6:I$22)","v":0}]
[null,3,{"$f":"SUMIF(H$6:H$22,B23,I$6:I$22)","v":0}]
[null,4,{"$f":"SUMIF(H$6:H$22,B24,I$6:I$22)","v":0}]
[null,"ГОД",{"$f":"SUM(C21:C24)","v":0}]
[null,null,{"$f":"C25-I18","v":0}]
[]
[null,null,null,null,null,"Приложение 2 к Методическим указаниям,  утвержденным приказом ФСТ от 11.09.2014 г. №215-э/1"]
[]
[]
[]
["Таблица 1. Расчет суммарного размера платы за технологическое присоединение, подлежащего беспроцентной рассрочке"]
[]
[null,{"$f":"'Инф-я'!C13","v":"ООО \"Энергетик\""}]
[null,null,null,null,null,null,null,null,null,null,null,null,null,null,null,null,"тыс. руб. с НДС"]
["N п/п","Показатель",null,null,null,"Фактические данные за предыдущий период регулирования",null,null,null,null,"Ожидаемые данные за текущий период регулирования",null,null,null,null,"Плановые показатели на следующий период регулирования"]
[null,null,null,null,null,"1 кв.","2 кв.","3 кв.","4 кв.","всего за год","1 кв.","2 кв.","3 кв.","4 кв.","всего за год","1 кв.","2 кв.","3 кв.","4 кв.","всего за год"]
[1,"Суммарный размер платы за технологическое присоединение, тыс. руб., в т.ч.:",null,null,null,null,null,null,null,{"$f":"SUM(F38:I38)","v":0},null,null,null,null,{"$f":"SUM(K38:N38)","v":0},{"$f":"C21","v":0},{"$f":"C22","v":0},{"$f":"C23","v":0},{"$f":"C24","v":0},{"$f":"SUM(P38:S38)","v":0}]
[2,"Суммарный размер платы за технологическое присоединение, подлежащий беспроцентной рассрочке",null,null,null,null,null,null,null,{"$f":"SUM(F39:I39)","v":0},null,null,null,null,{"$f":"SUM(K39:N39)","v":0},{"$f":"P38*0.95","v":0},{"$f":"Q38*0.95","v":0},0,0,0]
[]
[null,"Руководитель организации",null,{"$f":"'Инф-я'!C21","v":"Окунев Василий Михайлович"}]
[]
["Примечание:"]
["1) Суммарный размер платы за технологическое присоединение (п. 1) за каждый квартал следующего расчетного периода регулирования представляет собой прогнозную величину платы за технологическое присоединение для заявителей, обращающихся за беспроцентной рассрочкой, определенную на основе фактических данных о заявителях, обратившихся за рассрочкой за последний год, но не ниже документально подтвержденных данных о заявителях, обратившихся за рассрочкой на следующий период регулирования."]
["2) Суммарный размер платы за технологическое присоединение, подлежащий беспроцентной рассрочке (п. 2), за каждый квартал определяется как суммарный размер платы за технологическое присоединение (п. 1) за каждый квартал, умноженный на 0,95."]

{"sheet":"Заявитель1","index":40,"n_rows":53,"n_cols":10,"rows_kept":53,"cut":false,"hidden":true,"merged":[[0,2,0,7],[2,0,2,6],[3,0,3,6],[4,1,4,6],[6,0,7,0],[6,1,7,1],[6,2,6,6],[6,7,7,7],[52,0,52,6],[35,0,35,5],[37,0,37,6],[42,0,42,6],[43,0,43,6],[44,0,44,6],[45,0,45,6],[46,0,46,6],[48,0,48,6],[49,0,49,6],[50,0,50,6],[51,0,51,6]]}
[null,null,"Приложение 2 к Методическим указаниям,  утвержденным приказом ФСТ от 11.09.2014 г. №215-э/1"]
[]
[" Расчет размера расходов, связанных с предоставлением беспроцентной рассрочки (для конкретного заявителя)\n"]
[]
[null,"(Контрагент (наименование), № договора ТП, Дата заключения договора)"]
[]
["N п/п","Квартал, на который рассчитывается размер расходов, связанных с предоставлением беспроцентной рассрочки","Расходы, связанные с предоставлением беспроцентной рассрочки, тыс. руб. (с учетом НДС)",null,null,null,null,"Номер квартала i"]
[null,null,"в отношении суммарного размера платы за технологическое присоединение в 1 квартале","в отношении суммарного размера платы за технологическое присоединение во 2 квартале","в отношении суммарного размера платы за технологическое присоединение в 3 квартале","в отношении суммарного размера платы за технологическое присоединение в 4 квартале","всего в год",null,null,"  "]
[1,{"$f":"CONCATENATE(\"1 год (\",$B$34,\"г.):\")","v":"1 год (г.):"},{"$f":"SUM(C10:C13)","v":0},{"$f":"SUM(D10:D13)","v":0},{"$f":"SUM(E10:E13)","v":0},{"$f":"SUM(F10:F13)","v":0},{"$f":"SUM(C9:F9)","v":0}]
["1.1.","1 квартал",{"$f":"IF($H10>=$B$32,Заявитель1!$B$33*0.95*((12+$B$32-$H10)/12)*($B$31/4),0)","v":0},null,null,null,0,1]
["1.2.","2 квартал",null,{"$f":"IF($H11>=$B$32,Заявитель1!$B$33*0.95*((12+$B$32-$H11)/12)*($B$31/4),0)","v":0},null,null,0,2]
["1.3.","3 квартал",null,null,{"$f":"IF($H12>=$B$32,Заявитель1!$B$33*0.95*((12+$B$32-$H12)/12)*($B$31/4),0)","v":0},null,0,3]
["1.4.","4 квартал",null,null,null,{"$f":"IF($H13>=$B$32,Заявитель1!$B$33*0.95*((12+$B$32-$H13)/12)*($B$31/4),0)","v":0},0,4]
[2,{"$f":"CONCATENATE(\"1 год (\",$B$34+1,\"г.):\")","v":"1 год (1г.):"},{"$f":"SUM(C15:C18)","v":0},{"$f":"SUM(D15:D18)","v":0},{"$f":"SUM(E15:E18)","v":0},{"$f":"SUM(F15:F18)","v":0},0]
["2.1.","5 квартал",{"$f":"Заявитель1!$B$33*0.95*((12+$B$32-$H15)/12)*($B$31/4)","v":0},null,null,null,0,5]
["2.2.","6 квартал",null,{"$f":"Заявитель1!$B$33*0.95*((12+$B$32-$H16)/12)*($B$31/4)","v":0},null,null,0,6]
["2.3.","7 квартал",null,null,{"$f":"Заявитель1!$B$33*0.95*((12+$B$32-$H17)/12)*($B$31/4)","v":0},null,0,7]
["2.4.","8 квартал",null,null,null,{"$f":"Заявитель1!$B$33*0.95*((12+$B$32-$H18)/12)*($B$31/4)","v":0},0,8]
[3,{"$f":"CONCATENATE(\"1 год (\",$B$34+2,\"г.):\")","v":"1 год (2г.):"},{"$f":"SUM(C20:C23)","v":0},{"$f":"SUM(D20:D23)","v":0},{"$f":"SUM(E20:E23)","v":0},{"$f":"SUM(F20:F23)","v":0},0]
["3.1.","9 квартал",{"$f":"Заявитель1!$B$33*0.95*((12+$B$32-$H20)/12)*($B$31/4)","v":0},null,null,null,0,9]
["3.2.","10 квартал",null,{"$f":"Заявитель1!$B$33*0.95*((12+$B$32-$H21)/12)*($B$31/4)","v":0},null,null,0,10]
["3.3.","11 квартал",null,null,{"$f":"Заявитель1!$B$33*0.95*((12+$B$32-$H22)/12)*($B$31/4)","v":0},null,0,11]
["3.4.","12 квартал",null,null,null,{"$f":"Заявитель1!$B$33*0.95*((12+$B$32-$H23)/12)*($B$31/4)","v":0},0,12]
[4,{"$f":"CONCATENATE(\"1 год (\",$B$34+3,\"г.):\")","v":"1 год (3г.):"},{"$f":"SUM(C25:C27)","v":0},{"$f":"SUM(D25:D27)","v":0},{"$f":"SUM(E25:E27)","v":0},{"$f":"SUM(F25:F27)","v":0},0]
["4.1.","13 квартал",{"$f":"Заявитель1!$B$33*0.95*((12+$B$32-$H25)/12)*($B$31/4)","v":0},null,null,null,0,13]
["4.2.","14 квартал",null,{"$f":"IF((Заявитель1!$B$33*0.95*((12+$B$32-$H26)/12)*($B$31/4))<0,0,Заявитель1!$B$33*0.95*((12+$B$32-$H26)/12)*($B$31/4))","v":0},null,null,0,14]
["4.3.","15 квартал",null,null,{"$f":"IF((Заявитель1!$B$33*0.95*((12+$B$32-$H27)/12)*($B$31/4))<0,0,Заявитель1!$B$33*0.95*((12+$B$32-$H27)/12)*($B$31/4))","v":0},null,0,15]
[5,"Итого",{"$f":"C9+C14+C19+C24","v":0},{"$f":"D9+D14+D19+D24","v":0},{"$f":"E9+E14+E19+E24","v":0},{"$f":"F9+F14+F19+F24","v":0},{"$f":"G9+G14+G19+G24","v":0}]
[]
[]
[]
["k"]
[]
["Год закрытия договора"]
[]
["Размера расходов, связанных с предоставлением беспроцентной рассрочки в 2020 году",null,null,null,null,null,{"$f":"IF(B34<2017,0,IF(B34=2017,G24,IF(B34=2018,G19,IF(B34=2019,G14))))","v":0},"тыс. руб. "]
[]
["Размер расходов, связанных с предоставлением беспроцентной рассрочки, в i-м квартале в течение трехлетнего периода предоставления беспроцентной рассрочки рассчитывается по формуле (1):"]
[]
[null,null,null,", (1)"]
[]
["где:"]
["       - суммарный размер платы за технологическое присоединение, начисляемый заявителям, которым предоставляется рассрочка, в квартале k периода регулирования (тыс. руб.);"]
["k - номер квартала по порядку в периоде регулирования, в который начисляется размер платы за технологическое присоединение (равен от 1 до 4);"]
["i - номер квартала по порядку, начиная с момента начисления размера платы за технологическое присоединение с условием предоставления беспроцентной рассрочки в квартале k, с учетом квартала, в котором произведены начисления, в течение трехлетнего периода предоставления беспроцентной рассрочки (равен от k до 12 + k - 1);"]
["          - ставка рефинансирования Центрального банка Российской Федерации на дату представления сетевой организацией заявки на установление размера платы за технологическое присоединение в регулирующий орган."]
["В случае отклонения фактического значения процентной ставки по кредитам, связанным с рассрочкой по оплате технологического присоединения, от ставки рефинансирования Центрального банка Российской Федерации, при расчете фактического размера расходов, связанных с предоставлением беспроцентной рассрочки, применяется величина процентной ставки в соответствии с пунктом 87 Основ ценообразования."]
[]
["Примечание: "]
["1) Периодом предоставления беспроцентной рассрочки считается 3 года."]
["2) Размер расходов, связанных с предоставлением беспроцентной рассрочки, в каждый квартал периода регулирования в течение трехлетнего периода предоставления беспроцентной рассрочки в отношении планируемого к получению (фактически полученного) от заявителей суммарного размера платы за технологическое присоединение, определяется в соответствии с формулой (1) Методических указаний по определению выпадающих доходов, связанных с осуществлением технологического присоединения к электрическим сетям."]
["3) При расчете планируемых значений показателей при заполнении таблиц 1 и 2 применяется планируемая к получению величина суммарного размера платы за технологическое присоединение, подлежащего беспроцентной рассрочке."]
["4) При расчете фактических значений показателей при заполнении таблиц 1 и 2 применяется суммарная плата за технологическое присоединение, начисленная с беспроцентной рассрочкой в соответствии с заключенными договорами об осуществлении технологического присоединения к электрическим сетям."]

{"sheet":"Заявитель2","index":41,"n_rows":53,"n_cols":10,"rows_kept":53,"cut":false,"hidden":true,"merged":[[0,2,0,7],[2,0,2,6],[3,0,3,6],[4,1,4,6],[6,0,7,0],[6,1,7,1],[6,2,6,6],[6,7,7,7],[52,0,52,6],[35,0,35,5],[37,0,37,6],[42,0,42,6],[43,0,43,6],[44,0,44,6],[45,0,45,6],[46,0,46,6],[48,0,48,6],[49,0,49,6],[50,0,50,6],[51,0,51,6]]}
[null,null,"Приложение 2 к Методическим указаниям,  утвержденным приказом ФСТ от 11.09.2014 г. №215-э/1"]
[]
[" Расчет размера расходов, связанных с предоставлением беспроцентной рассрочки (для конкретного заявителя)\n"]
[]
[null,"(Контрагент (наименование), № договора ТП, Дата заключения договора)"]
[]
["N п/п","Квартал, на который рассчитывается размер расходов, связанных с предоставлением беспроцентной рассрочки","Расходы, связанные с предоставлением беспроцентной рассрочки, тыс. руб. (с учетом НДС)",null,null,null,null,"Номер квартала i"]
[null,null,"в отношении суммарного размера платы за технологическое присоединение в 1 квартале","в отношении суммарного размера платы за технологическое присоединение во 2 квартале","в отношении суммарного размера платы за технологическое присоединение в 3 квартале","в отношении суммарного размера платы за технологическое присоединение в 4 квартале","всего в год",null,null,"  "]
[1,{"$f":"CONCATENATE(\"1 год (\",$B$34,\"г.):\")","v":"1 год (г.):"},{"$f":"SUM(C10:C13)","v":0},{"$f":"SUM(D10:D13)","v":0},{"$f":"SUM(E10:E13)","v":0},{"$f":"SUM(F10:F13)","v":0},{"$f":"SUM(C9:F9)","v":0}]
["1.1.","1 квартал",{"$f":"IF($H10>=$B$32,Заявитель2!$B$33*0.95*((12+$B$32-$H10)/12)*($B$31/4),0)","v":0},null,null,null,0,1]
["1.2.","2 квартал",null,{"$f":"IF($H11>=$B$32,Заявитель2!$B$33*0.95*((12+$B$32-$H11)/12)*($B$31/4),0)","v":0},null,null,0,2]
["1.3.","3 квартал",null,null,{"$f":"IF($H12>=$B$32,Заявитель2!$B$33*0.95*((12+$B$32-$H12)/12)*($B$31/4),0)","v":0},null,0,3]
["1.4.","4 квартал",null,null,null,{"$f":"IF($H13>=$B$32,Заявитель2!$B$33*0.95*((12+$B$32-$H13)/12)*($B$31/4),0)","v":0},0,4]
[2,{"$f":"CONCATENATE(\"1 год (\",$B$34+1,\"г.):\")","v":"1 год (1г.):"},{"$f":"SUM(C15:C18)","v":0},{"$f":"SUM(D15:D18)","v":0},{"$f":"SUM(E15:E18)","v":0},{"$f":"SUM(F15:F18)","v":0},0]
["2.1.","5 квартал",{"$f":"Заявитель2!$B$33*0.95*((12+$B$32-$H15)/12)*($B$31/4)","v":0},null,null,null,0,5]
["2.2.","6 квартал",null,{"$f":"Заявитель2!$B$33*0.95*((12+$B$32-$H16)/12)*($B$31/4)","v":0},null,null,0,6]
["2.3.","7 квартал",null,null,{"$f":"Заявитель2!$B$33*0.95*((12+$B$32-$H17)/12)*($B$31/4)","v":0},null,0,7]
["2.4.","8 квартал",null,null,null,{"$f":"Заявитель2!$B$33*0.95*((12+$B$32-$H18)/12)*($B$31/4)","v":0},0,8]
[3,{"$f":"CONCATENATE(\"1 год (\",$B$34+2,\"г.):\")","v":"1 год (2г.):"},{"$f":"SUM(C20:C23)","v":0},{"$f":"SUM(D20:D23)","v":0},{"$f":"SUM(E20:E23)","v":0},{"$f":"SUM(F20:F23)","v":0},0]
["3.1.","9 квартал",{"$f":"Заявитель2!$B$33*0.95*((12+$B$32-$H20)/12)*($B$31/4)","v":0},null,null,null,0,9]
["3.2.","10 квартал",null,{"$f":"Заявитель2!$B$33*0.95*((12+$B$32-$H21)/12)*($B$31/4)","v":0},null,null,0,10]
["3.3.","11 квартал",null,null,{"$f":"Заявитель2!$B$33*0.95*((12+$B$32-$H22)/12)*($B$31/4)","v":0},null,0,11]
["3.4.","12 квартал",null,null,null,{"$f":"Заявитель2!$B$33*0.95*((12+$B$32-$H23)/12)*($B$31/4)","v":0},0,12]
[4,{"$f":"CONCATENATE(\"1 год (\",$B$34+3,\"г.):\")","v":"1 год (3г.):"},{"$f":"SUM(C25:C27)","v":0},{"$f":"SUM(D25:D27)","v":0},{"$f":"SUM(E25:E27)","v":0},{"$f":"SUM(F25:F27)","v":0},0]
["4.1.","13 квартал",{"$f":"Заявитель2!$B$33*0.95*((12+$B$32-$H25)/12)*($B$31/4)","v":0},null,null,null,0,13]
["4.2.","14 квартал",null,{"$f":"IF((Заявитель2!$B$33*0.95*((12+$B$32-$H26)/12)*($B$31/4))<0,0,Заявитель2!$B$33*0.95*((12+$B$32-$H26)/12)*($B$31/4))","v":0},null,null,0,14]
["4.3.","15 квартал",null,null,{"$f":"IF((Заявитель2!$B$33*0.95*((12+$B$32-$H27)/12)*($B$31/4))<0,0,Заявитель2!$B$33*0.95*((12+$B$32-$H27)/12)*($B$31/4))","v":0},null,0,15]
[5,"Итого",{"$f":"C9+C14+C19+C24","v":0},{"$f":"D9+D14+D19+D24","v":0},{"$f":"E9+E14+E19+E24","v":0},{"$f":"F9+F14+F19+F24","v":0},{"$f":"G9+G14+G19+G24","v":0}]
[]
[]
[]
["k"]
[]
["Год закрытия договора"]
[]
["Размера расходов, связанных с предоставлением беспроцентной рассрочки в 2020 году",null,null,null,null,null,{"$f":"IF(B34<2017,0,IF(B34=2017,G24,IF(B34=2018,G19,IF(B34=2019,G14))))","v":0},"тыс. руб. "]
[]
["Размер расходов, связанных с предоставлением беспроцентной рассрочки, в i-м квартале в течение трехлетнего периода предоставления беспроцентной рассрочки рассчитывается по формуле (1):"]
[]
[null,null,null,", (1)"]
[]
["где:"]
["       - суммарный размер платы за технологическое присоединение, начисляемый заявителям, которым предоставляется рассрочка, в квартале k периода регулирования (тыс. руб.);"]
["k - номер квартала по порядку в периоде регулирования, в который начисляется размер платы за технологическое присоединение (равен от 1 до 4);"]
["i - номер квартала по порядку, начиная с момента начисления размера платы за технологическое присоединение с условием предоставления беспроцентной рассрочки в квартале k, с учетом квартала, в котором произведены начисления, в течение трехлетнего периода предоставления беспроцентной рассрочки (равен от k до 12 + k - 1);"]
["          - ставка рефинансирования Центрального банка Российской Федерации на дату представления сетевой организацией заявки на установление размера платы за технологическое присоединение в регулирующий орган."]
["В случае отклонения фактического значения процентной ставки по кредитам, связанным с рассрочкой по оплате технологического присоединения, от ставки рефинансирования Центрального банка Российской Федерации, при расчете фактического размера расходов, связанных с предоставлением беспроцентной рассрочки, применяется величина процентной ставки в соответствии с пунктом 87 Основ ценообразования."]
[]
["Примечание: "]
["1) Периодом предоставления беспроцентной рассрочки считается 3 года."]
["2) Размер расходов, связанных с предоставлением беспроцентной рассрочки, в каждый квартал периода регулирования в течение трехлетнего периода предоставления беспроцентной рассрочки в отношении планируемого к получению (фактически полученного) от заявителей суммарного размера платы за технологическое присоединение, определяется в соответствии с формулой (1) Методических указаний по определению выпадающих доходов, связанных с осуществлением технологического присоединения к электрическим сетям."]
["3) При расчете планируемых значений показателей при заполнении таблиц 1 и 2 применяется планируемая к получению величина суммарного размера платы за технологическое присоединение, подлежащего беспроцентной рассрочке."]
["4) При расчете фактических значений показателей при заполнении таблиц 1 и 2 применяется суммарная плата за технологическое присоединение, начисленная с беспроцентной рассрочкой в соответствии с заключенными договорами об осуществлении технологического присоединения к электрическим сетям."]

{"sheet":"Заявитель3","index":42,"n_rows":53,"n_cols":10,"rows_kept":53,"cut":false,"hidden":true,"merged":[[0,2,0,7],[2,0,2,6],[3,0,3,6],[4,1,4,6],[6,0,7,0],[6,1,7,1],[6,2,6,6],[6,7,7,7],[52,0,52,6],[35,0,35,5],[37,0,37,6],[42,0,42,6],[43,0,43,6],[44,0,44,6],[45,0,45,6],[46,0,46,6],[48,0,48,6],[49,0,49,6],[50,0,50,6],[51,0,51,6]]}
[null,null,"Приложение 2 к Методическим указаниям,  утвержденным приказом ФСТ от 11.09.2014 г. №215-э/1"]
[]
[" Расчет размера расходов, связанных с предоставлением беспроцентной рассрочки (для конкретного заявителя)\n"]
[]
[null,"(Контрагент (наименование), № договора ТП, Дата заключения договора)"]
[]
["N п/п","Квартал, на который рассчитывается размер расходов, связанных с предоставлением беспроцентной рассрочки","Расходы, связанные с предоставлением беспроцентной рассрочки, тыс. руб. (с учетом НДС)",null,null,null,null,"Номер квартала i"]
[null,null,"в отношении суммарного размера платы за технологическое присоединение в 1 квартале","в отношении суммарного размера платы за технологическое присоединение во 2 квартале","в отношении суммарного размера платы за технологическое присоединение в 3 квартале","в отношении суммарного размера платы за технологическое присоединение в 4 квартале","всего в год",null,null,"  "]
[1,{"$f":"CONCATENATE(\"1 год (\",$B$34,\"г.):\")","v":"1 год (г.):"},{"$f":"SUM(C10:C13)","v":0},{"$f":"SUM(D10:D13)","v":0},{"$f":"SUM(E10:E13)","v":0},{"$f":"SUM(F10:F13)","v":0},{"$f":"SUM(C9:F9)","v":0}]
["1.1.","1 квартал",{"$f":"IF($H10>=$B$32,Заявитель3!$B$33*0.95*((12+$B$32-$H10)/12)*($B$31/4),0)","v":0},null,null,null,0,1]
["1.2.","2 квартал",null,{"$f":"IF($H11>=$B$32,Заявитель3!$B$33*0.95*((12+$B$32-$H11)/12)*($B$31/4),0)","v":0},null,null,0,2]
["1.3.","3 квартал",null,null,{"$f":"IF($H12>=$B$32,Заявитель3!$B$33*0.95*((12+$B$32-$H12)/12)*($B$31/4),0)","v":0},null,0,3]
["1.4.","4 квартал",null,null,null,{"$f":"IF($H13>=$B$32,Заявитель3!$B$33*0.95*((12+$B$32-$H13)/12)*($B$31/4),0)","v":0},0,4]
[2,{"$f":"CONCATENATE(\"1 год (\",$B$34+1,\"г.):\")","v":"1 год (1г.):"},{"$f":"SUM(C15:C18)","v":0},{"$f":"SUM(D15:D18)","v":0},{"$f":"SUM(E15:E18)","v":0},{"$f":"SUM(F15:F18)","v":0},0]
["2.1.","5 квартал",{"$f":"Заявитель3!$B$33*0.95*((12+$B$32-$H15)/12)*($B$31/4)","v":0},null,null,null,0,5]
["2.2.","6 квартал",null,{"$f":"Заявитель3!$B$33*0.95*((12+$B$32-$H16)/12)*($B$31/4)","v":0},null,null,0,6]
["2.3.","7 квартал",null,null,{"$f":"Заявитель3!$B$33*0.95*((12+$B$32-$H17)/12)*($B$31/4)","v":0},null,0,7]
["2.4.","8 квартал",null,null,null,{"$f":"Заявитель3!$B$33*0.95*((12+$B$32-$H18)/12)*($B$31/4)","v":0},0,8]
[3,{"$f":"CONCATENATE(\"1 год (\",$B$34+2,\"г.):\")","v":"1 год (2г.):"},{"$f":"SUM(C20:C23)","v":0},{"$f":"SUM(D20:D23)","v":0},{"$f":"SUM(E20:E23)","v":0},{"$f":"SUM(F20:F23)","v":0},0]
["3.1.","9 квартал",{"$f":"Заявитель3!$B$33*0.95*((12+$B$32-$H20)/12)*($B$31/4)","v":0},null,null,null,0,9]
["3.2.","10 квартал",null,{"$f":"Заявитель3!$B$33*0.95*((12+$B$32-$H21)/12)*($B$31/4)","v":0},null,null,0,10]
["3.3.","11 квартал",null,null,{"$f":"Заявитель3!$B$33*0.95*((12+$B$32-$H22)/12)*($B$31/4)","v":0},null,0,11]
["3.4.","12 квартал",null,null,null,{"$f":"Заявитель3!$B$33*0.95*((12+$B$32-$H23)/12)*($B$31/4)","v":0},0,12]
[4,{"$f":"CONCATENATE(\"1 год (\",$B$34+3,\"г.):\")","v":"1 год (3г.):"},{"$f":"SUM(C25:C27)","v":0},{"$f":"SUM(D25:D27)","v":0},{"$f":"SUM(E25:E27)","v":0},{"$f":"SUM(F25:F27)","v":0},0]
["4.1.","13 квартал",{"$f":"Заявитель3!$B$33*0.95*((12+$B$32-$H25)/12)*($B$31/4)","v":0},null,null,null,0,13]
["4.2.","14 квартал",null,{"$f":"IF((Заявитель3!$B$33*0.95*((12+$B$32-$H26)/12)*($B$31/4))<0,0,Заявитель3!$B$33*0.95*((12+$B$32-$H26)/12)*($B$31/4))","v":0},null,null,0,14]
["4.3.","15 квартал",null,null,{"$f":"IF((Заявитель3!$B$33*0.95*((12+$B$32-$H27)/12)*($B$31/4))<0,0,Заявитель3!$B$33*0.95*((12+$B$32-$H27)/12)*($B$31/4))","v":0},null,0,15]
[5,"Итого",{"$f":"C9+C14+C19+C24","v":0},{"$f":"D9+D14+D19+D24","v":0},{"$f":"E9+E14+E19+E24","v":0},{"$f":"F9+F14+F19+F24","v":0},{"$f":"G9+G14+G19+G24","v":0}]
[]
[]
[]
["k"]
[]
["Год закрытия договора"]
[]
["Размера расходов, связанных с предоставлением беспроцентной рассрочки в 2020 году",null,null,null,null,null,{"$f":"IF(B34<2017,0,IF(B34=2017,G24,IF(B34=2018,G19,IF(B34=2019,G14))))","v":0},"тыс. руб. "]
[]
["Размер расходов, связанных с предоставлением беспроцентной рассрочки, в i-м квартале в течение трехлетнего периода предоставления беспроцентной рассрочки рассчитывается по формуле (1):"]
[]
[null,null,null,", (1)"]
[]
["где:"]
["       - суммарный размер платы за технологическое присоединение, начисляемый заявителям, которым предоставляется рассрочка, в квартале k периода регулирования (тыс. руб.);"]
["k - номер квартала по порядку в периоде регулирования, в который начисляется размер платы за технологическое присоединение (равен от 1 до 4);"]
["i - номер квартала по порядку, начиная с момента начисления размера платы за технологическое присоединение с условием предоставления беспроцентной рассрочки в квартале k, с учетом квартала, в котором произведены начисления, в течение трехлетнего периода предоставления беспроцентной рассрочки (равен от k до 12 + k - 1);"]
["          - ставка рефинансирования Центрального банка Российской Федерации на дату представления сетевой организацией заявки на установление размера платы за технологическое присоединение в регулирующий орган."]
["В случае отклонения фактического значения процентной ставки по кредитам, связанным с рассрочкой по оплате технологического присоединения, от ставки рефинансирования Центрального банка Российской Федерации, при расчете фактического размера расходов, связанных с предоставлением беспроцентной рассрочки, применяется величина процентной ставки в соответствии с пунктом 87 Основ ценообразования."]
[]
["Примечание: "]
["1) Периодом предоставления беспроцентной рассрочки считается 3 года."]
["2) Размер расходов, связанных с предоставлением беспроцентной рассрочки, в каждый квартал периода регулирования в течение трехлетнего периода предоставления беспроцентной рассрочки в отношении планируемого к получению (фактически полученного) от заявителей суммарного размера платы за технологическое присоединение, определяется в соответствии с формулой (1) Методических указаний по определению выпадающих доходов, связанных с осуществлением технологического присоединения к электрическим сетям."]
["3) При расчете планируемых значений показателей при заполнении таблиц 1 и 2 применяется планируемая к получению величина суммарного размера платы за технологическое присоединение, подлежащего беспроцентной рассрочке."]
["4) При расчете фактических значений показателей при заполнении таблиц 1 и 2 применяется суммарная плата за технологическое присоединение, начисленная с беспроцентной рассрочкой в соответствии с заключенными договорами об осуществлении технологического присоединения к электрическим сетям."]

{"sheet":"Заявитель4","index":43,"n_rows":53,"n_cols":10,"rows_kept":53,"cut":false,"hidden":true,"merged":[[0,2,0,7],[2,0,2,6],[3,0,3,6],[4,1,4,6],[6,0,7,0],[6,1,7,1],[6,2,6,6],[6,7,7,7],[52,0,52,6],[35,0,35,5],[37,0,37,6],[42,0,42,6],[43,0,43,6],[44,0,44,6],[45,0,45,6],[46,0,46,6],[48,0,48,6],[49,0,49,6],[50,0,50,6],[51,0,51,6]]}
[null,null,"Приложение 2 к Методическим указаниям,  утвержденным приказом ФСТ от 11.09.2014 г. №215-э/1"]
[]
[" Расчет размера расходов, связанных с предоставлением беспроцентной рассрочки (для конкретного заявителя)\n"]
[]
[null,"(Контрагент (наименование), № договора ТП, Дата заключения договора)"]
[]
["N п/п","Квартал, на который рассчитывается размер расходов, связанных с предоставлением беспроцентной рассрочки","Расходы, связанные с предоставлением беспроцентной рассрочки, тыс. руб. (с учетом НДС)",null,null,null,null,"Номер квартала i"]
[null,null,"в отношении суммарного размера платы за технологическое присоединение в 1 квартале","в отношении суммарного размера платы за технологическое присоединение во 2 квартале","в отношении суммарного размера платы за технологическое присоединение в 3 квартале","в отношении суммарного размера платы за технологическое присоединение в 4 квартале","всего в год",null,null,"  "]
[1,{"$f":"CONCATENATE(\"1 год (\",$B$34,\"г.):\")","v":"1 год (г.):"},{"$f":"SUM(C10:C13)","v":0},{"$f":"SUM(D10:D13)","v":0},{"$f":"SUM(E10:E13)","v":0},{"$f":"SUM(F10:F13)","v":0},{"$f":"SUM(C9:F9)","v":0}]
["1.1.","1 квартал",{"$f":"IF($H10>=$B$32,Заявитель4!$B$33*0.95*((12+$B$32-$H10)/12)*($B$31/4),0)","v":0},null,null,null,0,1]
["1.2.","2 квартал",null,{"$f":"IF($H11>=$B$32,Заявитель4!$B$33*0.95*((12+$B$32-$H11)/12)*($B$31/4),0)","v":0},null,null,0,2]
["1.3.","3 квартал",null,null,{"$f":"IF($H12>=$B$32,Заявитель4!$B$33*0.95*((12+$B$32-$H12)/12)*($B$31/4),0)","v":0},null,0,3]
["1.4.","4 квартал",null,null,null,{"$f":"IF($H13>=$B$32,Заявитель4!$B$33*0.95*((12+$B$32-$H13)/12)*($B$31/4),0)","v":0},0,4]
[2,{"$f":"CONCATENATE(\"1 год (\",$B$34+1,\"г.):\")","v":"1 год (1г.):"},{"$f":"SUM(C15:C18)","v":0},{"$f":"SUM(D15:D18)","v":0},{"$f":"SUM(E15:E18)","v":0},{"$f":"SUM(F15:F18)","v":0},0]
["2.1.","5 квартал",{"$f":"Заявитель4!$B$33*0.95*((12+$B$32-$H15)/12)*($B$31/4)","v":0},null,null,null,0,5]
["2.2.","6 квартал",null,{"$f":"Заявитель4!$B$33*0.95*((12+$B$32-$H16)/12)*($B$31/4)","v":0},null,null,0,6]
["2.3.","7 квартал",null,null,{"$f":"Заявитель4!$B$33*0.95*((12+$B$32-$H17)/12)*($B$31/4)","v":0},null,0,7]
["2.4.","8 квартал",null,null,null,{"$f":"Заявитель4!$B$33*0.95*((12+$B$32-$H18)/12)*($B$31/4)","v":0},0,8]
[3,{"$f":"CONCATENATE(\"1 год (\",$B$34+2,\"г.):\")","v":"1 год (2г.):"},{"$f":"SUM(C20:C23)","v":0},{"$f":"SUM(D20:D23)","v":0},{"$f":"SUM(E20:E23)","v":0},{"$f":"SUM(F20:F23)","v":0},0]
["3.1.","9 квартал",{"$f":"Заявитель4!$B$33*0.95*((12+$B$32-$H20)/12)*($B$31/4)","v":0},null,null,null,0,9]
["3.2.","10 квартал",null,{"$f":"Заявитель4!$B$33*0.95*((12+$B$32-$H21)/12)*($B$31/4)","v":0},null,null,0,10]
["3.3.","11 квартал",null,null,{"$f":"Заявитель4!$B$33*0.95*((12+$B$32-$H22)/12)*($B$31/4)","v":0},null,0,11]
["3.4.","12 квартал",null,null,null,{"$f":"Заявитель4!$B$33*0.95*((12+$B$32-$H23)/12)*($B$31/4)","v":0},0,12]
[4,{"$f":"CONCATENATE(\"1 год (\",$B$34+3,\"г.):\")","v":"1 год (3г.):"},{"$f":"SUM(C25:C27)","v":0},{"$f":"SUM(D25:D27)","v":0},{"$f":"SUM(E25:E27)","v":0},{"$f":"SUM(F25:F27)","v":0},0]
["4.1.","13 квартал",{"$f":"Заявитель4!$B$33*0.95*((12+$B$32-$H25)/12)*($B$31/4)","v":0},null,null,null,0,13]
["4.2.","14 квартал",null,{"$f":"IF((Заявитель4!$B$33*0.95*((12+$B$32-$H26)/12)*($B$31/4))<0,0,Заявитель4!$B$33*0.95*((12+$B$32-$H26)/12)*($B$31/4))","v":0},null,null,0,14]
["4.3.","15 квартал",null,null,{"$f":"IF((Заявитель4!$B$33*0.95*((12+$B$32-$H27)/12)*($B$31/4))<0,0,Заявитель4!$B$33*0.95*((12+$B$32-$H27)/12)*($B$31/4))","v":0},null,0,15]
[5,"Итого",{"$f":"C9+C14+C19+C24","v":0},{"$f":"D9+D14+D19+D24","v":0},{"$f":"E9+E14+E19+E24","v":0},{"$f":"F9+F14+F19+F24","v":0},{"$f":"G9+G14+G19+G24","v":0}]
[]
[]
[]
["k"]
[]
["Год закрытия договора"]
[]
["Размера расходов, связанных с предоставлением беспроцентной рассрочки в 2020 году",null,null,null,null,null,{"$f":"IF(B34<2017,0,IF(B34=2017,G24,IF(B34=2018,G19,IF(B34=2019,G14))))","v":0},"тыс. руб. "]
[]
["Размер расходов, связанных с предоставлением беспроцентной рассрочки, в i-м квартале в течение трехлетнего периода предоставления беспроцентной рассрочки рассчитывается по формуле (1):"]
[]
[null,null,null,", (1)"]
[]
["где:"]
["       - суммарный размер платы за технологическое присоединение, начисляемый заявителям, которым предоставляется рассрочка, в квартале k периода регулирования (тыс. руб.);"]
["k - номер квартала по порядку в периоде регулирования, в который начисляется размер платы за технологическое присоединение (равен от 1 до 4);"]
["i - номер квартала по порядку, начиная с момента начисления размера платы за технологическое присоединение с условием предоставления беспроцентной рассрочки в квартале k, с учетом квартала, в котором произведены начисления, в течение трехлетнего периода предоставления беспроцентной рассрочки (равен от k до 12 + k - 1);"]
["          - ставка рефинансирования Центрального банка Российской Федерации на дату представления сетевой организацией заявки на установление размера платы за технологическое присоединение в регулирующий орган."]
["В случае отклонения фактического значения процентной ставки по кредитам, связанным с рассрочкой по оплате технологического присоединения, от ставки рефинансирования Центрального банка Российской Федерации, при расчете фактического размера расходов, связанных с предоставлением беспроцентной рассрочки, применяется величина процентной ставки в соответствии с пунктом 87 Основ ценообразования."]
[]
["Примечание: "]
["1) Периодом предоставления беспроцентной рассрочки считается 3 года."]
["2) Размер расходов, связанных с предоставлением беспроцентной рассрочки, в каждый квартал периода регулирования в течение трехлетнего периода предоставления беспроцентной рассрочки в отношении планируемого к получению (фактически полученного) от заявителей суммарного размера платы за технологическое присоединение, определяется в соответствии с формулой (1) Методических указаний по определению выпадающих доходов, связанных с осуществлением технологического присоединения к электрическим сетям."]
["3) При расчете планируемых значений показателей при заполнении таблиц 1 и 2 применяется планируемая к получению величина суммарного размера платы за технологическое присоединение, подлежащего беспроцентной рассрочке."]
["4) При расчете фактических значений показателей при заполнении таблиц 1 и 2 применяется суммарная плата за технологическое присоединение, начисленная с беспроцентной рассрочкой в соответствии с заключенными договорами об осуществлении технологического присоединения к электрическим сетям."]

{"sheet":"Возврат заемных средств","index":44,"n_rows":17,"n_cols":15,"rows_kept":17,"cut":false,"hidden":false,"merged":[[5,7,5,8],[5,9,5,10],[5,11,5,12],[5,13,5,14],[16,0,16,1],[16,3,16,5],[1,0,1,6],[3,0,3,6],[5,0,6,0],[5,1,5,2],[5,3,5,4],[5,5,5,6]]}
[]
["Расходы на возврат и обслуживание долгосрочных заемных средств, направляемых на финансирование капитальных вложений "]
[]
[{"$f":"'Инф-я'!C13","v":"ООО \"Энергетик\""}]
[null,null,null,null,null,null,null,null,null,null,null,null,null,"тыс. руб."]
["Показатели","2018 год",null,"2019 год",null,"2020 год",null,"2021 год",null,"2022 год",null,"2023 год",null,"2024 год"]
[null,"Утверждено","Факт","Утверждено","Ожидаемые","По данным организации","По данным экспертов","По данным организации","По данным экспертов","По данным организации","По данным экспертов","По данным организации","По данным экспертов","По данным организации","По данным экспертов"]
[1,2,3,4,5,6,7,8,9,10,11,12,13,14,15]
["Расходы по возврату заемных средств, направляемых на финансирование капитальных вложений ",null,2402.1370000000002,null,2413.8180000000002,2561.7310000000002,null,3017.7620000000002,null,837.18600000000004]
["Расходы на обслуживание долгосрочных заемных средств, направляемых на финансирование капитальных вложений ",null,1239.1179999999999,null,1018.242,870.32899999999995,null,414.298,null,23.445]
["Итого расходы на возврат и обслуживание долгосрочных заемных средств, направляемых на финансирование капитальных вложений ",{"$f":"B10+B9","v":0},{"$f":"C10+C9","v":3641.2550000000001},0,3432.0600000000004,3432.0600000000004,0,{"$f":"H10+H9","v":3432.0600000000004},0,860.63100000000009,0,0,0,0,0]
["в  т.ч. по уровням напряжения:                         ВН","х","х",null,"х"]
["СН1","х","х",null,"х"]
["СН11","х","х",null,"х"]
["НН","х","х",null,"х"]
[]
["Руководитель организации",null,null,{"$f":"'Инф-я'!$C$21","v":"Окунев Василий Михайлович"}]

{"sheet":"Корр. ПР","index":45,"n_rows":20,"n_cols":5,"rows_kept":20,"cut":false,"hidden":false,"merged":[[17,0,17,1],[1,0,1,4],[3,0,3,4],[5,0,7,0],[5,1,7,1],[5,2,7,2],[5,3,6,4]]}
[]
["Корректировка подконтрольных расходов по результатам 2018 года"]
[]
[{"$f":"'Инф-я'!C13","v":"ООО \"Энергетик\""}]
[]
["№ п.п.","Наименование","Ед.изм.","2018 год"]
[]
[null,null,null,"По расчету организации","По расчету экспертов"]
[1,2,3,4,5]
["1.","Величина подконтрольных расходов, утвержденных на 2017 год ","тыс. руб.",{"$f":"'Подконтрольные расходы'!F32","v":31416.515021127096},{"$f":"D10","v":31416.515021127096}]
["2.","Величина подконтрольных расходов, утвержденных на 2018 год ","тыс. руб.",{"$f":"' НВВ содержание'!C9","v":33163.380247170775},{"$f":"D11","v":33163.380247170775}]
["3.","Фактический индекс потребительских цен 2018 года (ИПЦ)","%",{"$f":"'Подконтрольные расходы'!I12","v":0.04},{"$f":"D12","v":0.04}]
["4.","Индекс эффективности подконтрольных расходов (Хэф)","%",{"$f":"'Подконтрольные расходы'!H10","v":0.01},{"$f":"D13","v":0.01}]
["5.","Индекс изменения количества активов (ИКА ф) ((стр.5.1.- стр. 5.2.)/стр.5.2*100)","%",{"$f":"IF(D16=0,0,(D15-D16)/D16)","v":1.6261100493949753E-2},{"$f":"IF(E16=0,0,(E15-E16)/E16)","v":-1}]
["5.1.","фактический объем условных единиц 2018 года","усл. ед.",{"$f":"'УЕ ТП 2017-2024'!L60","v":938.20299999999997},{"$f":"'УЕ ТП 2017-2024'!N60","v":0}]
["5.2.","фактический объем условных единиц 2017 года ","усл. ед.",{"$f":"'УЕ ТП 2017-2024'!H60","v":923.19090000000006},{"$f":"D16","v":923.19090000000006}]
["6.","Коэффициент эластичности подконтрольных расходов по количеству активов (К эл)","знач.",0.75,0.75]
["Итого корректировка подконтрольных расходов",null,"тыс. руб.",{"$f":"D10*(1+D12)*(1+D17*D14)*(1-D13)-D11","v":-422.44480067613767},{"$f":"E10*(1+E12)*(1+E17*E14)*(1-E13)-E11","v":-25076.76928073266}]
[]
[null,"Руководитель организации",null,{"$f":"'Инф-я'!$C$21","v":"Окунев Василий Михайлович"}]

{"sheet":"Корр. ПО","index":46,"n_rows":42,"n_cols":10,"rows_kept":42,"cut":false,"hidden":false,"merged":[[8,0,8,9],[24,0,24,9],[41,0,41,3],[41,5,41,7],[1,0,1,9],[3,0,3,9],[5,0,6,0],[5,1,5,2],[5,3,6,3],[5,4,5,5],[5,6,5,7],[5,8,5,9]]}
[]
["Корректировка НВВ с учетом изменения полезного отпуска и цен на электрическую энергию за 2018 год                       "]
[]
[{"$f":"'Инф-я'!C13","v":"ООО \"Энергетик\""}]
[]
["Месяц  (Период)","Вход электрической энергии в сеть организации",null,"Норматив потерь","Объем потерь 2018 года",null,"Цена покупки потерь электрической энергии",null,"Величина корректировки"]
[null,"План","Факт",null,"Согласовано регулирующим органом","Факт","Учтенная при установлении тарифа","Фактическая цена","По данным организации","По данным экспертов"]
["Ед.изм.","тыс.кВт.ч.","тыс.кВт.ч.","%","тыс.кВт.ч.","тыс.кВт.ч.","руб/тыс.кВт.ч","руб/тыс.кВт.ч","тыс. руб.","тыс. руб."]
["По данным организации"]
["Январь","х",2459.3980000000001,"х","х",271.14100000000002,"х",2634.42,"х","х"]
["Февраль","х",2241.6579999999999,"х","х",290.79599999999999,"х",2742.2370000000001,"х","х"]
["Март","х",2384.1819999999998,"х","х",332.60700000000003,"х",2586.288,"х","х"]
["Апрель","х",2083.1179999999999,"х","х",268.48500000000001,"х",2833.8879999999999,"х","х"]
["Май","х",1785.4860000000001,"х","х",186.97,"х",2677.49,"х","х"]
["Июнь","х",1713.298,"х","х",167.548,"х",2665.3957999999998,"х","х"]
["1 полугодие",{"$f":"'[16]тарифы 2018'!$H$13*1000+'[16]тарифы 2018'!$J$13*1000","v":14261.158776733415},{"$f":"C10+C11+C12+C13+C14+C15","v":12667.140000000001},"х",{"$f":"'[16]тарифы 2018'!$J$13*1000","v":2001.9999999999998},{"$f":"F10+F11+F12+F13+F14+F15","v":1517.547},2952.08,"х","х"]
["Июль","х",1735.604,"х","х",169.74799999999999,"х",2813.1199000000001,"х","х"]
["Август","х",1760.412,"х","х",218.78299999999999,"х",2864.2257800000002,"х","х"]
["Сентябрь","х",1792.078,"х","х",196.006,"х",2994.6039000000001,"х","х"]
["Октябрь","х",2211.0340000000001,"х","х",232.672,"х",2930.5064000000002,"х","х"]
["Ноябрь","х",2288.8240000000001,"х","х",239.00200000000001,"х",2491.0399000000002,"х","х"]
["Декабрь","х",2477.2199999999998,"х","х",283.78699999999998,"х",3261.7055500000001,"х","х"]
["2 полугодие",{"$f":"'[16]тарифы 2018'!$R$13*1000+'[16]тарифы 2018'!$T$13*1000","v":11885.486223266584},{"$f":"C17+C18+C19+C20+C21+C22","v":12265.172},"х",{"$f":"'[16]тарифы 2018'!$T$13*1000","v":1668.4999999999998},{"$f":"F17+F18+F19+F20+F21+F22","v":1339.998},2906.09,"х","х","х"]
["ВСЕГО:",{"$f":"B16+B23","v":26146.644999999997},{"$f":"C16+C23","v":24932.312000000002},{"$f":"E24/B24","v":0.14038129939806809},{"$f":"E16+E23","v":3670.4999999999995},{"$f":"F16+F23","v":2857.5450000000001},{"$f":"IF(E24=0,0,(E16*G16+E23*G23)/E24)","v":2931.1743154883534},{"$f":"IF(F24=0,0,(F10*H10+F11*H11+F12*H12+F13*H13+F14*H14+F15*H15+F17*H17+F18*H18+F19*H19+F20*H20+F21*H21+F22*H22)/F24)","v":2790.4940888067176},{"$f":"IFERROR((C24-B24)*D24*H24+B24*(H24-G24)*D24,0)/1000","v":-992.06130717119834},"х"]
["По данным экспертов"]
["Январь","х",null,"х","х",null,"х",null,"х","х"]
["Февраль","х",null,"х","х",null,"х",null,"х","х"]
["Март","х",null,"х","х",null,"х",null,"х","х"]
["Апрель","х",null,"х","х",null,"х",null,"х","х"]
["Май","х",null,"х","х",null,"х",null,"х","х"]
["Июнь","х",null,"х","х",null,"х",null,"х","х"]
["1 полугодие",null,{"$f":"C26+C27+C28+C29+C30+C31","v":0},"х",null,{"$f":"F26+F27+F28+F29+F30+F31","v":0},null,"х","х","х"]
["Июль","х",null,"х","х",null,"х",null,"х","х"]
["Август","х",null,"х","х",null,"х",null,"х","х"]
["Сентябрь","х",null,"х","х",null,"х",null,"х","х"]
["Октябрь","х",null,"х","х",null,"х",null,"х","х"]
["Ноябрь","х",null,"х","х",null,"х",null,"х","х"]
["Декабрь","х",null,"х","х",null,"х",null,"х","х"]
["2 полугодие",null,{"$f":"C33+C34+C35+C36+C37+C38","v":0},"х",null,{"$f":"F33+F34+F35+F36+F37+F38","v":0},null,"х","х","х"]
["ВСЕГО:",{"$f":"B32+B39","v":0},{"$f":"C32+C39","v":0},{"$f":"E40/B40","v":{"$error":"#DIV/0!"}},{"$f":"E32+E39","v":0},{"$f":"F32+F39","v":0},{"$f":"IF(E40=0,0,(E32*G32+E39*G39)/E40)","v":0},{"$f":"IF(F40=0,0,(F26*H26+F27*H27+F28*H28+F29*H29+F30*H30+F31*H31+F33*H33+F34*H34+F35*H35+F36*H36+F37*H37+F38*H38)/F40)","v":0},"х",{"$f":"IFERROR((C40-B40)*D40*H40+B40*(H40-G40)*D40,0)/1000","v":0}]
[]
["Руководитель организации",null,null,null,null,{"$f":"'Инф-я'!$C$21","v":"Окунев Василий Михайлович"}]

{"sheet":"Корр.НВВ","index":47,"n_rows":47,"n_cols":13,"rows_kept":47,"cut":false,"hidden":false,"merged":[[0,0,0,11],[1,0,1,11],[4,6,4,8],[4,9,4,11],[5,6,5,7],[5,8,6,8],[5,9,5,10],[5,11,6,11],[15,10,16,10],[15,11,15,12],[48,1,48,6],[10,1,10,2],[10,3,10,4],[14,1,14,7],[14,8,16,8],[14,9,14,12],[15,1,16,1],[15,2,15,3],[15,4,16,4],[15,7,16,7],[15,9,16,9]]}
["Корректировка необходимой валовой выручки по доходам от осуществления регулируемой деятельности за 2018 год"]
[{"$f":"'Инф-я'!C13","v":"ООО \"Энергетик\""}]
[]
[null,null,"тыс. руб."]
[null,"Наименование показателя","Расчет Общества","Расчет Экспертов",null,null,"1 полугодие 2018 г.",null,null,"2 полугодие  2018 г."]
[null,"НВВ сод 2018",{"$f":"' НВВ содержание'!C49","v":54503.97134446069},{"$f":"C6","v":54503.97134446069},null,null,"Двухставочный тариф",null,"Одноставочный тариф","Двухставочный тариф",null,"Одноставоч-ный тариф"]
[null,"НВВ факт 2018",{"$f":"E32+M32","v":53949.720382479994},{"$f":"E47+M47","v":0},null,null,"ставка за содержание электрических сетей","ставка на оплату технологического расхода (потерь)",null,"ставка за содержание электрических сетей","ставка на оплату технологического расхода (потерь)"]
[null,"∆ НВВ сод за 2018 год",{"$f":"C6-C7","v":554.25096198069514},{"$f":"D6-D7","v":54503.97134446069},null,null," руб./кВт мес.","руб./ кВт ч","руб./ кВт ч"," руб./кВт мес.","руб./ кВт ч","руб./ кВт ч"]
[null,null,null,null,null,null,1010.25269,0.48209000000000002,2.6932700000000001,1021.05223,0.47458,3.1560899999999998]
[]
[null,"Руководитель организации",null,{"$f":"'Инф-я'!C21","v":"Окунев Василий Михайлович"}]
[]
[]
[null,"Расчет доходов, полученных согласно актам оказания услуг Владимирэнерго"]
[null,"1. Доходы по двухставочному тарифу",null,null,null,null,null,null,"1. Итого доходы по двухставочному тарифу, тыс. руб.","2. Доходы по одноставочному тарифу"]
[null,null,"1.1. Доходы на содержание сетей",null,"Доходы на содержание сетей, тыс. руб.","1.2. Доходы на компенсацию потерь",null,"Доходы на компенсацию нормативных потерь, тыс. руб.",null,"полезный отпуск, тыс кВт ч","одноставочный инд тариф, руб./тыс. кВт ч","Итого доходы по одноставочному тарифу, тыс. руб."]
[null,null,"договорная мощность, МВт","ставка на содержание сетей, руб./МВт мес.",null,"полезный отпуск, тыс кВт ч","инд тариф на потери, руб./ тыс.кВт ч",null,null,null,null,"Всего:","в том числе, доходы на содержание сетей"]
[null,"январь",null,{"$f":"$G$9*1000","v":1010252.6900000001},{"$f":"C18*D18/1000","v":0},null,{"$f":"$H$9*1000","v":482.09000000000003},{"$f":"F18*$G$18/1000","v":0},{"$f":"E18+H18","v":0},2188.2570000000001,{"$f":"$I$9*1000","v":2693.27},{"$f":"J18*K18/1000","v":5893.5669303900004},{"$f":"J18*(K18-G18)/1000","v":4838.6301132600001}]
[null,"февраль",null,1010252.6900000001,{"$f":"C19*D19/1000","v":0},null,482.09000000000003,{"$f":"F19*$G$18/1000","v":0},0,1950.8620000000001,2693.27,{"$f":"J19*K19/1000","v":5254.1980987400002},{"$f":"J19*(K19-G19)/1000","v":4313.7070371600003}]
[null,"март",null,1010252.6900000001,0,null,482.09000000000003,0,0,2051.5749999999998,2693.27,5525.4454002499988,4536.4016084999994]
[null,"апрель",null,1010252.6900000001,0,null,482.09000000000003,0,0,1814.633,2693.27,4887.2966199100001,4012.4801969399996]
[null,"май",null,1010252.6900000001,0,null,482.09000000000003,0,0,1598.5160000000001,2693.27,4305.2351873200005,3534.6066088799998]
[null,"июнь",null,1010252.6900000001,0,null,482.09000000000003,0,0,1545.75,2693.27,4163.1221025000004,3417.9314850000001]
[null,"Итого 1 пол.","х","х",{"$f":"SUM(E18:E23)","v":0},{"$f":"SUM(F18:F23)","v":0},"х",{"$f":"SUM(H18:H23)","v":0},0,{"$f":"SUM(J18:J23)","v":11149.593000000001},"х",{"$f":"SUM(L18:L23)","v":30028.864339110001},{"$f":"SUM(M18:M23)","v":24653.757049740001}]
[null,"июль",null,{"$f":"$J$9*1000","v":1021052.23},{"$f":"C25*D25/1000","v":0},null,{"$f":"$K$9*1000","v":474.58},{"$f":"F25*$G$25/1000","v":0},0,1565.856,{"$f":"$L$9*1000","v":3156.0899999999997},{"$f":"J25*K25/1000","v":4941.9824630399999},{"$f":"J25*(K25-G25)/1000","v":4198.8585225599991}]
[null,"август",null,1021052.23,0,null,474.58,0,0,1541.6289999999999,3156.0899999999997,4865.51987061,4133.8935797899994]
[null,"сентябрь",null,1021052.23,0,null,474.58,0,0,1596.0719999999999,3156.0899999999997,5037.3468784799998,4279.8830287199989]
[null,"октябрь",null,1021052.23,0,null,474.58,0,0,1978.3620000000001,3156.0899999999997,6243.8885245800002,5304.99748662]
[null,"ноябрь",null,1021052.23,0,null,474.58,0,0,2049.8220000000001,3156.0899999999997,6469.4227159800002,5496.6181912199991]
[null,"декабрь",null,1021052.23,0,null,474.58,0,0,2193.433,3156.0899999999997,6922.6719569699999,5881.7125238299996]
[null,"Итого 2 пол.","х","х",{"$f":"SUM(E25:E30)","v":0},{"$f":"SUM(F25:F30)","v":0},"х",{"$f":"SUM(H25:H30)","v":0},0,{"$f":"SUM(J25:J30)","v":10925.173999999999},"х",{"$f":"SUM(L25:L30)","v":34480.832409659997},{"$f":"SUM(M25:M30)","v":29295.963332739993}]
[null,"Всего за 2018 г.","х","х",{"$f":"E24+E31","v":0},{"$f":"F24+F31","v":0},"х",{"$f":"H24+H31","v":0},{"$f":"I24+I31","v":0},{"$f":"J24+J31","v":22074.767},"х","х",{"$f":"M24+M31","v":53949.720382479994}]
[null,"январь",null,{"$f":"$G$9*1000","v":1010252.6900000001},{"$f":"C33*D33/1000","v":0},null,{"$f":"$H$9*1000","v":482.09000000000003},{"$f":"F33*$G$33/1000","v":0},{"$f":"E33+H33","v":0},null,{"$f":"$I$9*1000","v":2693.27},{"$f":"J33*K33/1000","v":0},{"$f":"J33*(K33-G33)/1000","v":0}]
[null,"февраль",null,1010252.6900000001,0,null,482.09000000000003,{"$f":"F34*$G$33/1000","v":0},0,null,2693.27,0,0]
[null,"март",null,1010252.6900000001,0,null,482.09000000000003,0,0,null,2693.27,0,0]
[null,"апрель",null,1010252.6900000001,0,null,482.09000000000003,0,0,null,2693.27,0,0]
[null,"май",null,1010252.6900000001,0,null,482.09000000000003,0,0,null,2693.27,0,0]
[null,"июнь",null,1010252.6900000001,0,null,482.09000000000003,0,0,null,2693.27,0,0]
[null,"Итого 1 пол.",{"$f":"SUM(C33:C38)","v":0},"х",{"$f":"SUM(E33:E38)","v":0},{"$f":"SUM(F33:F38)","v":0},"х",{"$f":"SUM(H33:H38)","v":0},0,{"$f":"SUM(J33:J38)","v":0},"х",{"$f":"SUM(L33:L38)","v":0},{"$f":"SUM(M33:M38)","v":0}]
[null,"июль",null,{"$f":"$J$9*1000","v":1021052.23},{"$f":"C40*D40/1000","v":0},null,{"$f":"$K$9*1000","v":474.58},{"$f":"F40*$G$40/1000","v":0},0,null,{"$f":"$L$9*1000","v":3156.0899999999997},{"$f":"J40*K40/1000","v":0},{"$f":"J40*(K40-G40)/1000","v":0}]
[null,"август",null,1021052.23,0,null,474.58,{"$f":"F41*$G$40/1000","v":0},0,null,3156.0899999999997,0,{"$f":"J41*(K41-G41)/1000","v":0}]
[null,"сентябрь",null,1021052.23,0,null,474.58,0,0,null,3156.0899999999997,0,0]
[null,"октябрь",null,1021052.23,0,null,474.58,0,0,null,3156.0899999999997,0,0]
[null,"ноябрь",null,1021052.23,0,null,474.58,0,0,null,3156.0899999999997,0,0]
[null,"декабрь",null,1021052.23,0,null,474.58,0,0,null,3156.0899999999997,0,0]
[null,"Итого 2 пол.",{"$f":"SUM(C40:C45)","v":0},"х",{"$f":"SUM(E40:E45)","v":0},{"$f":"SUM(F40:F45)","v":0},"х",{"$f":"SUM(H40:H45)","v":0},0,{"$f":"SUM(J40:J45)","v":0},"х",{"$f":"SUM(L40:L45)","v":0},{"$f":"SUM(M40:M45)","v":0}]
[null,"Всего за 2018 г.","х","х",{"$f":"E39+E46","v":0},{"$f":"F39+F46","v":0},"х",{"$f":"H39+H46","v":0},"х",{"$f":"J39+J46","v":0},"х","х",{"$f":"M39+M46","v":0}]

{"sheet":"Корр. НР","index":48,"n_rows":21,"n_cols":7,"rows_kept":21,"cut":false,"hidden":false,"merged":[[18,0,18,1],[20,0,20,1],[20,2,20,4],[1,0,1,5],[3,0,3,5],[5,0,6,0],[5,1,6,1],[5,2,6,2],[5,3,5,4],[5,5,5,6]]}
[]
["Корректировка неподконтрольных расходов по результатам 2018 года"]
[]
[{"$f":"'Инф-я'!C13","v":"ООО \"Энергетик\""}]
[]
["№ п/п","Наименование показателей","2018 год утверждено","По данным организации",null,"По данным экспертов"]
[null,null,null,"Факт  2018 год","Величина корректировки НР","Факт  2018 год","Величина корректировки НР"]
[1,2,3,4,5,6,7]
["1.","Страховые взносы во внебюджетные фонды",{"$f":"'Страховые взносы'!D18","v":3706.1689387649494},{"$f":"'Страховые взносы'!E18","v":4238.7},{"$f":"D9-C9","v":532.5310612350504},{"$f":"'Страховые взносы'!R18","v":0},{"$f":"F9-C9","v":-3706.1689387649494}]
["2.","Расходы на оплату услуг организаций, осуществляющих регулируемые виды деятельности",{"$f":"'Расходы рег. орг-ий'!B23","v":249.94636799359998},{"$f":"'Расходы рег. орг-ий'!C23","v":247.01799999999997},-2.9283679936000055,{"$f":"'Расходы рег. орг-ий'!P23","v":0},-249.94636799359998]
["3.","Плата за землю",{"$f":"'Плата за землю'!B17","v":369.59416970319995},{"$f":"'Плата за землю'!C17","v":109.97977},-259.61439970319998,{"$f":"'Плата за землю'!P17","v":0},-369.59416970319995]
["4.","Транспортный налог",{"$f":"'Транспортный налог'!D17","v":0},{"$f":"'Транспортный налог'!E17","v":0},0,{"$f":"'Транспортный налог'!T17","v":0},0]
["5.","Налог на имущество",{"$f":"'Налог на имущество'!B15","v":0},{"$f":"'Налог на имущество'!C15","v":0},0,{"$f":"'Налог на имущество'!P15","v":0},0]
["6.","Плата за негативное воздействие на окружающую среду",{"$f":"'Негативное возд. на окр. среду '!C29","v":0},{"$f":"'Негативное возд. на окр. среду '!D29","v":0},0,{"$f":"'Негативное возд. на окр. среду '!Q29","v":0},0]
["7.","Налог на прибыль",{"$f":"'Налог прим при УСНО'!C10","v":991.89499999999998},{"$f":"'Налог прим при УСНО'!D10","v":791.17600000000004},-200.71899999999994,{"$f":"'Налог прим при УСНО'!P10","v":0},-991.89499999999998]
["8.","Плата за аренду имущества",{"$f":"'Аренда имущества'!B44","v":4844.28},{"$f":"'Аренда имущества'!C44","v":4797.6993600000005},-46.580639999999221,{"$f":"'Аренда имущества'!AD44","v":0},-4844.28]
["9.","Оплата услуг ПАО \"ФСК ЕЭС\"",{"$f":"'Услуги ФСК'!B17","v":0},{"$f":"'Услуги ФСК'!E17","v":0},0,{"$f":"'Услуги ФСК'!X17","v":0},0]
["10.","Прочие обоснованные неподконтрольные расходы",{"$f":"'Прочие НР'!B14","v":198.02600000000001},{"$f":"'Прочие НР'!C14","v":198.03},3.9999999999906777E-3,{"$f":"'Прочие НР'!P14","v":0},-198.02600000000001]
["Итого корректировка неподконтрольных расходов по результатам 2018 года",null,{"$f":"SUM(C9:C18)","v":10359.91047646175},{"$f":"SUM(D9:D18)","v":10382.603130000001},{"$f":"SUM(E9:E18)","v":22.692653538251278},{"$f":"SUM(F9:F18)","v":0},{"$f":"SUM(G9:G18)","v":-10359.91047646175}]
[]
["Руководитель организации",null,{"$f":"'Инф-я'!$C$21","v":"Окунев Василий Михайлович"}]

{"sheet":"Корр. ИП","index":49,"n_rows":17,"n_cols":5,"rows_kept":17,"cut":false,"hidden":false,"merged":[[1,0,1,4],[3,0,3,4],[16,0,16,1],[16,2,16,4]]}
[]
["Корректировка НВВ в связи с изменением (неисполнением) инвестиционной программы по результатам 2018 года"]
[]
[{"$f":"'Инф-я'!C13","v":"ООО \"Энергетик\""}]
[]
["№ п/п","Наименование показателей","Обозначение в методических указаниях","По данным организации","По данным экспертов"]
[1,2,3,4,5]
["1.","Расчетная величина собственных средств регулируемой организации для финансирования инвестиционной программы, учтенная при установлении тарифов в 2018 году, которая не может принимать отрицательные значения, всего, в том числе:",null,{"$f":"IF((D9+D10)>=D11,D11,(D9+D10))","v":9406.2610000000004},{"$f":"IF((E9+E10)>=E11,E11,(E9+E10))","v":0}]
[null,"-амортизация",null,{"$f":"' КВЛ'!B30","v":4681.2632088137834}]
[null,"- капитальные вложения из прибыли",null,{"$f":"' КВЛ'!B32","v":4724.997791186217}]
["2.","Плановый размер финансирования инвестиционной программы, представляющей собой совокупность инвестиционных проектов, утвержденной (скорректированной) в установленном порядке на 2018  год до его начала, за счет собственных средств (выручки от реализации товаров (услуг) по регулируемым ценам (тарифам)) без НДС",null,{"$f":"' КВЛ'!B29-' КВЛ'!B31","v":9406.2610000000004}]
["3.","Объем фактического финансирования инвестиционной программы, представляющей собой совокупность инвестиционных проектов, утвержденной (скорректированной) в установленном порядке на 2018 год до его начала, за счет собственных средств (выручки от реализации товаров (услуг) по регулируемым ценам (тарифам)) без НДС в 2018 году",null,{"$f":"' КВЛ'!C29-' КВЛ'!C31","v":9406.26}]
["4.","Учтенная при расчете тарифов на 2018 год корректировка необходимой валовой выручки на 2018-ой год долгосрочного периода регулирования, осуществленная в связи с изменением (неисполнением) инвестиционной программы за истекший период 2018-го года по результатам 9 месяцев",null,0]
[null,"Итого корректировка НВВ в связи с изменением (неисполнением) инвестиционной программы по результатам 2018 года",null,{"$f":"IF(D11=0,0,D8*(D12/D11-1)-D13)","v":-1.00000000033184E-3},{"$f":"IF(E11=0,0,E8*(E12/E11-1))","v":0}]
[]
[]
["Руководитель организации",null,{"$f":"'Инф-я'!$C$21","v":"Окунев Василий Михайлович"}]

{"sheet":"Корр. КНК","index":50,"n_rows":30,"n_cols":8,"rows_kept":30,"cut":false,"hidden":false,"merged":[[26,0,26,1],[26,2,26,4],[29,0,29,7],[1,0,1,4],[3,0,3,4],[14,1,14,2],[16,0,16,6],[18,0,19,0],[18,1,19,1],[18,2,19,2],[18,3,19,3],[18,4,18,5],[18,6,18,7]]}
[]
["Корректировка НВВ с учетом надежности и качества оказываемых услуг по результатам 2018 года"]
[]
[{"$f":"'Инф-я'!C13","v":"ООО \"Энергетик\""}]
[]
["№ п/п","Наименование показателей","Обзнач. в МУ","По данным организации","По данным экспертов"]
[1,2,3,4,5]
["1.","Оценка достижения показателя уровня надежности   оказываемых услуг",null,{"$f":"(IF(AND(D22=0,E22=0),0,IF(AND(D22=0,E22>0),-1,IF(AND(69<F22,F22<=131),0,IF(F22>131,-1,IF(F22<=69,1))))))","v":1},{"$f":"(IF(AND(G22=0,D22=0),0,IF(AND(D22=0,G22>0),-1,IF(AND(69<H22,H22<=131),0,IF(H22>131,-1,IF(H22<=69,1))))))","v":1}]
["2.","Оценка достижения показателя уровня качества осуществляемого технологического присоединения к сети",null,{"$f":"(IF(D23=0,0,IF(AND(69<F23,F23<=131),0,IF(F23>131,-1,IF(F23<=69,1)))))","v":0},{"$f":"(IF(D23=0,0,IF(AND(69<H23,H23<=131),0,IF(H23>131,-1,IF(H23<=69,1)))))","v":1}]
["3.","Оценка достижения показателя уровня качества обслуживания потребителей услуг ",null,{"$f":"(IF(D24=0,0,(IF(AND(67<F24,F24<=131),0,IF(F24>131,-1,IF(F24<=69,1))))))","v":0},{"$f":"IF(D24=0,0,(IF(AND(68<H24,H24<=131),0,IF(H24>131,-1,IF(H24<=69,1)))))","v":1}]
["4.","Обобщенный показатель уровня надежности и качества оказываемых услуг ","                           ",{"$f":"D8*0.65+D9*0.25+D10*0.1","v":0.65},{"$f":"E8*0.65+E9*0.25+E10*0.1","v":1}]
["5.","Максимальный процент корректировки, %",null,0.02,0.02]
["6.","Коэффициент, корректирующий НВВ с учетом надежности и качества оказываемых услуг",null,{"$f":"D11*D12","v":1.3000000000000001E-2},{"$f":"E11*E12","v":0.02}]
["7.","Утвержденная НВВ на содержание электрических сетей (тыс. руб.)",null,{"$f":"' НВВ содержание'!C49","v":54503.97134446069},{"$f":"' НВВ содержание'!C49","v":54503.97134446069}]
["8.","Величина корректировки НВВ с учетом надежности и качества оказываемых услуг",null,{"$f":"D13*D14","v":708.55162747798897},{"$f":"E13*E14","v":1090.0794268892139}]
[]
["Показатели уровня надежности и уровня качества оказываемых услуг"]
[]
["№ п/п","Наименование показателей","Обозначение в Методических  указаниях","Утверждено на 2018 год","По данным организации",null,"По данным экспертов"]
[null,null,null,null,"Факт","% отклонения","Факт","% отклонения"]
[1,2,3,4,5,6,7,8]
["1.","Показатель средней продолжительности прекращений передачи электрической энергии",null,0.96789999999999998,{"$f":"'Форма 1.2'!E8","v":1.8264074365017018E-2},{"$f":"IF(D22=0,0,E22/D22*100)","v":1.8869794777370614},null,{"$f":"IF(D22=0,0,G22/D22*100)","v":0}]
["2.","Показатель уровня качества осуществляемого технологического присоединения к сети",null,0.97960000000000003,{"$f":"'форма 3 '!D37","v":1},{"$f":"IF(D23=0,0,E23/D23*100)","v":102.08248264597795},null,{"$f":"IF(D23=0,0,G23/D23*100)","v":0}]
["3.","Показатель уровня качества обслуживания потребителей услуг ",null,0.89749999999999996,{"$f":"'форма 2.4'!C14","v":0.89749999999999996},{"$f":"IF(D24=0,0,E24/D24*100)","v":100},null,{"$f":"IF(D24=0,0,G24/D24*100)","v":0}]
[]
[]
["Руководитель организации",null,{"$f":"'Инф-я'!$C$21","v":"Окунев Василий Михайлович"}]
[]
[]
["Приказ Министерства энергетики РФ от 29 ноября 2016 г. N 1256 \"Об утверждении Методических указаний по расчету уровня надежности и качества поставляемых товаров и оказываемых услуг для организации по управлению единой национальной (общероссийской) электрической сетью и территориальных сетевых организаций\" (с изменениями и дополнениями) Методические указания по расчету уровня надежности и качества поставляемых товаров и оказываемых услуг для организации по управлению единой национальной (общероссийской) электрической сетью и территориальных сетевых организаций 4. Порядок определения плановых и фактических значений показателей надежности и качества услуг   4.1.3. Коэффициенты допустимого отклонения на первый долгосрочный период регулирования устанавливаются равными: для организации по управлению единой национальной (общероссийской) электрической сетью для показателя уровня надежности оказания услуг - 25% на первые три расчетных периода регулирования и 20% на следующие расчетные периоды регулирования первого долгосрочного периода регулирования, а для показателя уровня качества оказания услуг - 15%; для территориальных сетевых организаций, в отношении которых переход к регулированию цен (тарифов) на услуги по передаче электрической энергии в форме долгосрочных тарифов на основе долгосрочных параметров регулирования деятельности осуществлен до 1 июля 2010 г., - 30% на первые три расчетных периода регулирования и 25% на следующие расчетные периоды регулирования первого долгосрочного периода регулирования; для остальных территориальных сетевых организаций - 35% на первые три расчетных периода регулирования и 30% на следующие расчетные периоды регулирования первого долгосрочного периода регулирования. В последующие долгосрочные периоды регулирования коэффициенты снижаются, в случае достижения показателей, на 1% в год - до 15% для организации по управлению единой национальной (общероссийской) электрической сетью и до 25% для территориальных сетевых организаций."]

{"sheet":" НВВ содержание","index":51,"n_rows":51,"n_cols":11,"rows_kept":51,"cut":false,"hidden":false,"merged":[[50,0,50,1],[50,2,50,4],[1,0,1,6],[3,0,3,6],[4,0,4,10],[5,0,6,0],[5,1,6,1],[5,2,5,3],[5,5,5,6],[5,7,5,8],[5,9,5,10]]}
[]
["Расчет необходимой валовой выручки  на содержание электрических сетей на 2020 год"]
[]
[{"$f":"'Инф-я'!C13","v":"ООО \"Энергетик\""}]
[]
["№","Наименование","2018 год",null,"2019 год","2020 год",null,"Темп роста планируемых затрат по расчету организации, %",null,"Темп роста затрат организации по расчету экспертов, %"]
[null,null,"Утверждено","Факт","Утверждено","По данным организации","По данным экспертов","к факту 2018 года","к утвержденным 2019 года","к факту 2018 года","к утвержденным 2019 года"]
["1","2","3","4","5","7","8","9","10","11","12"]
["1.","Подконтрольные расходы",{"$f":"C10+C11+C12+C13+C22","v":33163.380247170775},{"$f":"D10+D11+D12+D13+D22","v":48434.066423999997},{"$f":"'Подконтрольные расходы'!J32","v":34450.418754453203},{"$f":"'Подконтрольные расходы'!N32","v":52717.690103935995},{"$f":"'Подконтрольные расходы'!Q32","v":0},{"$f":"IF(D9=0,IF(F9=0,0,100),F9/D9*100)","v":108.84423711698381},{"$f":"IF(E9=0,IF(F9=0,0,100),F9/E9*100)","v":153.02481656227033},{"$f":"IF(D9=0,IF(G9=0,0,100),G9/D9*100)","v":0},{"$f":"IF(E9=0,IF(G9=0,0,100),G9/E9*100)","v":0}]
["1.1.","Расходы на оплату труда",{"$f":"'П.1.16. оплата труда ОПР'!E41","v":12064.662592782948},{"$f":"'П.1.16. оплата труда ОПР'!F41","v":13525.899984},{"$f":"'П.1.16. оплата труда ОПР'!G41","v":12532.880404675218},{"$f":"ROUND('Подконтрольные расходы'!N17,2)","v":16267.72},{"$f":"ROUND('Подконтрольные расходы'!Q17,2)","v":0},{"$f":"IF(D10=0,IF(F10=0,0,100),F10/D10*100)","v":120.27088784660054},{"$f":"IF(E10=0,IF(F10=0,0,100),F10/E10*100)","v":129.80032901240764},{"$f":"IF(D10=0,IF(G10=0,0,100),G10/D10*100)","v":0},{"$f":"IF(E10=0,IF(G10=0,0,100),G10/E10*100)","v":0}]
["1.2","Материалы",{"$f":"материалы!D36","v":4364.838002286544},{"$f":"материалы!E36","v":15250.308000000001},{"$f":"('Подконтрольные расходы'!J18)","v":4534.2331165699197},{"$f":"ROUND('Подконтрольные расходы'!N18,2)","v":16566.599999999999},{"$f":"ROUND('Подконтрольные расходы'!Q18,2)","v":0},108.63124862789655,365.36718721979577,0,0]
["1.3","Ремонт основных фондов",{"$f":"'Сводная ремонт'!D13","v":15449.325562116981},{"$f":"'Сводная ремонт'!E13","v":15558.134},{"$f":"('Подконтрольные расходы'!J19)","v":16048.898849332892},{"$f":"ROUND('Подконтрольные расходы'!N19,2)","v":15411.71},{"$f":"ROUND('Подконтрольные расходы'!Q19,2)","v":0},99.058858858009572,96.02970362443665,0,0]
["1.4","Другие обоснованные подконтрольные расходы, в том числе:",{"$f":"SUM(C14:C21)","v":936.36970603364762},{"$f":"SUM(D14:D21)","v":3406.93444},{"$f":"'Подконтрольные расходы'!J20","v":972.70930289427974},{"$f":"'Подконтрольные расходы'!N20","v":3679.1115423999995},{"$f":"'Подконтрольные расходы'!Q20","v":0},107.98891517266765,378.23340760213421,0,0]
["1.4.1","Работы и услуги производственного характера",{"$f":"УПХ!D54","v":0},{"$f":"(УПХ!E54)","v":292.04043999999999},{"$f":"'Подконтрольные расходы'!J21","v":0},{"$f":"ROUND('Подконтрольные расходы'!N21,2)","v":287.7},{"$f":"ROUND('Подконтрольные расходы'!Q21,2)","v":0},98.513753780127161,100,0,0]
["1.4.2","Работы и услуги непроизводственного характера",{"$f":"УНПХ!D44","v":584.01952882957153},{"$f":"УНПХ!E44","v":2697.5359999999996},{"$f":"'Подконтрольные расходы'!J22","v":606.68475827863313},{"$f":"ROUND('Подконтрольные расходы'!N22,2)","v":2938.7},{"$f":"ROUND('Подконтрольные расходы'!Q22,2)","v":0},108.94015872262688,484.38665384277516,0,0]
["1.4.3","Обеспечение нормальных условий труда и техники безопасности",{"$f":"'ОТ и ТБ'!D23","v":80.780935461112435},{"$f":"'ОТ и ТБ'!E23","v":347.3},{"$f":"('Подконтрольные расходы'!J23)","v":83.91596493693369},{"$f":"ROUND('Подконтрольные расходы'!N23,2)","v":362},{"$f":"ROUND('Подконтрольные расходы'!Q23,2)","v":0},104.23265188597755,431.38394496453441,0,0]
["1.4.4.","Расходы на командировки",{"$f":"Команд!D13","v":0},{"$f":"Команд!E13","v":0},{"$f":"('Подконтрольные расходы'!J24)","v":0},{"$f":"ROUND('Подконтрольные расходы'!N24,2)","v":0},{"$f":"ROUND('Подконтрольные расходы'!Q24,2)","v":0},0,0,0,0]
["1.4.5","Расходы на обучение персонала",{"$f":"Обуч!D16","v":104.77762239782277},{"$f":"(Обуч!E16)","v":6.25},{"$f":"('Подконтрольные расходы'!J25)","v":108.84393993609606},{"$f":"ROUND('Подконтрольные расходы'!N25,2)","v":21.7},{"$f":"ROUND('Подконтрольные расходы'!Q25,2)","v":0},347.2,19.936801270461544,0,0]
["1.4.6","Расходы на страхование",{"$f":"Страхов!D26","v":0},{"$f":"Страхов!E26","v":0},{"$f":"('Подконтрольные расходы'!J26)","v":0},{"$f":"ROUND('Подконтрольные расходы'!N26,2)","v":0},{"$f":"ROUND('Подконтрольные расходы'!Q26,2)","v":0},0,0,0,0]
["1.4.7","Расходы на услуги банков",{"$f":"'Услуги банков'!D14","v":166.79161934514087},{"$f":"'Услуги банков'!E14","v":63.808},{"$f":"('Подконтрольные расходы'!J27)","v":173.26463974261691},{"$f":"ROUND('Подконтрольные расходы'!N27,2)","v":69.010000000000005},{"$f":"ROUND('Подконтрольные расходы'!Q27,2)","v":0},108.15258274824475,39.82924623426554,0,0]
["1.4.8","Прочие обоснованные подконтрольные расходы",{"$f":"'Прочие ПР'!D14","v":0},{"$f":"'Прочие ПР'!E14","v":0},{"$f":"('Подконтрольные расходы'!J28)","v":0},{"$f":"ROUND('Подконтрольные расходы'!N28,2)","v":0},{"$f":"ROUND('Подконтрольные расходы'!Q28,2)","v":0},0,0,0,0]
["1.5","Расходы из прибыли, в том числе:",{"$f":"(SUM(C23:C24))","v":348.18438395065192},{"$f":"SUM(D23:D24)","v":692.79},{"$f":"'Подконтрольные расходы'!J29","v":361.6970809808991},{"$f":"ROUND('Подконтрольные расходы'!N29,2)","v":792.55},{"$f":"ROUND('Подконтрольные расходы'!Q29,2)","v":0},114.39974595476264,219.11982199321477,0,0]
["1.5.1","Расходы по коллективным договорам",{"$f":"'Расходы по кол дог'!D29","v":348.18438395065192},{"$f":"'Расходы по кол дог'!E29","v":692.79},{"$f":"('Подконтрольные расходы'!J30)","v":361.6970809808991},{"$f":"ROUND('Подконтрольные расходы'!N30,2)","v":792.55},{"$f":"ROUND('Подконтрольные расходы'!Q30,2)","v":0},114.39974595476264,219.11982199321477,0,0]
["1.5.2","Прочие обоснованные расходы из прибыли",{"$f":"'другие расходы прибыль'!D15","v":0},{"$f":"'другие расходы прибыль'!E15","v":0},{"$f":"'Подконтрольные расходы'!J31","v":0},{"$f":"ROUND('Подконтрольные расходы'!N31,2)","v":0},{"$f":"ROUND('Подконтрольные расходы'!Q31,2)","v":0},0,0,0,0]
["2.","Неподконтрольные расходы",{"$f":"C26+C27+C28+C29+C35+C36+C37+C38+C39+C40","v":19888.272169122632},{"$f":"D26+D27+D28+D29+D35+D36+D37+D38+D40","v":23430.118129999999},{"$f":"E26+E27+E28+E29+E35+E36+E37+E38+E39+E40","v":21521.954415412223},{"$f":"F26+F27+F28+F29+F35+F36+F37+F38+F39+F40","v":25803.11},0,{"$f":"IF(D25=0,IF(F25=0,0,100),F25/D25*100)","v":110.12795521061251},{"$f":"IF(E25=0,IF(F25=0,0,100),F25/E25*100)","v":119.89203908694263},0,0]
["2.1.","Амортизация основных средств",{"$f":"'Свод по амортизации'!B13","v":4803.3639014746677},{"$f":"'Свод по амортизации'!C13","v":5538.4819399999997},{"$f":"('Свод по амортизации'!D13)","v":5333.7663558460972},{"$f":"ROUND('Свод по амортизации'!F13,2)","v":6538.22},{"$f":"ROUND('Свод по амортизации'!G13,2)","v":0},{"$f":"IF(D26=0,IF(F26=0,0,100),F26/D26*100)","v":118.05075959135476},{"$f":"IF(E26=0,IF(F26=0,0,100),F26/E26*100)","v":122.58167238303861},0,0]
["2.2.","Расходы на страховые взносы",{"$f":"'Страховые взносы'!D18","v":3706.1689387649494},{"$f":"'Страховые взносы'!E18","v":4238.7},{"$f":"('Страховые взносы'!F18)","v":3884.9766517293256},{"$f":"ROUND('Страховые взносы'!H18,2)","v":5186.32},{"$f":"ROUND('Страховые взносы'!I18,2)","v":0},{"$f":"IF(D27=0,IF(F27=0,0,100),F27/D27*100)","v":122.3563828532333},{"$f":"IF(E27=0,IF(F27=0,0,100),F27/E27*100)","v":133.49681259194713},0,0]
["2.3.","Расходы на оплату услуг организаций, осуществляющие регулируемые виды деятельности",{"$f":"'Расходы рег. орг-ий'!B23","v":249.94636799359998},{"$f":"'Расходы рег. орг-ий'!C23","v":247.01799999999997},{"$f":"('Расходы рег. орг-ий'!D23)","v":245.25767783680004},{"$f":"ROUND('Расходы рег. орг-ий'!F23,2)","v":267.18},{"$f":"ROUND('Расходы рег. орг-ий'!G23,2)","v":0},108.16215822328739,108.93848557833429,0,0]
["2.4.","Налоги и сборы, в том числе:",{"$f":"(C30+C31+C32+C33+C34)","v":1361.4891697031999},{"$f":"D30+D31+D32+D33+D34","v":901.15577000000008},{"$f":"(E30+E31+E32+E33+E34)","v":1821.3207300000001},{"$f":"ROUND(F30+F31+F32+F33+F34,2)","v":1026.18},{"$f":"ROUND(G30+G31+G32+G33+G34,2)","v":0},113.87376457679453,56.342629999055681,0,0]
["2.4.1.","Плата за землю",{"$f":"'Плата за землю'!B17","v":369.59416970319995},{"$f":"'Плата за землю'!C17","v":109.97977},{"$f":"('Плата за землю'!D17)","v":502.51673},{"$f":"ROUND('Плата за землю'!F17,2)","v":235},{"$f":"ROUND('Плата за землю'!G17,2)","v":0},213.67566053284165,46.764612195100455,0,0]
["2.4.2.","Транспортный налог",{"$f":"'Транспортный налог'!D17","v":0},{"$f":"('Транспортный налог'!E17)","v":0},{"$f":"('Транспортный налог'!F17)","v":0},{"$f":"ROUND('Транспортный налог'!I17,2)","v":0},{"$f":"ROUND('Транспортный налог'!K17,2)","v":0},0,0,0,0]
["2.4.3.","Налог на имущество",{"$f":"('Налог на имущество'!B15)","v":0},{"$f":"('Налог на имущество'!C15)","v":0},{"$f":"('Налог на имущество'!D15)","v":0},{"$f":"ROUND('Налог на имущество'!F15,2)","v":0},{"$f":"ROUND('Налог на имущество'!G15,2)","v":0},0,0,0,0]
["2.4.4.","Плата за негативное воздействие на окружающую среду",{"$f":"'Негативное возд. на окр. среду '!C29","v":0},{"$f":"'Негативное возд. на окр. среду '!D29","v":0},{"$f":"('Негативное возд. на окр. среду '!E29)","v":0},{"$f":"ROUND('Негативное возд. на окр. среду '!G29,2)","v":0},{"$f":"ROUND('Негативное возд. на окр. среду '!H29,2)","v":0},0,0,0,0]
["2.4.5.","Налог на прибыль",{"$f":"'Налог прим при УСНО'!C10","v":991.89499999999998},{"$f":"('Налог прим при УСНО'!D10)","v":791.17600000000004},{"$f":"('Налог прим при УСНО'!E10)","v":1318.8040000000001},{"$f":"ROUND('Налог прим при УСНО'!F10,2)","v":791.18},{"$f":"ROUND('Налог прим при УСНО'!G10,2)","v":0},100.00050557650889,59.992235389034299,0,0]
["2.5.","Плата за аренду имущества",{"$f":"'Аренда имущества'!B44","v":4844.28},{"$f":"'Аренда имущества'!C44","v":4797.6993600000005},{"$f":"('Аренда имущества'!D44)","v":4844.28},{"$f":"ROUND('Аренда имущества'!F44,2)","v":4770.5},{"$f":"ROUND('Аренда имущества'!N44,2)","v":0},99.433074939485152,98.476966649326641,0,0]
["2.6.","Оплата услуг ОАО \"ФСК ЕЭС\"",{"$f":"'Услуги ФСК'!B17","v":0},{"$f":"'Услуги ФСК'!E17","v":0},{"$f":"('Услуги ФСК'!F17)","v":0},{"$f":"ROUND('Услуги ФСК'!L17,2)","v":0},{"$f":"ROUND('Услуги ФСК'!O17,2)","v":0},0,0,0,0]
["2.7.","Прочие обоснованные неподконтрольные расходы",{"$f":"'Прочие НР'!B14","v":198.02600000000001},{"$f":"'Прочие НР'!C14","v":198.03},{"$f":"('Прочие НР'!D14)","v":205.35300000000001},{"$f":"ROUND('Прочие НР'!F14,2)","v":432.42},{"$f":"ROUND('Прочие НР'!G14,2)","v":0},218.36085441599758,210.57398723174242,0,0]
["2.8.","Капитальные вложения производственного характера из прибыли",{"$f":"' КВЛ'!B32","v":4724.997791186217},{"$f":"' КВЛ'!C32","v":3867.7780600000006},{"$f":"(' КВЛ'!D32)","v":5187},{"$f":"ROUND(' КВЛ'!F32,2)","v":4150.2299999999996},{"$f":"ROUND(' КВЛ'!G32,2)","v":0},{"$f":"IF(D38=0,IF(F38=0,0,100),F38/D38*100)","v":107.30269254384257},{"$f":"IF(E38=0,IF(F38=0,0,100),F38/E38*100)","v":80.012145748987848},0,0]
["2.9.","Расходы, связанные с компенсацией выпадающих доходов от льготного технологического присоединения",{"$f":"'Выпадающий доход'!B22","v":0},"х",{"$f":"'Выпадающий доход'!C22","v":0},{"$f":"ROUND('Выпадающий доход'!D22,2)","v":0},{"$f":"ROUND('Выпадающий доход'!E22,2)","v":0},"х",0,"х",0]
["2.10.","Расходы на возврат и обслуживание долгосрочных заемных средств, направляемых на финансирование капитальных вложений ",{"$f":"'Возврат заемных средств'!B11","v":0},{"$f":"'Возврат заемных средств'!C11","v":3641.2550000000001},{"$f":"ROUND('Возврат заемных средств'!D11,2)","v":0},{"$f":"ROUND('Возврат заемных средств'!F11,2)","v":3432.06},{"$f":"ROUND('Возврат заемных средств'!G11,2)","v":0},{"$f":"IF(D40=0,IF(F40=0,0,100),F40/D40*100)","v":94.254865424146345},100,{"$f":"IF(D40=0,IF(G40=0,0,100),G40/D40*100)","v":0},0]
["3.","Корректировка необходимой валовой выручки ",{"$f":"SUM(C42:C47)","v":1452.3189281672865},"x",{"$f":"SUM(E42:E47)","v":1774.7679358890305},{"$f":"SUM(F42:F47)","v":-129.01},{"$f":"SUM(G42:G47)","v":20157.370000000003},"x",-7.2691193812545016,"х",1135.7749704838238]
["3.1.","Корректировка подконтрольных расходов",126.32045284326887,"x",212.67478189118265,{"$f":"ROUND('Корр. ПР'!D18,2)","v":-422.44},{"$f":"ROUND('Корр. ПР'!E18,2)","v":-25076.77},"x","х","х",-11791.134697310186]
["3.2.","Корректировка неподконтрольных расходов",834.85385400773635,"x",755.34116127623702,{"$f":"ROUND('Корр. НР'!E19,2)","v":22.69},{"$f":"ROUND('Корр. НР'!G19,2)","v":-10359.91},"x",3.0039406248777172,"х",-1371.5537469844385]
["3.3.","Корректировка НВВ с учетом изменения полезного отпуска и цен на электрическую энергию ",-126.05409722329316,"x",-780.54173017724827,{"$f":"ROUND('Корр. ПО'!I24,2)","v":-992.06},{"$f":"ROUND('Корр. ПО'!J40,2)","v":0},"x",127.0989060091277,"х",0]
["3.4.","Корректировка необходимой валовой выручки по доходам от осуществления регулируемой деятельности","x","x",925.01753548645502,{"$f":"ROUND(Корр.НВВ!C8,2)","v":554.25},{"$f":"ROUND(Корр.НВВ!D8,2)","v":54503.97},"x","x","х","х"]
["3.5.","Корректировка НВВ в связи с изменением (неисполнением) инвестиционной программы ",0,"x",0,{"$f":"ROUND('Корр. ИП'!D14,2)","v":0},{"$f":"ROUND('Корр. ИП'!E14,2)","v":0},"x",0,"х",0]
["3.6.","Корректировка НВВ с учетом надежности и качества оказываемых услуг ",617.19871853957443,"x",662.27618741240394,{"$f":"ROUND('Корр. КНК'!D15,2)","v":708.55},{"$f":"ROUND('Корр. КНК'!E15,2)","v":1090.08},"x",106.98708687811857,"х",164.59598287220308]
["4.","Результаты деятельности регулируемой организации в соотв. с п.7 Основ ценообразования ","x","x","x",null,null,"x","x","х","х"]
["5.","ИТОГО необходимая валовая выручка на содержание электрических сетей",{"$f":"C41+C25+C9","v":54503.97134446069},{"$f":"D25+D9","v":71864.184553999992},57747.141105754461,{"$f":"F41+F25+F9+F48","v":78391.790103936},{"$f":"G41+G25+G9+G48","v":20157.370000000003},{"$f":"IF(D49=0,IF(F49=0,0,100),F49/D49*100)","v":109.08325279198159},{"$f":"IF(E49=0,IF(F49=0,0,100),F49/E49*100)","v":135.75007974918486},{"$f":"IF(D49=0,IF(G49=0,0,100),G49/D49*100)","v":28.049257255334759},34.906264819387459]
[]
["Руководитель организации",null,{"$f":"'Инф-я'!$C$21","v":"Окунев Василий Михайлович"}]

{"sheet":"НВВ по данным предпр.","index":52,"n_rows":71,"n_cols":11,"rows_kept":71,"cut":false,"hidden":false,"merged":[[15,0,15,6],[1,0,1,6],[2,0,2,6],[4,0,5,0],[4,1,5,1],[4,2,5,2],[4,3,4,4],[4,5,5,5],[4,6,5,6],[4,7,5,7],[4,8,5,8],[4,9,5,9],[4,10,5,10],[7,0,7,6],[65,0,65,6],[70,0,70,1],[70,2,70,4],[21,0,21,6],[27,0,27,6],[29,0,29,6],[47,0,47,6],[55,0,55,6],[61,0,61,6]]}
[]
["Расчет необходимой валовой выручки (НВВ) на оказание услуги по передаче электрической энергии долгосрочного периода регулирования 2020- 2024 годы по данным предприятия"]
[{"$f":"'Инф-я'!C13","v":"ООО \"Энергетик\""}]
[]
["№ п.п.","Наименование","Ед.изм.","2018 год",null,"2019 год утверждено","2020 год","2021 год","2022 год","2023 год","2024 год"]
[null,null,null,"Утверждено","Факт"]
[1,2,3,4,5,6,7,8,9,10,11]
["Долгосрочные параметры регулирования"]
[1,"Базовый уровень подконтрольных расходов (ПР)","тыс.руб.","х","х","х",{"$f":"'Подконтрольные расходы'!N32","v":52717.690103935995},"х","х","х","х"]
[2,"Индекс эффективности подконтрольных расходов (Хэф)","%",{"$f":"'Подконтрольные расходы'!H10","v":0.01},{"$f":"D10","v":0.01},{"$f":"D10","v":0.01},{"$f":"'Подконтрольные расходы'!N10","v":0.01},{"$f":"$G$10","v":0.01},{"$f":"$G$10","v":0.01},0.01,0.01]
[3,"Коэффициент эластичности подконтрольных расходов по количеству активов (К эл)","знач.",0.75,0.75,0.75,0.75,0.75,0.75,0.75,0.75]
[5,"Уровень надежности и качества оказываемых услуг","х","х","х","х","х","х","х","х","х"]
["5.1.","Показатель средней продолжительности прекращений передачи электрической энергии на точку поставки (Пsaidi), час.","знач.","х","х","х",1.5749,1.5511999999999999,1.528,1.5051000000000001,1.4824999999999999]
["5.2.","Показатель средней частоты прекращений передачи электрической энергии на точку поставки (Пsaifi), шт.","знач.","х","х","х",0.82020000000000004,0.80789999999999995,0.79579999999999995,0.78380000000000005,0.77210000000000001]
["5.3.","Показатель уровня качества осуществляемого технологического присоединения (Птпр)","знач.","х","х","х",1,1,1,1,1]
["Планируемые значения параметров расчета тарифов"]
[1,"Индекс потребительских цен (ИПЦ)","%","х","х",{"$f":"'Подконтрольные расходы'!J12","v":4.5999999999999999E-2},{"$f":"'Подконтрольные расходы'!N12","v":4.3999999999999997E-2},{"$f":"'Подконтрольные расходы'!R12","v":4.2000000000000003E-2},{"$f":"'Подконтрольные расходы'!T12","v":4.2999999999999997E-2},{"$f":"'Подконтрольные расходы'!V12","v":4.3999999999999997E-2},{"$f":"'Подконтрольные расходы'!X12","v":4.3999999999999997E-2}]
[2,"Количество активов (УЕ)","усл.ед.",{"$f":"'Подконтрольные расходы'!H13","v":938.20299999999997},{"$f":"'Подконтрольные расходы'!I13","v":938.20299999999997},{"$f":"'Подконтрольные расходы'!J13","v":942.15200000000004},{"$f":"'Подконтрольные расходы'!N13","v":944.46499999999992},{"$f":"'Подконтрольные расходы'!R13","v":943.41650000000004},{"$f":"'Подконтрольные расходы'!T13","v":948.15},{"$f":"'Подконтрольные расходы'!V13","v":947.85199999999986},{"$f":"'Подконтрольные расходы'!X13","v":947.85199999999986}]
[3,"Величина неподконтрольных расходов (НР)","тыс.руб.",{"$f":"D46","v":19888.272169122632},23430.118129999999,21521.954415412223,25803.105538706946,25606.799849411997,23287.685839600599,22687.036496903274,22915.049373736147]
[4,"Величина полезного отпуска электрической энергии","млн.кВт.ч.",{"$f":"'Баланс энергии'!C21-'Баланс энергии'!C23","v":22476.1019499658},{"$f":"'Баланс энергии'!H21-'Баланс энергии'!H23","v":22074.764406624578},{"$f":"'Баланс энергии'!M21-'Баланс энергии'!M23","v":22476.1},{"$f":"'Баланс энергии'!R21-'Баланс энергии'!R23","v":21272.302534777606},{"$f":"$G$20","v":21272.302534777606},{"$f":"$G$20","v":21272.302534777606},21272.302534777606,21272.302534777606]
[5,"Прогнозная цена (тариф) покупки потерь электрической энергии","руб./МВт.ч.",{"$f":"D64","v":2931.1743154883534},2790.4940888067176,2931.1743154883529,2929.4849540704272,2931.17,2931.17,2931.17,2931.17]
["Расчетные показатели"]
[1,"Доля подконтрольных расходов на МВт.ч.","руб.МВт.ч.",{"$f":"IF(D20=0,0,D29/D20/10)","v":0.14754951868876551},0.21940921104220285,0.15327578518716861,0.24782314945807599,0.25543654718552755,0.26474864340835069,0.27356910636622539,0.28275008557587594]
[2,"Проверка прибыли на капитальные вложения (не более 12 % от НВВ на содержание сетей)","%","х","х","х",{"$f":"IF(G25=0,0,G43/G25)","v":6.2132939294959909E-2},{"$f":"IF(H25=0,0,H43/H25)","v":6.072332066777264E-2},5.8761348330535632E-2,5.7076847958180216E-2,5.541275743366196E-2]
[3,"НВВ для расчета КВЛ ","тыс.руб.","х","х","х",{"$f":"G61-' КВЛ'!F32/0.8-'Услуги ФСК'!L17-'Аренда имущества'!F49-'Возврат заемных средств'!F11","v":66795.940497538788},{"$f":"H61-' КВЛ'!H32/0.8-'Услуги ФСК'!P17-'Аренда имущества'!V49-'Возврат заемных средств'!H11","v":68348.072543503207},{"$f":"I61-' КВЛ'!J32/0.8-'Услуги ФСК'!R17-'Аренда имущества'!X49-'Возврат заемных средств'!J11","v":70584.627377040364},{"$f":"J61-' КВЛ'!L32/0.8-'Услуги ФСК'!T17-'Аренда имущества'!Z49-'Возврат заемных средств'!L11","v":72717.385499710115},{"$f":"K61-' КВЛ'!N32/0.8-'Услуги ФСК'!V17-'Аренда имущества'!AB49-'Возврат заемных средств'!N11","v":74898.581812174889}]
[4,"Индекс изменения количества активов (ИКА)","%","х","х","х",{"$f":"'Подконтрольные расходы'!N14","v":2.4550178739734928E-3},{"$f":"'Подконтрольные расходы'!R14","v":-1.1101523084496264E-3},{"$f":"'Подконтрольные расходы'!T14","v":5.0174021760271683E-3},{"$f":"'Подконтрольные расходы'!V14","v":-3.1429626114023681E-4},{"$f":"'Подконтрольные расходы'!X14","v":0}]
[5,"Общий коэффициент индексации подконтрольных расходов ПР= ИПЦ*(1+(Кэл*ИКА))*(1-Хэф)","знач.","х","х","х",{"$f":"'Подконтрольные расходы'!N15","v":1.0354630562053682},{"$f":"'Подконтрольные расходы'!R15","v":1.0307210918112373},{"$f":"'Подконтрольные расходы'!T15","v":1.0364556142236752},{"$f":"'Подконтрольные расходы'!V15","v":1.0333163669672518},{"$f":"'Подконтрольные расходы'!X15","v":1.03356}]
["Подконтрольные расходы организации (ПР)"]
[null,"Итого ПР с учетом индексации:","тыс.руб.",{"$f":"' НВВ содержание'!C9","v":33163.380247170775},{"$f":"' НВВ содержание'!D9","v":48434.066423999997},{"$f":"' НВВ содержание'!E9","v":34450.418754453203},{"$f":"'Подконтрольные расходы'!N32","v":52717.690103935995},{"$f":"'Подконтрольные расходы'!R32","v":54337.235101695376},{"$f":"'Подконтрольные расходы'!T32","v":56318.132382543918},{"$f":"'Подконтрольные расходы'!V32","v":58194.447947911009},{"$f":"'Подконтрольные расходы'!X32","v":60147.453621042907}]
[]
[1,"Амортизация основных средств","тыс.руб.",{"$f":"'Свод по амортизации'!B13","v":4803.3639014746677},{"$f":"'Свод по амортизации'!C13","v":5538.4819399999997},{"$f":"'Свод по амортизации'!D13","v":5333.7663558460972},{"$f":"'Свод по амортизации'!F13","v":6538.2205639166677},{"$f":"'Свод по амортизации'!H13","v":6538.2205639166677},{"$f":"'Свод по амортизации'!J13","v":6538.2205639166677},{"$f":"'Свод по амортизации'!L13","v":6538.2205639166677},{"$f":"'Свод по амортизации'!N13","v":6538.2205639166677}]
[2,"Страховые взносы","тыс.руб.",{"$f":"'Страховые взносы'!D18","v":3706.1689387649494},{"$f":"'Страховые взносы'!E18","v":4238.7},{"$f":"'Страховые взносы'!F18","v":3884.9766517293256},{"$f":"'Страховые взносы'!H18","v":5186.3228587069443},{"$f":"'Страховые взносы'!J18","v":5345.6523594119981},{"$f":"'Страховые взносы'!L18","v":5540.5313996006016},{"$f":"'Страховые взносы'!N18","v":5725.1217769032755},{"$f":"'Страховые взносы'!P18","v":5917.2568637361492}]
[3,"Расходы на оплату услуг организаций, осуществляющие регулируемые виды деятельности","тыс.руб.",{"$f":"'Расходы рег. орг-ий'!B23","v":249.94636799359998},{"$f":"'Расходы рег. орг-ий'!C23","v":247.01799999999997},{"$f":"'Расходы рег. орг-ий'!D23","v":245.25767783680004},{"$f":"'Расходы рег. орг-ий'!F23","v":267.18},{"$f":"'Расходы рег. орг-ий'!H23","v":277.87},{"$f":"'Расходы рег. орг-ий'!J23","v":288.98},{"$f":"'Расходы рег. орг-ий'!L23","v":300.54000000000002},{"$f":"'Расходы рег. орг-ий'!N23","v":312.56}]
[4,"Налоги и сборы, в том числе:","тыс.руб.",{"$f":"SUM(D35:D39)","v":1361.4891697031999},{"$f":"SUM(E35:E39)","v":901.15577000000008},1821.3207300000001,1026.1759999999999,1092.1759999999999,1141.1759999999999,1202.1759999999999,1226.1759999999999]
["4.1","Плата за землю","тыс.руб.",{"$f":"'Плата за землю'!B17","v":369.59416970319995},{"$f":"'Плата за землю'!C17","v":109.97977},{"$f":"'Плата за землю'!D17","v":502.51673},{"$f":"'Плата за землю'!F17","v":235},{"$f":"'Плата за землю'!H17","v":301},{"$f":"'Плата за землю'!J17","v":350},{"$f":"'Плата за землю'!L17","v":411},{"$f":"'Плата за землю'!N17","v":435}]
["4.2","Транспортный налог","тыс.руб.",{"$f":"'Транспортный налог'!D17","v":0},{"$f":"'Транспортный налог'!E17","v":0},{"$f":"'Транспортный налог'!F17","v":0},{"$f":"'Транспортный налог'!I17","v":0},{"$f":"'Транспортный налог'!L17","v":0},{"$f":"'Транспортный налог'!N17","v":0},{"$f":"'Транспортный налог'!P17","v":0},{"$f":"'Транспортный налог'!R17","v":0}]
["4.3","Налог на имущество","тыс.руб.",{"$f":"'Налог на имущество'!B15","v":0},{"$f":"'Налог на имущество'!C15","v":0},{"$f":"'Налог на имущество'!D15","v":0},{"$f":"'Налог на имущество'!F15","v":0},{"$f":"'Налог на имущество'!H15","v":0},{"$f":"'Налог на имущество'!J15","v":0},{"$f":"'Налог на имущество'!L15","v":0},{"$f":"'Налог на имущество'!N15","v":0}]
["4.4","Плата за негативное воздействие на окружающую среду","тыс.руб.",{"$f":"'Негативное возд. на окр. среду '!C29","v":0},{"$f":"'Негативное возд. на окр. среду '!D29","v":0},{"$f":"'Негативное возд. на окр. среду '!E29","v":0},{"$f":"'Негативное возд. на окр. среду '!G29","v":0},{"$f":"'Негативное возд. на окр. среду '!I29","v":0},{"$f":"'Негативное возд. на окр. среду '!K29","v":0},{"$f":"'Негативное возд. на окр. среду '!M29","v":0},{"$f":"'Негативное возд. на окр. среду '!O29","v":0}]
["4.5","Налог на прибыль","тыс.руб.",{"$f":"'Налог прим при УСНО'!C10","v":991.89499999999998},{"$f":"'Налог прим при УСНО'!D10","v":791.17600000000004},{"$f":"'Налог прим при УСНО'!E10","v":1318.8040000000001},{"$f":"'Налог прим при УСНО'!F10","v":791.17600000000004},{"$f":"'Налог прим при УСНО'!H10","v":791.17600000000004},{"$f":"'Налог прим при УСНО'!J10","v":791.17600000000004},{"$f":"'Налог прим при УСНО'!L10","v":791.17600000000004},{"$f":"'Налог прим при УСНО'!N10","v":791.17600000000004}]
["5","Плата за аренду имущества","тыс.руб.",{"$f":"'Аренда имущества'!B44","v":4844.28},{"$f":"'Аренда имущества'!C44","v":4797.6993600000005},{"$f":"'Аренда имущества'!D44","v":4844.28},{"$f":"'Аренда имущества'!F44","v":4770.4970000000003},{"$f":"'Аренда имущества'!V44","v":4770.4989999999998},{"$f":"'Аренда имущества'!X44","v":4770.4989999999998},{"$f":"'Аренда имущества'!Z44","v":4770.4989999999998},{"$f":"'Аренда имущества'!AB44","v":4770.4989999999998}]
["6","Оплата услуг ОАО \"ФСК ЕЭС\"","тыс.руб.",{"$f":"'Услуги ФСК'!B17","v":0},{"$f":"'Услуги ФСК'!E17","v":0},{"$f":"'Услуги ФСК'!F17","v":0},{"$f":"'Услуги ФСК'!L17","v":0},{"$f":"'Услуги ФСК'!P17","v":0},{"$f":"'Услуги ФСК'!R17","v":0},{"$f":"'Услуги ФСК'!T17","v":0},{"$f":"'Услуги ФСК'!V17","v":0}]
["7","Прочие обоснованные неподконтрольные расходы","тыс.руб.",{"$f":"'Прочие НР'!B14","v":198.02600000000001},{"$f":"'Прочие НР'!C14","v":198.03},{"$f":"'Прочие НР'!D14","v":205.35300000000001},{"$f":"'Прочие НР'!F14","v":432.42099999999999},{"$f":"'Прочие НР'!H14","v":0},{"$f":"'Прочие НР'!J14","v":0},{"$f":"'Прочие НР'!L14","v":0},{"$f":"'Прочие НР'!N14","v":0}]
["8","Капитальные вложения производственного характера из прибыли","тыс.руб.",{"$f":"' КВЛ'!B32","v":4724.997791186217},{"$f":"' КВЛ'!C32","v":3867.7780600000006},{"$f":"' КВЛ'!D32","v":5187},{"$f":"' КВЛ'!F32","v":4150.2281160833318},{"$f":"' КВЛ'!H32","v":4150.3219260833321},{"$f":"' КВЛ'!J32","v":4147.6478760833306},{"$f":"' КВЛ'!L32","v":4150.4791560833328},{"$f":"' КВЛ'!N32","v":4150.3369460833328}]
["9","Расходы, связанные с компенсацией выпадающих доходов от льготного технологического присоединения","тыс.руб.",{"$f":"'Выпадающий доход'!B22","v":0},"х",{"$f":"'Выпадающий доход'!C22","v":0},{"$f":"'Выпадающий доход'!D22","v":0},"х","х","х","х"]
["10",{"$f":"' НВВ содержание'!B40","v":"Расходы на возврат и обслуживание долгосрочных заемных средств, направляемых на финансирование капитальных вложений "},"тыс.руб.",{"$f":"'Возврат заемных средств'!B11","v":0},{"$f":"'Возврат заемных средств'!C11","v":3641.2550000000001},{"$f":"'Возврат заемных средств'!D11","v":0},{"$f":"'Возврат заемных средств'!F11","v":3432.0600000000004},{"$f":"'Возврат заемных средств'!H11","v":3432.0600000000004},{"$f":"'Возврат заемных средств'!J11","v":860.63100000000009},{"$f":"'Возврат заемных средств'!L11","v":0},{"$f":"'Возврат заемных средств'!N11","v":0}]
[null,"Итого НР:","тыс.руб.",{"$f":"SUM(D31:D34,D40:D45)","v":19888.272169122632},{"$f":"SUM(E31:E34,E40:E45)","v":23430.118129999999},21521.954415412223,25803.105538706946,25606.799849411997,23287.685839600599,22687.036496903274,22915.049373736147]
[]
["Корректировка необходимой валовой выручки "]
["1","Корректировка подконтрольных расходов","тыс.руб.",{"$f":"' НВВ содержание'!C42","v":126.32045284326887},{"$f":"' НВВ содержание'!D42","v":"x"},{"$f":"' НВВ содержание'!E42","v":212.67478189118265},{"$f":"' НВВ содержание'!F42","v":-422.44},"x","x","x","x"]
["2","Корректировка неподконтрольных расходов","тыс.руб.",{"$f":"' НВВ содержание'!C43","v":834.85385400773635},{"$f":"' НВВ содержание'!D43","v":"x"},{"$f":"' НВВ содержание'!E43","v":755.34116127623702},{"$f":"' НВВ содержание'!F43","v":22.69},"x","x","x","x"]
["3","Корректировка НВВ с учетом изменения полезного отпуска и цен на электрическую энергию ","тыс.руб.",{"$f":"' НВВ содержание'!C44","v":-126.05409722329316},{"$f":"' НВВ содержание'!D44","v":"x"},{"$f":"' НВВ содержание'!E44","v":-780.54173017724827},{"$f":"' НВВ содержание'!F44","v":-992.06},"x","x","x","x"]
["4","Корректировка необходимой валовой выручки по доходам от осуществления регулируемой деятельности","тыс.руб.",{"$f":"' НВВ содержание'!C45","v":"x"},{"$f":"' НВВ содержание'!D45","v":"x"},{"$f":"' НВВ содержание'!E45","v":925.01753548645502},{"$f":"' НВВ содержание'!F45","v":554.25},"x","x","x","x"]
["5","Корректировка НВВ в связи с изменением (неисполнением) инвестиционной программы ","тыс.руб.",{"$f":"' НВВ содержание'!C46","v":0},{"$f":"' НВВ содержание'!D46","v":"x"},{"$f":"' НВВ содержание'!E46","v":0},{"$f":"' НВВ содержание'!F46","v":0},"x","x","x","x"]
["6","Корректировка НВВ с учетом надежности и качества оказываемых услуг ","тыс.руб.",{"$f":"' НВВ содержание'!C47","v":617.19871853957443},{"$f":"' НВВ содержание'!D47","v":"x"},{"$f":"' НВВ содержание'!E47","v":662.27618741240394},{"$f":"' НВВ содержание'!F47","v":708.55},"x","x","x","x"]
[null,"Итого корректировка НВВ","тыс.руб.",{"$f":"SUM(D49:D54)","v":1452.3189281672865},"х",{"$f":"SUM(F49:F54)","v":1774.7679358890305},-129.01,"x","x","x","x"]
["Расходы организации на содержание сетей "]
[1,"Подконтрольные расходы","тыс.руб.",{"$f":"D29","v":33163.380247170775},{"$f":"E29","v":48434.066423999997},34450.418754453203,52717.690103935995,54337.235101695376,56318.132382543918,58194.447947911009,60147.453621042907]
[2,"Неподконтрольные расходы","тыс.руб.",{"$f":"D46","v":19888.272169122632},{"$f":"E46","v":23430.118129999999},21521.954415412223,25803.105538706946,25606.799849411997,23287.685839600599,22687.036496903274,22915.049373736147]
[3,"Корректировка необходимой валовой выручки ","тыс.руб.",{"$f":"D55","v":1452.3189281672865},{"$f":"E55","v":"х"},1774.7679358890305,-129.01,"x","x","x","x"]
[4,"Результаты деятельности регулируемой организации в соотв. с п.7 Основ ценообразования ","тыс.руб.","x","x","x",{"$f":"' НВВ содержание'!F48","v":0}]
[null,"Итого расходы на содержание электрических сетей:","тыс.руб.",{"$f":"D57+D58+D59","v":54503.971344460697},{"$f":"E57+E58","v":71864.184553999992},{"$f":"F57+F58+F59","v":57747.141105754461},{"$f":"G57+G58+G59+G60","v":78391.78564264295},{"$f":"H57+H58+H60","v":79944.034951107373},{"$f":"I57+I58+I60","v":79605.818222144517},80881.484444814283,83062.502994779061]
["Расходы организации на компенсацию потерь"]
[1,"Величина технологического расхода (потерь) электрической энергии","млн.кВт.ч.",{"$f":"'Баланс энергии'!C18/1000","v":3.6704980500341997},{"$f":"'Баланс энергии'!H18/1000","v":2.8575475933754242},{"$f":"'НВВ на потери'!F11","v":3.6704999999999997},{"$f":"'НВВ на потери'!I11","v":3.6600094652224002},{"$f":"'НВВ на потери'!M11","v":3.6600094652224002},{"$f":"'НВВ на потери'!O11","v":3.6600094652224002},{"$f":"'НВВ на потери'!Q11","v":3.6600094652224002},{"$f":"'НВВ на потери'!S11","v":3.6600094652224002}]
[2,"Прогнозная цена (тариф) покупки потерь электрической энергии","руб./МВт.ч.",{"$f":"'Корр. ПО'!G24","v":2931.1743154883534},{"$f":"'Корр. ПО'!H24","v":2790.4940888067176},{"$f":"'НВВ на потери'!F12","v":2931.1743154883529},{"$f":"'НВВ на потери'!I12","v":2929.4849540704272},{"$f":"'НВВ на потери'!M12","v":2931.17},{"$f":"'НВВ на потери'!O12","v":2931.17},{"$f":"'НВВ на потери'!Q12","v":2931.17},{"$f":"'НВВ на потери'!S12","v":2931.17}]
[null,"Итого расходы на компенсацию потерь:","тыс.руб.",{"$f":"D63*D64","v":10758.869609310332},7973.9696677979828,10758.875324999999,10721.942660124372,10728.109944175943,10728.109944175943,10728.109944175943,10728.109944175943]
["Необходимая валовая выручка (НВВ) организации на оказание услуги по передаче электрической энергии"]
[1,"Расходы на содержание электрических сетей","тыс.руб.",{"$f":"D61","v":54503.971344460697},71864.184553999992,57747.141105754461,78391.78564264295,79944.034951107373,79605.818222144517,80881.484444814283,83062.502994779061]
[2,"Расходы на компенсацию потерь","тыс.руб.",{"$f":"D65","v":10758.869609310332},7973.9696677979828,10758.875324999999,10721.942660124372,10728.109944175943,10728.109944175943,10728.109944175943,10728.109944175943]
[null,"Необходимая валовая выручка (НВВ) организации на оказание услуги по передаче электрической энергии","тыс.руб.",{"$f":"D67+D68","v":65262.840953771025},79838.154221797973,68506.016430754462,{"$f":"G67+G68","v":89113.728302767326},{"$f":"H67+H68","v":90672.144895283316},{"$f":"I67+I68","v":90333.92816632046},{"$f":"J67+J68","v":91609.594388990226},{"$f":"K67+K68","v":93790.612938955004}]
[]
["Руководитель организации",null,{"$f":"'Инф-я'!$C$21","v":"Окунев Василий Михайлович"}]

{"sheet":"НВВ по данным экспертов","index":53,"n_rows":69,"n_cols":11,"rows_kept":69,"cut":false,"hidden":false,"merged":[[15,0,15,6],[1,0,1,6],[2,0,2,6],[4,0,5,0],[4,1,5,1],[4,2,5,2],[4,3,4,4],[4,5,5,5],[4,6,5,6],[4,7,5,7],[4,8,5,8],[4,9,5,9],[4,10,5,10],[7,0,7,6],[65,0,65,6],[70,0,70,1],[70,2,70,4],[21,0,21,6],[27,0,27,6],[29,0,29,6],[47,0,47,6],[55,0,55,6],[61,0,61,6]]}
[]
["Расчет необходимой валовой выручки (НВВ) на оказание услуги по передаче электрической энергии долгосрочного периода регулирования 2020- 2024 годы по данным экспертов"]
[{"$f":"'Инф-я'!C13","v":"ООО \"Энергетик\""}]
[]
["№ п.п.","Наименование","Ед.изм.","2018 год",null,"2019 год утверждено","2020 год","2021 год","2022 год","2023 год","2024 год"]
[null,null,null,"Утверждено","Факт"]
[1,2,3,4,5,6,7,8,9,10,11]
["Долгосрочные параметры регулирования"]
[1,"Базовый уровень подконтрольных расходов (ПР)","тыс.руб.","х","х","х",{"$f":"'Подконтрольные расходы'!Q32","v":0},"х","х","х","х"]
[2,"Индекс эффективности подконтрольных расходов (Хэф)","%",{"$f":"'Подконтрольные расходы'!H10","v":0.01},{"$f":"D10","v":0.01},{"$f":"D10","v":0.01},{"$f":"'Подконтрольные расходы'!Q10","v":0},{"$f":"$G$10","v":0},{"$f":"$G$10","v":0},0,0]
[3,"Коэффициент эластичности подконтрольных расходов по количеству активов (К эл)","знач.",0.75,0.75,0.75,0.75,0.75,0.75,0.75,0.75]
[5,"Уровень надежности и качества оказываемых услуг","х","х","х","х","х","х","х","х","х"]
["5.1.","Показатель средней продолжительности прекращений передачи электрической энергии на точку поставки (Пsaidi), час.","знач.","х","х","х"]
["5.2.","Показатель средней частоты прекращений передачи электрической энергии на точку поставки (Пsaifi), шт.","знач.","х","х","х"]
["5.3.","Показатель уровня качества осуществляемого технологического присоединения (Птпр)","знач.","х","х","х"]
["Планируемые значения параметров расчета тарифов"]
[1,"Индекс потребительских цен (ИПЦ)","%","х","х",{"$f":"'Подконтрольные расходы'!J12","v":4.5999999999999999E-2},{"$f":"'Подконтрольные расходы'!Q12","v":0},{"$f":"'Подконтрольные расходы'!S12","v":0},{"$f":"'Подконтрольные расходы'!U12","v":0},{"$f":"'Подконтрольные расходы'!W12","v":0},{"$f":"'Подконтрольные расходы'!Y12","v":0}]
[2,"Количество активов (УЕ)","усл.ед.",{"$f":"'Подконтрольные расходы'!H13","v":938.20299999999997},{"$f":"'Подконтрольные расходы'!I13","v":938.20299999999997},{"$f":"'Подконтрольные расходы'!J13","v":942.15200000000004},{"$f":"'Подконтрольные расходы'!Q13","v":0},{"$f":"'Подконтрольные расходы'!S13","v":0},{"$f":"'Подконтрольные расходы'!U13","v":0},{"$f":"'Подконтрольные расходы'!W13","v":0},{"$f":"'Подконтрольные расходы'!Y13","v":0}]
[3,"Величина неподконтрольных расходов (НР)","тыс.руб.",{"$f":"D46","v":19888.272169122632},23430.118129999999,21521.954415412223,0,246.584,256.44320000000005,266.69760000000002,0]
[4,"Величина полезного отпуска электрической энергии","млн.кВт.ч.",{"$f":"'Баланс энергии'!C21-'Баланс энергии'!C23","v":22476.1019499658},{"$f":"'Баланс энергии'!H21-'Баланс энергии'!H23","v":22074.764406624578},{"$f":"'Баланс энергии'!M21-'Баланс энергии'!M23","v":22476.1},{"$f":"'Баланс энергии'!AG21-'Баланс энергии'!AG23","v":0},{"$f":"$G$20","v":0},{"$f":"$G$20","v":0},0,0]
[5,"Прогнозная цена (тариф) покупки потерь электрической энергии","руб./МВт.ч.",{"$f":"D64","v":0},0,2931.1743154883529,0,0,0,0,0]
["Расчетные показатели"]
[1,"Доля подконтрольных расходов на МВт.ч.","руб.МВт.ч.",{"$f":"IF(D20=0,0,D29/D20/10)","v":0.14754951868876551},0.21940921104220285,0.15327578518716861,0,0,0,0,0]
[2,"Проверка прибыли на капитальные вложения (не более 12 % от НВВ на содержание сетей)","%","х","х","х",{"$f":"IF(G25=0,0,G43/G25)","v":0},{"$f":"IF(H25=0,0,I43/H25)","v":0},{"$f":"IF(I25=0,0,K43/I25)","v":0},{"$f":"IF(J25=0,0,#REF!/J25)","v":{"$error":"#REF!"}},{"$f":"IF(K25=0,0,L43/K25)","v":0}]
[3,"НВВ для расчета КВЛ ","тыс.руб.","х","х","х",{"$f":"G61-' КВЛ'!G32/0.8-'Услуги ФСК'!O17-'Аренда имущества'!N49-'Возврат заемных средств'!G11","v":20157.370000000003},{"$f":"H61-' КВЛ'!I32/0.8-'Услуги ФСК'!Q17-'Аренда имущества'!W49-'Возврат заемных средств'!I11","v":246.584},{"$f":"I61-' КВЛ'!K32/0.8-'Услуги ФСК'!S17-'Аренда имущества'!Y49-'Возврат заемных средств'!K11","v":256.44320000000005},{"$f":"J61-' КВЛ'!M32/0.8-'Услуги ФСК'!U17-'Аренда имущества'!AA49-'Возврат заемных средств'!M11","v":266.69760000000002},{"$f":"K61-' КВЛ'!O32/0.8-'Услуги ФСК'!W17-'Аренда имущества'!AC49-'Возврат заемных средств'!O11","v":0}]
[4,"Индекс изменения количества активов (ИКА)","%","х","х","х",{"$f":"'Подконтрольные расходы'!N14","v":2.4550178739734928E-3},{"$f":"'Подконтрольные расходы'!R14","v":-1.1101523084496264E-3},{"$f":"'Подконтрольные расходы'!T14","v":5.0174021760271683E-3},{"$f":"'Подконтрольные расходы'!V14","v":-3.1429626114023681E-4},{"$f":"'Подконтрольные расходы'!X14","v":0}]
[5,"Общий коэффициент индексации подконтрольных расходов ПР= ИПЦ*(1+(Кэл*ИКА))*(1-Хэф)","знач.","х","х","х",{"$f":"'Подконтрольные расходы'!Q15","v":0.25},{"$f":"'Подконтрольные расходы'!S15","v":1},{"$f":"'Подконтрольные расходы'!U15","v":1},{"$f":"'Подконтрольные расходы'!W15","v":1},{"$f":"'Подконтрольные расходы'!Y15","v":1}]
["Подконтрольные расходы организации (ПР)"]
[null,"Итого ПР с учетом индексации:","тыс.руб.",{"$f":"' НВВ содержание'!C9","v":33163.380247170775},{"$f":"' НВВ содержание'!D9","v":48434.066423999997},{"$f":"' НВВ содержание'!E9","v":34450.418754453203},{"$f":"'Подконтрольные расходы'!Q32","v":0},{"$f":"'Подконтрольные расходы'!S32","v":0},{"$f":"'Подконтрольные расходы'!U32","v":0},{"$f":"'Подконтрольные расходы'!W32","v":0},{"$f":"'Подконтрольные расходы'!Y32","v":0}]
[]
[1,"Амортизация основных средств","тыс.руб.",{"$f":"'Свод по амортизации'!B13","v":4803.3639014746677},{"$f":"'Свод по амортизации'!C13","v":5538.4819399999997},{"$f":"'Свод по амортизации'!D13","v":5333.7663558460972},{"$f":"'Свод по амортизации'!G13","v":0},{"$f":"'Свод по амортизации'!I13","v":0},{"$f":"'Свод по амортизации'!K13","v":0},{"$f":"'Свод по амортизации'!M13","v":0},{"$f":"'Свод по амортизации'!O13","v":0}]
[2,"Страховые взносы","тыс.руб.",{"$f":"'Страховые взносы'!D18","v":3706.1689387649494},{"$f":"'Страховые взносы'!E18","v":4238.7},{"$f":"'Страховые взносы'!F18","v":3884.9766517293256},{"$f":"'Страховые взносы'!I18","v":0},{"$f":"'Страховые взносы'!K18","v":0},{"$f":"'Страховые взносы'!M18","v":0},{"$f":"'Страховые взносы'!O18","v":0},{"$f":"'Страховые взносы'!Q18","v":0}]
[3,"Расходы на оплату услуг организаций, осуществляющие регулируемые виды деятельности","тыс.руб.",{"$f":"'Расходы рег. орг-ий'!B23","v":249.94636799359998},{"$f":"'Расходы рег. орг-ий'!C23","v":247.01799999999997},{"$f":"'Расходы рег. орг-ий'!D23","v":245.25767783680004},{"$f":"'Расходы рег. орг-ий'!G23","v":0},{"$f":"'Расходы рег. орг-ий'!I23","v":246.584},{"$f":"'Расходы рег. орг-ий'!K23","v":256.44320000000005},{"$f":"'Расходы рег. орг-ий'!M23","v":266.69760000000002},{"$f":"'Расходы рег. орг-ий'!O23","v":0}]
[4,"Налоги и сборы, в том числе:","тыс.руб.",{"$f":"SUM(D35:D39)","v":1361.4891697031999},{"$f":"SUM(E35:E39)","v":901.15577000000008},1821.3207300000001,0,0,0,0,0]
["4.1","Плата за землю","тыс.руб.",{"$f":"'Плата за землю'!B17","v":369.59416970319995},{"$f":"'Плата за землю'!C17","v":109.97977},{"$f":"'Плата за землю'!D17","v":502.51673},{"$f":"'Плата за землю'!G17","v":0},{"$f":"'Плата за землю'!I17","v":0},{"$f":"'Плата за землю'!K17","v":0},{"$f":"'Плата за землю'!M17","v":0},{"$f":"'Плата за землю'!O17","v":0}]
["4.2","Транспортный налог","тыс.руб.",{"$f":"'Транспортный налог'!D17","v":0},{"$f":"'Транспортный налог'!E17","v":0},{"$f":"'Транспортный налог'!F17","v":0},{"$f":"'Транспортный налог'!K17","v":0},{"$f":"'Транспортный налог'!M17","v":0},{"$f":"'Транспортный налог'!O17","v":0},{"$f":"'Транспортный налог'!Q17","v":0},{"$f":"'Транспортный налог'!S17","v":0}]
["4.3","Налог на имущество","тыс.руб.",{"$f":"'Налог на имущество'!B15","v":0},{"$f":"'Налог на имущество'!C15","v":0},{"$f":"'Налог на имущество'!D15","v":0},{"$f":"'Налог на имущество'!G15","v":0},{"$f":"'Налог на имущество'!I15","v":0},{"$f":"'Налог на имущество'!K15","v":0},{"$f":"'Налог на имущество'!M15","v":0},{"$f":"'Налог на имущество'!O15","v":0}]
["4.4","Плата за негативное воздействие на окружающую среду","тыс.руб.",{"$f":"'Негативное возд. на окр. среду '!C29","v":0},{"$f":"'Негативное возд. на окр. среду '!D29","v":0},{"$f":"'Негативное возд. на окр. среду '!E29","v":0},{"$f":"'Негативное возд. на окр. среду '!H29","v":0},{"$f":"'Негативное возд. на окр. среду '!J29","v":0},{"$f":"'Негативное возд. на окр. среду '!L29","v":0},{"$f":"'Негативное возд. на окр. среду '!N29","v":0},{"$f":"'Негативное возд. на окр. среду '!P29","v":0}]
["4.5","Налог на прибыль","тыс.руб.",{"$f":"'Налог прим при УСНО'!C10","v":991.89499999999998},{"$f":"'Налог прим при УСНО'!D10","v":791.17600000000004},{"$f":"'Налог прим при УСНО'!E10","v":1318.8040000000001},{"$f":"'Налог прим при УСНО'!G10","v":0},{"$f":"'Налог прим при УСНО'!I10","v":0},{"$f":"'Налог прим при УСНО'!K10","v":0},{"$f":"'Налог прим при УСНО'!M10","v":0},{"$f":"'Налог прим при УСНО'!O10","v":0}]
["5","Плата за аренду имущества","тыс.руб.",{"$f":"'Аренда имущества'!B44","v":4844.28},{"$f":"'Аренда имущества'!C44","v":4797.6993600000005},{"$f":"'Аренда имущества'!D44","v":4844.28},{"$f":"'Аренда имущества'!N44","v":0},{"$f":"'Аренда имущества'!W44","v":0},{"$f":"'Аренда имущества'!Y44","v":0},{"$f":"'Аренда имущества'!AA44","v":0},{"$f":"'Аренда имущества'!AC44","v":0}]
["6","Оплата услуг ОАО \"ФСК ЕЭС\"","тыс.руб.",{"$f":"'Услуги ФСК'!B17","v":0},{"$f":"'Услуги ФСК'!E17","v":0},{"$f":"'Услуги ФСК'!F17","v":0},{"$f":"'Услуги ФСК'!O17","v":0},{"$f":"'Услуги ФСК'!Q17","v":0},{"$f":"'Услуги ФСК'!S17","v":0},{"$f":"'Услуги ФСК'!U17","v":0},{"$f":"'Услуги ФСК'!W17","v":0}]
["7","Прочие обоснованные неподконтрольные расходы","тыс.руб.",{"$f":"'Прочие НР'!B14","v":198.02600000000001},{"$f":"'Прочие НР'!C14","v":198.03},{"$f":"'Прочие НР'!D14","v":205.35300000000001},{"$f":"'Прочие НР'!G14","v":0},{"$f":"'Прочие НР'!I14","v":0},{"$f":"'Прочие НР'!K14","v":0},{"$f":"'Прочие НР'!M14","v":0},{"$f":"'Прочие НР'!O14","v":0}]
["8","Капитальные вложения производственного характера из прибыли","тыс.руб.",{"$f":"' КВЛ'!B32","v":4724.997791186217},{"$f":"' КВЛ'!C32","v":3867.7780600000006},{"$f":"' КВЛ'!D32","v":5187},{"$f":"' КВЛ'!G32","v":0},{"$f":"' КВЛ'!I32","v":0},{"$f":"' КВЛ'!K32","v":0},{"$f":"' КВЛ'!M32","v":0},{"$f":"' КВЛ'!O32","v":0}]
["9","Расходы, связанные с компенсацией выпадающих доходов от льготного технологического присоединения","тыс.руб.",{"$f":"'Выпадающий доход'!B22","v":0},"х",{"$f":"'Выпадающий доход'!C22","v":0},{"$f":"'Выпадающий доход'!E22","v":0},"х","х","х","х"]
["10",{"$f":"' НВВ содержание'!B40","v":"Расходы на возврат и обслуживание долгосрочных заемных средств, направляемых на финансирование капитальных вложений "},"тыс.руб.",{"$f":"'Возврат заемных средств'!B11","v":0},{"$f":"'Возврат заемных средств'!C11","v":3641.2550000000001},{"$f":"'Возврат заемных средств'!D11","v":0},{"$f":"'Возврат заемных средств'!G11","v":0},{"$f":"'Возврат заемных средств'!I11","v":0},{"$f":"'Возврат заемных средств'!K11","v":0},{"$f":"'Возврат заемных средств'!M11","v":0},{"$f":"'Возврат заемных средств'!O11","v":0}]
[null,"Итого НР:","тыс.руб.",{"$f":"SUM(D31:D34,D40:D45)","v":19888.272169122632},{"$f":"SUM(E31:E34,E40:E45)","v":23430.118129999999},21521.954415412223,0,246.584,256.44320000000005,266.69760000000002,0]
[]
["Корректировка необходимой валовой выручки "]
["1","Корректировка подконтрольных расходов","тыс.руб.",{"$f":"' НВВ содержание'!C42","v":126.32045284326887},{"$f":"' НВВ содержание'!D42","v":"x"},{"$f":"' НВВ содержание'!E42","v":212.67478189118265},{"$f":"' НВВ содержание'!G42","v":-25076.77},"x","x","x","x"]
["2","Корректировка неподконтрольных расходов","тыс.руб.",{"$f":"' НВВ содержание'!C43","v":834.85385400773635},{"$f":"' НВВ содержание'!D43","v":"x"},{"$f":"' НВВ содержание'!E43","v":755.34116127623702},{"$f":"' НВВ содержание'!G43","v":-10359.91},"x","x","x","x"]
["3","Корректировка НВВ с учетом изменения полезного отпуска и цен на электрическую энергию ","тыс.руб.",{"$f":"' НВВ содержание'!C44","v":-126.05409722329316},{"$f":"' НВВ содержание'!D44","v":"x"},{"$f":"' НВВ содержание'!E44","v":-780.54173017724827},{"$f":"' НВВ содержание'!G44","v":0},"x","x","x","x"]
["4","Корректировка необходимой валовой выручки по доходам от осуществления регулируемой деятельности","тыс.руб.",{"$f":"' НВВ содержание'!C45","v":"x"},{"$f":"' НВВ содержание'!D45","v":"x"},{"$f":"' НВВ содержание'!E45","v":925.01753548645502},{"$f":"' НВВ содержание'!G45","v":54503.97},"x","x","x","x"]
["5","Корректировка НВВ в связи с изменением (неисполнением) инвестиционной программы ","тыс.руб.",{"$f":"' НВВ содержание'!C46","v":0},{"$f":"' НВВ содержание'!D46","v":"x"},{"$f":"' НВВ содержание'!E46","v":0},{"$f":"' НВВ содержание'!G46","v":0},"x","x","x","x"]
["6","Корректировка НВВ с учетом надежности и качества оказываемых услуг ","тыс.руб.",{"$f":"' НВВ содержание'!C47","v":617.19871853957443},{"$f":"' НВВ содержание'!D47","v":"x"},{"$f":"' НВВ содержание'!E47","v":662.27618741240394},{"$f":"' НВВ содержание'!G47","v":1090.08},"x","x","x","x"]
[null,"Итого корректировка НВВ","тыс.руб.",{"$f":"SUM(D49:D54)","v":1452.3189281672865},"х",{"$f":"SUM(F49:F54)","v":1774.7679358890305},20157.370000000003,"x","x","x","x"]
["Расходы организации на содержание сетей "]
[1,"Подконтрольные расходы","тыс.руб.",{"$f":"D29","v":33163.380247170775},48434.066423999997,34450.418754453203,0,0,0,0,0]
[2,"Неподконтрольные расходы","тыс.руб.",{"$f":"D46","v":19888.272169122632},23430.118129999999,21521.954415412223,0,246.584,256.44320000000005,266.69760000000002,0]
[3,"Корректировка необходимой валовой выручки ","тыс.руб.",{"$f":"D55","v":1452.3189281672865},"х",1774.7679358890305,20157.370000000003,"x","x","x","x"]
[4,"Результаты деятельности регулируемой организации в соотв. с п.7 Основ ценообразования ","тыс.руб.","x","x","x",{"$f":"' НВВ содержание'!G48","v":0}]
[null,"Итого расходы на содержание электрических сетей:","тыс.руб.",{"$f":"D57+D58+D59","v":54503.971344460697},{"$f":"E57+E58","v":71864.184553999992},{"$f":"F57+F58+F59","v":57747.141105754461},{"$f":"G57+G58+G60+G59","v":20157.370000000003},{"$f":"H57+H58+H60","v":246.584},{"$f":"I57+I58+I60","v":256.44320000000005},266.69760000000002,0]
["Расходы организации на компенсацию потерь"]
[1,"Величина технологического расхода (потерь) электрической энергии","млн.кВт.ч.",{"$f":"'Баланс энергии'!C18/1000","v":3.6704980500341997},{"$f":"'Баланс энергии'!H18/1000","v":2.8575475933754242},{"$f":"'НВВ на потери'!F11","v":3.6704999999999997},{"$f":"'НВВ на потери'!L11","v":0},{"$f":"'НВВ на потери'!N11","v":0},{"$f":"'НВВ на потери'!P11","v":0},{"$f":"'НВВ на потери'!R11","v":0},{"$f":"'НВВ на потери'!T11","v":0}]
[2,"Прогнозная цена (тариф) покупки потерь электрической энергии","руб./МВт.ч.",{"$f":"'Корр. ПО'!G40","v":0},{"$f":"'Корр. ПО'!H40","v":0},{"$f":"'НВВ на потери'!F12","v":2931.1743154883529},{"$f":"'НВВ на потери'!L12","v":0},{"$f":"'НВВ на потери'!N12","v":0},{"$f":"'НВВ на потери'!P12","v":0},{"$f":"'НВВ на потери'!R12","v":0},{"$f":"'НВВ на потери'!T12","v":0}]
[null,"Итого расходы на компенсацию потерь:","тыс.руб.",{"$f":"D63*D64","v":0},0,10758.875324999999,0,0,0,0,0]
["Необходимая валовая выручка (НВВ) организации на оказание услуги по передаче электрической энергии"]
[1,"Расходы на содержание электрических сетей","тыс.руб.",{"$f":"D61","v":54503.971344460697},71864.184553999992,57747.141105754461,20157.370000000003,246.584,256.44320000000005,266.69760000000002,0]
[2,"Расходы на компенсацию потерь","тыс.руб.",{"$f":"D65","v":0},0,10758.875324999999,0,0,0,0,0]
[null,"Необходимая валовая выручка (НВВ) организации на оказание услуги по передаче электрической энергии","тыс.руб.",{"$f":"D67+D68","v":54503.971344460697},71864.184553999992,68506.016430754462,{"$f":"G67+G68","v":20157.370000000003},{"$f":"H67+H68","v":246.584},{"$f":"I67+I68","v":256.44320000000005},{"$f":"J67+J68","v":266.69760000000002},{"$f":"K67+K68","v":0}]

{"sheet":"НВВ на потери","index":54,"n_rows":15,"n_cols":20,"rows_kept":15,"cut":false,"hidden":false,"merged":[[14,0,14,1],[14,2,14,4],[4,0,4,10],[6,0,8,0],[6,1,8,1],[6,2,8,2],[6,3,7,5],[6,6,6,11],[7,6,7,8],[7,9,7,11],[6,16,6,17],[7,16,8,16],[7,17,8,17],[6,18,6,19],[7,18,8,18],[7,19,8,19],[6,12,6,13],[7,12,8,12],[7,13,8,13],[6,14,6,15],[7,14,8,14],[7,15,8,15]]}
[]
[]
["Расходы организации на компенсацию потерь на долгосрочный периода регулирования 2020 - 2024 годы"]
[]
[{"$f":"'Инф-я'!C13","v":"ООО \"Энергетик\""}]
[]
["№ п/п","Показатели","Ед.измер.","2019 год утверждено",null,null,"2020 год",null,null,null,null,null,"2021 год",null,"2022 год",null,"2023 год",null,"2024 год"]
[null,null,null,null,null,null,"По данным организации ",null,null,"По данным экспертов",null,null,"По данным организации","По данным экспертов","По данным организации","По данным экспертов","По данным организации","По данным экспертов","По данным организации","По данным экспертов"]
[null,null,null,"1-е полугодие","2-е полугодие","Год","1-е полугодие","2-е полугодие","Год","1-е полугодие","2-е полугодие","Год",null,"2-е полугодие",null,"2-е полугодие",null,"2-е полугодие",null,"2-е полугодие"]
[1,2,3,4,5,6,7,8,9,10,11,12,13,14,15,16,17,18,19,20]
[1,"Величина технологического расхода (потерь) электрической энергии","млн.кВт.ч.",2.0019999999999998,1.6685000000000001,{"$f":"D11+E11","v":3.6704999999999997},{"$f":"'Баланс энергии'!W18/1000","v":1.861834166910352},{"$f":"'Баланс энергии'!AB18/1000","v":1.7981752983120483},{"$f":"G11+H11","v":3.6600094652224002},{"$f":"'Баланс энергии'!AL18/1000","v":0},{"$f":"'Баланс энергии'!AQ18/1000","v":0},{"$f":"J11+K11","v":0},{"$f":"$I$11","v":3.6600094652224002},{"$f":"$L$11","v":0},{"$f":"$I$11","v":3.6600094652224002},{"$f":"$L$11","v":0},{"$f":"$I$11","v":3.6600094652224002},{"$f":"$L$11","v":0},{"$f":"$I$11","v":3.6600094652224002},{"$f":"$L$11","v":0}]
[2,"Прогнозная цена (тариф) покупки потерь электрической энергии","руб./МВт.ч.",2952.08,2906.09,{"$f":"IF(F11=0,0,F13/F11)","v":2931.1743154883529},2952.08,2906.09,{"$f":"IF(I11=0,0,I13/I11)","v":2929.4849540704272},null,null,{"$f":"IF(L11=0,0,L13/L11)","v":0},2931.17,null,2931.17,null,2931.17,null,2931.17]
[null,"Итого расходы на компенсацию потерь:","тыс.руб.",{"$f":"D11*D12","v":5910.064159999999},{"$f":"E11*E12","v":4848.8111650000001},{"$f":"D13+E13","v":10758.875324999999},{"$f":"G11*G12","v":5496.2834074527118},{"$f":"H11*H12","v":5225.6592526716604},{"$f":"G13+H13","v":10721.942660124372},{"$f":"J11*J12","v":0},{"$f":"K11*K12","v":0},{"$f":"J13+K13","v":0},{"$f":"M11*M12","v":10728.109944175943},0,10728.109944175943,0,10728.109944175943,0,10728.109944175943,0]
[]
["Руководитель организации",null,{"$f":"'Инф-я'!$C$21","v":"Окунев Василий Михайлович"}]

{"sheet":"Тарифы","index":55,"n_rows":19,"n_cols":33,"rows_kept":19,"cut":false,"hidden":false,"merged":[[18,0,18,1],[18,2,18,4],[5,0,6,0],[5,1,6,1],[5,2,6,2],[5,3,5,5],[5,24,5,26],[5,27,5,29],[5,30,5,32],[1,0,1,11],[3,0,3,11],[5,9,5,11],[5,12,5,14],[5,15,5,17],[5,18,5,20],[5,21,5,23],[5,6,5,8]]}
[]
["Расчет индивидуальных тарифов на долгосрочный период регулирования 2020- 2024 годы"]
[]
[{"$f":"'Инф-я'!C13","v":"ООО \"Энергетик\""}]
[]
["№ п./п.","Показатели","Ед. изм.","По расчету организации",null,null,"По расчету экспертов",null,null,"По расчету организации",null,null,"По расчету экспертов",null,null,"По расчету организации",null,null,"По расчету экспертов",null,null,"По расчету организации",null,null,"По расчету экспертов",null,null,"По расчету организации",null,null,"По расчету экспертов"]
[null,null,null,"2020 год","1 полугодие","2 полугодие",2020,"1 полугодие","2 полугодие","2021 год","1 полугодие","2 полугодие",2021,"1 полугодие","2 полугодие","2022 год","1 полугодие","2 полугодие",2022,"1 полугодие","2 полугодие","2023 год","1 полугодие","2 полугодие",2023,"1 полугодие","2 полугодие","2024 год","1 полугодие","2 полугодие",2024,"1 полугодие","2 полугодие"]
[1,2,3,4,5,6,null,null,null,7,8,9,null,null,null,10,11,12,null,null,null,13,14,15,null,null,null,16,17,18]
[1,"Необходимая валовая выручка на передачу электрической энергии, всего, в том числе:","тыс. руб.",{"$f":"D10+D11","v":89113.728302767326},48121.413283494352,40992.315019272966,20157.370000000003,0,20157.370000000003,{"$f":"J10+J11","v":90672.144895283316},48962.958243452995,41709.186651830321,246.584,0,246.584,90333.92816632046,48780.321209813053,41553.606956507407,256.44320000000005,0,256.44320000000005,91609.594388990226,49469.180970054724,42140.413418935503,266.69760000000002,0,266.69760000000002,93790.612938955004,50646.930987035703,43143.681951919301,0,0,0]
["1.1.","Необходимая валовая выручка на содержание электрических сетей","тыс. руб.",{"$f":"'НВВ по данным предпр.'!G67","v":78391.78564264295},{"$f":"D10*0.54","v":42331.564247027192},{"$f":"D10-E10","v":36060.221395615758},{"$f":"'НВВ по данным экспертов'!G67","v":20157.370000000003},null,{"$f":"G10-H10","v":20157.370000000003},{"$f":"'НВВ по данным предпр.'!H67","v":79944.034951107373},{"$f":"J10*0.54","v":43169.778873597985},{"$f":"J10-K10","v":36774.256077509388},{"$f":"'НВВ по данным экспертов'!H67","v":246.584},null,{"$f":"M10-N10","v":246.584},{"$f":"'НВВ по данным предпр.'!I67","v":79605.818222144517},{"$f":"P10*0.54","v":42987.141839958043},{"$f":"P10-Q10","v":36618.676382186473},{"$f":"'НВВ по данным экспертов'!I67","v":256.44320000000005},null,{"$f":"S10-T10","v":256.44320000000005},{"$f":"'НВВ по данным предпр.'!J67","v":80881.484444814283},{"$f":"V10*0.54","v":43676.001600199714},{"$f":"V10-W10","v":37205.482844614569},{"$f":"'НВВ по данным экспертов'!J67","v":266.69760000000002},null,{"$f":"Y10-Z10","v":266.69760000000002},{"$f":"'НВВ по данным предпр.'!K67","v":83062.502994779061},{"$f":"AB10*0.54","v":44853.751617180693},{"$f":"AB10-AC10","v":38208.751377598368},{"$f":"'НВВ по данным экспертов'!K67","v":0},null,{"$f":"AE10-AF10","v":0}]
["1.2.","Необходимая валовая выручка на оплату технологического расхода (потерь) электрической энергии","тыс. руб.",{"$f":"'НВВ по данным предпр.'!G68","v":10721.942660124372},{"$f":"D11*0.54","v":5789.8490364671616},{"$f":"D11-E11","v":4932.0936236572106},{"$f":"'НВВ по данным экспертов'!G68","v":0},null,{"$f":"G11-H11","v":0},{"$f":"'НВВ по данным предпр.'!H68","v":10728.109944175943},{"$f":"J11*0.54","v":5793.17936985501},{"$f":"J11-K11","v":4934.9305743209334},{"$f":"'НВВ по данным экспертов'!H68","v":0},null,{"$f":"M11-N11","v":0},{"$f":"'НВВ по данным предпр.'!I68","v":10728.109944175943},{"$f":"P11*0.54","v":5793.17936985501},{"$f":"P11-Q11","v":4934.9305743209334},{"$f":"'НВВ по данным экспертов'!I68","v":0},null,{"$f":"S11-T11","v":0},{"$f":"'НВВ по данным предпр.'!J68","v":10728.109944175943},{"$f":"V11*0.54","v":5793.17936985501},{"$f":"V11-W11","v":4934.9305743209334},{"$f":"'НВВ по данным экспертов'!J68","v":0},null,{"$f":"Y11-Z11","v":0},{"$f":"'НВВ по данным предпр.'!K68","v":10728.109944175943},{"$f":"AB11*0.54","v":5793.17936985501},{"$f":"AB11-AC11","v":4934.9305743209334},{"$f":"'НВВ по данным экспертов'!K68","v":0},null,{"$f":"AE11-AF11","v":0}]
[2,"Договорная мощность ","МВт",4.47,{"$f":"D12","v":4.47},{"$f":"D12","v":4.47},null,{"$f":"G12","v":0},{"$f":"G12","v":0},4.47,{"$f":"J12","v":4.47},{"$f":"J12","v":4.47},null,{"$f":"M12","v":0},{"$f":"M12","v":0},4.47,{"$f":"P12","v":4.47},{"$f":"P12","v":4.47},null,{"$f":"S12","v":0},{"$f":"S12","v":0},4.47,{"$f":"V12","v":4.47},{"$f":"V12","v":4.47},null,{"$f":"Y12","v":0},{"$f":"Y12","v":0},4.47,{"$f":"AB12","v":4.47},{"$f":"AB12","v":4.47},null,{"$f":"AE12","v":0},{"$f":"AE12","v":0}]
[3,"Полезный отпуск электрической энергии за исключением перетока в сети филиала «Владимирэнерго» ПАО «МРСК Центра и Приволжья»","тыс. кВт ч.",{"$f":"E13+F13","v":21272.302534777602},{"$f":"'Баланс энергии'!$W$21-'Баланс энергии'!$W$23","v":10805.540090482718},{"$f":"'Баланс энергии'!AB21-'Баланс энергии'!AB23","v":10466.762444294884},{"$f":"H13+I13","v":0},{"$f":"'Баланс энергии'!$AL$21-'Баланс энергии'!$AL$23","v":0},{"$f":"'Баланс энергии'!$AQ$21-'Баланс энергии'!$AQ$23","v":0},{"$f":"D13","v":21272.302534777602},{"$f":"E13","v":10805.540090482718},10466.762444294884,{"$f":"N13+O13","v":0},{"$f":"'Баланс энергии'!$AL$21-'Баланс энергии'!$AL$23","v":0},{"$f":"'Баланс энергии'!$AQ$21-'Баланс энергии'!$AQ$23","v":0},{"$f":"D13","v":21272.302534777602},{"$f":"E13","v":10805.540090482718},10466.762444294884,{"$f":"T13+U13","v":0},{"$f":"'Баланс энергии'!$AL$21-'Баланс энергии'!$AL$23","v":0},{"$f":"'Баланс энергии'!$AQ$21-'Баланс энергии'!$AQ$23","v":0},{"$f":"P13","v":21272.302534777602},{"$f":"Q13","v":10805.540090482718},10466.762444294884,{"$f":"Z13+AA13","v":0},{"$f":"'Баланс энергии'!$AL$21-'Баланс энергии'!$AL$23","v":0},{"$f":"'Баланс энергии'!$AQ$21-'Баланс энергии'!$AQ$23","v":0},{"$f":"V13","v":21272.302534777602},{"$f":"W13","v":10805.540090482718},10466.762444294884,{"$f":"AF13+AG13","v":0},{"$f":"'Баланс энергии'!$AL$21-'Баланс энергии'!$AL$23","v":0},{"$f":"'Баланс энергии'!$AQ$21-'Баланс энергии'!$AQ$23","v":0}]
[4,"Двухставочный тариф"]
["4.1.","ставка на содержание электрических сетей","руб./кВт мес","х",{"$f":"ROUND(IF(E12=0,0,E10/E12/6),5)","v":1578.3580999999999},{"$f":"ROUND(IF(F12=0,0,F10/F12/6),5)","v":1344.52727},"х",{"$f":"ROUND(IF(H12=0,0,H10/H12/6),5)","v":0},{"$f":"ROUND(IF(I12=0,0,I10/I12/6),5)","v":0},"х",{"$f":"ROUND(IF(K12=0,0,K10/K12/6),5)","v":1609.6114399999999},{"$f":"ROUND(IF(L12=0,0,L10/L12/6),5)","v":1371.15049},"х",{"$f":"ROUND(IF(N12=0,0,N10/N12/6),5)","v":0},{"$f":"ROUND(IF(O12=0,0,O10/O12/6),5)","v":0},"х",{"$f":"ROUND(IF(Q12=0,0,Q10/Q12/6),5)","v":1602.80171},{"$f":"ROUND(IF(R12=0,0,R10/R12/6),5)","v":1365.3496},"х",{"$f":"ROUND(IF(T12=0,0,T10/T12/6),5)","v":0},{"$f":"ROUND(IF(U12=0,0,U10/U12/6),5)","v":0},"х",{"$f":"ROUND(IF(W12=0,0,W10/W12/6),5)","v":1628.4862599999999},{"$f":"ROUND(IF(X12=0,0,X10/X12/6),5)","v":1387.2290399999999},"х",{"$f":"ROUND(IF(Z12=0,0,Z10/Z12/6),5)","v":0},{"$f":"ROUND(IF(AA12=0,0,AA10/AA12/6),5)","v":0},"х",{"$f":"ROUND(IF(AC12=0,0,AC10/AC12/6),5)","v":1672.39939},{"$f":"ROUND(IF(AD12=0,0,AD10/AD12/6),5)","v":1424.63652},"х",{"$f":"ROUND(IF(AF12=0,0,AF10/AF12/6),5)","v":0},{"$f":"ROUND(IF(AG12=0,0,AG10/AG12/6),5)","v":0}]
["4.2.","ставка на оплату технологического расхода (потерь)","руб./кВт ч.","х",{"$f":"ROUND(IF(E13=0,0,E11/E13),5)","v":0.53581999999999996},{"$f":"ROUND(IF(F13=0,0,F11/F13),5)","v":0.47121000000000002},"х",{"$f":"ROUND(IF(H13=0,0,H11/H13),5)","v":0},{"$f":"ROUND(IF(I13=0,0,I11/I13),5)","v":0},"х",{"$f":"ROUND(IF(K13=0,0,K11/K13),5)","v":0.53613},{"$f":"ROUND(IF(L13=0,0,L11/L13),5)","v":0.47149000000000002},"х",{"$f":"ROUND(IF(N13=0,0,N11/N13),5)","v":0},{"$f":"ROUND(IF(O13=0,0,O11/O13),5)","v":0},"х",{"$f":"ROUND(IF(Q13=0,0,Q11/Q13),5)","v":0.53613},{"$f":"ROUND(IF(R13=0,0,R11/R13),5)","v":0.47149000000000002},"х",{"$f":"ROUND(IF(T13=0,0,T11/T13),5)","v":0},{"$f":"ROUND(IF(U13=0,0,U11/U13),5)","v":0},"х",{"$f":"ROUND(IF(W13=0,0,W11/W13),5)","v":0.53613},{"$f":"ROUND(IF(X13=0,0,X11/X13),5)","v":0.47149000000000002},"х",{"$f":"ROUND(IF(Z13=0,0,Z11/Z13),5)","v":0},{"$f":"ROUND(IF(AA13=0,0,AA11/AA13),5)","v":0},"х",{"$f":"ROUND(IF(AC13=0,0,AC11/AC13),5)","v":0.53613},{"$f":"ROUND(IF(AD13=0,0,AD11/AD13),5)","v":0.47149000000000002},"х",{"$f":"ROUND(IF(AF13=0,0,AF11/AF13),5)","v":0},{"$f":"ROUND(IF(AG13=0,0,AG11/AG13),5)","v":0}]
[5,"Одноставочный тариф","руб./кВт ч.","х",{"$f":"ROUND(IF(E13=0,0,E9/E13),5)","v":4.4534000000000002},{"$f":"ROUND(IF(F13=0,0,F9/F13),5)","v":3.9164300000000001},"х",{"$f":"ROUND(IF(H13=0,0,H9/H13),5)","v":0},{"$f":"ROUND(IF(I13=0,0,I9/I13),5)","v":0},"х",{"$f":"ROUND(IF(K13=0,0,K9/K13),5)","v":4.5312799999999998},{"$f":"ROUND(IF(L13=0,0,L9/L13),5)","v":3.9849199999999998},"х",{"$f":"ROUND(IF(N13=0,0,N9/N13),5)","v":0},{"$f":"ROUND(IF(O13=0,0,O9/O13),5)","v":0},"х",{"$f":"ROUND(IF(Q13=0,0,Q9/Q13),5)","v":4.5143800000000001},{"$f":"ROUND(IF(R13=0,0,R9/R13),5)","v":3.9700500000000001},"х",{"$f":"ROUND(IF(T13=0,0,T9/T13),5)","v":0},{"$f":"ROUND(IF(U13=0,0,U9/U13),5)","v":0},"х",{"$f":"ROUND(IF(W13=0,0,W9/W13),5)","v":4.5781299999999998},{"$f":"ROUND(IF(X13=0,0,X9/X13),5)","v":4.0261199999999997},"х",{"$f":"ROUND(IF(Z13=0,0,Z9/Z13),5)","v":0},{"$f":"ROUND(IF(AA13=0,0,AA9/AA13),5)","v":0},"х",{"$f":"ROUND(IF(AC13=0,0,AC9/AC13),5)","v":4.6871299999999998},{"$f":"ROUND(IF(AD13=0,0,AD9/AD13),5)","v":4.1219700000000001},"х",{"$f":"ROUND(IF(AF13=0,0,AF9/AF13),5)","v":0},{"$f":"ROUND(IF(AG13=0,0,AG9/AG13),5)","v":0}]
[]
["Руководитель организации",null,{"$f":"'Инф-я'!$C$21","v":"Окунев Василий Михайлович"}]

{"sheet":"Форма 1.1","index":56,"n_rows":22,"n_cols":4,"rows_kept":22,"cut":false,"hidden":false,"merged":[[26,0,29,3],[1,0,1,3],[3,1,3,3],[5,0,5,3],[21,0,21,1],[21,2,21,4]]}
[]
["Форма 1.1 - Журнал учета текущей информации о прекращении передачи электрической энергии для потребителей услуг за 2018 год   "]
[]
[null,{"$f":"'Инф-я'!C13","v":"ООО \"Энергетик\""}]
[]
["(наименование территориальной сетевой организации)"]
["№","Период","Продолжительность прекращения,\nчас.","Количество точек присоединения потребителей услуг к электрической сети электросетевой организации, шт."]
[1,2,3,4]
[1,"январь",5.58,2545]
[2,"февраль",3.17,2546]
[3,"март",0.66666666666666829,2539]
[4,"апрель",1.0000000000000004,2539]
[5,"май",3.5830000000000002,2503]
[6,"июнь",9.9239999999999995,2503]
[7,"июль",8.83,2507]
[8,"август",1.33,2507]
[9,"сентябрь",1.08,2509]
[10,"октябрь",0.6666666666666643,2530]
[11,"ноябрь",6,2511]
[12,"декабрь",4.67,2514]
[]
["Руководитель организации",null,{"$f":"'Инф-я'!$C$21","v":"Окунев Василий Михайлович"}]

{"sheet":"Форма 1.2","index":57,"n_rows":10,"n_cols":6,"rows_kept":10,"cut":false,"hidden":false,"merged":[[9,1,9,2],[9,3,9,5],[1,0,1,4],[2,0,2,4],[3,0,3,4],[5,0,5,2],[6,0,6,2],[7,0,7,2]]}
[]
["Форма 1.2 - Расчет фактического показателя средней продолжительности прекращений передачи электрической энергии за 2018 год"]
[{"$f":"'Инф-я'!C13","v":"ООО \"Энергетик\""}]
["(наименование территориальной сетевой организации)"]
[]
["Максимальное за расчетный период",null,null,"Максимальное за расчетный период регулирования число точек присоединения  потребителей услуг к э. сети ТСО, шт.",{"$f":"MAX('Форма 1.1'!D9:D20)","v":2546}," "]
["Суммарная продолжительность прекращений передачи электрической энергии, час. (Тпр)",null,null,"гр. 3 формы 1.1",{"$f":"SUM('Форма 1.1'!C9:C20)","v":46.50033333333333}]
["Показатель средней продолжительности прекращений передачи электрической энергии (Пп)",null,null,"Пп = Тпр/Nтп",{"$f":"IF(E6=0,0,E7/E6)","v":1.8264074365017018E-2}]
[]
[null,"Руководитель организации",null,{"$f":"'Инф-я'!$C$21","v":"Окунев Василий Михайлович"}]

{"sheet":"Форма 2.1","index":58,"n_rows":33,"n_cols":8,"rows_kept":33,"cut":false,"hidden":false,"merged":[[0,0,0,7],[1,0,1,7],[2,0,2,7],[5,0,6,0],[5,1,6,1],[5,2,5,3],[5,4,6,4],[5,5,6,6],[5,7,6,7],[18,5,18,6],[7,5,7,6],[8,5,8,6],[9,5,9,6],[10,5,10,6],[11,5,11,6],[12,5,12,6],[13,5,13,6],[14,5,14,6],[15,5,15,6],[16,5,16,6],[17,5,17,6],[30,5,30,6],[19,5,19,6],[20,5,20,6],[21,5,21,6],[22,5,22,6],[23,5,23,6],[24,5,24,6],[25,5,25,6],[26,5,26,6],[27,5,27,6],[28,5,28,6],[29,5,29,6],[32,0,32,1],[32,2,32,4],[35,2,35,4],[35,5,35,7],[37,5,37,7]]}
["Форма 2.1 - Расчет значения индикатора информативности за 2018 год"]
[{"$f":"'Инф-я'!C13","v":"ООО \"Энергетик\""}]
["(наименование территориальной сетевой организации)"]
[]
[]
["Наименование параметра (критерия), характеризующего индикатор","Ед.изм-ния","Значение",null,"Ф / П * 100, %","Зависи-мость",null,"Оценочный балл "]
[null,null,"факти-ческое\n(Ф)","плановое\n(П)"]
[1,null,2,3,4,5,null,6]
["1. Возможность личного приема заявителей и потребителей услуг уполномоченными должностными лицами территориальной сетевой организации - всего,",null,"-","-","-","-",null,{"$f":"(H11+H12)/2","v":2}]
["в том числе, по критериям:"]
["1.1. Количество структурных подразделений по работе с заявителями и потребителями услуг в процентном отношении к общему количеству структурных подразделений","%",0.33,null,{"$f":"(IF(AND(D11=0,C11=0),1,IF(AND(D11=0,C11>0),1.2,C11/D11)))","v":1.2},"прямая",null,{"$f":"IF(E11<80%,3,IF(E11>120%,1,2))","v":2}]
["1.2. Количество утвержденных территориальной сетевой организацией в установленном порядке организационно-распорядительных документов по вопросам работы с заявителями и потребителями услуг - всего, шт.","шт.",{"$f":"SUM(C14:C17)","v":10},{"$f":"SUM(D14:D17)","v":0},{"$f":"(IF(AND(D12=0,C12=0),1,IF(AND(D12=0,C12>0),1.2,C12/D12)))","v":1.2},"прямая",null,{"$f":"IF(E12<80%,3,IF(E12>120%,1,2))","v":2}]
["в том числе:"]
["а) регламенты оказания услуг и рассмотрения обращений заявителей и потребителей услуг, шт.","шт.",0,null,{"$f":"(IF(AND(D14=0,C14=0),1,IF(AND(D14=0,C14>0),1.2,C14/D14)))","v":1},"прямая",null,"-"]
["б) наличие положения о деятельности структурного подразделения по работе \nс заявителями и потребителями услуг ‎(наличие - 1, отсутствие - ‎‎0), шт.‎","шт.",0,null,{"$f":"(IF(AND(D15=0,C15=0),1,IF(AND(D15=0,C15>0),1.2,C15/D15)))","v":1},"прямая",null,"-"]
["в) должностные инструкции сотрудников, обслуживающих заявителей и потребителей услуг, шт.","шт.",8,null,{"$f":"(IF(AND(D16=0,C16=0),1,IF(AND(D16=0,C16>0),1.2,C16/D16)))","v":1.2},"прямая",null,"-"]
["г) утвержденные территориальной сетевой организацией в установленном порядке формы отчетности о работе с заявителями и потребителями услуг, шт.","шт.",2,null,{"$f":"(IF(AND(D17=0,C17=0),1,IF(AND(D17=0,C17>0),1.2,C17/D17)))","v":1.2},"прямая",null,"-"]
["2. Наличие телефонной связи для обращений потребителей услуг к уполномоченным должностным лицам территориальной сетевой организации,",null,"-","-","-","-",null,{"$f":"(H20+H21+H22)/3","v":2}]
["в том числе по критериям:"]
["2.1. Наличие единого телефонного номера для приема обращений потребителей услуг (наличие - 1, отсутствие - 0)","(наличие - 1, отсутствие - 0)",1,null,{"$f":"(IF(AND(D20=0,C20=0),1,IF(AND(D20=0,C20>0),1.2,C20/D20)))","v":1.2},"прямая",null,{"$f":"IF(E20<80%,3,IF(E20>120%,1,2))","v":2}]
["2.2. Наличие информационно-справочной системы для автоматизации обработки обращений потребителей услуг, поступивших по телефону (наличие - 1, отсутствие - 0)","(наличие - 1, отсутствие - 0)",0,null,{"$f":"(IF(AND(D21=0,C21=0),1,IF(AND(D21=0,C21>0),1.2,C21/D21)))","v":1},"прямая",null,{"$f":"IF(E21<80%,3,IF(E21>120%,1,2))","v":2}]
["2.3. Наличие системы автоинформирования потребителей услуг по телефону, предназначенной для доведения до них типовой информации (наличие - 1, отсутствие - 0)","(наличие - 1, отсутствие - 0)",0,null,{"$f":"(IF(AND(D22=0,C22=0),1,IF(AND(D22=0,C22>0),1.2,C22/D22)))","v":1},"прямая",null,{"$f":"IF(E22<80%,3,IF(E22>120%,1,2))","v":2}]
["3. Наличие в сети Интернет сайта территориальной сетевой организации с возможностью обмена информацией с потребителями услуг посредством электронной почты (наличие - 1, отсутствие - 0)","(наличие - 1, отсутствие - 0)",1,null,{"$f":"(IF(AND(D23=0,C23=0),1,IF(AND(D23=0,C23>0),1.2,C23/D23)))","v":1.2},"прямая",null,{"$f":"IF(E23<80%,3,IF(E23>120%,1,2))","v":2}]
["4. Проведение мероприятий по доведению до сведения потребителей услуг необходимой информации, в том числе путем ее размещения в сети Интернет, на бумажных носителях или иными доступными способами (проведение - 1, отсутствие - 0)","(наличие - 1, отсутствие - 0)",1,null,{"$f":"(IF(AND(D24=0,C24=0),1,IF(AND(D24=0,C24>0),1.2,C24/D24)))","v":1.2},"прямая",null,{"$f":"IF(E24<80%,3,IF(E24>120%,1,2))","v":2}]
["5. Простота и доступность схемы обжалования потребителями услуг действий должностных лиц территориальной сетевой организации, по критерию",null,"-","-","-","-",null,{"$f":"H26","v":2}]
["5.1. Общее количество обращений потребителей услуг о проведении консультаций по порядку обжалования действий (бездействия) территориальной сетевой организации в ходе исполнения своих функций в процентах от общего количества поступивших обращений","%",0,null,{"$f":"(IF(AND(D26=0,C26=0),1,IF(AND(D26=0,C26>0),1.2,C26/D26)))","v":1},"обратная",null,{"$f":"IF(E26<80%,1,IF(E26>120%,3,2))","v":2}]
["6. Степень полноты, актуальности и достоверности предоставляемой потребителям услуг информации о деятельности территориальной сетевой организации - всего,",null,"-","-","-","-",null,{"$f":"(H29+H30)/2","v":2}]
["в том числе по критериям:"]
["6.1. Общее количество обращений потребителей услуг о проведении консультаций по вопросам деятельности территориальной сетевой организации в процентах от общего количества поступивших обращений","%",0,null,{"$f":"(IF(AND(D29=0,C29=0),1,IF(AND(D29=0,C29>0),1.2,C29/D29)))","v":1},"обратная",null,{"$f":"IF(E29<80%,1,IF(E29>120%,3,2))","v":2}]
["6.2. Количество обращений потребителей услуг с указанием на отсутствие необходимой информации, которая должна быть раскрыта территориальной сетевой организацией в соответствии с нормативными правовыми актами, в процентах от общего количества поступивших обращений","%",0,null,{"$f":"(IF(AND(D30=0,C30=0),1,IF(AND(D30=0,C30>0),1.2,C30/D30)))","v":1},"обратная",null,{"$f":"IF(E30<80%,1,IF(E30>120%,3,2))","v":2}]
["7. Итого по индикатору \nинформативности (Ин)","-","-","-","-","-",null,{"$f":"(H9+H18+H23+H24+H25+H27)/6","v":2}]
[]
["Руководитель организации",null,{"$f":"'Инф-я'!$C$21","v":"Окунев Василий Михайлович"}]

{"sheet":"Форма 2.2","index":59,"n_rows":28,"n_cols":8,"rows_kept":28,"cut":false,"hidden":false,"merged":[[2,0,2,7],[3,0,3,7],[4,1,4,7],[6,0,7,1],[6,2,7,2],[6,3,6,4],[6,5,7,5],[6,6,7,6],[6,7,7,7],[30,8,30,10],[8,0,8,1],[27,1,27,2],[27,3,27,5],[28,3,28,5],[28,6,28,7],[30,6,30,7]]}
[]
[]
["Форма 2.2 - Расчет значения индикатора исполнительности за 2018 год"]
[{"$f":"'Инф-я'!C13","v":"ООО \"Энергетик\""}]
[null,"(наименование территориальной сетевой организации)"]
[]
["Наименование параметра (показателя), характеризующего индикатор",null,"Ед.изм-ния","Значение",null,"Ф / П * 100, %","Зависи-мость","Оценочный балл "]
[null,null,null,"факти-ческое\n(Ф)","плановое\n(П)"]
[1,null,null,2,3,4,5,6]
[null,"1. Соблюдение сроков по процедурам взаимодействия с потребителями услуг (заявителями) - всего",null,"-","-","-","-",{"$f":"(H12+H16)/2","v":0.5}]
[null,"в том числе, по критериям:"]
[null,"1.1. Среднее время, затраченное территориальной сетевой организацией на направление проекта договора оказания услуг по передаче электрической энергии потребителю услуг (заявителю), дней\n","дней",3,null,{"$f":"(IF(AND(E12=0,D12=0),1,IF(AND(E12=0,D12>0),1.2,D12/E12)))","v":1.2},"обратная",{"$f":"IF(F12<80%,0.25,IF(F12>120%,0.75,0.5))","v":0.5}]
[null,"1.2. Среднее время, необходимое для оборудования точки поставки приборами учета с момента подачи заявления потребителем услуг:","дней","-","-","-","обратная","-"]
[null,"а) для физических лиц, включая индивидуальных предпринимателей, и юридических лиц - субъектов малого и среднего предпринимательства, дней",null,3,null,null,"-","-"]
[null,"б) для остальных потребителей услуг, дней",null,null,null,null,"-","-"]
[null,"1.3. Количество случаев отказа от заключения и случаев расторжения потребителем услуг договоров оказания услуг по передаче электрической энергии, процентов от общего количества заключенных территориальной сетевой организацией договоров с потребителями услуг (заявителями), кроме физических лиц",null,1E-3,null,{"$f":"(IF(AND(E16=0,D16=0),1,IF(AND(E16=0,D16>0),1.2,D16/E16)))","v":1.2},"обратная",{"$f":"IF(F16<80%,0.25,IF(F16>120%,0.75,0.5))","v":0.5}]
[null,"2. Соблюдение требований нормативных правовых актов Российской Федерации по поддержанию качества электрической энергии, по критерию",null,"-","-","-","-",{"$f":"(H18)","v":0.5}]
[null,"2.1. Количество обращений потребителей услуг с указанием на ненадлежащее качество электрической энергии, процентов от общего количества поступивших обращений\n","дней",1E-3,null,{"$f":"(IF(AND(E18=0,D18=0),1,IF(AND(E18=0,D18>0),1.2,D18/E18)))","v":1.2},"обратная",{"$f":"IF(F18<80%,0.25,IF(F18>120%,0.75,0.5))","v":0.5}]
[null,"3. Наличие взаимодействия с потребителями услуг при выводе оборудования в ремонт и (или) из эксплуатации",null,"-","-","-","-",{"$f":"(H21+H22)/2","v":0.5}]
[null,"в том числе, по критериям:"]
[null,"3.1.  Наличие (отсутствие) установленной процедуры согласования с потребителями услуг графиков вывода электросетевого оборудования в ремонт и (или) из эксплуатации\n(наличие - 1, отсутствие - 0)","%",0.01,null,{"$f":"(IF(AND(E21=0,D21=0),1,IF(AND(E21=0,D21>0),1.2,D21/E21)))","v":1.2},"обратная",{"$f":"IF(F21<80%,0.25,IF(F21>120%,0.75,0.5))","v":0.5}]
[null,"3.2. Количество обращений потребителей услуг с указанием на несогласие введения предлагаемых территориальной сетевой организацией графиков вывода электросетевого оборудования в ремонт и (или) из эксплуатации, процентов от общего количества поступивших обращений, кроме физических лиц",null,0.02,null,{"$f":"(IF(AND(E22=0,D22=0),1,IF(AND(E22=0,D22>0),1.2,D22/E22)))","v":1.2},"обратная",{"$f":"IF(F22<80%,0.25,IF(F22>120%,0.75,0.5))","v":0.5}]
[null,"4. Соблюдение требований нормативных правовых актов по защите персональных данных потребителей услуг (заявителей), по критерию",null,"-","-","-","-",{"$f":"H24","v":0.2}]
[null,"4.1. Количество установленных вступившим в законную силу решением антимонопольного органа и (или) суда нарушений территориальной сетевой организацией требований в части государственного регулирования цен (тарифов), в процентах от общего количества поступивших заявок на технологическое присоединение","%",0,null,{"$f":"(IF(AND(E24=0,D24=0),1,IF(AND(E24=0,D24>0),1.2,D24/E24)))","v":1},"обратная",{"$f":"IF(F24<80%,0.1,IF(F24>120%,0.3,0.2))","v":0.2}]
[null,"5. Итого по индикатору \nисполнительности (Ис)","-","-","-","-","-",{"$f":"(H10+H17+H19+H23)/4","v":0.42499999999999999}]
[]
[]
[null,"Руководитель организации",null,{"$f":"'Инф-я'!$C$21","v":"Окунев Василий Михайлович"}]

{"sheet":"форма 2.3","index":60,"n_rows":36,"n_cols":8,"rows_kept":36,"cut":false,"hidden":false,"merged":[[2,0,2,7],[3,0,3,7],[4,0,4,7],[6,0,7,0],[6,1,7,1],[6,2,6,3],[6,4,7,4],[6,5,7,5],[6,7,7,7],[33,2,33,4],[33,5,33,7],[35,0,35,1],[35,2,35,4],[35,5,35,7]]}
[]
[]
["Форма 2.3 - Расчет значения индикатора результативности обратной связи за 2018 год"]
[{"$f":"'Инф-я'!C13","v":"ООО \"Энергетик\""}]
["(наименование территориальной сетевой организации)"]
[]
["Наименование параметра (показателя), характеризующего индикатор","Ед.изм-ния","Значение",null,"Ф / П * 100, %","Зависи-мость",null,"Оценочный балл "]
[null,null,"факти-ческое\n(Ф)","плановое\n(П)"]
[null,null,2,3,4,5,null,6]
["1. Наличие структурного подразделения территориальной сетевой организации по рассмотрению, обработке и принятию мер по обращениям потребителей услуг (наличие - 1, отсутствие - 0)","(наличие - 1, отсутствие - 0)",1,null,{"$f":"(IF(AND(D10=0,C10=0),1,IF(AND(D10=0,C10>0),1.2,C10/D10)))","v":1.2},"прямая",null,{"$f":"IF(E10<80%,3,IF(E10>120%,1,2))","v":2}]
["2. Степень удовлетворения обращений потребителей услуг",null,"-","-","-","-",null,{"$f":"(H13+H14+H15+H16+H17+H18)/6","v":2}]
["в том числе по критериям:"]
["2.1. Общее количество обращений потребителей услуг с указанием на ненадлежащее качество услуг по передаче электрической энергии и обслуживание, в процентах от общего количества поступивших обращений","%",0,null,{"$f":"(IF(AND(D13=0,C13=0),1,IF(AND(D13=0,C13>0),1.2,C13/D13)))","v":1},"обратная",null,{"$f":"IF(E13<80%,1,IF(E13>120%,3,2))","v":2}]
["2.2. Количество принятых мер по результатам рассмотрения обращений потребителей услуг с указанием на ненадлежащее качество услуг по передаче электрической энергии и обслуживание, в процентах от общего количества поступивших обращений","%",0,null,1,"прямая",null,{"$f":"IF(E14<80%,3,IF(E14>120%,1,2))","v":2}]
["2.3. Количество обращений, связанных с неудовлетворенностью принятыми мерами, указанными в п. 2.2 настоящей формы, поступивших от потребителей услуг в течение 30 рабочих дней после завершения мероприятий, указанных в п. 2.2 настоящей формы, в процентах от общего количества поступивших обращений","%",0,null,1,"обратная",null,{"$f":"IF(E15<80%,1,IF(E15>120%,3,2))","v":2}]
["2.4. Количество обращений потребителей услуг с указанием на ненадлежащее качество услуг, оказываемых территориальной сетевой организацией, поступивших в соответствующий контролирующий орган исполнительной власти, в процентах от общего количества поступивших обращений","%",0,null,1,"обратная",null,{"$f":"IF(E16<80%,1,IF(E16>120%,3,2))","v":2}]
["2.5. Количество отзывов и предложений по вопросам деятельности территориальной сетевой организации, поступивших через обратную связь, в процентах от общего количества поступивших обращений","%",0,null,1,"прямая",null,{"$f":"IF(E17<80%,3,IF(E17>120%,1,2))","v":2}]
["2.6. Количество реализованных изменений в деятельности организации, направленных на повышение качества обслуживания потребителей услуг, шт.","шт.",0,null,1,"прямая",null,{"$f":"IF(E18<80%,3,IF(E18>120%,1,2))","v":2}]
["3. Оперативность реагирования на обращения потребителей услуг - всего,",null,"-","-","-","-",null,{"$f":"(H21+H22)/2","v":2}]
["в том числе по критериям:"]
["3.1. Средняя продолжительность времени принятия мер по результатам обращения потребителя услуг, дней","дней",0,null,{"$f":"(IF(AND(D21=0,C21=0),1,IF(AND(D21=0,C21>0),1.2,C21/D21)))","v":1},"обратная",null,{"$f":"IF(E21<80%,1,IF(E21>120%,3,2))","v":2}]
["3.2. Взаимодействие территориальной сетевой организации с потребителями услуг с целью получения информации о качестве обслуживания, реализованное посредством:",null,"-","-","-","-",null,{"$f":"(H23+H24+H25)/3","v":2}]
["а) письменных опросов, шт. на 1000 потребителей услуг","шт. на 1000 потребителей услуг",0,null,1,"прямая",null,{"$f":"IF(E23<80%,3,IF(E23>120%,1,2))","v":2}]
["б) электронной связи через сеть Интернет, шт. на 1000 потребителей услуг","шт. на 1000 потребителей услуг",0,null,1,"прямая",null,{"$f":"IF(E24<80%,3,IF(E24>120%,1,2))","v":2}]
["в) системы автоинформирования,шт. на 1000 потребителей услуг","шт. на 1000 потребителей услуг",0,null,1,"прямая",null,{"$f":"IF(E25<80%,3,IF(E25>120%,1,2))","v":2}]
["4. Индивидуальность подхода к потребителям услуг льготных категорий, по критерию",null,"-","-","-","-",null,{"$f":"H27","v":2}]
["4.1. Количество обращений потребителей услуг льготных категорий с указанием на неудовлетворительность качества их обслуживания, шт. на 1000 потребителей услуг","шт. на 1000 потребителей услуг",0,null,1,"обратная",null,{"$f":"IF(E27<80%,1,IF(E27>120%,3,2))","v":2}]
["5. Оперативность возмещения убытков потребителям услуг при несоблюдении территориальной сетевой организацией обязательств, предусмотренных нормативными правовыми актами и договорами",null,"-","-","-","-",null,{"$f":"(H30+H31)/2","v":2}]
["в том числе по критериям:"]
["5.1. Средняя продолжительность времени на принятие территориальной сетевой организацией мер по возмещению потребителю услуг убытков, месяцев","месяцев",0,null,{"$f":"(IF(AND(D30=0,C30=0),1,IF(AND(D30=0,C30>0),1.2,C30/D30)))","v":1},"обратная",null,{"$f":"IF(E30<80%,1,IF(E30>120%,3,2))","v":2}]
["5.2. Доля потребителей услуг, получивших возмещение убытков, возникших в результате неисполнения (ненадлежащего исполнения) территориальной сетевой организацией своих обязательств, от числа потребителей, в пользу которых было вынесено судебное решение, или возмещение было произведено во внесудебном порядке, %","%",0,null,1,"прямая",null,{"$f":"IF(E31<80%,3,IF(E31>120%,1,2))","v":2}]
["6. Итого по индикатору результативности обратной связи (Рс)","-","-","-","-","-",null,{"$f":"(H10+H11+H19+H26+H28)/5","v":2}]
[]
[]
[]
["Руководитель организации",null,{"$f":"'Инф-я'!$C$21","v":"Окунев Василий Михайлович"}]

{"sheet":"форма 2.4","index":61,"n_rows":16,"n_cols":3,"rows_kept":16,"cut":false,"hidden":false,"merged":[[14,0,14,2],[15,1,15,2],[18,1,18,2],[1,0,2,2],[3,0,3,2],[4,0,4,2],[5,0,5,2],[7,1,9,1],[8,0,9,0]]}
[]
["Форма 2.4 - Расчет фактического значения показателя уровня качества оказываемых услуг территориальной (прочей) сетевой организацией за 2018 год"]
[]
[{"$f":"'Инф-я'!C13","v":"ООО \"Энергетик\""}]
[]
["(наименование территориальной сетевой организации)"]
[]
[null,"Ед.изм-ния"]
["Предлагаемые плановые значения параметров (критериев), характеризующих индикаторы качества **",null,"2018"]
[null,null,"(год)"]
["Ин (индикатор информативности) ",null,{"$f":"'Форма 2.1'!H31","v":2}]
["Ис ( индикатор исполнительности)",null,{"$f":"ROUND('Форма 2.2'!H25,3)","v":0.42499999999999999}]
["Рс (индикатор результативности обратной связи)",null,{"$f":"'форма 2.3'!H32","v":2}]
["Фактическое значение показателя уровня качества оказываемых услуг территориальной сетевой организации",null,{"$f":"0.1*C11+0.7*C12+0.2*C13","v":0.89749999999999996}]
[]
["Руководитель организации",{"$f":"'Инф-я'!$C$21","v":"Окунев Василий Михайлович"}]

{"sheet":"форма 3 ","index":62,"n_rows":39,"n_cols":4,"rows_kept":39,"cut":false,"hidden":false,"merged":[[9,1,9,2],[0,0,1,3],[4,0,4,3],[6,0,6,3],[7,1,7,2],[8,1,8,2],[27,1,27,2],[10,1,10,2],[11,0,11,2],[12,0,12,2],[16,0,16,3],[17,1,17,2],[18,1,18,2],[19,1,19,2],[20,1,20,2],[21,0,21,2],[22,0,22,2],[26,0,26,3],[36,0,36,2],[38,0,38,2],[28,1,28,2],[29,1,29,2],[30,1,30,2],[31,0,31,2],[32,0,32,2],[35,0,35,3]]}
["Формы, используемые для расчета значений показателей уровня качества оказываемых услуг"]
[]
[]
[]
[{"$f":"'Инф-я'!C13","v":"ООО \"Энергетик\""}]
[null,null,null,"Форма 3.1"]
["Отчетные данные для расчета значения показателя качества рассмотрения заявок на технологическое присоединение к сети за 2018 год"]
["№ п/п","Наименование",null,"Значение"]
[1,2,null,3]
[1,"Число заявок на технологическое присоединение к сети, поданных в соответствии с требованиями нормативных правовых актов, по которым сетевой организацией в соответствующий расчетный период направлен проект договора об осуществлении технологического присоединения заявителей к сети, шт. (Nзаяв_тпр)",null,"13"]
[2,"Число заявок на технологическое присоединение к сети, поданных в соответствии с требованиями нормативных правовых актов, по которым сетевой организацией в соответствующий расчетный период направлен проект договора об осуществлении технологического присоединения заявителей к сети с нарушением установленных сроков его направления, шт. (Nнсзаяв_тпр)"]
["max (1, Nзаяв_тпр - Nнсзаяв_тпр)",null,null,{"$f":"MAX(1,D10-D11)","v":13}]
["Пзаяв_тпр",null,null,{"$f":"IF(D10=\"\",1,IF(D10=\"0\",1,D10/D12))","v":1}]
[]
[]
[null,null,null,"Форма 3.2"]
["Отчетные данные для расчета значения показателя качества исполнения договоров об осуществлении технологического присоединения заявителей к сети за 2018 год"]
["№ п/п","Наименование",null,"Значение"]
[1,2,null,3]
[1,"Число договоров об осуществлении технологического присоединения заявителей к сети, исполненных в соответствующем расчетном периоде, по которым имеется подписанный сторонами акт о технологическом присоединении, шт. (Nсд_тпр)",null,"13"]
[2,"Число договоров об осуществлении технологического присоединения заявителей к сети, исполненных в соответствующем расчетном периоде, по которым имеется подписанный сторонами акт о технологическом присоединении, по которым произошло нарушение установленных сроков технологического присоединения, шт. (Nнссд_тпр)"]
["max (1, Nсд_тпр - Nнссд_тпр)",null,null,{"$f":"MAX(1,D20-D21)","v":13}]
["Пнс_тпр",null,null,{"$f":"IF(D20=\"\",1,IF(D20=\"0\",1,D20/D22))","v":1}]
[]
[]
[null,null,null,"Форма 3.3"]
["Отчетные данные для расчета значения показателя соблюдения антимонопольного законодательства при технологическом присоединении заявителей к электрическим сетям сетевой организации за 2018  год"]
["№ п/п","Наименование",null,"Значение"]
[1,2,null,3]
[1,"Число вступивших в законную силу решений антимонопольного органа и (или) суда об установлении нарушений сетевой организацией требований антимонопольного законодательства Российской Федерации в части оказания услуг по технологическому присоединению в соответствующем расчетном периоде, шт. (Nн_тпр)"]
[2,"Общее число заявок на технологическое присоединение к сети, поданных заявителями в соответствующий расчетный период, в десятках шт. без округления (Nочз_тпр)",null,"1"]
["max (1, Nочз_тпр - Nн_тпр)",null,null,{"$f":"MAX(1,D31-D30)","v":1}]
["Пнпа_тпр",null,null,{"$f":"IF(D31=\"\",1,IF(D31=\"0\",1,D31/D32))","v":1}]
[]
[]
["Показатель уровня качества осуществляемого технологического присоединения к сети за 2018  год, Птпр"]
["Птпр",null,null,{"$f":"0.4*D13+0.4*D23+0.2*D33","v":1}]
[]
["Руководитель организации",null,null,{"$f":"'Инф-я'!$C$21","v":"Окунев Василий Михайлович"}]

{"sheet":"TEHSHEET","index":63,"n_rows":18,"n_cols":5,"rows_kept":18,"cut":false,"hidden":true,"merged":[]}
[]
[]
[]
[]
[]
[]
[null,null,null,null,"Январь"]
[null,null,null,null,"Февраль"]
[null,null,null,null,"Март"]
[null,null,null,null,"Апрель"]
[null,null,null,null,"Май"]
[null,null,null,null,"Июнь"]
[null,null,null,null,"Июль"]
[null,null,null,null,"Август"]
[null,null,null,null,"Сентябрь"]
[null,null,null,null,"Октябрь"]
[null,null,null,null,"Ноябрь"]
[null,null,null,null,"Декабрь"]

{"sheet":"Лист1","index":64,"n_rows":24,"n_cols":9,"rows_kept":24,"cut":false,"hidden":true,"merged":[[18,1,18,8],[19,2,19,9],[21,4,21,8],[2,1,2,8],[4,1,4,2]]}
[]
[]
[null,"Долгосрочные параметры регулирования на долгосрочный период 2020 - 2024 гг."]
[]
[null,"Наименование долгосрочного параметра",null,"Ед. измер.",2018,2019,2020,2021,2022]
[null,1,"базовый уровень операционных расходов","млн. руб.","1 046,93","х","х","х","х"]
[null,2,"индекс эффективности операционных расходов","%","х",0.04,0.04,0.04,0.04]
[null,3,"размер инвестированного капитала","млн. руб.","х","х","х","х","х"]
[null,4,"чистый оборотный капитал","млн. руб.",33.4,34.74,36.130000000000003,37.57,39.08]
[null,5,"норма доходности инвестированного капитала","%",11,11,11,11,11]
[null,6,"срок возврата инвестированного капитала","лет",35,35,35,35,35]
[null,7,"коэффициент эластичности операционных расходов по количеству активов ",null,0.75,0.75,0.75,0.75,0.75]
[null,8,"Уровень потерь электрической энергии","%",12.77,12.77,12.77,12.77,12.77]
[null,9,"Показатель средней продолжительности прекращений передачи электрической энергии на точку поставки (Пsaidi), час.","час",1.09633,1.07989,1.06369,1.0477300000000001,1.09633]
[null,10,"Показатель средней частоты прекращений передачи электрической энергии на точку поставки (Пsaifi), шт.","шт",2.2199,2.1865999999999999,2.1537999999999999,2.1215000000000002,2.0897000000000001]
[null,11,"Показатель уровня качества осуществляемого технологического присоединения (Птпр)",null,1.113,1.0963000000000001,1.0799000000000001,1.0637000000000001,1.0047999999999999]
[]
[]
[null,"НВВ сетевой организации на второй долгосрочный период регулирования (без учета оплаты потерь) "]
[]
[null,null,null,null,null,null,null,null,"тыс. руб."]
[null,null,"Наименование сетевой организации",null,"НВВ сетевых организаций без учета оплаты потерь"]
[null,null,null,null,2018,2019,2020,2021,2022]
[null,null,"АО «Владимирская областная электросетевая компания»",null,1695492.12,1821198.01,1883376.99,1921271.88,1961880.68]

{"sheet":"долг. параметры","index":65,"n_rows":12,"n_cols":9,"rows_kept":12,"cut":false,"hidden":true,"merged":[[0,0,0,8],[2,0,2,8],[7,0,11,0],[4,0,6,0],[4,1,6,1],[4,2,5,2],[4,3,5,3],[4,4,5,4]]}
["Долгосрочные параметры регулирования для территориальных сетевых организаций, в отношении которых тарифы на услуги по передаче электрической энергии устанавливаются на основе долгосрочных параметров регулирования деятельности территориальных сетевых организаций"]
[]
[{"$f":"'Инф-я'!C13","v":"ООО \"Энергетик\""}]
[]
["Наименование сетевой организации","Год","Базовый уровень подконтрольных расходов","Индекс эффективности подконтрольных расходов","Коэффициент эластичности подконтрольных расходов по количеству активов","Уровень потерь электрической энергии при ее передаче по электрическим сетям","Показатель средней продолжительности прекращений передачи электрической энергии на точку поставки (Пsaidi), час.","Показатель средней частоты прекращений передачи электрической энергии на точку поставки (Пsaifi), шт.","Показатель уровня качества осуществляемого технологического присоединения (Птпр)"]
[]
[null,null,"млн. руб.","%","%","%","час","шт"]
[{"$f":"A3","v":"ООО \"Энергетик\""},2020,{"$f":"'НВВ по данным экспертов'!G9","v":0},{"$f":"'НВВ по данным экспертов'!G10*100","v":0},0.75,{"$f":"'Баланс энергии'!AG19","v":0},{"$f":"'НВВ по данным экспертов'!$G$13","v":0},{"$f":"'НВВ по данным экспертов'!$G$14","v":0},{"$f":"'НВВ по данным экспертов'!$G$15","v":0}]
[null,2021,"x",{"$f":"$D$8","v":0},0.75,"х",{"$f":"'НВВ по данным экспертов'!$H$13","v":0},{"$f":"'НВВ по данным экспертов'!$H$14","v":0},{"$f":"'НВВ по данным экспертов'!$H$15","v":0}]
[null,2022,"x",{"$f":"$D$8","v":0},0.75,"х",{"$f":"'НВВ по данным экспертов'!$I$13","v":0},{"$f":"'НВВ по данным экспертов'!$I$14","v":0},{"$f":"'НВВ по данным экспертов'!$I$15","v":0}]
[null,2023,"x",0,0.75,"х",{"$f":"'НВВ по данным экспертов'!$J$13","v":0},{"$f":"'НВВ по данным экспертов'!$J$14","v":0},{"$f":"'НВВ по данным экспертов'!$J$15","v":0}]
[null,2024,"x",0,0.75,"х",{"$f":"'НВВ по данным экспертов'!$K$13","v":0},{"$f":"'НВВ по данным экспертов'!$K$14","v":0},{"$f":"'НВВ по данным экспертов'!$K$15","v":0}]

{"sheet":"Лист2","index":66,"n_rows":0,"n_cols":0,"rows_kept":0,"cut":false,"hidden":false,"merged":[]}