{"text_format":"1","workbook":"xlsx","n_sheets":52,"sheets":["Оглавление","Инф-я","Соответствие критериям","Баланс энергии","Баланс мощности","УЕ ВЛЭП 2015-2018","УЕ ТП 2015-2018","Подконтрольные расходы","Расчет аморт. max срок ","Справка по ОС","Ввод выбытие ОС  ","Свод по амортизации","Отчислен во внебюдж фонды","Расходы рег. орг-ий","Аренда имущества","Плата за землю","Транспортный налог","Налог на имущество","Налог прим при УСНО","Негативное воздействие на ОС","Услуги ФСК","Прочие НР"," КВЛ","Выпадающий доход","Расчет выпадающих до 15 кВт","Расчет выпадающих до 150 кВт","СВОД по % по рассрочке","Заявитель1","Заявитель2","Заявитель3","Заявитель4","Возврат заемных средств","Корр. ПР","Корр. ПО","Корр. НР","Корр. ИП","Корр. КНК"," НВВ содержание","НВВ по данным предпр.","НВВ по данным экспертов","НВВ на потери","НВВ для шаблона ЕИАС","Таблица № 8.2. ","Тарифы","Форма 1.1","Форма 1.2","Форма 2.1","Форма 2.2","форма 2.3","форма 2.4","форма 3 ","Выбор оценочного балла"],"not_rendered":{"charts":0,"images":20,"macros":1,"external_links":15,"defined_names":3593,"comments":5,"pivot_tables":0},"unopened":[],"bounds":{"document_bytes":16777216,"sheet_cells":100000,"rows_first":2000,"rows_last":500,"rows_between":2000,"halvings":0,"cell_chars":16384,"cell_head_chars":4096},"cells_cut":0,"cells_raw":0,"read":"whole","date_system":"1900"}

{"sheet":"Оглавление","index":0,"n_rows":52,"n_cols":2,"rows_kept":52,"cut":false,"hidden":false,"merged":[[45,0,51,0],[38,0,44,0],[4,0,5,0],[6,0,7,0],[9,0,25,0],[33,0,37,0],[26,0,32,0]]}
[null,"Содержание"]
[]
[null,"Инф-я"]
[null,"Соответствие критериям"]
["Балансы","Баланс энергии"]
[null,"Баланс мощности"]
["УЕ","УЕ ВЛЭП 2015-2018"]
[null,"УЕ ТП 2015-2018"]
[null,"Подконтрольные расходы"]
["Неподконтрольные расходы","Расчет аморт. max срок "]
[null,"Справка по ОС"]
[null,"Ввод выбытие ОС  "]
[null,"Свод по амортизации"]
[null,"Отчислен во внебюдж фонды"]
[null,"Расходы рег. орг-ий"]
[null,"Аренда имущества"]
[null,"Плата за землю"]
[null,"Транспортный налог"]
[null,"Налог на имущество"]
[null,"Налог на прибыль"]
[null,"Негативное воздействие на ОС"]
[null,"Услуги ФСК"]
[null,"Прочие НР"]
[null," КВЛ"]
[null,"Выпадающий доход"]
[null,"Возврат заемных средств"]
["Расчеты по выпадающим доходам","Расчет выпадающих до 15 кВт"]
[null,"Расчет выпадающих до 150 кВт"]
[null,"СВОД по % по рассрочке"]
[null,"Заявитель1"]
[null,"Заявитель2"]
[null,"Заявитель3"]
[null,"Заявитель4"]
["Корр-ки","Корр. ПР"]
[null,"Корр. ПО"]
[null,"Корр. НР"]
[null,"Корр. ИП"]
[null,"Корр. КНК"]
["ИТОГИ"," НВВ содержание"]
[null,"НВВ по данным предпр."]
[null,"НВВ по данным экспертов"]
[null,"НВВ на потери"]
[null,"НВВ для шаблона ЕИАС"]
[null,"Таблица № 8.2. "]
[null,"Тарифы"]
["Формы для показателя КНК","Форма 1.1"]
[null,"Форма 1.2"]
[null,"Форма 2.1"]
[null,"Форма 2.2"]
[null,"форма 2.3"]
[null,"форма 2.4"]
[null,"форма 3 "]

{"sheet":"Инф-я","index":1,"n_rows":112,"n_cols":3,"rows_kept":112,"cut":false,"hidden":false,"merged":[[38,0,38,2],[39,0,39,2],[40,0,40,2],[4,1,4,2],[1,0,1,2],[34,0,34,2],[36,0,36,2],[37,0,37,2]]}
[]
["Расчет НВВ на услуги по передаче электрической энергии,  устанавливаемых с применением метода долгосрочной индексации необходимой валовой выручки"]
[]
[]
[null,"Информация об организации"]
[]
["№ п/п","Требуемая информация","Данные об организации"]
["1.","Наименование организации в соответствии с уставом:"]
[null,"полное наименование организации ","Общество с ограниченной ответственностью \"Энергетик\""]
[null,"сокращенное название организации ","ООО \"Энергетик\""]
["2.","Муниципальное образование","Владимирская область, Александровский район"]
["3.","Адрес организации:"]
[null,"юридический адрес","601640, Владимирская обл, г.Карабаново, ул. Вокзальная, д. 9"]
[null,"фактический адрес (месторасположение)","601640, Владимирская обл, г.Карабаново, ул. Вокзальная, д. 9"]
["4.","ИНН",3311023373]
["5.","КПП",331101001]
["6.","ФИО руководителя организации","Окунев Василий Михайлович"]
[null,"контактный телефон/факс","8-49244-5-24-72"]
[null,"е-mail","оао-energetik@yandex.ru"]
["7.","ФИО начальника ПЭО","Ивановский Михаил Владимирович"]
[null,"контактный телефон/факс","8-49244-5-26-01"]
["8.","ФИО ответственного за электрохозяйство"]
[null,"контактный телефон/факс"]
["9.","ФИО главного бухгалтера","Макарова Галина Юрьевна"]
[null,"контактный телефон/факс","8-49244-5-10-79"]
["10.","ФИО непосредственного исполнителя","Тимакова Марина Андреевна"]
[null,"контактный телефон/факс","8-49244-5-22-81"]
[null,"е-mail","оао-energetik@yandex.ru"]
["11.","Банковские реквизиты:"]
[null,"расчетный счет","40702810710000002518"]
[null,"банк","Владимирское отделение №8611 ПАО Сбербанк"]
[null,"корреспондентский счет","30101810000000000602"]
[null,"БИК","041708602"]
[]
["В конце книги Excel размещены листы серого цвета для заполнения шаблона \"Расчет фактических показателей надежности и качества за 2016 год\". Согласно п. 14 Постановления Правительства от 31.12.2009 г.  № 1220 организации предоставляют регулирующим органам до 1 апреля года, следующего за отчетным, отчетные данные, используемые при расчете фактических значений показателей надежности и качества."]
[]
["Согласно п. 9 Постановления Правительства РФ от 21.01.2004 г. № 24 \"Об утверждении стандартов раскрытия информации субъектами оптового и розничных рынков электрической энергии\":"]
["\"Субъекты рынков электрической энергии раскрывают следующую информацию:"]
["г) предложение о размере цен (тарифов), долгосрочных параметров регулирования (при применении метода доходности инвестированного капитала или метода долгосрочной необходимой валовой выручки), подлежащих регулированию в соответствии с Основами ценообразования в области регулируемых цен (тарифов) в электроэнергетике, утвержденными постановлением Правительства Российской Федерации от 29 декабря 2011 г. № 1178\"."]
["Согласно п. 9.1 Правил государственного регулирования (пересмотра, применения) цен (тарифов) в электроэнергктике, утвержденных постановлением Правительства РФ от 29 декабря 2011 г. N 1178:"]
["\"Регулирующий орган отказывает в открытии дела об установлении цены (тарифа), в случае если регулируемая организация не опубликовала предложение о размере цен (тарифов) и долгосрочных параметров регулирования (при применении метода доходности инвестированного капитала или метода долгосрочной индексации необходимой валовой выручки), подлежащих регулированию, в порядке, установленном стандартами раскрытия информации субъектами оптового и розничных рынков электрической энергии, утвержденными постановлением Правительства Российской Федерации от 21 января 2004 г. N 24, или указанное опубликованное предложение не соответствует предложению, представляемому в орган регулирования\"."]
[]
[]
[]
[]
[]
[]
[]
[]
[]
[]
[]
[]
[]
[]
[]
[]
[]
[]
[]
[]
[]
[]
[]
[]
[]
[]
[]
[]
[]
[]
[]
[]
[]
[]
[]
[]
[]
[]
[]
[]
[]
[]
[]
[]
[]
[]
[]
[]
[]
[]
[]
[]
[]
[]
[]
[]
[]
[]
[1,"ООО «Радугагорэнерго»"]
[2,"МУП «Горэлектросеть» г. Муром"]
[3,"МУП «Александровэлектросеть»"]
[4,"ООО «СтройГарант»"]
[5,"ООО «Костеревские городские электрические сети»"]
[6,"ООО «Ковровэлектросетьремонт»"]
[7,"ООО «ПромРЭС»"]
[8,"ООО «ПромЭнерго» г. Судогда"]
[9,"ОАО «Энергетик» г. Карабаново"]
[10,"ООО «Электросистемы» "]
[11,"ООО «Ярцево-Энерго»"]
[12,"ПАО «Ставровский завод АТО»"]
[13,"ООО «ЭнергоАктив»"]

{"sheet":"Соответствие критериям","index":2,"n_rows":19,"n_cols":5,"rows_kept":19,"cut":false,"hidden":false,"merged":[[3,0,3,4],[1,0,1,4],[18,1,18,2],[22,1,22,4],[23,1,23,4],[8,0,12,0],[21,1,21,4],[7,4,16,4]]}
[]
["Критерии\nотнесения владельцев объектов электросетевого хозяйства к территориальным сетевым организациям\n(утв. постановлением Правительства РФ от 28 февраля 2015 г. N 184)"]
[]
[{"$f":"'Инф-я'!C9","v":"Общество с ограниченной ответственностью \"Энергетик\""}]
[]
["№ п./п.","Наименование показателя","Ед. измерения","Значение","Представляемые обосновывающие материалы"]
[1,2,3,4,5]
["1.","Владение на праве собственности и (или) на ином законном основании на срок не менее долгосрочного периода регулирования трансформаторными и иными подстанциями с установленными силовыми трансформаторами (автотрансформаторами), расположенными и используемыми для осуществления регулируемой деятельности в административных границах субъекта Российской Федерации, сумма номинальных мощностей которых составляет не менее 10 МВА.","МВА",16.422999999999998,"Согласно пункта 17  Правил государственного регулирования (пересмотра, применения) цен (тарифов) в электроэнергетике, утвержденных Постановлением Правительства РФ от 29 декабря 2011 г. N 1178:\nК заявлениям, направленным в соответствии с пунктами 12, 14 и 16 настоящих Правил, организации, осуществляющие регулируемую деятельность, и органы исполнительной власти субъектов Российской Федерации в области государственного регулирования тарифов прилагают следующие обосновывающие материалы:\n . . . 13) документы, подтверждающие осуществление (фактическое или планируемое) регулируемой деятельности, - документы, подтверждающие право собственности или иные законные основания владения в отношении объектов, используемых для осуществления деятельности, и (или) договоры на осуществление регулируемой деятельности (при реорганизации юридического лица - передаточные акты);\n . . . 15) справка о наличии официального сайта в сети Интернет и выделенного абонентского номера для обращений потребителей услуг по передаче электрической энергии и (или) технологическому присоединению, подписанная руководителем или иным уполномоченным лицом заявителя и заверенная печатью заявителя;\n16) утвержденные руководителем или иным уполномоченным лицом заявителя и заверенные печатью заявителя (при наличии печати) схемы соединений электрической сети заявителя с обозначением трансформаторных и иных подстанций, а также линий электропередачи, указанных в пунктах 1 и 2 критериев отнесения владельцев объектов электросетевого хозяйства к территориальным сетевым организациям, утвержденных постановлением Правительства Российской Федерации от 28 февраля 2015 г. N 184 \"Об отнесении владельцев объектов электросетевого хозяйства к территориальным сетевым организациям\" (далее - критерии отнесения владельцев объектов электросетевого хозяйства к территориальным сетевым организациям).\n"]
["2.","Владение на праве собственности и (или) на ином законном основании на срок не менее долгосрочного периода регулирования линиями электропередачи (воздушными и (или) кабельными), расположенными и используемыми для осуществления регулируемой деятельности в административных границах субъекта Российской Федерации, непосредственно соединенными с трансформаторными и иными подстанциями, указанными в пункте 1 настоящих критериев, сумма протяженностей которых по трассе составляет не менее 15 км, не менее 2 из следующих проектных номинальных классов напряжения:","км",{"$f":"D10+D11+D12+D13","v":208.32999999999998}]
[null,"110 кВ и выше;","км"]
[null,"35 кВ;","км"]
[null,"1 - 20 кВ;","км",59.41]
[null,"ниже 1 кВ - трехфазных участков линий электропередачи.","км",148.91999999999999]
["3.","3. Отсутствие за 3 предшествующих расчетных периода регулирования 3 фактов применения органами исполнительной власти субъектов Российской Федерации в области государственного регулирования тарифов понижающих коэффициентов, позволяющих обеспечить соответствие уровня тарифов, установленных для владельца объектов электросетевого хозяйства, уровню надежности и качества поставляемых товаров и оказываемых услуг, а также корректировки цен (тарифов), установленных на долгосрочный период регулирования, в случае представления владельцем объектов электросетевого хозяйства, для которого такие цены (тарифы) установлены, недостоверных отчетных данных, используемых при расчете фактических значений показателей надежности и качества поставляемых товаров и оказываемых услуг, или непредставления таких данных.","х","нет"]
["4.","4. Наличие выделенного абонентского номера для обращений потребителей услуг по передаче электрической энергии и (или) технологическому присоединению.","х","8-49244-5-23-60"]
["5.","5. Наличие официального сайта в информационно-телекоммуникационной сети \"Интернет\".","х","www.оао-energetik.ru"]
["6.","6. Отсутствие во владении и (или) пользовании объектов электросетевого хозяйства, расположенных в административных границах субъекта Российской Федерации и используемых для осуществления регулируемой деятельности в указанных границах, принадлежащих на праве собственности или ином законном основании иному лицу, владеющему объектом по производству электрической энергии (мощности), который расположен в административных границах соответствующего субъекта Российской Федерации и с использованием которого осуществляется производство электрической энергии и мощности с целью ее продажи на оптовом рынке электрической энергии (мощности) и (или) розничных рынках электрической энергии.","х","нет"]
[]
[null,"Руководитель организации",null,{"$f":"'Инф-я'!C17","v":"Окунев Василий Михайлович"}]

{"sheet":"Баланс энергии","index":3,"n_rows":69,"n_cols":67,"rows_kept":69,"cut":false,"hidden":false,"merged":[[68,1,68,4],[68,6,68,11],[5,57,5,61],[1,5,1,6],[1,10,1,11],[1,15,1,16],[2,0,2,66],[1,20,1,21],[5,17,5,21],[5,42,5,46],[5,52,5,56],[3,0,3,66],[5,62,5,66],[5,47,5,51],[5,2,5,6],[5,27,5,31],[5,32,5,36],[5,37,5,41],[5,12,5,16],[5,22,5,26],[63,0,63,1],[5,7,5,11],[5,0,6,0],[5,1,6,1],[35,0,35,1],[46,0,46,1]]}
[]
[]
["Баланс электрической энергии по сетям ВН, СН1, СН2, и НН"]
[{"$f":"'Инф-я'!C9","v":"Общество с ограниченной ответственностью \"Энергетик\""}]
[null,null,null,null,null,null,null,null,null,null,null,null,null,null,null,null,null,null,null,null,null,null,null,null,null,null,null,null,null,null,null,null,null,null,null,null,null,null,null,null,null,null,null,null,null,null,null,null,null,null,"млн. кВт.ч."]
["№ п.п.","Показатели","Принято регулирующим органом на 2016 год",null,null,null,null,"Факт за 1 полугодие 2016 года",null,null,null,null,"Факт за 2 полугодие 2016 года",null,null,null,null,"Факт за 2016 год",null,null,null,null,"Принято регулирующим органом на 1 полугодие 2017 года",null,null,null,null,"Принято регулирующим органом на 2 полугодие 2017 года",null,null,null,null,"Принято регулирующим органом на 2017 год",null,null,null,null,"По данным организации на 1 полугодие 2018 года",null,null,null,null,"По данным организации на 2 полугодие 2018 года",null,null,null,null,"По данным организации на 2018 год",null,null,null,null,"Принято регулирующим органом на 1 полугодие 2018 года",null,null,null,null,"Принято регулирующим органом на 2 полугодие 2018 года",null,null,null,null,"Принято регулирующим органом на 2018 год"]
[null,null,"Всего","ВН","СН1","СН2","НН","Всего","ВН","СН1","СН2","НН","Всего","ВН","СН1","СН2","НН","Всего","ВН","СН1","СН2","НН","Всего","ВН","СН1","СН2","НН","Всего","ВН","СН1","СН2","НН","Всего","ВН","СН1","СН2","НН","Всего","ВН","СН1","СН2","НН","Всего","ВН","СН1","СН2","НН","Всего","ВН","СН1","СН2","НН","Всего","ВН","СН1","СН2","НН","Всего","ВН","СН1","СН2","НН","Всего","ВН","СН1","СН2","НН"]
[1,2,3,4,5,6,7,8,9,10,11,12,13,14,15,16,17,18,19,20,21,22,23,24,25,26,27,28,29,30,31,32,33,34,35,36,37,38,39,40,41,42,43,44,45,46,47,48,49,50,51,52,53,54,55,56,57,58,59,60,61,62,63,64,65,66,67]
["1.","Поступление эл.энергии в сеть , ВСЕГО ",{"$f":"C19+C21+C22","v":24.875900000000001},{"$f":"D15+D16+D17+D18","v":24.875900000000001},{"$f":"E10+E15+E16+E17+E18","v":0},{"$f":"F10+F15+F16+F17+F18","v":24.875900000000001},{"$f":"G10+G15+G16+G17+G18","v":19.0471141678},{"$f":"H19+H21+H22","v":12.928899999999999},{"$f":"I15+I16+I17+I18","v":12.928900000000001},{"$f":"J10+J15+J16+J17+J18","v":0},{"$f":"K10+K15+K16+K17+K18","v":12.928900000000001},{"$f":"L10+L15+L16+L17+L18","v":9.1881934847999993},{"$f":"M19+M21+M22","v":13.002600000000001},{"$f":"N15+N16+N17+N18","v":13.002599999999999},{"$f":"O10+O15+O16+O17+O18","v":0},{"$f":"P10+P15+P16+P17+P18","v":13.002599999999999},{"$f":"Q10+Q15+Q16+Q17+Q18","v":9.1207397191999995},{"$f":"R19+R21+R22","v":25.9315},{"$f":"S15+S16+S17+S18","v":25.9315},{"$f":"T10+T15+T16+T17+T18","v":0},{"$f":"U10+U15+U16+U17+U18","v":25.9315},{"$f":"V10+V15+V16+V17+V18","v":18.308879402999999},{"$f":"W19+W21+W22","v":14.6241},{"$f":"X15+X16+X17+X18","v":14.6241},{"$f":"Y10+Y15+Y16+Y17+Y18","v":0},{"$f":"Z10+Z15+Z16+Z17+Z18","v":14.6241},{"$f":"AA10+AA15+AA16+AA17+AA18","v":9.8586448322000013},{"$f":"AB19+AB21+AB22","v":12.187799999999999},{"$f":"AC15+AC16+AC17+AC18","v":12.187799999999999},{"$f":"AD10+AD15+AD16+AD17+AD18","v":0},{"$f":"AE10+AE15+AE16+AE17+AE18","v":12.187799999999999},{"$f":"AF10+AF15+AF16+AF17+AF18","v":8.2162058475999995},{"$f":"AG19+AG21+AG22","v":26.811900000000001},{"$f":"AH15+AH16+AH17+AH18","v":26.811900000000001},{"$f":"AI10+AI15+AI16+AI17+AI18","v":0},{"$f":"AJ10+AJ15+AJ16+AJ17+AJ18","v":26.811900000000001},{"$f":"AK10+AK15+AK16+AK17+AK18","v":18.074850679800001},{"$f":"AL19+AL21+AL22","v":13.229900000000001},{"$f":"AM15+AM16+AM17+AM18","v":13.229900000000001},{"$f":"AN10+AN15+AN16+AN17+AN18","v":0},{"$f":"AO10+AO15+AO16+AO17+AO18","v":13.229900000000001},{"$f":"AP10+AP15+AP16+AP17+AP18","v":10.127747835800001},{"$f":"AQ19+AQ21+AQ22","v":13.1549},{"$f":"AR15+AR16+AR17+AR18","v":13.1549},{"$f":"AS10+AS15+AS16+AS17+AS18","v":0},{"$f":"AT10+AT15+AT16+AT17+AT18","v":13.1549},{"$f":"AU10+AU15+AU16+AU17+AU18","v":10.070379685799999},{"$f":"AV19+AV21+AV22","v":26.384799999999998},{"$f":"AW15+AW16+AW17+AW18","v":26.384799999999998},{"$f":"AX10+AX15+AX16+AX17+AX18","v":0},{"$f":"AY10+AY15+AY16+AY17+AY18","v":26.384799999999998},{"$f":"AZ10+AZ15+AZ16+AZ17+AZ18","v":20.1981275216},{"$f":"BA19+BA21+BA22","v":0},{"$f":"BB15+BB16+BB17+BB18","v":0},{"$f":"BC10+BC15+BC16+BC17+BC18","v":0},{"$f":"BD10+BD15+BD16+BD17+BD18","v":0},{"$f":"BE10+BE15+BE16+BE17+BE18","v":0},{"$f":"BF19+BF21+BF22","v":0},{"$f":"BG15+BG16+BG17+BG18","v":0},{"$f":"BH10+BH15+BH16+BH17+BH18","v":0},{"$f":"BI10+BI15+BI16+BI17+BI18","v":0},{"$f":"BJ10+BJ15+BJ16+BJ17+BJ18","v":0},{"$f":"BK19+BK21+BK22","v":0},{"$f":"BL15+BL16+BL17+BL18","v":0},{"$f":"BM10+BM15+BM16+BM17+BM18","v":0},{"$f":"BN10+BN15+BN16+BN17+BN18","v":0},{"$f":"BO10+BO15+BO16+BO17+BO18","v":0}]
["1.1.","из смежной сети, всего","х","х",{"$f":"E12","v":0},{"$f":"F12+F13","v":24.875900000000001},{"$f":"G12+G13+G14","v":19.0471141678},"х","х",{"$f":"J12","v":0},{"$f":"K12+K13","v":12.928900000000001},{"$f":"L12+L13+L14","v":9.1881934847999993},"х","х",{"$f":"O12","v":0},{"$f":"P12+P13","v":13.002599999999999},{"$f":"Q12+Q13+Q14","v":9.1207397191999995},"х","х",{"$f":"T12","v":0},{"$f":"U12+U13","v":25.9315},{"$f":"V12+V13+V14","v":18.308879402999999},"х","х",{"$f":"Y12","v":0},{"$f":"Z12+Z13","v":14.6241},{"$f":"AA12+AA13+AA14","v":9.8586448322000013},"х","х",{"$f":"AD12","v":0},{"$f":"AE12+AE13","v":12.187799999999999},{"$f":"AF12+AF13+AF14","v":8.2162058475999995},"х","х",{"$f":"AI12","v":0},{"$f":"AJ12+AJ13","v":26.811900000000001},{"$f":"AK12+AK13+AK14","v":18.074850679800001},"х","х",{"$f":"AN12","v":0},{"$f":"AO12+AO13","v":13.229900000000001},{"$f":"AP12+AP13+AP14","v":10.127747835800001},"х","х",{"$f":"AS12","v":0},{"$f":"AT12+AT13","v":13.1549},{"$f":"AU12+AU13+AU14","v":10.070379685799999},"х","х",{"$f":"AX12","v":0},{"$f":"AY12+AY13","v":26.384799999999998},{"$f":"AZ12+AZ13+AZ14","v":20.1981275216},"х","х",{"$f":"BC12","v":0},{"$f":"BD12+BD13","v":0},{"$f":"BE12+BE13+BE14","v":0},"х","х",{"$f":"BH12","v":0},{"$f":"BI12+BI13","v":0},{"$f":"BJ12+BJ13+BJ14","v":0},"х","х",{"$f":"BM12","v":0},{"$f":"BN12+BN13","v":0},{"$f":"BO12+BO13+BO14","v":0}]
[null,"    в том числе из сети","х","х","х","х","х","х","х","х","х","х","х","х","х","х","х","х","х","х","х","х","х","х","х","х","х","х","х","х","х","х","х","х","х","х","х","х","х","х","х","х","х","х","х","х","х","х","х","х","х","х","х","х","х","х","х","х","х","х","х","х","х","х","х","х","х"]
["1.1.1.","ВН","х","х",null,{"$f":"D9-D19-D21-D22-E12-G12","v":24.875900000000001},null,"х","х",null,{"$f":"I9-I19-I21-I22-J12-L12","v":12.928900000000001},null,"х","х",null,{"$f":"N9-N19-N21-N22-O12-Q12","v":13.002599999999999},null,"х","х",null,{"$f":"S9-S19-S21-S22-T12-V12","v":25.9315},null,"х","х",null,{"$f":"X9-X19-X21-X22-Y12-AA12","v":14.6241},null,"х","х",null,{"$f":"AC9-AC19-AC21-AC22-AD12-AF12","v":12.187799999999999},null,"х","х",null,{"$f":"AH9-AH19-AH21-AH22-AI12-AK12","v":26.811900000000001},null,"х","х",null,{"$f":"AM9-AM19-AM21-AM22-AN12-AP12","v":13.229900000000001},null,"х","х",null,{"$f":"AR9-AR19-AR21-AR22-AS12-AU12","v":13.1549},null,"х","х",null,{"$f":"AW9-AW19-AW21-AW22-AX12-AZ12","v":26.384799999999998},null,"х","х",null,{"$f":"BB9-BB19-BB21-BB22-BC12-BE12","v":0},null,"х","х",null,{"$f":"BG9-BG19-BG21-BG22-BH12-BJ12","v":0},null,"х","х",null,{"$f":"BL9-BL19-BL21-BL22-BM12-BO12","v":0}]
["1.1.2.","СН1","х","х","х",{"$f":"E9-E19-E21-E22-G13","v":0},null,"х","х","х",{"$f":"J9-J19-J21-J22-L13","v":0},null,"х","х","х",{"$f":"O9-O19-O21-O22-Q13","v":0},null,"х","х","х",{"$f":"T9-T19-T21-T22-V13","v":0},null,"х","х","х",{"$f":"Y9-Y19-Y21-Y22-AA13","v":0},null,"х","х","х",{"$f":"AD9-AD19-AD21-AD22-AF13","v":0},null,"х","х","х",{"$f":"AI9-AI19-AI21-AI22-AK13","v":0},null,"х","х","х",{"$f":"AN9-AN19-AN21-AN22-AP13","v":0},null,"х","х","х",{"$f":"AS9-AS19-AS21-AS22-AU13","v":0},null,"х","х","х",{"$f":"AX9-AX19-AX21-AX22-AZ13","v":0},null,"х","х","х",{"$f":"BC9-BC19-BC21-BC22-BE13","v":0},null,"х","х","х",{"$f":"BH9-BH19-BH21-BH22-BJ13","v":0},null,"х","х","х",{"$f":"BM9-BM19-BM21-BM22-BO13","v":0}]
["1.1.3.","СН2","х","х","х","х",{"$f":"F9-F19-F21-F22","v":19.0471141678},"х","х","х","х",{"$f":"K9-K19-K21-K22","v":9.1881934847999993},"х","х","х","х",{"$f":"P9-P19-P21-P22","v":9.1207397191999995},"х","х","х","х",{"$f":"U9-U19-U21-U22","v":18.308879402999999},"х","х","х","х",{"$f":"Z9-Z19-Z21-Z22","v":9.8586448322000013},"х","х","х","х",{"$f":"AE9-AE19-AE21-AE22","v":8.2162058475999995},"х","х","х","х",{"$f":"AJ9-AJ19-AJ21-AJ22","v":18.074850679800001},"х","х","х","х",{"$f":"AO9-AO19-AO21-AO22","v":10.127747835800001},"х","х","х","х",{"$f":"AT9-AT19-AT21-AT22","v":10.070379685799999},"х","х","х","х",{"$f":"AY9-AY19-AY21-AY22","v":20.1981275216},"х","х","х","х",{"$f":"BD9-BD19-BD21-BD22","v":0},"х","х","х","х",{"$f":"BI9-BI19-BI21-BI22","v":0},"х","х","х","х",{"$f":"BN9-BN19-BN21-BN22","v":0}]
["1.2.","от электростанций",{"$f":"SUM(D15:G15)","v":0},null,null,null,null,{"$f":"SUM(I15:L15)","v":0},null,null,null,null,{"$f":"SUM(N15:Q15)","v":0},null,null,null,null,{"$f":"SUM(S15:V15)","v":0},null,null,null,null,{"$f":"SUM(X15:AA15)","v":0},null,null,null,null,{"$f":"SUM(AC15:AF15)","v":0},null,null,null,null,{"$f":"SUM(AH15:AK15)","v":0},null,null,null,null,{"$f":"SUM(AM15:AP15)","v":0},null,null,null,null,{"$f":"SUM(AR15:AU15)","v":0},null,null,null,null,{"$f":"SUM(AW15:AZ15)","v":0},null,null,null,null,{"$f":"SUM(BB15:BE15)","v":0},null,null,null,null,{"$f":"SUM(BG15:BJ15)","v":0},null,null,null,null,{"$f":"SUM(BL15:BO15)","v":0}]
["1.3.","от ОАО \"ФСК ЕЭС\"",{"$f":"SUM(D16:G16)","v":0},null,null,null,null,{"$f":"SUM(I16:L16)","v":0},null,null,null,null,{"$f":"SUM(N16:Q16)","v":0},null,null,null,null,{"$f":"SUM(S16:V16)","v":0},null,null,null,null,{"$f":"SUM(X16:AA16)","v":0},null,null,null,null,{"$f":"SUM(AC16:AF16)","v":0},null,null,null,null,{"$f":"SUM(AH16:AK16)","v":0},null,null,null,null,{"$f":"SUM(AM16:AP16)","v":0},null,null,null,null,{"$f":"SUM(AR16:AU16)","v":0},null,null,null,null,{"$f":"SUM(AW16:AZ16)","v":0},null,null,null,null,{"$f":"SUM(BB16:BE16)","v":0},null,null,null,null,{"$f":"SUM(BG16:BJ16)","v":0},null,null,null,null,{"$f":"SUM(BL16:BO16)","v":0}]
["1.4.","от филиала \"Владимирэнерго\" ОАО \"МРСК Центра и Приволжья\" ",{"$f":"SUM(D17:G17)","v":24.875900000000001},24.875900000000001,null,null,null,{"$f":"SUM(I17:L17)","v":0},null,null,null,null,{"$f":"SUM(N17:Q17)","v":0},null,null,null,null,{"$f":"SUM(S17:V17)","v":0},null,null,null,null,{"$f":"SUM(X17:AA17)","v":14.6241},14.6241,null,null,null,{"$f":"SUM(AC17:AF17)","v":12.187799999999999},12.187799999999999,null,null,null,{"$f":"SUM(AH17:AK17)","v":26.811900000000001},{"$f":"X17+AC17","v":26.811900000000001},null,null,null,{"$f":"SUM(AM17:AP17)","v":13.229900000000001},13.229900000000001,null,null,null,{"$f":"SUM(AR17:AU17)","v":13.1549},13.1549,null,null,null,{"$f":"SUM(AW17:AZ17)","v":26.384799999999998},26.384799999999998,null,null,null,{"$f":"SUM(BB17:BE17)","v":0},null,null,null,null,{"$f":"SUM(BG17:BJ17)","v":0},null,null,null,null,{"$f":"SUM(BL17:BO17)","v":0}]
["1.5.","от других сетевых организаций",{"$f":"SUM(D18:G18)","v":0},null,null,null,null,{"$f":"SUM(I18:L18)","v":12.928900000000001},12.928900000000001,null,null,null,{"$f":"SUM(N18:Q18)","v":13.002599999999999},13.002599999999999,null,null,null,{"$f":"SUM(S18:V18)","v":25.9315},25.9315,null,null,null,{"$f":"SUM(X18:AA18)","v":0},null,null,null,null,{"$f":"SUM(AC18:AF18)","v":0},null,null,null,null,{"$f":"SUM(AH18:AK18)","v":0},null,null,null,null,{"$f":"SUM(AM18:AP18)","v":0},null,null,null,null,{"$f":"SUM(AR18:AU18)","v":0},null,null,null,null,{"$f":"SUM(AW18:AZ18)","v":0},null,null,null,null,{"$f":"SUM(BB18:BE18)","v":0},null,null,null,null,{"$f":"SUM(BG18:BJ18)","v":0},null,null,null,null,{"$f":"SUM(BL18:BO18)","v":0}]
["2.","Потери электроэнергии в сети ",{"$f":"SUM(D19:G19)","v":3.8886044319232997},{"$f":"D9*D20/100","v":0},{"$f":"E9*E20/100","v":0},{"$f":"F9*F20/100","v":1.5362858321999999},{"$f":"G9*G20/100","v":2.3523185997232998},{"$f":"SUM(I19:L19)","v":1.9044058598518783},null,{"$f":"J9*J20/100","v":0},{"$f":"K9*K20/100","v":0.79600651519999999},{"$f":"L9*L20/100","v":1.1083993446518783},{"$f":"SUM(N19:Q19)","v":1.766280944583428},{"$f":"N9*N20/100","v":0},{"$f":"O9*O20/100","v":0},{"$f":"P9*P20/100","v":0.78156028079999995},{"$f":"Q9*Q20/100","v":0.98472066378342793},{"$f":"SUM(S19:V19)","v":3.670581837074542},{"$f":"S9*S20/100","v":0},{"$f":"T9*T20/100","v":0},{"$f":"U9*U20/100","v":1.5776205970000001},{"$f":"V9*V20/100","v":2.0929612400745419},{"$f":"SUM(X19:AA19)","v":2.1206978045767002},{"$f":"X9*X20/100","v":0},{"$f":"Y9*Y20/100","v":0},{"$f":"Z9*Z20/100","v":0.90315516779999994},{"$f":"AA9*AA20/100","v":1.2175426367767002},{"$f":"SUM(AC19:AF19)","v":1.7673955745785999},{"$f":"AC9*AC20/100","v":0},{"$f":"AD9*AD20/100","v":0},{"$f":"AE9*AE20/100","v":0.75269415239999982},{"$f":"AF9*AF20/100","v":1.0147014221785999},{"$f":"SUM(AH19:AK19)","v":3.8880933791552996},{"$f":"AH9*AH20/100","v":0},{"$f":"AI9*AI20/100","v":0},{"$f":"AJ9*AJ20/100","v":1.6558493202},{"$f":"AK9*AK20/100","v":2.2322440589552999},{"$f":"SUM(AM19:AP19)","v":2.0678290219213},{"$f":"AM9*AM20/100","v":0},{"$f":"AN9*AN20/100","v":0},{"$f":"AO9*AO20/100","v":0.81705216420000004},{"$f":"AP9*AP20/100","v":1.2507768577213001},{"$f":"SUM(AR19:AU19)","v":2.0561122053962997},{"$f":"AR9*AR20/100","v":0},{"$f":"AS9*AS20/100","v":0},{"$f":"AT9*AT20/100","v":0.81242031419999994},{"$f":"AU9*AU20/100","v":1.2436918911962997},{"$f":"SUM(AW19:AZ19)","v":4.1239412273175997},{"$f":"AW9*AW20/100","v":0},{"$f":"AX9*AX20/100","v":0},{"$f":"AY9*AY20/100","v":1.6294724783999999},{"$f":"AZ9*AZ20/100","v":2.4944687489175998},{"$f":"SUM(BB19:BE19)","v":0},{"$f":"BB9*BB20/100","v":0},{"$f":"BC9*BC20/100","v":0},{"$f":"BD9*BD20/100","v":0},{"$f":"BE9*BE20/100","v":0},{"$f":"SUM(BG19:BJ19)","v":0},{"$f":"BG9*BG20/100","v":0},{"$f":"BH9*BH20/100","v":0},{"$f":"BI9*BI20/100","v":0},{"$f":"BJ9*BJ20/100","v":0},{"$f":"SUM(BL19:BO19)","v":0},{"$f":"BL9*BL20/100","v":0},{"$f":"BM9*BM20/100","v":0},{"$f":"BN9*BN20/100","v":0},{"$f":"BO9*BO20/100","v":0}]
["2.1.","то же в % (п.2./п.1.)",{"$f":"IF(C9=0,0,C19/C9*100)","v":15.6320150504034},null,null,6.1757999999999997,12.35,{"$f":"IF(H9=0,0,H19/H9*100)","v":14.729836721235978},null,null,6.1567999999999996,12.0633,{"$f":"IF(M9=0,0,M19/M9*100)","v":13.584059684858627},null,null,6.0107999999999997,10.7965,{"$f":"IF(R9=0,0,R19/R9*100)","v":14.154915207660729},null,null,6.0838000000000001,11.4314,{"$f":"IF(W9=0,0,W19/W9*100)","v":14.501390202314674},null,null,6.1757999999999997,12.35,{"$f":"IF(AB9=0,0,AB19/AB9*100)","v":14.501350322278014},null,null,{"$f":"Z20","v":6.1757999999999997},{"$f":"AA20","v":12.35},{"$f":"IF(AG9=0,0,AG19/AG9*100)","v":14.501372074173405},null,null,{"$f":"AE20","v":6.1757999999999997},12.35,{"$f":"IF(AL9=0,0,AL19/AL9*100)","v":15.629967134455287},null,null,6.1757999999999997,12.35,{"$f":"IF(AQ9=0,0,AQ19/AQ9*100)","v":15.630010151322319},null,null,6.1757999999999997,12.35,{"$f":"IF(AV9=0,0,AV19/AV9*100)","v":15.629988581750098},null,null,6.1757999999999997,12.35,{"$f":"IF(BA9=0,0,BA19/BA9*100)","v":0},null,null,null,null,{"$f":"IF(BF9=0,0,BF19/BF9*100)","v":0},null,null,null,null,{"$f":"IF(BK9=0,0,BK19/BK9*100)","v":0}]
["3.","Расход электроэнергии на производственные и хознужды",{"$f":"SUM(D21:G21)","v":0},null,null,null,null,{"$f":"SUM(I21:L21)","v":0},null,null,null,null,{"$f":"SUM(N21:Q21)","v":0},null,null,null,null,{"$f":"SUM(S21:V21)","v":0},null,null,null,null,{"$f":"SUM(X21:AA21)","v":0},null,null,null,null,{"$f":"SUM(AC21:AF21)","v":0},null,null,null,null,{"$f":"SUM(AH21:AK21)","v":0},null,null,null,null,{"$f":"SUM(AM21:AP21)","v":0},null,null,null,null,{"$f":"SUM(AR21:AU21)","v":0},null,null,null,null,{"$f":"SUM(AW21:AZ21)","v":0},null,null,null,null,{"$f":"SUM(BB21:BE21)","v":0},null,null,null,null,{"$f":"SUM(BG21:BJ21)","v":0},null,null,null,null,{"$f":"SUM(BL21:BO21)","v":0}]
["4.","Полезный отпуск из сети ",{"$f":"SUM(D22:G22)","v":20.9872955680767},{"$f":"D23+D24+D25","v":0},{"$f":"E23+E24+E25","v":0},{"$f":"F23+F24+F25","v":4.2925000000000004},{"$f":"G9-G19-G21","v":16.6947955680767},{"$f":"SUM(I22:L22)","v":11.024494140148121},{"$f":"I23+I24+I25","v":0},{"$f":"J23+J24+J25","v":0},{"$f":"K23+K24+K25","v":2.9447000000000001},{"$f":"L9-L19-L21","v":8.0797941401481204},{"$f":"SUM(N22:Q22)","v":11.236319055416573},{"$f":"N23+N24+N25","v":0},{"$f":"O23+O24+O25","v":0},{"$f":"P23+P24+P25","v":3.1002999999999998},{"$f":"Q9-Q19-Q21","v":8.1360190554165719},{"$f":"SUM(S22:V22)","v":22.260918162925456},{"$f":"S23+S24+S25","v":0},{"$f":"T23+T24+T25","v":0},{"$f":"U23+U24+U25","v":6.0449999999999999},{"$f":"V9-V19-V21","v":16.215918162925458},{"$f":"SUM(X22:AA22)","v":12.5034021954233},{"$f":"X23+X24+X25","v":0},{"$f":"Y23+Y24+Y25","v":0},{"$f":"Z23+Z24+Z25","v":3.8622999999999998},{"$f":"AA9-AA19-AA21","v":8.6411021954233007},{"$f":"SUM(AC22:AF22)","v":10.420404425421399},{"$f":"AC23+AC24+AC25","v":0},{"$f":"AD23+AD24+AD25","v":0},{"$f":"AE23+AE24+AE25","v":3.2189000000000001},{"$f":"AF9-AF19-AF21","v":7.2015044254213993},{"$f":"SUM(AH22:AK22)","v":22.923806620844701},{"$f":"AH23+AH24+AH25","v":0},{"$f":"AI23+AI24+AI25","v":0},{"$f":"AJ23+AJ24+AJ25","v":7.0811999999999999},{"$f":"AK9-AK19-AK21","v":15.842606620844702},{"$f":"SUM(AM22:AP22)","v":11.162070978078701},{"$f":"AM23+AM24+AM25","v":0},{"$f":"AN23+AN24+AN25","v":0},{"$f":"AO23+AO24+AO25","v":2.2850999999999999},{"$f":"AP9-AP19-AP21","v":8.8769709780787007},{"$f":"SUM(AR22:AU22)","v":11.0987877946037},{"$f":"AR23+AR24+AR25","v":0},{"$f":"AS23+AS24+AS25","v":0},{"$f":"AT23+AT24+AT25","v":2.2721},{"$f":"AU9-AU19-AU21","v":8.8266877946036999},{"$f":"SUM(AW22:AZ22)","v":22.260858772682397},{"$f":"AW23+AW24+AW25","v":0},{"$f":"AX23+AX24+AX25","v":0},{"$f":"AY23+AY24+AY25","v":4.5571999999999999},{"$f":"AZ9-AZ19-AZ21","v":17.703658772682399},{"$f":"SUM(BB22:BE22)","v":0},{"$f":"BB23+BB24+BB25","v":0},{"$f":"BC23+BC24+BC25","v":0},{"$f":"BD23+BD24+BD25","v":0},{"$f":"BE9-BE19-BE21","v":0},{"$f":"SUM(BG22:BJ22)","v":0},{"$f":"BG23+BG24+BG25","v":0},{"$f":"BH23+BH24+BH25","v":0},{"$f":"BI23+BI24+BI25","v":0},{"$f":"BJ9-BJ19-BJ21","v":0},{"$f":"SUM(BL22:BO22)","v":0},{"$f":"BL23+BL24+BL25","v":0},{"$f":"BM23+BM24+BM25","v":0},{"$f":"BN23+BN24+BN25","v":0},{"$f":"BO9-BO19-BO21","v":0}]
["4.1.","потребителям, присоединенным к сети",{"$f":"SUM(D23:G23)","v":20.987300000000001},null,null,4.2925000000000004,16.694800000000001,{"$f":"SUM(I23:L23)","v":11.0245},null,null,2.9447000000000001,8.0798000000000005,{"$f":"SUM(N23:Q23)","v":11.2363},null,null,3.1002999999999998,8.1359999999999992,{"$f":"SUM(S23:V23)","v":22.260899999999999},null,null,6.0449999999999999,16.215900000000001,{"$f":"SUM(X23:AA23)","v":12.5034021954233},null,null,3.8622999999999998,8.6411021954233007,{"$f":"SUM(AC23:AF23)","v":10.420404425421399},null,null,3.2189000000000001,7.2015044254213993,{"$f":"SUM(AH23:AK23)","v":22.923806620844701},null,null,{"$f":"Z23+AE23","v":7.0811999999999999},15.8426066208447,{"$f":"SUM(AM23:AP23)","v":11.162100000000001},null,null,2.2850999999999999,8.8770000000000007,{"$f":"SUM(AR23:AU23)","v":11.098800000000001},null,null,2.2721,8.8267000000000007,{"$f":"SUM(AW23:AZ23)","v":22.260899999999999},null,null,4.5571999999999999,17.703700000000001,{"$f":"SUM(BB23:BE23)","v":0},null,null,null,null,{"$f":"SUM(BG23:BJ23)","v":0},null,null,null,null,{"$f":"SUM(BL23:BO23)","v":0}]
["4.2.","переток в филиал \"Владимирэнерго\" ОАО \"МРСК Центра и Приволжья\" ",{"$f":"SUM(D24:G24)","v":0},null,null,null,null,{"$f":"SUM(I24:L24)","v":0},null,null,null,null,{"$f":"SUM(N24:Q24)","v":0},null,null,null,null,{"$f":"SUM(S24:V24)","v":0},null,null,null,null,{"$f":"SUM(X24:AA24)","v":0},null,null,null,null,{"$f":"SUM(AC24:AF24)","v":0},null,null,null,null,{"$f":"SUM(AH24:AK24)","v":0},null,null,null,null,{"$f":"SUM(AM24:AP24)","v":0},null,null,null,null,{"$f":"SUM(AR24:AU24)","v":0},null,null,null,null,{"$f":"SUM(AW24:AZ24)","v":0},null,null,null,null,{"$f":"SUM(BB24:BE24)","v":0},null,null,null,null,{"$f":"SUM(BG24:BJ24)","v":0},null,null,null,null,{"$f":"SUM(BL24:BO24)","v":0}]
["4.3.","переток в другие сетевые организации",{"$f":"SUM(D25:G25)","v":0},null,null,null,null,{"$f":"SUM(I25:L25)","v":0},null,null,null,null,{"$f":"SUM(N25:Q25)","v":0},null,null,null,null,{"$f":"SUM(S25:V25)","v":0},null,null,null,null,{"$f":"SUM(X25:AA25)","v":0},null,null,null,null,{"$f":"SUM(AC25:AF25)","v":0},null,null,null,null,{"$f":"SUM(AH25:AK25)","v":0},null,null,null,null,{"$f":"SUM(AM25:AP25)","v":0},null,null,null,null,{"$f":"SUM(AR25:AU25)","v":0},null,null,null,null,{"$f":"SUM(AW25:AZ25)","v":0},null,null,null,null,{"$f":"SUM(BB25:BE25)","v":0},null,null,null,null,{"$f":"SUM(BG25:BJ25)","v":0},null,null,null,null,{"$f":"SUM(BL25:BO25)","v":0}]
[null,"Проверка",null,{"$f":"D9-D19-D21-D23-D24-D25-E12-F12-G12","v":0},{"$f":"E9-E19-E21-E23-E24-E25-F13-G13","v":0},{"$f":"F9-F19-F21-F23-F24-F25-G14","v":0},{"$f":"G9-G19-G21-G23-G24-G25","v":-4.4319233012402037E-6},null,{"$f":"I9-I19-I21-I23-I24-I25-J12-K12-L12","v":0},{"$f":"J9-J19-J21-J23-J24-J25-K13-L13","v":0},{"$f":"K9-K19-K21-K23-K24-K25-L14","v":0},{"$f":"L9-L19-L21-L23-L24-L25","v":-5.8598518801744603E-6},null,{"$f":"N9-N19-N21-N23-N24-N25-O12-P12-Q12","v":0},{"$f":"O9-O19-O21-O23-O24-O25-P13-Q13","v":0},{"$f":"P9-P19-P21-P23-P24-P25-Q14","v":0},{"$f":"Q9-Q19-Q21-Q23-Q24-Q25","v":1.9055416572655304E-5},null,{"$f":"S9-S19-S21-S23-S24-S25-T12-U12-V12","v":0},{"$f":"T9-T19-T21-T23-T24-T25-U13-V13","v":0},{"$f":"U9-U19-U21-U23-U24-U25-V14","v":0},{"$f":"V9-V19-V21-V23-V24-V25","v":1.8162925456977064E-5},null,{"$f":"X9-X19-X21-X23-X24-X25-Y12-Z12-AA12","v":0},{"$f":"Y9-Y19-Y21-Y23-Y24-Y25-Z13-AA13","v":0},{"$f":"Z9-Z19-Z21-Z23-Z24-Z25-AA14","v":0},{"$f":"AA9-AA19-AA21-AA23-AA24-AA25","v":0},null,{"$f":"AC9-AC19-AC21-AC23-AC24-AC25-AD12-AE12-AF12","v":0},{"$f":"AD9-AD19-AD21-AD23-AD24-AD25-AE13-AF13","v":0},{"$f":"AE9-AE19-AE21-AE23-AE24-AE25-AF14","v":0},{"$f":"AF9-AF19-AF21-AF23-AF24-AF25","v":0},null,{"$f":"AH9-AH19-AH21-AH23-AH24-AH25-AI12-AJ12-AK12","v":0},{"$f":"AI9-AI19-AI21-AI23-AI24-AI25-AJ13-AK13","v":0},{"$f":"AJ9-AJ19-AJ21-AJ23-AJ24-AJ25-AK14","v":0},{"$f":"AK9-AK19-AK21-AK23-AK24-AK25","v":1.7763568394002505E-15},null,{"$f":"AM9-AM19-AM21-AM23-AM24-AM25-AN12-AO12-AP12","v":0},{"$f":"AN9-AN19-AN21-AN23-AN24-AN25-AO13-AP13","v":0},{"$f":"AO9-AO19-AO21-AO23-AO24-AO25-AP14","v":0},{"$f":"AP9-AP19-AP21-AP23-AP24-AP25","v":-2.9021921299943187E-5},null,{"$f":"AR9-AR19-AR21-AR23-AR24-AR25-AS12-AT12-AU12","v":0},{"$f":"AS9-AS19-AS21-AS23-AS24-AS25-AT13-AU13","v":0},{"$f":"AT9-AT19-AT21-AT23-AT24-AT25-AU14","v":0},{"$f":"AU9-AU19-AU21-AU23-AU24-AU25","v":-1.2205396300757343E-5},null,{"$f":"AW9-AW19-AW21-AW23-AW24-AW25-AX12-AY12-AZ12","v":0},{"$f":"AX9-AX19-AX21-AX23-AX24-AX25-AY13-AZ13","v":0},{"$f":"AY9-AY19-AY21-AY23-AY24-AY25-AZ14","v":0},{"$f":"AZ9-AZ19-AZ21-AZ23-AZ24-AZ25","v":-4.1227317602476887E-5},null,{"$f":"BB9-BB19-BB21-BB23-BB24-BB25-BC12-BD12-BE12","v":0},{"$f":"BC9-BC19-BC21-BC23-BC24-BC25-BD13-BE13","v":0},{"$f":"BD9-BD19-BD21-BD23-BD24-BD25-BE14","v":0},{"$f":"BE9-BE19-BE21-BE23-BE24-BE25","v":0},null,{"$f":"BG9-BG19-BG21-BG23-BG24-BG25-BH12-BI12-BJ12","v":0},{"$f":"BH9-BH19-BH21-BH23-BH24-BH25-BI13-BJ13","v":0},{"$f":"BI9-BI19-BI21-BI23-BI24-BI25-BJ14","v":0},{"$f":"BJ9-BJ19-BJ21-BJ23-BJ24-BJ25","v":0},null,{"$f":"BL9-BL19-BL21-BL23-BL24-BL25-BM12-BN12-BO12","v":0},{"$f":"BM9-BM19-BM21-BM23-BM24-BM25-BN13-BO13","v":0},{"$f":"BN9-BN19-BN21-BN23-BN24-BN25-BO14","v":0},{"$f":"BO9-BO19-BO21-BO23-BO24-BO25","v":0}]
[]
[null,"Примечание"]
[]
[null,"Расшифровка п. 1.5. (Поступление от других сетевых организаций) "]
["№","Наименование других сетевых организаций","Всего","ВН","СН1","СН2","НН","Всего","ВН","СН1","СН2","НН","Всего","ВН","СН1","СН2","НН","Всего","ВН","СН1","СН2","НН","Всего","ВН","СН1","СН2","НН","Всего","ВН","СН1","СН2","НН","Всего","ВН","СН1","СН2","НН","Всего","ВН","СН1","СН2","НН","Всего","ВН","СН1","СН2","НН","Всего","ВН","СН1","СН2","НН","Всего","ВН","СН1","СН2","НН","Всего","ВН","СН1","СН2","НН","Всего","ВН","СН1","СН2","НН"]
[null,null,{"$f":"SUM(D32:G32)","v":0},null,null,null,null,{"$f":"SUM(I32:L32)","v":0},null,null,null,null,{"$f":"SUM(N32:Q32)","v":0},null,null,null,null,{"$f":"SUM(S32:V32)","v":0},null,null,null,null,{"$f":"SUM(X32:AA32)","v":0},null,null,null,null,{"$f":"SUM(AC32:AF32)","v":0},null,null,null,null,{"$f":"SUM(AH32:AK32)","v":0},null,null,null,null,{"$f":"SUM(AM32:AP32)","v":0},null,null,null,null,{"$f":"SUM(AR32:AU32)","v":0},null,null,null,null,{"$f":"SUM(AW32:AZ32)","v":0},null,null,null,null,{"$f":"SUM(BB32:BE32)","v":0},null,null,null,null,{"$f":"SUM(BG32:BJ32)","v":0},null,null,null,null,{"$f":"SUM(BL32:BO32)","v":0}]
[null,null,{"$f":"SUM(D33:G33)","v":0},null,null,null,null,{"$f":"SUM(I33:L33)","v":0},null,null,null,null,{"$f":"SUM(N33:Q33)","v":0},null,null,null,null,{"$f":"SUM(S33:V33)","v":0},null,null,null,null,{"$f":"SUM(X33:AA33)","v":0},null,null,null,null,{"$f":"SUM(AC33:AF33)","v":0},null,null,null,null,{"$f":"SUM(AH33:AK33)","v":0},null,null,null,null,{"$f":"SUM(AM33:AP33)","v":0},null,null,null,null,{"$f":"SUM(AR33:AU33)","v":0},null,null,null,null,{"$f":"SUM(AW33:AZ33)","v":0},null,null,null,null,{"$f":"SUM(BB33:BE33)","v":0},null,null,null,null,{"$f":"SUM(BG33:BJ33)","v":0},null,null,null,null,{"$f":"SUM(BL33:BO33)","v":0}]
[null,null,{"$f":"SUM(D34:G34)","v":0},null,null,null,null,{"$f":"SUM(I34:L34)","v":0},null,null,null,null,{"$f":"SUM(N34:Q34)","v":0},null,null,null,null,{"$f":"SUM(S34:V34)","v":0},null,null,null,null,{"$f":"SUM(X34:AA34)","v":0},null,null,null,null,{"$f":"SUM(AC34:AF34)","v":0},null,null,null,null,{"$f":"SUM(AH34:AK34)","v":0},null,null,null,null,{"$f":"SUM(AM34:AP34)","v":0},null,null,null,null,{"$f":"SUM(AR34:AU34)","v":0},null,null,null,null,{"$f":"SUM(AW34:AZ34)","v":0},null,null,null,null,{"$f":"SUM(BB34:BE34)","v":0},null,null,null,null,{"$f":"SUM(BG34:BJ34)","v":0},null,null,null,null,{"$f":"SUM(BL34:BO34)","v":0}]
[null,null,{"$f":"SUM(D35:G35)","v":0},null,null,null,null,{"$f":"SUM(I35:L35)","v":0},null,null,null,null,{"$f":"SUM(N35:Q35)","v":0},null,null,null,null,{"$f":"SUM(S35:V35)","v":0},null,null,null,null,{"$f":"SUM(X35:AA35)","v":0},null,null,null,null,{"$f":"SUM(AC35:AF35)","v":0},null,null,null,null,{"$f":"SUM(AH35:AK35)","v":0},null,null,null,null,{"$f":"SUM(AM35:AP35)","v":0},null,null,null,null,{"$f":"SUM(AR35:AU35)","v":0},null,null,null,null,{"$f":"SUM(AW35:AZ35)","v":0},null,null,null,null,{"$f":"SUM(BB35:BE35)","v":0},null,null,null,null,{"$f":"SUM(BG35:BJ35)","v":0},null,null,null,null,{"$f":"SUM(BL35:BO35)","v":0}]
["Добавить"]
[null,"Итого",{"$f":"SUM(C32:C35)","v":0},{"$f":"SUM(D32:D35)","v":0},{"$f":"SUM(E32:E35)","v":0},{"$f":"SUM(F32:F35)","v":0},{"$f":"SUM(G32:G35)","v":0},{"$f":"SUM(H32:H35)","v":0},0,0,0,0,0,0,0,0,0,0,0,0,0,0,0,0,0,0,0,0,0,0,0,0,0,0,0,0,0,0,0,0,0,0,0,0,0,0,0,{"$f":"SUM(AV32:AV35)","v":0},{"$f":"SUM(AW32:AW35)","v":0},{"$f":"SUM(AX32:AX35)","v":0},{"$f":"SUM(AY32:AY35)","v":0},{"$f":"SUM(AZ32:AZ35)","v":0},{"$f":"SUM(BA32:BA35)","v":0},0,0,0,0,0,0,0,0,0,{"$f":"SUM(BK32:BK35)","v":0},{"$f":"SUM(BL32:BL35)","v":0},{"$f":"SUM(BM32:BM35)","v":0},{"$f":"SUM(BN32:BN35)","v":0},{"$f":"SUM(BO32:BO35)","v":0}]
[]
[null,"Расшифровка п. 4.3. (Полезный отпуск - переток в другие сетевые организации) "]
["№","Наименование других сетевых организаций","Всего","ВН","СН1","СН2","НН","Всего","ВН","СН1","СН2","НН","Всего","ВН","СН1","СН2","НН","Всего","ВН","СН1","СН2","НН","Всего","ВН","СН1","СН2","НН","Всего","ВН","СН1","СН2","НН","Всего","ВН","СН1","СН2","НН","Всего","ВН","СН1","СН2","НН","Всего","ВН","СН1","СН2","НН","Всего","ВН","СН1","СН2","НН","Всего","ВН","СН1","СН2","НН","Всего","ВН","СН1","СН2","НН","Всего","ВН","СН1","СН2","НН"]
[null,null,{"$f":"SUM(D41:G41)","v":0},null,null,null,null,{"$f":"SUM(I41:L41)","v":0},null,null,null,null,{"$f":"SUM(N41:Q41)","v":0},null,null,null,null,{"$f":"SUM(S41:V41)","v":0},null,null,null,null,{"$f":"SUM(X41:AA41)","v":0},null,null,null,null,{"$f":"SUM(AC41:AF41)","v":0},null,null,null,null,{"$f":"SUM(AH41:AK41)","v":0},null,null,null,null,{"$f":"SUM(AM41:AP41)","v":0},null,null,null,null,{"$f":"SUM(AR41:AU41)","v":0},null,null,null,null,{"$f":"SUM(AW41:AZ41)","v":0},null,null,null,null,{"$f":"SUM(BB41:BE41)","v":0},null,null,null,null,{"$f":"SUM(BG41:BJ41)","v":0},null,null,null,null,{"$f":"SUM(BL41:BO41)","v":0}]
[null,null,0,null,null,null,null,0,null,null,null,null,0,null,null,null,null,0,null,null,null,null,0,null,null,null,null,0,null,null,null,null,0,null,null,null,null,0,null,null,null,null,0,null,null,null,null,0,null,null,null,null,0,null,null,null,null,0,null,null,null,null,0]
[null,null,0,null,null,null,null,0,null,null,null,null,0,null,null,null,null,0,null,null,null,null,0,null,null,null,null,0,null,null,null,null,0,null,null,null,null,0,null,null,null,null,0,null,null,null,null,0,null,null,null,null,0,null,null,null,null,0,null,null,null,null,0]
[null,null,0,null,null,null,null,0,null,null,null,null,0,null,null,null,null,0,null,null,null,null,0,null,null,null,null,0,null,null,null,null,0,null,null,null,null,0,null,null,null,null,0,null,null,null,null,0,null,null,null,null,0,null,null,null,null,0,null,null,null,null,0]
[null,null,0,null,null,null,null,0,null,null,null,null,0,null,null,null,null,0,null,null,null,null,0,null,null,null,null,0,null,null,null,null,0,null,null,null,null,0,null,null,null,null,0,null,null,null,null,0,null,null,null,null,0,null,null,null,null,0,null,null,null,null,0]
[null,null,0,null,null,null,null,0,null,null,null,null,0,null,null,null,null,0,null,null,null,null,0,null,null,null,null,0,null,null,null,null,0,null,null,null,null,0,null,null,null,null,0,null,null,null,null,0,null,null,null,null,0,null,null,null,null,0,null,null,null,null,0]
["Добавить"]
[null,"Итого",{"$f":"SUM(C41:C46)","v":0},{"$f":"SUM(D41:D46)","v":0},{"$f":"SUM(E41:E46)","v":0},{"$f":"SUM(F41:F46)","v":0},{"$f":"SUM(G41:G46)","v":0},{"$f":"SUM(H41:H46)","v":0},0,0,0,0,0,0,0,0,0,0,0,0,0,0,0,0,0,0,0,0,0,0,0,0,0,0,0,0,0,0,0,0,0,0,0,0,0,0,0,{"$f":"SUM(AV41:AV46)","v":0},{"$f":"SUM(AW41:AW46)","v":0},{"$f":"SUM(AX41:AX46)","v":0},{"$f":"SUM(AY41:AY46)","v":0},{"$f":"SUM(AZ41:AZ46)","v":0},{"$f":"SUM(BA41:BA46)","v":0},0,0,0,0,0,0,0,0,0,{"$f":"SUM(BK41:BK46)","v":0},{"$f":"SUM(BL41:BL46)","v":0},{"$f":"SUM(BM41:BM46)","v":0},{"$f":"SUM(BN41:BN46)","v":0},{"$f":"SUM(BO41:BO46)","v":0}]
[]
[null,"Расшифровка п. 4.1. (Полезный отпуск потребителям,  присоединенным к сети) "]
["№","Наименование сбытовых организаций","Всего","ВН","СН1","СН2","НН","Всего","ВН","СН1","СН2","НН","Всего","ВН","СН1","СН2","НН","Всего","ВН","СН1","СН2","НН","Всего","ВН","СН1","СН2","НН","Всего","ВН","СН1","СН2","НН","Всего","ВН","СН1","СН2","НН","Всего","ВН","СН1","СН2","НН","Всего","ВН","СН1","СН2","НН","Всего","ВН","СН1","СН2","НН","Всего","ВН","СН1","СН2","НН","Всего","ВН","СН1","СН2","НН","Всего","ВН","СН1","СН2","НН"]
["1.","ОАО \"Владимирэнергосбыт\" всего, в том числе:",{"$f":"D52+E52+F52+G52","v":0},{"$f":"D53+D54","v":0},{"$f":"E53+E54","v":0},{"$f":"F53+F54","v":0},{"$f":"G53+G54","v":0},{"$f":"I52+J52+K52+L52","v":0},{"$f":"I53+I54","v":0},{"$f":"J53+J54","v":0},{"$f":"K53+K54","v":0},{"$f":"L53+L54","v":0},{"$f":"N52+O52+P52+Q52","v":0},{"$f":"N53+N54","v":0},{"$f":"O53+O54","v":0},{"$f":"P53+P54","v":0},{"$f":"Q53+Q54","v":0},{"$f":"S52+T52+U52+V52","v":0},{"$f":"S53+S54","v":0},{"$f":"T53+T54","v":0},{"$f":"U53+U54","v":0},{"$f":"V53+V54","v":0},{"$f":"X52+Y52+Z52+AA52","v":0},{"$f":"X53+X54","v":0},{"$f":"Y53+Y54","v":0},{"$f":"Z53+Z54","v":0},{"$f":"AA53+AA54","v":0},{"$f":"AC52+AD52+AE52+AF52","v":0},{"$f":"AC53+AC54","v":0},{"$f":"AD53+AD54","v":0},{"$f":"AE53+AE54","v":0},{"$f":"AF53+AF54","v":0},{"$f":"AH52+AI52+AJ52+AK52","v":0},{"$f":"AH53+AH54","v":0},{"$f":"AI53+AI54","v":0},{"$f":"AJ53+AJ54","v":0},{"$f":"AK53+AK54","v":0},{"$f":"AM52+AN52+AO52+AP52","v":0},{"$f":"AM53+AM54","v":0},{"$f":"AN53+AN54","v":0},{"$f":"AO53+AO54","v":0},{"$f":"AP53+AP54","v":0},{"$f":"AR52+AS52+AT52+AU52","v":0},{"$f":"AR53+AR54","v":0},{"$f":"AS53+AS54","v":0},{"$f":"AT53+AT54","v":0},{"$f":"AU53+AU54","v":0},{"$f":"AW52+AX52+AY52+AZ52","v":0},{"$f":"AW53+AW54","v":0},{"$f":"AX53+AX54","v":0},{"$f":"AY53+AY54","v":0},{"$f":"AZ53+AZ54","v":0},{"$f":"BB52+BC52+BD52+BE52","v":0},{"$f":"BB53+BB54","v":0},{"$f":"BC53+BC54","v":0},{"$f":"BD53+BD54","v":0},{"$f":"BE53+BE54","v":0},{"$f":"BG52+BH52+BI52+BJ52","v":0},{"$f":"BG53+BG54","v":0},{"$f":"BH53+BH54","v":0},{"$f":"BI53+BI54","v":0},{"$f":"BJ53+BJ54","v":0},{"$f":"BL52+BM52+BN52+BO52","v":0},{"$f":"BL53+BL54","v":0},{"$f":"BM53+BM54","v":0},{"$f":"BN53+BN54","v":0},{"$f":"BO53+BO54","v":0}]
["1.1.","прочие потребители",{"$f":"D53+E53+F53+G53","v":0},null,null,null,null,{"$f":"I53+J53+K53+L53","v":0},null,null,null,null,{"$f":"N53+O53+P53+Q53","v":0},null,null,null,null,{"$f":"S53+T53+U53+V53","v":0},null,null,null,null,{"$f":"X53+Y53+Z53+AA53","v":0},null,null,null,null,{"$f":"AC53+AD53+AE53+AF53","v":0},null,null,null,null,{"$f":"AH53+AI53+AJ53+AK53","v":0},null,null,null,null,{"$f":"AM53+AN53+AO53+AP53","v":0},null,null,null,null,{"$f":"AR53+AS53+AT53+AU53","v":0},null,null,null,null,{"$f":"AW53+AX53+AY53+AZ53","v":0},null,null,null,null,{"$f":"BB53+BC53+BD53+BE53","v":0},null,null,null,null,{"$f":"BG53+BH53+BI53+BJ53","v":0},null,null,null,null,{"$f":"BL53+BM53+BN53+BO53","v":0}]
["1.2.","население",{"$f":"D54+E54+F54+G54","v":0},null,null,null,null,0,null,null,null,null,0,null,null,null,null,0,null,null,null,null,0,null,null,null,null,0,null,null,null,null,0,null,null,null,null,0,null,null,null,null,0,null,null,null,null,0,null,null,null,null,0,null,null,null,null,0,null,null,null,null,0]
["2.","ОАО \"ВКС\" всего, в том числе:",0,{"$f":"D56+D57","v":0},{"$f":"E56+E57","v":0},{"$f":"F56+F57","v":0},{"$f":"G56+G57","v":0},0,{"$f":"I56+I57","v":0},{"$f":"J56+J57","v":0},{"$f":"K56+K57","v":0},{"$f":"L56+L57","v":0},0,{"$f":"N56+N57","v":0},{"$f":"O56+O57","v":0},{"$f":"P56+P57","v":0},{"$f":"Q56+Q57","v":0},0,{"$f":"S56+S57","v":0},{"$f":"T56+T57","v":0},{"$f":"U56+U57","v":0},{"$f":"V56+V57","v":0},0,{"$f":"X56+X57","v":0},{"$f":"Y56+Y57","v":0},{"$f":"Z56+Z57","v":0},{"$f":"AA56+AA57","v":0},0,{"$f":"AC56+AC57","v":0},{"$f":"AD56+AD57","v":0},{"$f":"AE56+AE57","v":0},{"$f":"AF56+AF57","v":0},0,{"$f":"AH56+AH57","v":0},{"$f":"AI56+AI57","v":0},{"$f":"AJ56+AJ57","v":0},{"$f":"AK56+AK57","v":0},0,{"$f":"AM56+AM57","v":0},{"$f":"AN56+AN57","v":0},{"$f":"AO56+AO57","v":0},{"$f":"AP56+AP57","v":0},0,{"$f":"AR56+AR57","v":0},{"$f":"AS56+AS57","v":0},{"$f":"AT56+AT57","v":0},{"$f":"AU56+AU57","v":0},0,{"$f":"AW56+AW57","v":0},{"$f":"AX56+AX57","v":0},{"$f":"AY56+AY57","v":0},{"$f":"AZ56+AZ57","v":0},0,{"$f":"BB56+BB57","v":0},{"$f":"BC56+BC57","v":0},{"$f":"BD56+BD57","v":0},{"$f":"BE56+BE57","v":0},0,{"$f":"BG56+BG57","v":0},{"$f":"BH56+BH57","v":0},{"$f":"BI56+BI57","v":0},{"$f":"BJ56+BJ57","v":0},0,{"$f":"BL56+BL57","v":0},{"$f":"BM56+BM57","v":0},{"$f":"BN56+BN57","v":0},{"$f":"BO56+BO57","v":0}]
["2.1.","прочие потребители",0,null,null,null,null,0,null,null,null,null,0,null,null,null,null,0,null,null,null,null,0,null,null,null,null,0,null,null,null,null,0,null,null,null,null,0,null,null,null,null,0,null,null,null,null,0,null,null,null,null,0,null,null,null,null,0,null,null,null,null,0]
["2.2.","население",0,null,null,null,null,0,null,null,null,null,0,null,null,null,null,0,null,null,null,null,0,null,null,null,null,0,null,null,null,null,0,null,null,null,null,0,null,null,null,null,0,null,null,null,null,0,null,null,null,null,0,null,null,null,null,0,null,null,null,null,0]
["3.","ОАО \"Русэнергосбыт\"",0,{"$f":"D59+D60","v":0},{"$f":"E59+E60","v":0},{"$f":"F59+F60","v":0},{"$f":"G59+G60","v":0},0,{"$f":"I59+I60","v":0},{"$f":"J59+J60","v":0},{"$f":"K59+K60","v":0},{"$f":"L59+L60","v":0},0,{"$f":"N59+N60","v":0},{"$f":"O59+O60","v":0},{"$f":"P59+P60","v":0},{"$f":"Q59+Q60","v":0},0,{"$f":"S59+S60","v":0},{"$f":"T59+T60","v":0},{"$f":"U59+U60","v":0},{"$f":"V59+V60","v":0},0,{"$f":"X59+X60","v":0},{"$f":"Y59+Y60","v":0},{"$f":"Z59+Z60","v":0},{"$f":"AA59+AA60","v":0},0,{"$f":"AC59+AC60","v":0},{"$f":"AD59+AD60","v":0},{"$f":"AE59+AE60","v":0},{"$f":"AF59+AF60","v":0},0,{"$f":"AH59+AH60","v":0},{"$f":"AI59+AI60","v":0},{"$f":"AJ59+AJ60","v":0},{"$f":"AK59+AK60","v":0},0,{"$f":"AM59+AM60","v":0},{"$f":"AN59+AN60","v":0},{"$f":"AO59+AO60","v":0},{"$f":"AP59+AP60","v":0},0,{"$f":"AR59+AR60","v":0},{"$f":"AS59+AS60","v":0},{"$f":"AT59+AT60","v":0},{"$f":"AU59+AU60","v":0},0,{"$f":"AW59+AW60","v":0},{"$f":"AX59+AX60","v":0},{"$f":"AY59+AY60","v":0},{"$f":"AZ59+AZ60","v":0},0,{"$f":"BB59+BB60","v":0},{"$f":"BC59+BC60","v":0},{"$f":"BD59+BD60","v":0},{"$f":"BE59+BE60","v":0},0,{"$f":"BG59+BG60","v":0},{"$f":"BH59+BH60","v":0},{"$f":"BI59+BI60","v":0},{"$f":"BJ59+BJ60","v":0},0,{"$f":"BL59+BL60","v":0},{"$f":"BM59+BM60","v":0},{"$f":"BN59+BN60","v":0},{"$f":"BO59+BO60","v":0}]
["3.1.","прочие потребители",0,null,null,null,null,0,null,null,null,null,0,null,null,null,null,0,null,null,null,null,0,null,null,null,null,0,null,null,null,null,0,null,null,null,null,0,null,null,null,null,0,null,null,null,null,0,null,null,null,null,0,null,null,null,null,0,null,null,null,null,0]
["3.2.","население",0,null,null,null,null,0,null,null,null,null,0,null,null,null,null,0,null,null,null,null,0,null,null,null,null,0,null,null,null,null,0,null,null,null,null,0,null,null,null,null,0,null,null,null,null,0,null,null,null,null,0,null,null,null,null,0,null,null,null,null,0]
["4.","ОАО \"Оборонэнергосбыт\"",0,{"$f":"D62+D63","v":0},{"$f":"E62+E63","v":0},{"$f":"F62+F63","v":0},{"$f":"G62+G63","v":0},0,{"$f":"I62+I63","v":0},{"$f":"J62+J63","v":0},{"$f":"K62+K63","v":0},{"$f":"L62+L63","v":0},0,{"$f":"N62+N63","v":0},{"$f":"O62+O63","v":0},{"$f":"P62+P63","v":0},{"$f":"Q62+Q63","v":0},0,{"$f":"S62+S63","v":0},{"$f":"T62+T63","v":0},{"$f":"U62+U63","v":0},{"$f":"V62+V63","v":0},0,{"$f":"X62+X63","v":0},{"$f":"Y62+Y63","v":0},{"$f":"Z62+Z63","v":0},{"$f":"AA62+AA63","v":0},0,{"$f":"AC62+AC63","v":0},{"$f":"AD62+AD63","v":0},{"$f":"AE62+AE63","v":0},{"$f":"AF62+AF63","v":0},0,{"$f":"AH62+AH63","v":0},{"$f":"AI62+AI63","v":0},{"$f":"AJ62+AJ63","v":0},{"$f":"AK62+AK63","v":0},0,{"$f":"AM62+AM63","v":0},{"$f":"AN62+AN63","v":0},{"$f":"AO62+AO63","v":0},{"$f":"AP62+AP63","v":0},0,{"$f":"AR62+AR63","v":0},{"$f":"AS62+AS63","v":0},{"$f":"AT62+AT63","v":0},{"$f":"AU62+AU63","v":0},0,{"$f":"AW62+AW63","v":0},{"$f":"AX62+AX63","v":0},{"$f":"AY62+AY63","v":0},{"$f":"AZ62+AZ63","v":0},0,{"$f":"BB62+BB63","v":0},{"$f":"BC62+BC63","v":0},{"$f":"BD62+BD63","v":0},{"$f":"BE62+BE63","v":0},0,{"$f":"BG62+BG63","v":0},{"$f":"BH62+BH63","v":0},{"$f":"BI62+BI63","v":0},{"$f":"BJ62+BJ63","v":0},0,{"$f":"BL62+BL63","v":0},{"$f":"BM62+BM63","v":0},{"$f":"BN62+BN63","v":0},{"$f":"BO62+BO63","v":0}]
["4.1.","прочие потребители",0,null,null,null,null,0,null,null,null,null,0,null,null,null,null,0,null,null,null,null,0,null,null,null,null,0,null,null,null,null,0,null,null,null,null,0,null,null,null,null,0,null,null,null,null,0,null,null,null,null,0,null,null,null,null,0,null,null,null,null,0]
["4.2.","население",0,null,null,null,null,0,null,null,null,null,0,null,null,null,null,0,null,null,null,null,0,null,null,null,null,0,null,null,null,null,0,null,null,null,null,0,null,null,null,null,0,null,null,null,null,0,null,null,null,null,0,null,null,null,null,0,null,null,null,null,0]
["Добавить"]
[null,"Итого всего, в том числе:",{"$f":"D65+E65+F65+G65","v":0},{"$f":"D66+D67","v":0},{"$f":"E66+E67","v":0},{"$f":"F66+F67","v":0},{"$f":"G66+G67","v":0},{"$f":"I65+J65+K65+L65","v":0},{"$f":"I66+I67","v":0},{"$f":"J66+J67","v":0},{"$f":"K66+K67","v":0},{"$f":"L66+L67","v":0},{"$f":"N65+O65+P65+Q65","v":0},{"$f":"N66+N67","v":0},{"$f":"O66+O67","v":0},{"$f":"P66+P67","v":0},{"$f":"Q66+Q67","v":0},{"$f":"S65+T65+U65+V65","v":0},{"$f":"S66+S67","v":0},{"$f":"T66+T67","v":0},{"$f":"U66+U67","v":0},{"$f":"V66+V67","v":0},{"$f":"X65+Y65+Z65+AA65","v":0},{"$f":"X66+X67","v":0},{"$f":"Y66+Y67","v":0},{"$f":"Z66+Z67","v":0},{"$f":"AA66+AA67","v":0},{"$f":"AC65+AD65+AE65+AF65","v":0},{"$f":"AC66+AC67","v":0},{"$f":"AD66+AD67","v":0},{"$f":"AE66+AE67","v":0},{"$f":"AF66+AF67","v":0},{"$f":"AH65+AI65+AJ65+AK65","v":0},{"$f":"AH66+AH67","v":0},{"$f":"AI66+AI67","v":0},{"$f":"AJ66+AJ67","v":0},{"$f":"AK66+AK67","v":0},{"$f":"AM65+AN65+AO65+AP65","v":0},{"$f":"AM66+AM67","v":0},{"$f":"AN66+AN67","v":0},{"$f":"AO66+AO67","v":0},{"$f":"AP66+AP67","v":0},{"$f":"AR65+AS65+AT65+AU65","v":0},{"$f":"AR66+AR67","v":0},{"$f":"AS66+AS67","v":0},{"$f":"AT66+AT67","v":0},{"$f":"AU66+AU67","v":0},{"$f":"AW65+AX65+AY65+AZ65","v":0},{"$f":"AW66+AW67","v":0},{"$f":"AX66+AX67","v":0},{"$f":"AY66+AY67","v":0},{"$f":"AZ66+AZ67","v":0},{"$f":"BB65+BC65+BD65+BE65","v":0},{"$f":"BB66+BB67","v":0},{"$f":"BC66+BC67","v":0},{"$f":"BD66+BD67","v":0},{"$f":"BE66+BE67","v":0},{"$f":"BG65+BH65+BI65+BJ65","v":0},{"$f":"BG66+BG67","v":0},{"$f":"BH66+BH67","v":0},{"$f":"BI66+BI67","v":0},{"$f":"BJ66+BJ67","v":0},{"$f":"BL65+BM65+BN65+BO65","v":0},{"$f":"BL66+BL67","v":0},{"$f":"BM66+BM67","v":0},{"$f":"BN66+BN67","v":0},{"$f":"BO66+BO67","v":0}]
[null,"прочие потребители",{"$f":"D66+E66+F66+G66","v":0},{"$f":"D53+D56+D59+D62","v":0},0,0,0,{"$f":"I66+J66+K66+L66","v":0},{"$f":"I53+I56+I59+I62","v":0},0,0,0,{"$f":"N66+O66+P66+Q66","v":0},{"$f":"N53+N56+N59+N62","v":0},0,0,0,{"$f":"S66+T66+U66+V66","v":0},{"$f":"S53+S56+S59+S62","v":0},0,0,0,{"$f":"X66+Y66+Z66+AA66","v":0},{"$f":"X53+X56+X59+X62","v":0},0,0,0,{"$f":"AC66+AD66+AE66+AF66","v":0},{"$f":"AC53+AC56+AC59+AC62","v":0},0,0,0,{"$f":"AH66+AI66+AJ66+AK66","v":0},{"$f":"AH53+AH56+AH59+AH62","v":0},0,0,0,{"$f":"AM66+AN66+AO66+AP66","v":0},{"$f":"AM53+AM56+AM59+AM62","v":0},0,0,0,{"$f":"AR66+AS66+AT66+AU66","v":0},{"$f":"AR53+AR56+AR59+AR62","v":0},0,0,0,{"$f":"AW66+AX66+AY66+AZ66","v":0},{"$f":"AW53+AW56+AW59+AW62","v":0},0,0,0,{"$f":"BB66+BC66+BD66+BE66","v":0},{"$f":"BB53+BB56+BB59+BB62","v":0},0,0,0,{"$f":"BG66+BH66+BI66+BJ66","v":0},{"$f":"BG53+BG56+BG59+BG62","v":0},0,0,0,{"$f":"BL66+BM66+BN66+BO66","v":0},{"$f":"BL53+BL56+BL59+BL62","v":0},0,0,0]
[null,"население",{"$f":"D67+E67+F67+G67","v":0},0,{"$f":"E54+E57+E60+E63","v":0},0,{"$f":"G54+G57+G60+G63","v":0},{"$f":"I67+J67+K67+L67","v":0},0,0,0,0,{"$f":"N67+O67+P67+Q67","v":0},0,0,0,0,{"$f":"S67+T67+U67+V67","v":0},0,0,0,0,{"$f":"X67+Y67+Z67+AA67","v":0},0,0,0,0,{"$f":"AC67+AD67+AE67+AF67","v":0},0,0,0,0,{"$f":"AH67+AI67+AJ67+AK67","v":0},0,0,0,0,{"$f":"AM67+AN67+AO67+AP67","v":0},0,0,0,0,{"$f":"AR67+AS67+AT67+AU67","v":0},0,0,0,0,{"$f":"AW67+AX67+AY67+AZ67","v":0},0,0,0,0,{"$f":"BB67+BC67+BD67+BE67","v":0},0,0,0,0,{"$f":"BG67+BH67+BI67+BJ67","v":0},0,0,0,0,{"$f":"BL67+BM67+BN67+BO67","v":0},0,0,0,0]
[]
[null,null,null,null,null,null,{"$f":"'Инф-я'!C17","v":"Окунев Василий Михайлович"}]

{"sheet":"Баланс мощности","index":4,"n_rows":67,"n_cols":22,"rows_kept":67,"cut":false,"hidden":false,"merged":[[5,17,5,21],[5,0,6,0],[5,1,6,1],[5,2,5,6],[5,7,5,11],[66,1,66,9],[2,0,2,16],[3,0,3,16],[58,0,58,1],[5,12,5,16],[63,1,63,4],[63,6,63,11],[62,1,62,4],[62,6,62,11]]}
[]
[]
["Электрическая мощность по диапазонам напряжения "]
[{"$f":"'Инф-я'!C9","v":"Общество с ограниченной ответственностью \"Энергетик\""}]
[null,null,null,null,null,null,null,null,null,null,null,null,null,null,null,"МВт"]
["№ п.п.","Показатели","Принято регулирующим органом на 2016 год",null,null,null,null,"Факт за 2016 год",null,null,null,null,"По данным организации на 2018 год",null,null,null,null,"Принято регулирующим органом на 2018 год"]
[null,null,"Всего","ВН","СН1","СН2","НН","Всего","ВН","СН1","СН2","НН","Всего","ВН","СН1","СН2","НН","Всего","ВН","СН1","СН2","НН"]
[1,2,3,4,5,6,7,8,9,10,11,12,18,19,20,21,22,23,24,25,26,27]
["1.","Поступление мощности в сеть , ВСЕГО ",{"$f":"C19+C21+C22","v":4.41},{"$f":"D15+D16+D17+D18","v":4.41},{"$f":"E10+E15+E16+E17+E18","v":0},{"$f":"F10+F15+F16+F17+F18","v":4.41},{"$f":"G10+G15+G16+G17+G18","v":3.2016472199999999},{"$f":"H19+H21+H22","v":4.41},{"$f":"I15+I16+I17+I18","v":4.41},{"$f":"J10+J15+J16+J17+J18","v":0},{"$f":"K10+K15+K16+K17+K18","v":4.41},{"$f":"L10+L15+L16+L17+L18","v":2.5147044200000002},{"$f":"M19+M21+M22","v":4.47},{"$f":"N15+N16+N17+N18","v":4.47},{"$f":"O10+O15+O16+O17+O18","v":0},{"$f":"P10+P15+P16+P17+P18","v":4.47},{"$f":"Q10+Q15+Q16+Q17+Q18","v":3.4218417399999996},{"$f":"R19+R21+R22","v":0},{"$f":"S15+S16+S17+S18","v":0},{"$f":"T10+T15+T16+T17+T18","v":0},{"$f":"U10+U15+U16+U17+U18","v":0},{"$f":"V10+V15+V16+V17+V18","v":0}]
["1.1.","из смежной сети, всего","х","х",{"$f":"E12","v":0},{"$f":"F12+F13","v":4.41},{"$f":"G12+G13+G14","v":3.2016472199999999},"х","х",{"$f":"J12","v":0},{"$f":"K12+K13","v":4.41},{"$f":"L12+L13+L14","v":2.5147044200000002},"х","х",{"$f":"O12","v":0},{"$f":"P12+P13","v":4.47},{"$f":"Q12+Q13+Q14","v":3.4218417399999996},"х","х",{"$f":"T12","v":0},{"$f":"U12+U13","v":0},{"$f":"V12+V13+V14","v":0}]
[null,"    в том числе из сети","х","х","х","х","х","х","х","х","х","х","х","х","х","х","х","х","х","х","х","х"]
["1.1.1.","ВН","х","х",null,{"$f":"D9-D19-D21-D22-G12-E12","v":4.41},null,"х","х",null,{"$f":"I9-I19-I21-I22-L12-J12","v":4.41},null,"х","х",null,{"$f":"N9-N19-N21-N22-Q12-O12","v":4.47},null,"х","х",null,{"$f":"S9-S19-S21-S22-V12-T12","v":0}]
["1.1.2.","СН1","х","х","х",{"$f":"E9-E19-E21-E22-G13","v":0},null,"х","х","х",{"$f":"J9-J19-J21-J22-L13","v":0},null,"х","х","х",{"$f":"O9-O19-O21-O22-Q13","v":0},null,"х","х","х",{"$f":"T9-T19-T21-T22-V13","v":0}]
["1.1.3.","СН2","х","х","х","х",{"$f":"F9-F19-F21-F22","v":3.2016472199999999},"х","х","х","х",{"$f":"K9-K19-K21-K22","v":2.5147044200000002},"х","х","х","х",{"$f":"P9-P19-P21-P22","v":3.4218417399999996},"х","х","х","х",{"$f":"U9-U19-U21-U22","v":0}]
["1.2.","от электростанций",{"$f":"SUM(D15:G15)","v":0},null,null,null,null,{"$f":"SUM(I15:L15)","v":0},null,null,null,null,{"$f":"SUM(N15:Q15)","v":0},null,null,null,null,{"$f":"SUM(S15:V15)","v":0}]
["1.3.","от ОАО \"ФСК ЕЭС\"",{"$f":"SUM(D16:G16)","v":0},null,null,null,null,{"$f":"SUM(I16:L16)","v":0},null,null,null,null,{"$f":"SUM(N16:Q16)","v":0},null,null,null,null,{"$f":"SUM(S16:V16)","v":0}]
["1.4.","от филиала \"Владимирэнерго\" ОАО \"МРСК Центра и Приволжья\" ",{"$f":"SUM(D17:G17)","v":4.41},4.41,null,null,null,{"$f":"SUM(I17:L17)","v":4.41},4.41,null,null,null,{"$f":"SUM(N17:Q17)","v":4.47},4.47,null,null,null,{"$f":"SUM(S17:V17)","v":0}]
["1.5.","от других сетевых организаций",{"$f":"SUM(D18:G18)","v":0},null,null,null,null,{"$f":"SUM(I18:L18)","v":0},null,null,null,null,{"$f":"SUM(N18:Q18)","v":0},null,null,null,null,{"$f":"SUM(S18:V18)","v":0}]
["2.","Потери мощности в сети ",{"$f":"SUM(D19:G19)","v":0.72815848812252004},{"$f":"D9*D20/100","v":0},{"$f":"E9*E20/100","v":0},{"$f":"F9*F20/100","v":0.27235278000000002},{"$f":"G9*G20/100","v":0.45580570812251997},{"$f":"SUM(I19:L19)","v":0.62423187301563998},{"$f":"I9*I20/100","v":0},{"$f":"J9*J20/100","v":0},{"$f":"K9*K20/100","v":0.26829558000000003},{"$f":"L9*L20/100","v":0.35593629301564},{"$f":"SUM(N19:Q19)","v":0.69865571488999989},{"$f":"N9*N20/100","v":0},{"$f":"O9*O20/100","v":0},{"$f":"P9*P20/100","v":0.27605825999999994},{"$f":"Q9*Q20/100","v":0.42259745488999995},{"$f":"SUM(S19:V19)","v":0},{"$f":"S9*S20/100","v":0},{"$f":"T9*T20/100","v":0},{"$f":"U9*U20/100","v":0},{"$f":"V9*V20/100","v":0}]
["2.1.","то же в % (п.2./п.1.)",{"$f":"IF(C9=0,0,C19/C9*100)","v":16.511530342914284},{"$f":"'Баланс энергии'!D20","v":0},{"$f":"'Баланс энергии'!E20","v":0},{"$f":"'Баланс энергии'!F20","v":6.1757999999999997},14.236599999999999,{"$f":"IF(H9=0,0,H19/H9*100)","v":14.154917755456689},{"$f":"'Баланс энергии'!S20","v":0},{"$f":"'Баланс энергии'!T20","v":0},{"$f":"'Баланс энергии'!U20","v":6.0838000000000001},14.154199999999999,{"$f":"IF(M9=0,0,M19/M9*100)","v":15.629881764876957},{"$f":"'Баланс энергии'!AW20","v":0},{"$f":"'Баланс энергии'!AX20","v":0},{"$f":"'Баланс энергии'!AY20","v":6.1757999999999997},12.35,{"$f":"IF(R9=0,0,R19/R9*100)","v":0},{"$f":"'Баланс энергии'!BL20","v":0},{"$f":"'Баланс энергии'!BM20","v":0},{"$f":"'Баланс энергии'!BN20","v":0}]
["3.","Расход электроэнергии на производственные и хознужды",{"$f":"SUM(D21:G21)","v":0},null,null,null,null,{"$f":"SUM(I21:L21)","v":0},null,null,null,null,{"$f":"SUM(N21:Q21)","v":0},null,null,null,null,{"$f":"SUM(S21:V21)","v":0}]
["4.","Полезный отпуск из сети ",{"$f":"SUM(D22:G22)","v":3.6818415118774799},{"$f":"D23+D24+D25","v":0},{"$f":"E23+E24+E25","v":0},{"$f":"F23+F24+F25","v":0.93600000000000005},{"$f":"G9-G19-G21","v":2.7458415118774799},{"$f":"SUM(I22:L22)","v":3.7857681269843599},{"$f":"I23+I24+I25","v":0},{"$f":"J23+J24+J25","v":0},{"$f":"K23+K24+K25","v":1.627},{"$f":"L9-L19-L21","v":2.1587681269843602},{"$f":"SUM(N22:Q22)","v":3.7713442851099996},{"$f":"N23+N24+N25","v":0},{"$f":"O23+O24+O25","v":0},{"$f":"P23+P24+P25","v":0.77210000000000001},{"$f":"Q9-Q19-Q21","v":2.9992442851099996},{"$f":"SUM(S22:V22)","v":0},{"$f":"S23+S24+S25","v":0},{"$f":"T23+T24+T25","v":0},{"$f":"U23+U24+U25","v":0},{"$f":"V9-V19-V21","v":0}]
["4.1.","потребителям, присоединенным к сети",{"$f":"SUM(D23:G23)","v":3.6818},null,null,0.93600000000000005,2.7458,{"$f":"SUM(I23:L23)","v":3.7858000000000001},null,null,1.627,2.1587999999999998,{"$f":"SUM(N23:Q23)","v":3.7713000000000001},null,null,0.77210000000000001,2.9992000000000001,{"$f":"SUM(S23:V23)","v":0}]
["4.2.","переток в филиал \"Владимирэнерго\" ОАО \"МРСК Центра и Приволжья\" ",{"$f":"SUM(D24:G24)","v":0},null,null,null,null,{"$f":"SUM(I24:L24)","v":0},null,null,null,null,{"$f":"SUM(N24:Q24)","v":0},null,null,null,null,{"$f":"SUM(S24:V24)","v":0}]
["4.3.","переток в другие сетевые организации",{"$f":"SUM(D25:G25)","v":0},null,null,null,null,{"$f":"SUM(I25:L25)","v":0},null,null,null,null,{"$f":"SUM(N25:Q25)","v":0},null,null,null,null,{"$f":"SUM(S25:V25)","v":0}]
[null,"Проверка",null,{"$f":"D9-D19-D21-D23-D24-D25-E12-F12-G12","v":0},{"$f":"E9-E19-E21-E23-E24-E25-F13-G13","v":0},{"$f":"F9-F19-F21-F23-F24-F25-G14","v":0},{"$f":"G9-G19-G21-G23-G24-G25","v":4.1511877479916137E-5},null,{"$f":"I9-I19-I21-I23-I24-I25-J12-K12-L12","v":0},{"$f":"J9-J19-J21-J23-J24-J25-K13-L13","v":0},{"$f":"K9-K19-K21-K23-K24-K25-L14","v":0},{"$f":"L9-L19-L21-L23-L24-L25","v":-3.187301563967182E-5},null,{"$f":"N9-N19-N21-N23-N24-N25-O12-P12-Q12","v":0},{"$f":"O9-O19-O21-O23-O24-O25-P13-Q13","v":0},{"$f":"P9-P19-P21-P23-P24-P25-Q14","v":0},{"$f":"Q9-Q19-Q21-Q23-Q24-Q25","v":4.4285109999542271E-5},null,{"$f":"S9-S19-S21-S23-S24-S25-T12-U12-V12","v":0},{"$f":"T9-T19-T21-T23-T24-T25-U13-V13","v":0},{"$f":"U9-U19-U21-U23-U24-U25-V14","v":0},{"$f":"V9-V19-V21-V23-V24-V25","v":0}]
[]
[null,"Примечание"]
[]
[null,"Расшифровка п. 1.5. (Поступление от других сетевых организаций) "]
["№","Наименование других сетевых организаций","Всего","ВН","СН1","СН2","НН","Всего","ВН","СН1","СН2","НН","Всего","ВН","СН1","СН2","НН","Всего","ВН","СН1","СН2","НН"]
[null,null,{"$f":"SUM(D32:G32)","v":0},null,null,null,null,{"$f":"SUM(I32:L32)","v":0},null,null,null,null,{"$f":"SUM(N32:Q32)","v":0},null,null,null,null,{"$f":"SUM(S32:V32)","v":0}]
[null,null,{"$f":"SUM(D33:G33)","v":0},null,null,null,null,{"$f":"SUM(I33:L33)","v":0},null,null,null,null,{"$f":"SUM(N33:Q33)","v":0},null,null,null,null,{"$f":"SUM(S33:V33)","v":0}]
[null,"Добавить"]
[null,"Итого",{"$f":"SUM(C32:C33)","v":0},0,0,0,0,0,0,0,0,0,0,0,0,0,0,0,0,0,0,0]
[]
[null,"Расшифровка п. 4.3. (Полезный отпуск - переток в другие сетевые организации) "]
["№","Наименование других сетевых организаций","Всего","ВН","СН1","СН2","НН","Всего","ВН","СН1","СН2","НН","Всего","ВН","СН1","СН2","НН","Всего","ВН","СН1","СН2","НН"]
[null,null,{"$f":"SUM(D39:G39)","v":0},null,null,null,null,{"$f":"SUM(I39:L39)","v":0},null,null,null,null,{"$f":"SUM(N39:Q39)","v":0},null,null,null,null,{"$f":"SUM(S39:V39)","v":0}]
[null,null,{"$f":"SUM(D40:G40)","v":0},null,null,null,null,{"$f":"SUM(I40:L40)","v":0},null,null,null,null,{"$f":"SUM(N40:Q40)","v":0},null,null,null,null,{"$f":"SUM(S40:V40)","v":0}]
[null,null,{"$f":"SUM(D41:G41)","v":0},null,null,null,null,{"$f":"SUM(I41:L41)","v":0},null,null,null,null,{"$f":"SUM(N41:Q41)","v":0},null,null,null,null,{"$f":"SUM(S41:V41)","v":0}]
[null,"Добавить"]
[null,"Итого",{"$f":"SUM(C39:C41)","v":0},{"$f":"SUM(D39:D41)","v":0},{"$f":"SUM(E39:E41)","v":0},{"$f":"SUM(F39:F41)","v":0},{"$f":"SUM(G39:G41)","v":0},{"$f":"SUM(H39:H41)","v":0},0,0,0,0,0,0,0,0,0,0,0,0,0,0]
[]
[null,"Расшифровка п. 4.1. (Полезный отпуск потребителям,  присоединенным к сети) "]
["№","Наименование сбытовых организаций","Всего","ВН","СН1","СН2","НН","Всего","ВН","СН1","СН2","НН","Всего","ВН","СН1","СН2","НН","Всего","ВН","СН1","СН2","НН"]
["1.","ОАО \"Владимирэнергосбыт\" всего, в том числе:",{"$f":"D47+E47+F47+G47","v":0},{"$f":"D48+D49","v":0},{"$f":"E48+E49","v":0},{"$f":"F48+F49","v":0},{"$f":"G48+G49","v":0},{"$f":"I47+J47+K47+L47","v":0},{"$f":"I48+I49","v":0},{"$f":"J48+J49","v":0},{"$f":"K48+K49","v":0},{"$f":"L48+L49","v":0},{"$f":"N47+O47+P47+Q47","v":0},{"$f":"N48+N49","v":0},{"$f":"O48+O49","v":0},{"$f":"P48+P49","v":0},{"$f":"Q48+Q49","v":0},{"$f":"S47+T47+U47+V47","v":0},{"$f":"S48+S49","v":0},{"$f":"T48+T49","v":0},{"$f":"U48+U49","v":0},{"$f":"V48+V49","v":0}]
["1.1.","прочие потребители",{"$f":"D48+E48+F48+G48","v":0},null,null,null,null,{"$f":"I48+J48+K48+L48","v":0},null,null,null,null,{"$f":"N48+O48+P48+Q48","v":0},null,null,null,null,{"$f":"S48+T48+U48+V48","v":0}]
["1.2.","население",0,null,null,null,null,0,null,null,null,null,0,null,null,null,null,0]
["2.","ОАО \"ВКС\" всего, в том числе:",0,{"$f":"D51+D52","v":0},{"$f":"E51+E52","v":0},{"$f":"F51+F52","v":0},{"$f":"G51+G52","v":0},0,{"$f":"I51+I52","v":0},{"$f":"J51+J52","v":0},{"$f":"K51+K52","v":0},{"$f":"L51+L52","v":0},0,{"$f":"N51+N52","v":0},{"$f":"O51+O52","v":0},{"$f":"P51+P52","v":0},{"$f":"Q51+Q52","v":0},0,{"$f":"S51+S52","v":0},{"$f":"T51+T52","v":0},{"$f":"U51+U52","v":0},{"$f":"V51+V52","v":0}]
["2.1.","прочие потребители",0,null,null,null,null,0,null,null,null,null,0,null,null,null,null,0]
["2.2.","население",0,null,null,null,null,0,null,null,null,null,0,null,null,null,null,0]
["3.","ОАО \"Русэнергосбыт\"",0,{"$f":"D54+D55","v":0},{"$f":"E54+E55","v":0},{"$f":"F54+F55","v":0},{"$f":"G54+G55","v":0},0,{"$f":"I54+I55","v":0},{"$f":"J54+J55","v":0},{"$f":"K54+K55","v":0},{"$f":"L54+L55","v":0},0,{"$f":"N54+N55","v":0},{"$f":"O54+O55","v":0},{"$f":"P54+P55","v":0},{"$f":"Q54+Q55","v":0},0,{"$f":"S54+S55","v":0},{"$f":"T54+T55","v":0},{"$f":"U54+U55","v":0},{"$f":"V54+V55","v":0}]
["3.1.","прочие потребители",0,null,null,null,null,0,null,null,null,null,0,null,null,null,null,0]
["3.2.","население",0,null,null,null,null,0,null,null,null,null,0,null,null,null,null,0]
["4.","ОАО \"Оборонэнергосбыт\"",0,{"$f":"D57+D58","v":0},{"$f":"E57+E58","v":0},{"$f":"F57+F58","v":0},{"$f":"G57+G58","v":0},0,{"$f":"I57+I58","v":0},{"$f":"J57+J58","v":0},{"$f":"K57+K58","v":0},{"$f":"L57+L58","v":0},0,{"$f":"N57+N58","v":0},{"$f":"O57+O58","v":0},{"$f":"P57+P58","v":0},{"$f":"Q57+Q58","v":0},0,{"$f":"S57+S58","v":0},{"$f":"T57+T58","v":0},{"$f":"U57+U58","v":0},{"$f":"V57+V58","v":0}]
["4.1.","прочие потребители",0,null,null,null,null,0,null,null,null,null,0,null,null,null,null,0]
["4.2.","население",0,null,null,null,null,0,null,null,null,null,0,null,null,null,null,0]
["Добавить"]
[null,"Итого всего, в том числе:",{"$f":"D60+E60+F60+G60","v":0},{"$f":"D61+D62","v":0},{"$f":"E61+E62","v":0},{"$f":"F61+F62","v":0},{"$f":"G61+G62","v":0},{"$f":"I60+J60+K60+L60","v":0},{"$f":"I61+I62","v":0},{"$f":"J61+J62","v":0},{"$f":"K61+K62","v":0},{"$f":"L61+L62","v":0},{"$f":"N60+O60+P60+Q60","v":0},{"$f":"N61+N62","v":0},{"$f":"O61+O62","v":0},{"$f":"P61+P62","v":0},{"$f":"Q61+Q62","v":0},{"$f":"S60+T60+U60+V60","v":0},{"$f":"S61+S62","v":0},{"$f":"T61+T62","v":0},{"$f":"U61+U62","v":0},{"$f":"V61+V62","v":0}]
[null,"прочие потребители",{"$f":"D61+E61+F61+G61","v":0},{"$f":"D48+D51+D54+D57","v":0},{"$f":"E48+E51+E54+E57","v":0},0,0,{"$f":"I61+J61+K61+L61","v":0},{"$f":"I48+I51+I54+I57","v":0},{"$f":"J48+J51+J54+J57","v":0},0,0,{"$f":"N61+O61+P61+Q61","v":0},{"$f":"N48+N51+N54+N57","v":0},{"$f":"O48+O51+O54+O57","v":0},0,0,{"$f":"S61+T61+U61+V61","v":0},{"$f":"S48+S51+S54+S57","v":0},0,0,0]
[null,"население",{"$f":"D62+E62+F62+G62","v":0},{"$f":"D49+D52+D55+D58","v":0},0,0,0,{"$f":"I62+J62+K62+L62","v":0},{"$f":"I49+I52+I55+I58","v":0},0,0,0,{"$f":"N62+O62+P62+Q62","v":0},{"$f":"N49+N52+N55+N58","v":0},0,0,0,{"$f":"S62+T62+U62+V62","v":0},0,0,0,0]
[]
[null,"Руководитель организации",null,null,null,null,{"$f":"'Инф-я'!C17","v":"Окунев Василий Михайлович"}]
[]
[null,"Справочная информация:"]
[null,"Фактические данные по мощности заполняются по данным приборов учета электрической мощности, в случае отсутствия приборов учета по результатам контрольных замеров мощности"]

{"sheet":"УЕ ВЛЭП 2015-2018","index":5,"n_rows":54,"n_cols":18,"rows_kept":54,"cut":false,"hidden":false,"merged":[[51,0,51,4],[17,1,21,1],[9,0,26,0],[11,1,12,1],[22,2,24,2],[17,2,19,2],[20,2,21,2],[25,2,26,2],[22,1,26,1],[7,16,7,17],[5,4,6,4],[7,12,7,13],[7,10,7,11],[38,0,39,0],[35,1,37,1],[35,2,37,2],[27,0,28,0],[30,0,37,0],[30,1,34,1],[33,2,34,2],[30,2,32,2],[13,1,16,1],[13,2,14,2],[15,2,16,2],[7,8,7,9],[53,1,53,4],[53,6,53,11],[2,0,2,15],[5,0,6,0],[5,1,6,1],[5,2,6,2],[5,3,6,3],[7,6,7,7],[3,0,3,15],[7,14,7,15],[42,0,44,0],[42,1,44,1],[42,2,44,2],[47,0,50,0],[47,1,50,3],[11,2,12,2]]}
[]
[]
["Объем воздушных линий электропередач (ВЛЭП) и кабельных линий электропередач (КЛЭП) в условных единицах в зависимости от протяженности, напряжения, конструктивного использования и материала опор в период с 2015 по 2018 годы"]
[{"$f":"'Инф-я'!C9","v":"Общество с ограниченной ответственностью \"Энергетик\""}]
[]
["ЛЭП","Напряжение, кВ ","Количество цепей на опоре","Материал опор","Наименование","Количество условных единиц (у) на 100 км трассы ЛЭП","Протяженность","Объем условных единиц","Протяженность","Объем условных единиц","Протяженность","Объем условных единиц","Протяженность","Объем условных единиц","Протяженность","Объем условных единиц","Протяженность","Объем условных единиц"]
[null,null,null,null,null,"у/100км","км","у","км","у","км","у","км","у","км","у","км","у"]
[null,null,null,null,null,null,"2015 год факт",null,"2016 год утверждено",null,"2016 год факт",null,"2017 год утверждено",null,"2018 год план по данным организации",null,"2018 год по данным экспертов"]
[1,{"$f":"+A9+1","v":2},{"$f":"+B9+1","v":3},{"$f":"+C9+1","v":4},5,6,7,8,9,10,11,12,13,14,15,16,17,18]
["ВЛЭП",1150,"-","металл","ВЛЭП-1150кВ-металл",800,null,{"$f":"G10*F10/100","v":0},null,{"$f":"I10*F10/100","v":0},null,{"$f":"K10*F10/100","v":0},null,{"$f":"F10*M10/100","v":0},null,{"$f":"F10*O10/100","v":0},null,{"$f":"$F10*Q10/100","v":0}]
[null,750,1,"металл","ВЛЭП-750кВ-цепей:1-металл",600,null,{"$f":"G11*F11/100","v":0},null,{"$f":"I11*F11/100","v":0},null,0,null,0,null,0,null,0]
[null,"400-500",1,"металл","ВЛЭП-400-500кВ-цепей:1-металл",400,null,0,null,0,null,0,null,0,null,0,null,0]
[null,null,null,"ж/бетон","ВЛЭП-400-500кВ-ж/бетон",300,null,0,null,0,null,0,null,0,null,0,null,0]
[null,330,1,"металл","ВЛЭП-330кВ-цепей:1-металл",230,null,0,null,0,null,0,null,0,null,0,null,0]
[null,null,null,"ж/бетон","ВЛЭП-330кВ-ж/бетон",170,null,0,null,0,null,0,null,0,null,0,null,0]
[null,null,2,"металл","ВЛЭП-330кВ-цепей:2-металл",290,null,0,null,0,null,0,null,0,null,0,null,0]
[null,null,null,"ж/бетон","ВЛЭП-330кВ-ж/бетон",210,null,0,null,0,null,0,null,0,null,0,null,0]
[null,220,1,"дерево","ВЛЭП-220кВ-цепей:1-дерево",260,null,0,null,0,null,0,null,0,null,0,null,0]
[null,null,null,"металл","ВЛЭП-220кВ-металл",210,null,0,null,0,null,0,null,0,null,0,null,0]
[null,null,null,"ж/бетон","ВЛЭП-220кВ-ж/бетон",140,null,0,null,0,null,0,null,0,null,0,null,0]
[null,null,2,"металл","ВЛЭП-220кВ-цепей:2-металл",270,null,0,null,0,null,0,null,0,null,0,null,0]
[null,null,null,"ж/бетон","ВЛЭП-220кВ-ж/бетон",180,null,0,null,0,null,0,null,0,null,0,null,0]
[null,"110-150",1,"дерево","ВЛЭП-110-150кВ-цепей:1-дерево",180,null,0,null,0,null,0,null,0,null,0,null,0]
[null,null,null,"металл","ВЛЭП-110-150кВ-металл",160,null,0,null,0,null,0,null,0,null,0,null,0]
[null,null,null,"ж/бетон","ВЛЭП-110-150кВ-ж/бетон",130,null,0,null,0,null,0,null,0,null,0,null,0]
[null,null,2,"металл","ВЛЭП-110-150кВ-цепей:2-металл",190,null,0,null,0,null,0,null,0,null,0,null,0]
[null,null,null,"ж/бетон","ВЛЭП-110-150кВ-ж/бетон",160,null,0,null,0,null,0,null,0,null,0,null,0]
["КЛЭП",220,"-","-","КЛЭП-220кВ",3000,null,0,null,0,null,0,null,0,null,0,null,0]
[null,110,"-","-","КЛЭП-110кВ",2300,null,0,null,0,null,0,null,0,null,0,null,0]
["ВН, всего ",null,null,null,"Итого:",null,{"$f":"SUM(G10:G29)","v":0},{"$f":"SUM(H10:H29)","v":0},{"$f":"SUM(I10:I29)","v":0},{"$f":"SUM(J10:J29)","v":0},{"$f":"SUM(K10:K29)","v":0},0,0,0,0,0,{"$f":"SUM(Q10:Q29)","v":0},0]
["ВЛЭП",35,1,"дерево","ВЛЭП-35кВ-цепей:1-дерево",170,null,0,null,0,null,{"$f":"K31*F31/100","v":0},null,{"$f":"F31*M31/100","v":0},null,{"$f":"F31*O31/100","v":0},null,{"$f":"$F31*Q31/100","v":0}]
[null,null,null,"металл","ВЛЭП-35кВ-металл",140,null,0,null,0,null,0,null,0,null,0,null,0]
[null,null,null,"ж/бетон","ВЛЭП-35кВ-ж/бетон",120,null,0,null,0,null,0,null,0,null,0,null,0]
[null,null,2,"металл","ВЛЭП-35кВ-цепей:2-металл",180,null,0,null,0,null,0,null,0,null,0,null,0]
[null,null,null,"ж/бетон","ВЛЭП-35кВ-ж/бетон",150,null,0,null,0,null,0,null,0,null,0,null,0]
[null," 1 - 20 ","-","дерево","ВЛЭП-1-20кВ-дерево",160,null,0,null,0,null,0,null,0,null,0,null,0]
[null,null,null,"дерево на ж/б пасынках","ВЛЭП-1-20кВ-дерево на ж/б пасынках",140,7.74,10.836000000000002,7.7350000000000003,10.829000000000001,7.52,10.527999999999999,7.74,10.836000000000002,7.52,10.527999999999999,null,0]
[null,null,null,"ж/бетон, металл","ВЛЭП-1-20кВ-ж/бетон,металл",110,33.72,37.091999999999999,33.719000000000001,37.090900000000005,36.18,39.798000000000002,33.72,37.091999999999999,38.770000000000003,42.647000000000006,null,0]
["КЛЭП"," 20 -35","-","-","КЛЭП-20-35кВ",470,null,0,null,0,null,0,null,0,null,0,null,0]
[null," 3 - 10","-","-","КЛЭП-3-10кВ",350,16.7,58.45,16.7,58.45,16.7,58.45,16.7,58.45,16.7,58.45,null,0]
["СН-1, всего",null,null,null,"Итого:",null,{"$f":"SUM(G31:G35)+G39","v":0},{"$f":"SUM(H31:H35)+H39","v":0},{"$f":"SUM(I31:I35)+I39","v":0},{"$f":"SUM(J31:J35)+J39","v":0},{"$f":"SUM(K31:K35)+K39","v":0},0,0,0,0,0,{"$f":"SUM(Q31:Q35)+Q39","v":0},0]
["СН-2, всего",null,null,null,"Итого:",null,{"$f":"SUM(G36:G38)+G40","v":58.16},{"$f":"SUM(H36:H38)+H40","v":106.378},{"$f":"SUM(I36:I38)+I40","v":58.153999999999996},{"$f":"SUM(J36:J38)+J40","v":106.3699},{"$f":"SUM(K36:K38)+K40","v":60.400000000000006},108.77600000000001,58.16,106.378,62.990000000000009,111.625,{"$f":"SUM(Q36:Q38)+Q40","v":0},0]
["ВЛЭП","0,4 кВ ","-","дерево","ВЛЭП-0,4кВ-дерево",260,null,{"$f":"G43*F43/100","v":0},null,{"$f":"I43*F43/100","v":0},null,{"$f":"K43*F43/100","v":0},null,{"$f":"F43*M43/100","v":0},null,{"$f":"F43*O43/100","v":0},null,{"$f":"$F43*Q43/100","v":0}]
[null,null,null,"дерево на ж/б пасынках","ВЛЭП-0,4кВ-дерево на ж/б пасынках",220,130.19999999999999,{"$f":"G44*F44/100","v":286.43999999999994},130.19999999999999,286.43999999999994,122.81,{"$f":"K44*F44/100","v":270.18200000000002},130.19999999999999,{"$f":"F44*M44/100","v":286.43999999999994},122.81,{"$f":"F44*O44/100","v":270.18200000000002},null,{"$f":"$F44*Q44/100","v":0}]
[null,null,null,"ж/бетон, металл","ВЛЭП-0,4кВ-ж/бетон,металл",150,6.3209999999999997,{"$f":"G45*F45/100","v":9.4815000000000005},5.6909999999999998,8.5365000000000002,13.71,{"$f":"K45*F45/100","v":20.565000000000001},6.3209999999999997,{"$f":"F45*M45/100","v":9.4815000000000005},15.83,{"$f":"F45*O45/100","v":23.745000000000001},null,{"$f":"$F45*Q45/100","v":0}]
["КЛЭП","до 1 кВ ","-","-","КЛЭП-до1кВ",270,12.4,{"$f":"G46*F46/100","v":33.479999999999997},12.4,33.479999999999997,12.4,{"$f":"K46*F46/100","v":33.479999999999997},12.4,{"$f":"F46*M46/100","v":33.479999999999997},12.4,{"$f":"F46*O46/100","v":33.479999999999997},null,{"$f":"$F46*Q46/100","v":0}]
["НН, всего",null,null,null,"Итого:",null,{"$f":"SUM(G43:G46)","v":148.92099999999999},{"$f":"SUM(H43:H46)","v":329.40149999999994},{"$f":"SUM(I43:I46)","v":148.291},{"$f":"SUM(J43:J46)","v":328.45649999999995},{"$f":"SUM(K43:K46)","v":148.92000000000002},324.22700000000003,148.92099999999999,329.40149999999994,151.04000000000002,327.40700000000004,{"$f":"SUM(Q43:Q46)","v":0},0]
[null,"Итого по уровням напряжения:",null,null,"ВН",null,{"$f":"G30","v":0},{"$f":"H30","v":0},{"$f":"I30","v":0},{"$f":"J30","v":0},{"$f":"K30","v":0},0,0,0,0,0,{"$f":"Q30","v":0},0]
[null,null,null,null,"СН1",null,{"$f":"G41","v":0},0,0,0,{"$f":"K41","v":0},0,0,0,0,0,{"$f":"Q41","v":0},0]
[null,null,null,null,"СН2",null,58.16,106.378,58.153999999999996,106.3699,60.400000000000006,108.77600000000001,58.16,106.378,62.990000000000009,111.625,{"$f":"Q42","v":0},0]
[null,null,null,null,"НН",null,{"$f":"G47","v":148.92099999999999},{"$f":"H47","v":329.40149999999994},{"$f":"I47","v":148.291},{"$f":"J47","v":328.45649999999995},{"$f":"K47","v":148.92000000000002},324.22700000000003,148.92099999999999,329.40149999999994,151.04000000000002,327.40700000000004,{"$f":"Q47","v":0},0]
["ВСЕГО:",null,null,null,null,null,{"$f":"SUM(G48:G51)","v":207.08099999999999},{"$f":"SUM(H48:H51)","v":435.77949999999993},{"$f":"SUM(I48:I51)","v":206.44499999999999},{"$f":"SUM(J48:J51)","v":434.82639999999992},{"$f":"SUM(K48:K51)","v":209.32000000000002},433.00300000000004,207.08099999999999,435.77949999999993,214.03000000000003,439.03200000000004,{"$f":"SUM(Q48:Q51)","v":0},0]
[]
[null,"Руководитель организации",null,null,null,null,{"$f":"'Инф-я'!C17","v":"Окунев Василий Михайлович"}]

{"sheet":"УЕ ТП 2015-2018","index":6,"n_rows":61,"n_cols":18,"rows_kept":61,"cut":false,"hidden":false,"merged":[[6,16,6,17],[8,0,14,0],[35,1,39,1],[35,3,39,3],[23,1,30,1],[23,3,30,3],[6,14,6,15],[6,6,6,7],[6,10,6,11],[6,12,6,13],[15,0,22,0],[6,8,6,9],[31,1,34,1],[31,3,34,3],[31,0,34,0],[23,0,30,0],[35,0,39,0],[43,3,44,3],[43,0,44,0],[49,0,52,0],[49,1,52,3],[43,1,44,1],[54,1,57,3],[58,1,58,3],[60,1,60,2],[60,5,60,7],[1,0,1,15],[4,0,5,0],[4,1,5,2],[4,3,5,3],[4,4,5,4],[2,1,2,17],[53,1,53,3],[8,1,14,1],[8,3,14,3],[15,1,22,1],[15,3,22,3],[6,1,6,2]]}
[]
["Объем подстанций 35-1150 кВ, трансформаторных подстанций (ТП), комплексных трансформаторных подстанций (КТП) и распределительных пунктов(РП) 0,4-20 кВ в условных единицах в период с 2015 по 2018 годы"]
[null,{"$f":"'Инф-я'!C9","v":"Общество с ограниченной ответственностью \"Энергетик\""}]
[]
["№ п.п.","Наименование",null,"Единица измерения","Напряжение, кВ ","Количество условных единиц (у) на единицу измерения","Количество единиц измерения","Объем условных единиц","Количество единиц измерения","Объем условных единиц","Количество единиц измерения","Объем условных единиц","Количество единиц измерения","Объем условных единиц","Количество единиц измерения","Объем условных единиц","Количество единиц измерения","Объем условных единиц"]
[null,null,null,null,null,"у/ед.изм.","ед.изм.","у","ед.изм.","у","ед.изм.","у","ед.изм.","у","ед.изм.","у","ед.изм.","у"]
[null,null,null,null,null,null,"2015 год факт",null,"2016 год утверждено",null,"2016 год факт",null,"2017 год утверждено",null,"2018 год план по данным организации",null,"2018 год по данным экспертов"]
[1,{"$f":"+A8+1","v":2},3,4,5,6,7,8,9,10,11,12,13,14,15,16,17,18]
[1,"Подстанция",{"$f":"B9","v":"Подстанция"},"П/ст",1150,1000,null,{"$f":"F9*G9","v":0},null,{"$f":"I9*F9","v":0},null,{"$f":"K9*F9","v":0},null,{"$f":"F9*M9","v":0},null,{"$f":"F9*O9","v":0},null,{"$f":"$F9*Q9","v":0}]
[null,null,{"$f":"B9","v":"Подстанция"},null,750,600,null,0,null,{"$f":"I10*F10","v":0},null,0,null,0,null,0,null,{"$f":"$F10*Q10","v":0}]
[null,null,{"$f":"B9","v":"Подстанция"},null,"400-500",500,null,0,null,0,null,0,null,0,null,0,null,0]
[null,null,{"$f":"B9","v":"Подстанция"},null,330,250,null,0,null,0,null,0,null,0,null,0,null,0]
[null,null,{"$f":"B9","v":"Подстанция"},null,220,210,null,0,null,0,null,0,null,0,null,0,null,0]
[null,null,{"$f":"B9","v":"Подстанция"},null,"110-150",105,null,0,null,0,null,0,null,0,null,0,null,0]
[null,null,{"$f":"B9","v":"Подстанция"},null,35,75,null,0,null,0,null,0,null,0,null,0,null,0]
[2,"Силовой трансформатор или реактор (одно- или трехфазный), или вольтодобавочный трансформатор",{"$f":"B16","v":"Силовой трансформатор или реактор (одно- или трехфазный), или вольтодобавочный трансформатор"},"Ед. оборуд.",1150,60,null,0,null,0,null,0,null,0,null,0,null,0]
[null,null,{"$f":"B16","v":"Силовой трансформатор или реактор (одно- или трехфазный), или вольтодобавочный трансформатор"},null,750,43,null,0,null,0,null,0,null,0,null,0,null,0]
[null,null,{"$f":"B16","v":"Силовой трансформатор или реактор (одно- или трехфазный), или вольтодобавочный трансформатор"},null,"400-500",28,null,0,null,0,null,0,null,0,null,0,null,0]
[null,null,{"$f":"B16","v":"Силовой трансформатор или реактор (одно- или трехфазный), или вольтодобавочный трансформатор"},null,330,18,null,0,null,0,null,0,null,0,null,0,null,0]
[null,null,{"$f":"B16","v":"Силовой трансформатор или реактор (одно- или трехфазный), или вольтодобавочный трансформатор"},null,220,14,null,0,null,0,null,0,null,0,null,0,null,0]
[null,null,{"$f":"B16","v":"Силовой трансформатор или реактор (одно- или трехфазный), или вольтодобавочный трансформатор"},null,"110-150",7.8,null,0,null,0,null,0,null,0,null,0,null,0]
[null,null,{"$f":"B16","v":"Силовой трансформатор или реактор (одно- или трехфазный), или вольтодобавочный трансформатор"},null,35,2.1,null,0,null,0,null,0,null,0,null,0,null,0]
[null,null,{"$f":"B16","v":"Силовой трансформатор или реактор (одно- или трехфазный), или вольтодобавочный трансформатор"},null,"1-20",1,null,0,null,0,null,0,null,0,null,0,null,0]
[3,"Воздушный выключатель",{"$f":"B24","v":"Воздушный выключатель"},"3 фазы",1150,180,null,0,null,0,null,0,null,0,null,0,null,0]
[null,null,{"$f":"B24","v":"Воздушный выключатель"},null,750,130,null,0,null,0,null,0,null,0,null,0,null,0]
[null,null,{"$f":"B24","v":"Воздушный выключатель"},null,"400-500",88,null,0,null,0,null,0,null,0,null,0,null,0]
[null,null,{"$f":"B24","v":"Воздушный выключатель"},null,330,66,null,0,null,0,null,0,null,0,null,0,null,0]
[null,null,{"$f":"B24","v":"Воздушный выключатель"},null,220,43,null,0,null,0,null,0,null,0,null,0,null,0]
[null,null,{"$f":"B24","v":"Воздушный выключатель"},null,"110-150",26,null,0,null,0,null,0,null,0,null,0,null,0]
[null,null,{"$f":"B24","v":"Воздушный выключатель"},null,35,11,null,0,null,0,null,0,null,0,null,0,null,0]
[null,null,{"$f":"B24","v":"Воздушный выключатель"},null,"1-20",5.5,null,0,null,0,null,0,null,0,null,0,null,0]
[4,"Масляный (вакуумный) выключатель",{"$f":"B32","v":"Масляный (вакуумный) выключатель"}," - \" -",220,23,null,0,null,0,null,0,null,0,null,0,null,0]
[null,null,{"$f":"B32","v":"Масляный (вакуумный) выключатель"},null,"110-150",14,null,0,null,0,null,0,null,0,null,0,null,0]
[null,null,{"$f":"B32","v":"Масляный (вакуумный) выключатель"},null,35,6.4,null,0,null,0,null,0,null,0,null,0,null,0]
[null,null,{"$f":"B32","v":"Масляный (вакуумный) выключатель"},null,"1-20",3.1,9,27.900000000000002,9,27.900000000000002,9,27.900000000000002,9,27.900000000000002,9,27.900000000000002,null,0]
[5,"Отделитель с короткозамыкателем",{"$f":"B36","v":"Отделитель с короткозамыкателем"},"Ед. оборуд.","400-500",35,null,0,null,0,null,0,null,0,null,0,null,0]
[null,null,{"$f":"B36","v":"Отделитель с короткозамыкателем"},null,330,24,null,0,null,0,null,0,null,0,null,0,null,0]
[null,null,{"$f":"B36","v":"Отделитель с короткозамыкателем"},null,220,19,null,0,null,0,null,0,null,0,null,0,null,0]
[null,null,{"$f":"B36","v":"Отделитель с короткозамыкателем"},null,"110-150",9.5,null,0,null,0,null,0,null,0,null,0,null,0]
[null,null,{"$f":"B36","v":"Отделитель с короткозамыкателем"},null,35,4.7,null,0,null,0,null,0,null,0,null,0,null,0]
[6,"Выключатель нагрузки",{"$f":"B41","v":"Выключатель нагрузки"}," - \" -","1-20",2.2999999999999998,142,326.59999999999997,142,326.59999999999997,157,361.09999999999997,142,326.59999999999997,157,361.09999999999997,null,0]
[7,"Синхронный компенсатор мощн. до 50 Мвар",{"$f":"B42","v":"Синхронный компенсатор мощн. до 50 Мвар"}," - \" -","1-20",26,null,0,null,0,null,0,null,0,null,0,null,0]
[8,"То же, 50 Мвар и более","Синхронный компенсатор мощн. 50 Мвар и выше"," - \" -","1-20",48,null,0,null,0,null,0,null,0,null,0,null,0]
[9,"Статические конденсаторы",{"$f":"B44","v":"Статические конденсаторы"},"100 конд.",35,2.4,null,0,null,0,null,0,null,0,null,0,null,0]
[null,null,{"$f":"B44","v":"Статические конденсаторы"},null,"1-20",2.4,null,0,null,0,null,0,null,0,null,0,null,0]
[10,"Мачтовая (столбовая) ТП",{"$f":"B46","v":"Мачтовая (столбовая) ТП"},"ТП","1-20",2.5,5,12.5,5,12.5,18,45,9,22.5,18,45,null,0]
[11,"Однотрансфор-маторная ТП, КТП",{"$f":"B47","v":"Однотрансфор-маторная ТП, КТП"},"ТП, КТП","1-20",2.2999999999999998,28,64.399999999999991,28,64.399999999999991,29,66.699999999999989,28,64.399999999999991,29,66.699999999999989,null,0]
[12,"Двухтрансформаторная ТП, КТП",{"$f":"B48","v":"Двухтрансформаторная ТП, КТП"},"ТП, КТП","1-20",3,9,27,12,36,9,27,9,27,9,27,null,0]
[13,"Однотрансфор-маторная подстанция 34/0,4 кВ ",{"$f":"B49","v":"Однотрансфор-маторная подстанция 34/0,4 кВ "},"п/ст",35,3.5,null,0,null,0,null,0,null,0,null,0,null,0]
[null,"Итого оборудование по уровням напряжения:",null,null,"ВН",null,"х",{"$f":"H9+H10+H11+H12+H16+H17+H18+H19+H24+H25+H26+H27+H36+H37+H39+H38+H33+H32+H29+H28+H21+H20+H14+H13","v":0},"х",0,"х",0,"х",{"$f":"N9+N10+N11+N12+N16+N17+N18+N19+N24+N25+N26+N27+N36+N37+N39+N38+N33+N32+N29+N28+N21+N20+N14+N13","v":0},"х",{"$f":"P9+P10+P11+P12+P16+P17+P18+P19+P24+P25+P26+P27+P36+P37+P39+P38+P33+P32+P29+P28+P21+P20+P14+P13","v":0},"х",{"$f":"R9+R10+R11+R12+R16+R17+R18+R19+R24+R25+R26+R27+R36+R37+R39+R38+R33+R32+R29+R28+R21+R20+R14+R13","v":0}]
[null,null,null,null,"СН1",null,"х",{"$f":"H15+H22+H30+H34+H40+H44+H49","v":0},"х",0,"х",0,"х",{"$f":"N15+N22+N30+N34+N40+N44+N49","v":0},"х",{"$f":"P15+P22+P30+P34+P40+P44+P49","v":0},"х",{"$f":"R15+R22+R30+R34+R40+R44+R49","v":0}]
[null,null,null,null,"СН2",null,"х",{"$f":"H23+H31+H35+H41+H42+H43+H45+H46+H47+H48","v":458.39999999999992},"х",467.39999999999992,"х",527.69999999999993,"х",{"$f":"N23+N31+N35+N41+N42+N43+N45+N46+N47+N48","v":468.39999999999992},"х",{"$f":"P23+P31+P35+P41+P42+P43+P45+P46+P47+P48","v":527.69999999999993},"х",{"$f":"R23+R31+R35+R41+R42+R43+R45+R46+R47+R48","v":0}]
[null,null,null,null,"НН",null,"х",{"$f":"SUM(H9:H49) - H50-H51-H52","v":0},"х",0,"х",0,"х",{"$f":"SUM(N9:N49) - N50-N51-N52","v":0},"х",{"$f":"SUM(P9:P49) - P50-P51-P52","v":0},"х",{"$f":"SUM(R9:R49) - R50-R51-R52","v":0}]
[null,"Итого по оборудованию",null,null,null,null,"х",{"$f":"SUM(H50:H53)","v":458.39999999999992},"х",467.39999999999992,"х",527.69999999999993,"х",{"$f":"SUM(N50:N53)","v":468.39999999999992},"х",{"$f":"SUM(P50:P53)","v":527.69999999999993},"х",{"$f":"SUM(R50:R53)","v":0}]
[null,"Всего активов по уровням напряжения:",null,null,"ВН",null,"х",{"$f":"H50+'УЕ ВЛЭП 2015-2018'!H48","v":0},"х",{"$f":"J50+'УЕ ВЛЭП 2015-2018'!J48","v":0},"х",{"$f":"L50+'УЕ ВЛЭП 2015-2018'!L48","v":0},"х",{"$f":"N50+'УЕ ВЛЭП 2015-2018'!N48","v":0},"х",{"$f":"P50+'УЕ ВЛЭП 2015-2018'!P48","v":0},"х",{"$f":"R50+'УЕ ВЛЭП 2015-2018'!R48","v":0}]
[null,null,null,null,"СН1",null,"х",{"$f":"H51+'УЕ ВЛЭП 2015-2018'!H49","v":0},"х",{"$f":"J51+'УЕ ВЛЭП 2015-2018'!J49","v":0},"х",{"$f":"L51+'УЕ ВЛЭП 2015-2018'!L49","v":0},"х",{"$f":"N51+'УЕ ВЛЭП 2015-2018'!N49","v":0},"х",{"$f":"P51+'УЕ ВЛЭП 2015-2018'!P49","v":0},"х",{"$f":"R51+'УЕ ВЛЭП 2015-2018'!R49","v":0}]
[null,null,null,null,"СН2",null,"х",{"$f":"H52+'УЕ ВЛЭП 2015-2018'!H50","v":564.77799999999991},"х",{"$f":"J52+'УЕ ВЛЭП 2015-2018'!J50","v":573.76989999999989},"х",{"$f":"L52+'УЕ ВЛЭП 2015-2018'!L50","v":636.47599999999989},"х",{"$f":"N52+'УЕ ВЛЭП 2015-2018'!N50","v":574.77799999999991},"х",{"$f":"P52+'УЕ ВЛЭП 2015-2018'!P50","v":639.32499999999993},"х",{"$f":"R52+'УЕ ВЛЭП 2015-2018'!R50","v":0}]
[null,null,null,null,"НН",null,"х",{"$f":"H53+'УЕ ВЛЭП 2015-2018'!H51","v":329.40149999999994},"х",{"$f":"J53+'УЕ ВЛЭП 2015-2018'!J51","v":328.45649999999995},"х",{"$f":"L53+'УЕ ВЛЭП 2015-2018'!L51","v":324.22700000000003},"х",{"$f":"N53+'УЕ ВЛЭП 2015-2018'!N51","v":329.40149999999994},"х",{"$f":"P53+'УЕ ВЛЭП 2015-2018'!P51","v":327.40700000000004},"х",{"$f":"R53+'УЕ ВЛЭП 2015-2018'!R51","v":0}]
[null,"Количество активов - всего",null,null,null,null,"х",{"$f":"H58+H57+H56+H55","v":894.17949999999985},"х",{"$f":"J58+J57+J56+J55","v":902.22639999999978},"х",{"$f":"L58+L57+L56+L55","v":960.70299999999997},"х",{"$f":"N58+N57+N56+N55","v":904.17949999999985},"х",{"$f":"P58+P57+P56+P55","v":966.73199999999997},"х",{"$f":"R58+R57+R56+R55","v":0}]
[]
[null,"Руководитель организации",null,null,null,{"$f":"'Инф-я'!$C$17","v":"Окунев Василий Михайлович"}]

{"sheet":"Подконтрольные расходы","index":7,"n_rows":34,"n_cols":7,"rows_kept":34,"cut":false,"hidden":false,"merged":[[1,0,1,6],[6,5,6,6],[33,1,33,2],[3,0,3,5],[5,0,6,0],[5,1,6,1],[5,2,6,2],[5,4,5,5],[33,3,33,5]]}
[]
["Подконтрольные расходы на 2018 год долгосрочного периода регулирования 2017 - 2019 годы"]
[]
[{"$f":"'Инф-я'!C9","v":"Общество с ограниченной ответственностью \"Энергетик\""}]
[]
["№ п.п.","Наименование","Ед.изм.","2017 год","2018 год",null,"2019 год"]
[null,null,null,"Утверждено","По данным организации","По данным экспертов"]
[1,2,3,4,5,6,7]
["Показатели для расчета подконтрольных расходов"]
[1,"Индекс эффективности подконтрольных расходов (Хэф)","%",0.01,{"$f":"D10","v":0.01},{"$f":"E10","v":0.01},{"$f":"F10","v":0.01}]
[2,"Коэффициент эластичности подконтрольных расходов по количеству активов (К эл)","знач.",0.75,0.75,0.75,0.75]
[3,"Индекс потребительских цен (ИПЦ)","%",4.4999999999999998E-2,4.9000000000000002E-2]
[4,"Количество активов (УЕ)","усл.ед.",{"$f":"'УЕ ТП 2015-2018'!N59","v":904.17949999999985},{"$f":"'УЕ ТП 2015-2018'!P59","v":966.73199999999997},{"$f":"'УЕ ТП 2015-2018'!R59","v":0},{"$f":"F13","v":0}]
[5,"Индекс изменения количества активов (ИКА)","%","Х",{"$f":"IF(D13=0,0,(E13-D13)/D13)","v":6.918150654820214E-2},{"$f":"IF(D13=0,0,(F13-D13)/D13)","v":-1},{"$f":"IF(F13=0,0,(G13-F13)/F13)","v":0}]
[6,"Общий коэффициент индексации подконтрольных расходов ПР= ИПЦ*(1+(Кэл*ИКА))*(1-Хэф)","знач.","Х",{"$f":"(1+E12)*(1+(E11*E14))*(1-E10)","v":1.0923942647740299},{"$f":"(1+F12)*(1+(F11*F14))*(1-F10)","v":0.2475},{"$f":"(1+G12)*(1+(G11*G14))*(1-G10)","v":0.99}]
["Подконтрольные расходы организации (ПР)"]
[1,"Расходы из фонда оплаты труда","тыс.руб.",11429.162249024097,{"$f":"D17*$E$15","v":12485.151292005776},{"$f":"D17*$F$15","v":2828.7176566334638},{"$f":"F17*$G$15","v":2800.4304800671293}]
[2,"Материалы","тыс.руб.",4134.9222437999279,{"$f":"D18*$E$15","v":4516.9653444136038},{"$f":"D18*$F$15","v":1023.3932553404821},{"$f":"F18*$G$15","v":1013.1593227870773}]
[3,"Ремонт основных фондов","тыс.руб.",14635.539711906726,15987.779643159465,{"$f":"D19*$F$15","v":3622.2960786969147},3586.0731179099457]
["4","Другие обоснованные подконтрольные расходы, в том числе:","тыс.руб.",{"$f":"D21+D22+D23+D24+D25+D26+D27+D28","v":887.04687868614087},969.00492286244491,219.54410247481985,217.34866145007166]
["4.1","Работы и услуги производственного характера","тыс.руб.",0,0,0,0]
["4.2","Работы и услуги непроизводственного характера","тыс.руб.",553.25657889385661,604.37431373214952,136.93100327622952,135.56169324346723]
["4.3","Обеспечение нормальных условий труда и техники безопасности","тыс.руб.",76.525838241451467,83.596386801986711,18.940144964759238,18.750743515111644]
["4.4.","Расходы на командировки","тыс.руб.",0,0,0,0]
["4.5","Расходы на обучение персонала","тыс.руб.",99.258511147095945,108.42942830709673,24.566481508906246,24.320816693817182]
["4.6","Расходы на страхование","тыс.руб.",0,0,0,0]
["4.7","Расходы на услуги банков","тыс.руб.",158.00595040373682,172.60479402121192,39.106472724924863,38.715407997675612]
["4.8","Прочие обоснованные подконтрольные расходы","тыс.руб.",0,0,0,0]
["5","Расходы из прибыли, в том числе:","тыс.руб.",{"$f":"D30+D31","v":329.843937710202},360.31962582510704,81.636374583275,80.820010837442254]
["5.1","Расходы по коллективным договорам","тыс.руб.",329.843937710202,360.31962582510704,81.636374583275,80.820010837442254]
["5.2","Прочие обоснованные расходы из прибыли","тыс.руб.",0,0,0,0]
[null,"Итого ПР ","тыс.руб.",{"$f":"D17+D18+D19+D20+D29","v":31416.515021127096},34319.2208282664,{"$f":"D32*F$15","v":7775.5874677289557},7697.8315930516665]
[]
[null,"Руководитель организации",null,{"$f":"'Инф-я'!C17","v":"Окунев Василий Михайлович"}]

{"sheet":"Расчет аморт. max срок ","index":8,"n_rows":123,"n_cols":27,"rows_kept":123,"cut":false,"hidden":false,"merged":[[122,0,122,2],[122,5,122,7],[1,0,1,21],[2,0,2,21],[6,0,6,26],[11,0,11,26],[10,0,10,26],[4,24,4,26],[4,2,4,3],[4,4,4,6],[4,7,4,10],[4,11,4,13],[4,15,5,15],[4,17,5,17],[4,19,4,20],[4,21,5,21],[4,0,5,0],[4,22,5,22],[15,0,15,26],[4,23,5,23],[4,14,5,14],[4,1,5,1],[4,18,5,18],[4,16,5,16],[16,0,16,26],[20,0,20,26],[21,0,21,26],[25,0,25,26],[26,0,26,26],[30,0,30,26],[31,0,31,26],[75,0,75,26],[76,0,76,26],[94,0,94,26],[113,0,113,26],[114,0,114,26],[119,0,119,26],[83,0,83,26],[84,0,84,26],[88,0,88,26],[89,0,89,26],[93,0,93,26]]}
["Заполняется в Рублях !"]
["Расчет амортизационных отчислений основных средств, участвующих в передаче электрической энергии по максимальному сроку использования и расчет среднегодовой стоимости ОС"]
[{"$f":"'Инф-я'!C9","v":"Общество с ограниченной ответственностью \"Энергетик\""}]
[null,null,null,null,null,null,null,null,null,null,null,null,null,null,null,null,null,null,null,null,null,null,null,"руб."]
["Группа учета ОС \\ Амортизационная группа \\ Основное средство, Инвентарный номер, Дата принятия к учету","Год ввода","Срок полезного использования, мес.",null,"На начало 01.01.2017 г.",null,null,"За 1 квартал 2017 года",null,null,null,"На конец 31.03.2017 г.",null,null,"Амортизация (2-4 квартал 2017)","Амортизация (2017 год)","Амортизация (2017 год) с учетом амортизации расчитанной по максимальному сроку","Остаточная стоимость на начало 2018 года","Остаточная стоимость на начало 2018 года с учетом амортизации расчитанной по максимальному сроку","Амортизация на 2018 год",null,"Остаточная стоимость на начало 2019 года","Налоговая ставка (%)","Налог на имущество (2016 год)","Среднегодовая остаточная стоимость ОС"]
[null,null,"бух.учет","Максимальный срок по группе ","Стоимость","Накопленная амортизация (износ)","Остаточная стоимость","Увеличение стоимости","Начисление амортизации (износа)","Уменьшение стоимости","Списание амортизации (износа)","Стоимость","Накопленная амортизация (износ)","Остаточная стоимость",null,"Амортизация (2015 год)","Амортизация (2015 год)","Остаточная стоимость на начало 2016 года","Остаточная стоимость на начало 2016 года","бух.учет","Максимальный срок по группе",null,null,"Амортизация (2015 год)","облагаемых по ставке 2,2 %"," облагаемых по ставке 1,9 %"," необлагаемых налогом (движимое имущество, введенное с 01.01.2013 года"]
["Первая группа (от 1 года до 2 лет включительно)"]
[null,null,null,24,null,null,null,null,null,null,null,null,null,null,{"$f":"IF(C8>0,IF(N8>L8/C8*9,(L8/C8*9),N8),0)","v":0},{"$f":"I8+O8","v":0},{"$f":"IF(C8-D8=0,P8,E8/D8*12)","v":0},{"$f":"IF((N8-O8)>0,(N8-O8),0)","v":0},{"$f":"IF(P8-Q8=0,R8,E8-(I8*4*(F8/(I8*4)-2))-Q8*3)","v":0},{"$f":"IF(C8>0,IF(R8>L8/C8*12,(L8/C8*12),R8),0)","v":0},{"$f":"IF(D8>0,IF(R8>L8/D8*12,(L8/D8*12),R8),0)","v":0},{"$f":"IF((R8-T8)>0,(R8-T8),0)","v":0},null,{"$f":"(R8+V8)/2*W8","v":0},{"$f":"IF(W8=2.2,(V8+R8)/2,0)","v":0},{"$f":"IF(W8=1.9,(V8+R8)/2,0)","v":0},{"$f":"IF(W8=0,(V8+R8)/2,0)","v":0}]
[null,null,null,{"$f":"$D$8","v":24},null,null,null,null,null,null,null,null,null,null,0,{"$f":"I9+O9","v":0},0,{"$f":"IF((N9-O9)>0,(N9-O9),0)","v":0},0,{"$f":"IF(C9>0,IF(R9>L9/C9*12,(L9/C9*12),R9),0)","v":0},{"$f":"IF(D9>0,IF(R9>L9/D9*12,(L9/D9*12),R9),0)","v":0},0,null,{"$f":"(R9+V9)/2*W9","v":0},{"$f":"IF(W9=2.2,(V9+R9)/2,0)","v":0},{"$f":"IF(W9=1.9,(V9+R9)/2,0)","v":0},{"$f":"IF(W9=0,(V9+R9)/2,0)","v":0}]
[null,null,null,{"$f":"$D$8","v":24},null,null,null,null,null,null,null,null,null,null,0,{"$f":"I10+O10","v":0},0,{"$f":"IF((N10-O10)>0,(N10-O10),0)","v":0},0,{"$f":"IF(C10>0,IF(R10>L10/C10*12,(L10/C10*12),R10),0)","v":0},{"$f":"IF(D10>0,IF(R10>L10/D10*12,(L10/D10*12),R10),0)","v":0},0,null,{"$f":"(R10+V10)/2*W10","v":0},0,0,0]
["Добавить"]
["Вторая группа (свыше 2 лет до 3 лет включительно)"]
[null,null,null,36,null,null,null,null,null,null,null,null,null,null,{"$f":"IF(C13>0,IF(N13>L13/C13*9,(L13/C13*9),N13),0)","v":0},{"$f":"I13+O13","v":0},{"$f":"IF(C13-D13=0,P13,E13/D13*12)","v":0},{"$f":"IF((N13-O13)>0,(N13-O13),0)","v":0},{"$f":"IF(P13-Q13=0,R13,E13-(I13*4*(F13/(I13*4)-2))-Q13*3)","v":0},{"$f":"IF(C13>0,IF(R13>L13/C13*12,(L13/C13*12),R13),0)","v":0},{"$f":"IF(D13>0,IF(R13>L13/D13*12,(L13/D13*12),R13),0)","v":0},{"$f":"IF((R13-T13)>0,(R13-T13),0)","v":0},null,{"$f":"(R13+V13)/2*W13","v":0},0,{"$f":"IF(W13=1.9,(V13+R13)/2,0)","v":0},0]
[null,null,null,{"$f":"$D$13","v":36},null,null,null,null,null,null,null,null,null,null,{"$f":"IF(C14>0,IF(N14>L14/C14*9,(L14/C14*9),N14),0)","v":0},{"$f":"I14+O14","v":0},0,{"$f":"IF((N14-O14)>0,(N14-O14),0)","v":0},0,{"$f":"IF(C14>0,IF(R14>L14/C14*12,(L14/C14*12),R14),0)","v":0},{"$f":"IF(D14>0,IF(R14>L14/D14*12,(L14/D14*12),R14),0)","v":0},{"$f":"IF((R14-T14)>0,(R14-T14),0)","v":0},null,{"$f":"(R14+V14)/2*W14","v":0},0,0,0]
[null,null,null,{"$f":"$D$13","v":36},null,null,null,null,null,null,null,null,null,null,0,{"$f":"I15+O15","v":0},0,{"$f":"IF((N15-O15)>0,(N15-O15),0)","v":0},0,{"$f":"IF(C15>0,IF(R15>L15/C15*12,(L15/C15*12),R15),0)","v":0},{"$f":"IF(D15>0,IF(R15>L15/D15*12,(L15/D15*12),R15),0)","v":0},0,null,0,0,0,0]
["Добавить"]
["Третья группа (свыше 3 лет до 5 лет включительно)"]
["Зеркальная камера",null,null,60,89980,14996.7,{"$f":"E18-F18","v":74983.3},null,4499.01,null,null,{"$f":"E18","v":89980},{"$f":"F18+I18","v":19495.71},{"$f":"L18-M18","v":70484.290000000008},{"$f":"IF(C18>0,IF(N18>L18/C18*9,(L18/C18*9),N18),0)","v":0},{"$f":"I18+O18","v":4499.01},{"$f":"IF(C18-D18=0,P18,E18/D18*12)","v":17996},{"$f":"IF((N18-O18)>0,(N18-O18),0)","v":70484.290000000008},{"$f":"IF(P18-Q18=0,R18,E18-(I18*4*(F18/(I18*4)-2))-Q18*3)","v":56987.380000000005},{"$f":"IF(C18>0,IF(R18>L18/C18*12,(L18/C18*12),R18),0)","v":0},{"$f":"IF(D18>0,IF(R18>L18/D18*12,(L18/D18*12),R18),0)","v":17996},{"$f":"IF((R18-T18)>0,(R18-T18),0)","v":70484.290000000008},null,{"$f":"IF(C18>0,IF(V18>L18/C18*12,(L18/C18*12),V18),0)","v":0},0,{"$f":"IF(W18=1.9,(V18+R18)/2,0)","v":0},70484.290000000008]
[null,null,null,{"$f":"$D$18","v":60},null,null,null,null,null,null,null,null,null,null,{"$f":"IF(C19>0,IF(N19>L19/C19*9,(L19/C19*9),N19),0)","v":0},{"$f":"I19+O19","v":0},0,{"$f":"IF((N19-O19)>0,(N19-O19),0)","v":0},0,{"$f":"IF(C19>0,IF(R19>L19/C19*12,(L19/C19*12),R19),0)","v":0},{"$f":"IF(D19>0,IF(R19>L19/D19*12,(L19/D19*12),R19),0)","v":0},{"$f":"IF((R19-T19)>0,(R19-T19),0)","v":0},null,{"$f":"IF(C19>0,IF(V19>L19/C19*12,(L19/C19*12),V19),0)","v":0},0,0,0]
[null,null,null,{"$f":"$D$18","v":60},null,null,null,null,null,null,null,null,null,null,0,{"$f":"I20+O20","v":0},0,{"$f":"IF((N20-O20)>0,(N20-O20),0)","v":0},0,{"$f":"IF(C20>0,IF(R20>L20/C20*12,(L20/C20*12),R20),0)","v":0},{"$f":"IF(D20>0,IF(R20>L20/D20*12,(L20/D20*12),R20),0)","v":0},0,null,{"$f":"IF(C20>0,IF(V20>L20/C20*12,(L20/C20*12),V20),0)","v":0},0,0,0]
["Добавить"]
["Четвертая группа (свыше 5 лет до 7 лет включительно)"]
["Подъемник 2-х стоечный электрогидравлический",null,null,84,162000,0,{"$f":"E23-F23","v":162000},null,7476.93,null,null,{"$f":"E23","v":162000},{"$f":"F23+I23","v":7476.93},{"$f":"L23-M23","v":154523.07},{"$f":"IF(C23>0,IF(N23>L23/C23*9,(L23/C23*9),N23),0)","v":0},{"$f":"I23+O23","v":7476.93},{"$f":"IF(C23-D23=0,P23,E23/D23*12)","v":23142.857142857145},{"$f":"IF((N23-O23)>0,(N23-O23),0)","v":154523.07},{"$f":"IF(P23-Q23=0,R23,E23-(I23*4*(F23/(I23*4)-2))-Q23*3)","v":152386.86857142858},{"$f":"IF(C23>0,IF(R23>L23/C23*12,(L23/C23*12),R23),0)","v":0},{"$f":"IF(D23>0,IF(R23>L23/D23*12,(L23/D23*12),R23),0)","v":23142.857142857145},154523.07,null,{"$f":"(R23+V23)/2*W23","v":0},0,{"$f":"IF(W23=1.9,(V23+R23)/2,0)","v":0},154523.07]
["Планшет 12,9* Apple IPAD Pro Wi-Fi",null,null,{"$f":"$D$23","v":84},76990,21386.1,{"$f":"E24-F24","v":55603.9},null,6415.83,null,null,{"$f":"E24","v":76990},{"$f":"F24+I24","v":27801.93},{"$f":"L24-M24","v":49188.07},{"$f":"IF(C24>0,IF(N24>L24/C24*9,(L24/C24*9),N24),0)","v":0},{"$f":"I24+O24","v":6415.83},10998.571428571428,{"$f":"IF((N24-O24)>0,(N24-O24),0)","v":49188.07},73934.825714285718,{"$f":"IF(C24>0,IF(R24>L24/C24*12,(L24/C24*12),R24),0)","v":0},{"$f":"IF(D24>0,IF(R24>L24/D24*12,(L24/D24*12),R24),0)","v":10998.571428571428},{"$f":"IF((R24-T24)>0,(R24-T24),0)","v":49188.07},null,{"$f":"(R24+V24)/2*W24","v":0},0,0,49188.07]
[null,null,null,{"$f":"$D$23","v":84},null,null,null,null,null,null,null,null,null,null,0,{"$f":"I25+O25","v":0},0,{"$f":"IF((N25-O25)>0,(N25-O25),0)","v":0},0,{"$f":"IF(C25>0,IF(R25>L25/C25*12,(L25/C25*12),R25),0)","v":0},{"$f":"IF(D25>0,IF(R25>L25/D25*12,(L25/D25*12),R25),0)","v":0},0,null,{"$f":"(R25+V25)/2*W25","v":0},0,0,0]
["Добавить"]
["Пятая группа (свыше 7 лет до 10 лет включительно)"]
["Аппарат высокого давления 1,286-500 HD 10/25-4 SX",null,120,120,116394,11639.4,{"$f":"E28-F28","v":104754.6},null,2909.85,null,null,{"$f":"E28","v":116394},{"$f":"F28+I28","v":14549.25},{"$f":"L28-M28","v":101844.75},{"$f":"IF(C28>0,IF(N28>L28/C28*9,(L28/C28*9),N28),0)","v":8729.5500000000011},{"$f":"I28+O28","v":11639.400000000001},{"$f":"IF(C28-D28=0,P28,E28/D28*12)","v":11639.400000000001},{"$f":"IF((N28-O28)>0,(N28-O28),0)","v":93115.199999999997},{"$f":"IF(P28-Q28=0,R28,E28-(I28*4*(F28/(I28*4)-2))-Q28*3)","v":93115.199999999997},{"$f":"IF(C28>0,IF(R28>L28/C28*12,(L28/C28*12),R28),0)","v":11639.400000000001},{"$f":"IF(D28>0,IF(R28>L28/D28*12,(L28/D28*12),R28),0)","v":11639.400000000001},81475.799999999988,null,{"$f":"(R28+V28)/2*W28","v":0},0,{"$f":"IF(W28=1.9,(V28+R28)/2,0)","v":0},87295.5]
[null,null,null,{"$f":"$D$28","v":120},null,null,null,null,null,null,null,null,null,null,0,{"$f":"I29+O29","v":0},{"$f":"IF(C29-D29=0,P29,E29/D29*12)","v":0},{"$f":"IF((N29-O29)>0,(N29-O29),0)","v":0},0,{"$f":"IF(C29>0,IF(R29>L29/C29*12,(L29/C29*12),R29),0)","v":0},{"$f":"IF(D29>0,IF(R29>L29/D29*12,(L29/D29*12),R29),0)","v":0},0,null,{"$f":"(R29+V29)/2*W29","v":0},0,0,0]
[null,null,null,{"$f":"$D$28","v":120},null,null,null,null,null,null,null,null,null,null,0,{"$f":"I30+O30","v":0},0,{"$f":"IF((N30-O30)>0,(N30-O30),0)","v":0},0,{"$f":"IF(C30>0,IF(R30>L30/C30*12,(L30/C30*12),R30),0)","v":0},{"$f":"IF(D30>0,IF(R30>L30/D30*12,(L30/D30*12),R30),0)","v":0},0,null,{"$f":"IF(C30>0,IF(V30>L30/C30*12,(L30/C30*12),V30),0)","v":0},0,0,0]
["Добавить"]
["Шестая группа (свыше 10 лет до 15 лет включительно)"]
[" Возд. двухц(ВЛ)10кВ от ПС\"Караб.\"доТП13ф1003,1005","10 кВ",180,180,1398812.18,93254.16,{"$f":"E33-F33","v":1305558.02},null,23313.54,null,null,{"$f":"E33","v":1398812.18},{"$f":"F33+I33","v":116567.70000000001},{"$f":"L33-M33","v":1282244.48},{"$f":"IF(C33>0,IF(N33>L33/C33*9,(L33/C33*9),N33),0)","v":69940.608999999997},{"$f":"I33+O33","v":93254.149000000005},{"$f":"IF(C33-D33=0,P33,E33/D33*12)","v":93254.149000000005},{"$f":"IF((N33-O33)>0,(N33-O33),0)","v":1212303.871},{"$f":"IF(P33-Q33=0,R33,E33-(I33*4*(F33/(I33*4)-2))-Q33*3)","v":1212303.871},{"$f":"IF(C33>0,IF(R33>L33/C33*12,(L33/C33*12),R33),0)","v":93254.145333333319},{"$f":"IF(D33>0,IF(R33>L33/D33*12,(L33/D33*12),R33),0)","v":93254.145333333319},1119049.7256666666,null,{"$f":"(R33+V33)/2*W33","v":0},0,{"$f":"IF(W33=1.9,(V33+R33)/2,0)","v":0},1165676.7983333333]
["Возд. одноц(ВЛ)10кВ от ТП 2 до ТП 62ф1003","10 кВ",180,{"$f":"$D$33","v":180},659289.64,43952.639999999999,{"$f":"E34-F34","v":615337},null,10988.16,null,null,{"$f":"E34","v":659289.64},{"$f":"F34+I34","v":54940.800000000003},{"$f":"L34-M34","v":604348.84},{"$f":"IF(C34>0,IF(N34>L34/C34*9,(L34/C34*9),N34),0)","v":32964.482000000004},43952.642000000007,43952.642000000007,571384.35800000001,{"$f":"IF(P34-Q34=0,R34,E34-(I34*4*(F34/(I34*4)-2))-Q34*3)","v":571384.35800000001},43952.642666666667,43952.642666666667,{"$f":"IF((R34-T34)>0,(R34-T34),0)","v":527431.71533333336},null,{"$f":"(R34+V34)/2*W34","v":0},0,0,549408.03666666662]
["Возд. одноц(ВЛ)10кВ от ТП 38 до ТП3ф1004","10 кВ",180,180,568953.67000000004,37930.199999999997,531023.47000000009,null,9482.5499999999993,null,null,568953.67000000004,47412.75,521540.92000000004,28447.683500000003,37930.233500000002,{"$f":"IF(C35-D35=0,P35,E35/D35*12)","v":37930.233500000002},493093.23650000006,{"$f":"IF(P35-Q35=0,R35,E35-(I35*4*(F35/(I35*4)-2))-Q35*3)","v":493093.23650000006},37930.244666666673,37930.244666666673,455162.99183333339,null,0,{"$f":"IF(W35=2.2,(V35+R35)/2,0)","v":0},{"$f":"IF(W35=1.9,(V35+R35)/2,0)","v":0},{"$f":"IF(W35=0,(V35+R35)/2,0)","v":474128.11416666675}]
[" Возд. одноц(ВЛ)10кВ от ТП 55 до ТП 57ф1022","10 кВ",180,180,748971.92,49931.519999999997,699040.4,null,12482.88,null,null,748971.92,62414.399999999994,686557.52,37448.596000000005,49931.476000000002,49931.476000000002,649108.924,649108.924,49931.46133333334,49931.46133333334,599177.4626666666,null,0,0,0,624143.19333333336]
[" Возд. одноц(ВЛ)10кВ от ТП 55 до ТП3ф1022","10 кВ",180,180,558227.64,37215.120000000003,521012.52,null,9303.7800000000007,null,null,558227.64,46518.9,511708.74,27911.382000000001,37215.162000000004,37215.162000000004,483797.35800000001,483797.35800000001,37215.176000000007,37215.176000000007,446582.18200000003,null,0,0,0,465189.77]
[" Возд. одноц(ВЛ)10кВ от ТП 55 до ТП54ф1022","10 кВ",180,180,400737.9,26715.84,374022.06,null,6678.96,null,null,400737.9,33394.800000000003,367343.10000000003,20036.895,26715.855,26715.855,347306.20500000002,347306.20500000002,26715.86,26715.86,320590.34500000003,null,0,0,0,333948.27500000002]
["Возд-каб. двухц(ВЛ)10кВ от ТП 1 до ТП 63ф1003,1005","10 кВ",180,180,2303696.7200000002,153579.84,2150116.8800000004,null,38394.959999999999,null,null,2303696.7200000002,191974.8,2111721.9200000004,115184.83600000001,153579.796,153579.796,1996537.0840000003,1996537.0840000003,153579.78133333335,153579.78133333335,1842957.3026666669,null,0,0,0,1919747.1933333336]
[" Возд-каб. двухц(ВЛ+КЛ)10кВотПС\"Караб\"доТП51","10 кВ",180,180,8415145.5199999996,501449.15,7913696.3699999992,null,140252.43,null,null,8415145.5199999996,641701.58000000007,7773443.9399999995,420757.27599999995,561009.70600000001,561009.70600000001,7352686.6639999999,7352686.6639999999,561009.70133333327,561009.70133333327,6791676.9626666661,null,0,0,0,7072181.8133333325]
[" Возд-каб. одноц(ВЛ+КЛ)10кВотТП50/23 доТп54ф1022","10 кВ",180,180,1471841.27,98122.8,1373718.47,null,24530.7,null,null,1471841.27,122653.5,1349187.77,73592.063500000004,98122.763500000001,98122.763500000001,1275595.7065000001,1275595.7065000001,98122.751333333334,98122.751333333334,1177472.9551666668,null,0,0,0,1226534.3308333335]
["Воздушн. одноц.(ВЛ)10кВ от ТП10 до ТП 45 ф1001","10 кВ",180,180,504132.18,33608.76,470523.42,null,8402.19,null,null,504132.18,42010.950000000004,462121.23,25206.609,33608.798999999999,33608.798999999999,436914.62099999998,436914.62099999998,33608.811999999998,33608.811999999998,403305.80900000001,null,0,0,0,420110.21499999997]
["Воздушн. одноц.(ВЛ)10кВ от ТП8 до ТП83,84 ф1001","10 кВ",180,180,616520.09,41101.32,575418.77,null,10275.33,null,null,616520.09,51376.65,565143.43999999994,30826.004499999999,41101.334499999997,41101.334499999997,534317.43549999991,534317.43549999991,41101.33933333333,41101.33933333333,493216.0961666666,null,0,0,0,513766.76583333325]
[" Воздушн. одноц.(ВЛ)10кВот опоры№47 доТП50/23 ф1022","10 кВ",180,180,719990.24,47999.4,671990.84,null,11999.85,null,null,719990.24,59999.25,659990.99,35999.512000000002,47999.362000000001,47999.362000000001,623991.478,623991.478,47999.349333333332,47999.349333333332,575992.12866666669,null,0,0,0,599991.80333333334]
["Воздушн. одноцеп. (ВЛ) 10кВ от ТП39 до ТП40 ф1004","10 кВ",180,180,700537.25,46702.44,653834.81000000006,null,11675.61,null,null,700537.25,58378.05,642159.19999999995,35026.862500000003,46702.472500000003,46702.472500000003,607132.33749999991,607132.33749999991,46702.483333333337,46702.483333333337,560429.85416666651,null,0,0,0,583781.09583333321]
[" Воздушн. одноцеп. (ВЛ) 10кВ отТП38 доТП39 ф1004","10 кВ",180,180,1096068.19,73071.240000000005,1022996.95,null,18267.810000000001,null,null,1096068.19,91339.05,1004729.1399999999,54803.409499999994,73071.219499999992,73071.219499999992,949925.73049999995,949925.73049999995,73071.212666666659,73071.212666666659,876854.51783333323,null,0,0,0,913390.12416666653]
[" Воздушн. одноцеп. (ВЛ) 10кВ отТП40 доТП58/37 ф1004","10 кВ",180,180,537327.69999999995,35821.800000000003,501505.89999999997,null,8955.4500000000007,null,null,537327.69999999995,44777.25,492550.44999999995,26866.384999999998,35821.834999999999,35821.834999999999,465684.06499999994,465684.06499999994,35821.846666666665,35821.846666666665,429862.21833333327,null,0,0,0,447773.1416666666]
["Воздушн. одноцеп. (ВЛ) 10кВ отТП55 доТП56 ф1022","10 кВ",180,180,833308.07,55553.88,777754.19,null,13888.47,null,null,833308.07,69442.349999999991,763865.72,41665.4035,55553.873500000002,55553.873500000002,722200.31649999996,722200.31649999996,55553.871333333329,55553.871333333329,666646.44516666664,null,0,0,0,694423.38083333336]
[" Воздушн. одноцеп. (ВЛ) 10кВ отТП56 доТП82/20 ф1022","10 кВ",180,180,429493.27,28632.84,400860.43,null,7158.21,null,null,429493.27,35791.050000000003,393702.22000000003,21474.663500000002,28632.873500000002,28632.873500000002,372227.55650000001,372227.55650000001,28632.884666666669,28632.884666666669,343594.67183333333,null,0,0,0,357911.11416666664]
["Воздушн. одноцеп.(ВЛ)10кВ от опоры №16доТП44 ф1001","10 кВ",180,180,187578.58,12505.2,175073.37999999998,null,3126.3,null,null,187578.58,15631.5,171947.08,9378.9290000000001,12505.228999999999,12505.228999999999,162568.15099999998,162568.15099999998,12505.238666666668,12505.238666666668,150062.91233333331,null,0,0,0,156315.53166666665]
[" Воздушн. одноцеп.(ВЛ)10кВ от опоры №7 доТП52 ф1022","10 кВ",180,180,355286.32,23685.72,331600.59999999998,null,5921.43,null,null,355286.32,29607.15,325679.17,17764.315999999999,23685.745999999999,23685.745999999999,307914.85399999999,307914.85399999999,23685.754666666668,23685.754666666668,284229.09933333332,null,0,0,0,296071.97666666668]
["Воздушн. одноцеп.(ВЛ)10кВ от опоры №7 доТП92 ф1022","10 кВ",180,180,342560,22837.32,319722.68,null,5709.33,null,null,342560,28546.65,314013.34999999998,17128,22837.33,22837.33,296885.34999999998,296885.34999999998,22837.333333333332,22837.333333333332,274048.01666666666,null,0,0,0,285466.68333333335]
[" Воздушн. одноцеп.(ВЛ)10кВ от ТП51 до ТП38 ф1004","10 кВ",180,180,1312173.52,87478.2,1224695.32,null,21869.55,null,null,1312173.52,109347.75,1202825.77,65608.675999999992,87478.225999999995,87478.225999999995,1137217.094,1137217.094,87478.234666666656,87478.234666666656,1049738.8593333333,null,0,0,0,1093477.9766666666]
[" Воздушная двухц(ВЛ)10кВ от ТП1 до ТП61 ф1003,1005","10 кВ",180,180,641304.05000000005,42753.599999999999,598550.45000000007,null,10688.4,null,null,641304.05000000005,53442,587862.05000000005,32065.202499999999,42753.602500000001,42753.602500000001,555796.84750000003,555796.84750000003,42753.603333333333,42753.603333333333,513043.2441666667,null,0,0,0,534420.0458333334]
[" Воздушная двухц(ВЛ)10кВ от ТП13 до ТП1 ф1003,1005","10 кВ",180,180,2130397.7200000002,142026.48000000001,1988371.2400000002,null,35506.620000000003,null,null,2130397.7200000002,177533.1,1952864.62,106519.886,142026.50599999999,142026.50599999999,1846344.7340000002,1846344.7340000002,142026.51466666668,142026.51466666668,1704318.2193333334,null,0,0,0,1775331.4766666668]
[" Воздушная двухц(ВЛ)10кВ от ТП9-ТП8-ТП32-ТП18 ф1001,1005","10 кВ",180,180,4547113.62,303140.88,4243972.74,null,75785.22,null,null,4547113.62,378926.1,4168187.52,227355.68100000001,303140.90100000001,303140.90100000001,3940831.8390000002,3940831.8390000002,303140.90800000005,303140.90800000005,3637690.9309999999,null,0,0,0,3789261.3849999998]
["ВЛ 10кВ ТП №11-ТП №66 Ф 1001","10 кВ",180,180,2604937.89,173662.56,2431275.33,null,43415.64,null,null,2604937.89,217078.2,2387859.69,130246.89450000001,173662.53450000001,173662.53450000001,2257612.7955,2257612.7955,173662.52600000001,173662.52600000001,2083950.2694999999,null,0,0,0,2170781.5324999997]
["ВЛ 10кВ ТП №12-ТП №11 Ф 1001","10 кВ",180,180,1804578.12,120305.16,1684272.9600000002,null,30076.29,null,null,1804578.12,150381.45000000001,1654196.6700000002,90228.906000000017,120305.19600000003,120305.19600000003,1563967.7640000002,1563967.7640000002,120305.20800000001,120305.20800000001,1443662.5560000001,null,0,0,0,1503815.1600000001]
["ВЛ 0,4 кВ ул. 1-ая Школьная","10 кВ",180,180,805038.75,53669.279999999999,751369.47,null,13417.32,null,null,805038.75,67086.600000000006,737952.15,40251.9375,53669.2575,53669.2575,697700.21250000002,697700.21250000002,53669.25,53669.25,644030.96250000002,null,0,0,0,670865.58750000002]
["ВЛ 0,4 кВ ул. 2-ая Школьная","10 кВ",180,180,1123641.6000000001,74909.399999999994,1048732.2000000002,null,18727.349999999999,null,null,1123641.6000000001,93636.75,1030004.8500000001,56182.080000000002,74909.429999999993,74909.429999999993,973822.77000000014,973822.77000000014,74909.440000000002,74909.440000000002,898913.33000000007,null,0,0,0,936368.05]
["ВЛ 0,4 кВ ул. Вокзальная ( левая сторона)","10 кВ",180,180,823108.29,54873.84,768234.45000000007,null,13718.46,null,null,823108.29,68592.299999999988,754515.99,41155.414500000006,54873.874500000005,54873.874500000005,713360.57550000004,713360.57550000004,54873.886000000006,54873.886000000006,658486.68949999998,null,0,0,0,685923.63250000007]
["ВЛ 0,4 кВ ул. Вокзальная ( правая сторона)","10 кВ",180,180,885234.3,59015.64,826218.66,null,14753.91,null,null,885234.3,73769.55,811464.75,44261.714999999997,59015.625,59015.625,767203.03500000003,767203.03500000003,59015.619999999995,59015.619999999995,708187.41500000004,null,0,0,0,737695.22500000009]
["ВЛ 0,4 кВ ул. Первомайская","10 кВ",180,180,1875119.2,125007.96,1750111.24,null,31251.99,null,null,1875119.2,156259.95000000001,1718859.25,93755.96,125007.95000000001,125007.95000000001,1625103.29,1625103.29,125007.94666666667,125007.94666666667,1500095.3433333333,null,0,0,0,1562599.3166666667]
["ВЛ 0,4 кВ ул. Пионерская","10 кВ",180,180,773682.69,51578.879999999997,722103.80999999994,null,12894.72,null,null,773682.69,64473.599999999999,709209.09,38684.1345,51578.854500000001,51578.854500000001,670524.95549999992,670524.95549999992,51578.846000000005,51578.846000000005,618946.1094999999,null,0,0,0,644735.53249999997]
["ВЛ 0,4 кВ ул. Храмцова","10 кВ",180,180,943549.85,62903.28,880646.57,null,15725.82,null,null,943549.85,78629.100000000006,864920.75,47177.4925,62903.3125,62903.3125,817743.25749999995,817743.25749999995,62903.323333333334,62903.323333333334,754839.93416666659,null,0,0,0,786291.59583333321]
["ВЛ 0,4 кВ ул. Часовина","10 кВ",180,180,1168298.2,77886.600000000006,1090411.5999999999,null,19471.650000000001,null,null,1168298.2,97358.25,1070939.95,58414.909999999996,77886.559999999998,77886.559999999998,1012525.0399999999,1012525.0399999999,77886.546666666662,77886.546666666662,934638.49333333329,null,0,0,0,973581.7666666666]
["ВЛ от ТП 24 до ул. Мира 30А","10 кВ",180,180,171464.46,11430.96,160033.5,null,2857.74,null,null,171464.46,14288.699999999999,157175.75999999998,8573.223,11430.963,11430.963,148602.53699999998,148602.53699999998,11430.964,11430.964,137171.57299999997,null,0,0,0,142887.05499999999]
["ВЛ от ТП 32 по ул. Красноармейская с подкл. В ТП 18","10 кВ",180,180,245516.82,16367.76,229149.06,null,4091.94,null,null,245516.82,20459.7,225057.12,12275.841,16367.781000000001,16367.781000000001,212781.27899999998,212781.27899999998,16367.788,16367.788,196413.49099999998,null,0,0,0,204597.38499999998]
["Воздушная линия 0,4 кВ  и мачтовые подстанции от ТП №62","10 кВ",180,180,986396.75,0,986396.75,null,16439.939999999999,null,null,986396.75,16439.939999999999,969956.81,49319.837500000001,{"$f":"I69+O69","v":65759.777499999997},65759.777499999997,{"$f":"IF((N69-O69)>0,(N69-O69),0)","v":920636.97250000003},920636.97250000003,{"$f":"IF(C69>0,IF(R69>L69/C69*12,(L69/C69*12),R69),0)","v":65759.78333333334},{"$f":"IF(D69>0,IF(R69>L69/D69*12,(L69/D69*12),R69),0)","v":65759.78333333334},854877.18916666671,null,0,0,0,887757.08083333331]
["Воздушная линия 0,4 кВ и мачтовые подстанции от ТП №11","10 кВ",180,180,5742091.2599999998,0,5742091.2599999998,null,95701.53,null,null,5742091.2599999998,95701.53,5646389.7299999995,287104.56299999997,382806.09299999999,382806.09299999999,5359285.1669999994,5359285.1669999994,382806.08399999997,382806.08399999997,4976479.0829999996,null,0,0,0,5167882.125]
["Воздушная линия 0,4 кВ ул. Почтовая","10 кВ",180,180,788791.59,0,788791.59,null,13146.54,null,null,788791.59,13146.54,775645.04999999993,39439.579499999993,52586.119499999993,52586.119499999993,736205.47049999994,736205.47049999994,52586.105999999992,52586.105999999992,683619.36449999991,null,0,0,0,709912.41749999998]
["Воздушная линия 0,4 кВ ул.Зеленая ии мачтовая подстанция № 100","10 кВ",180,180,1295023.1200000001,0,1295023.1200000001,null,21583.71,null,null,1295023.1200000001,21583.71,1273439.4100000001,64751.15600000001,86334.866000000009,86334.866000000009,1208688.2540000002,1208688.2540000002,86334.87466666667,86334.87466666667,1122353.3793333336,null,0,0,0,1165520.8166666669]
["Воздушная линия 0,4кВ и мачтовые трансформаторые подстанции от ТП 8","10 кВ",180,180,7584542.8899999997,0,7584542.8899999997,null,126409.05,null,null,7584542.8899999997,126409.05,7458133.8399999999,379227.14449999994,505636.19449999993,505636.19449999993,7078906.6954999994,7078906.6954999994,505636.19266666658,505636.19266666658,6573270.5028333329,null,0,0,0,6826088.5991666662]
["Воздушная линия 10 кВ Ф1004","10 кВ",180,180,1910612.58,0,1910612.58,null,31843.53,null,null,1910612.58,31843.53,1878769.05,95530.629000000015,127374.15900000001,127374.15900000001,1783238.4210000001,1783238.4210000001,127374.17200000002,127374.17200000002,1655864.2490000001,null,0,0,0,1719551.335]
["Воздушная линия 10 кВ  и мачтовые подстанции ","10 кВ",180,180,655861.5,0,655861.5,null,10931.04,null,null,655861.5,10931.04,644930.46,32793.075000000004,43724.115000000005,43724.115000000005,612137.38500000001,612137.38500000001,43724.100000000006,43724.100000000006,568413.28500000003,null,{"$f":"(R75+V75)/2*W75","v":0},0,0,590275.33499999996]
["Добавить"]
["Седьмая группа (свыше 15 лет до 20 лет включительно)"]
[" Трансформаторная подстанция ТП 61 10/0,4-250кВА","10/0,4",240,240,1636018.1,81800.88,{"$f":"E78-F78","v":1554217.2200000002},null,20450.22,null,null,{"$f":"E78","v":1636018.1},{"$f":"F78+I78","v":102251.1},{"$f":"L78-M78","v":1533767},{"$f":"IF(C78>0,IF(N78>L78/C78*9,(L78/C78*9),N78),0)","v":61350.678749999999},{"$f":"I78+O78","v":81800.898749999993},{"$f":"IF(C78-D78=0,P78,E78/D78*12)","v":81800.898749999993},{"$f":"IF((N78-O78)>0,(N78-O78),0)","v":1472416.32125},{"$f":"IF(P78-Q78=0,R78,E78-(I78*4*(F78/(I78*4)-2))-Q78*3)","v":1472416.32125},{"$f":"IF(C78>0,IF(R78>L78/C78*12,(L78/C78*12),R78),0)","v":81800.904999999999},{"$f":"IF(D78>0,IF(R78>L78/D78*12,(L78/D78*12),R78),0)","v":81800.904999999999},1390615.41625,null,{"$f":"(R78+V78)/2*W78","v":0},0,{"$f":"IF(W78=1.9,(V78+R78)/2,0)","v":0},1431515.8687499999]
[" Трансформаторная подстанция ТП 66 10/0,4-250кВА","10/0,4",240,{"$f":"$D$78","v":240},1653625.37,82681.320000000007,{"$f":"E79-F79","v":1570944.05},null,20670.330000000002,null,null,{"$f":"E79","v":1653625.37},{"$f":"F79+I79","v":103351.65000000001},{"$f":"L79-M79","v":1550273.7200000002},{"$f":"IF(C79>0,IF(N79>L79/C79*9,(L79/C79*9),N79),0)","v":62010.951375000004},82681.281375000006,82681.281375000006,1488262.7686250003,1488262.7686250003,82681.268500000006,82681.268500000006,{"$f":"IF((R79-T79)>0,(R79-T79),0)","v":1405581.5001250003},null,{"$f":"(R79+V79)/2*W79","v":0},0,0,1446922.1343750004]
[" Мачтовая ТП 95 10/0,4-100кВА","10/0,4",240,{"$f":"$D$78","v":240},334555.90999999997,16727.759999999998,317828.14999999997,null,4181.9399999999996,null,null,334555.90999999997,20909.699999999997,313646.20999999996,12545.846625,16727.786625000001,{"$f":"IF(C80-D80=0,P80,E80/D80*12)","v":16727.786625000001},301100.36337499996,{"$f":"IF(P80-Q80=0,R80,E80-(I80*4*(F80/(I80*4)-2))-Q80*3)","v":301100.36337499996},16727.7955,16727.7955,284372.56787499995,null,0,{"$f":"IF(W80=2.2,(V80+R80)/2,0)","v":0},{"$f":"IF(W80=1.9,(V80+R80)/2,0)","v":0},{"$f":"IF(W80=0,(V80+R80)/2,0)","v":292736.46562499995}]
[" Мачтовая ТП 96 10/0,4-100кВА","10/0,4",240,{"$f":"$D$78","v":240},334555.90999999997,16727.759999999998,317828.14999999997,null,4181.9399999999996,null,null,334555.90999999997,20909.699999999997,313646.20999999996,12545.846625,16727.786625000001,16727.786625000001,301100.36337499996,301100.36337499996,16727.7955,16727.7955,284372.56787499995,null,0,0,0,292736.46562499995]
["АИИС КУЭ","0,4 кВ",192,{"$f":"$D$78","v":240},15315771.43,831584.76,14484186.67,null,239308.92,null,null,15315771.43,1070893.68,14244877.75,717926.78578124999,957235.70578125003,765788.57149999996,13526950.964218751,14101292.315499999,957235.71437499998,765788.57149999996,12569715.24984375,null,0,0,0,13048333.10703125]
["Мачтовая ТП 88 ул. Чулкова","10/0,4",240,{"$f":"$D$78","v":240},296331.11,0,296331.11,null,3704.13,null,null,296331.11,3704.13,292626.98,11112.416625,14816.546624999999,14816.546624999999,281514.56337499997,281514.56337499997,14816.555499999999,14816.555499999999,266698.00787499995,null,{"$f":"(R83+V83)/2*W83","v":0},0,0,274106.28562499996]
["Добавить"]
["Восьмая группа (свыше 20 лет до 25 лет включительно)"]
[null,null,null,300,null,null,null,null,null,null,null,null,null,null,{"$f":"IF(C86>0,IF(N86>L86/C86*9,(L86/C86*9),N86),0)","v":0},{"$f":"I86+O86","v":0},{"$f":"IF(C86-D86=0,P86,E86/D86*12)","v":0},{"$f":"IF((N86-O86)>0,(N86-O86),0)","v":0},{"$f":"IF(P86-Q86=0,R86,E86-(I86*4*(F86/(I86*4)-2))-Q86*3)","v":0},{"$f":"IF(C86>0,IF(R86>L86/C86*12,(L86/C86*12),R86),0)","v":0},{"$f":"IF(D86>0,IF(R86>L86/D86*12,(L86/D86*12),R86),0)","v":0},0,null,{"$f":"(R86+V86)/2*W86","v":0},0,{"$f":"IF(W86=1.9,(V86+R86)/2,0)","v":0},0]
[null,null,null,{"$f":"$D$86","v":300},null,null,null,null,null,null,null,null,null,null,{"$f":"IF(C87>0,IF(N87>L87/C87*9,(L87/C87*9),N87),0)","v":0},{"$f":"I87+O87","v":0},0,{"$f":"IF((N87-O87)>0,(N87-O87),0)","v":0},0,{"$f":"IF(C87>0,IF(R87>L87/C87*12,(L87/C87*12),R87),0)","v":0},{"$f":"IF(D87>0,IF(R87>L87/D87*12,(L87/D87*12),R87),0)","v":0},{"$f":"IF((R87-T87)>0,(R87-T87),0)","v":0},null,{"$f":"(R87+V87)/2*W87","v":0},0,0,0]
[null,null,null,{"$f":"$D$86","v":300},null,null,null,null,null,null,null,null,null,null,0,{"$f":"I88+O88","v":0},0,{"$f":"IF((N88-O88)>0,(N88-O88),0)","v":0},0,{"$f":"IF(C88>0,IF(R88>L88/C88*12,(L88/C88*12),R88),0)","v":0},{"$f":"IF(D88>0,IF(R88>L88/D88*12,(L88/D88*12),R88),0)","v":0},0,null,{"$f":"IF(C88>0,IF(V88>L88/C88*12,(L88/C88*12),V88),0)","v":0},0,0,0]
["Добавить"]
["Девятая группа (свыше 25 лет до 30 лет включительно)"]
[" Трансформаторная подстанция ТП 44 10/0,4-250кВА","10/0,4",360,360,298798.03000000003,9959.8799999999992,{"$f":"E91-F91","v":288838.15000000002},null,2489.9699999999998,null,null,{"$f":"E91","v":298798.03000000003},{"$f":"F91+I91","v":12449.849999999999},{"$f":"L91-M91","v":286348.18000000005},{"$f":"IF(C91>0,IF(N91>L91/C91*9,(L91/C91*9),N91),0)","v":7469.9507500000009},{"$f":"I91+O91","v":9959.9207500000011},{"$f":"IF(C91-D91=0,P91,E91/D91*12)","v":9959.9207500000011},{"$f":"IF((N91-O91)>0,(N91-O91),0)","v":278878.22925000003},{"$f":"IF(P91-Q91=0,R91,E91-(I91*4*(F91/(I91*4)-2))-Q91*3)","v":278878.22925000003},{"$f":"IF(C91>0,IF(R91>L91/C91*12,(L91/C91*12),R91),0)","v":9959.9343333333345},{"$f":"IF(D91>0,IF(R91>L91/D91*12,(L91/D91*12),R91),0)","v":9959.9343333333345},268918.29491666669,null,{"$f":"IF(C91>0,IF(V91>L91/C91*12,(L91/C91*12),V91),0)","v":9959.9343333333345},0,{"$f":"IF(W91=1.9,(V91+R91)/2,0)","v":0},273898.26208333333]
[" Трансформаторная подстанция ТП 52 10/0,4-250кВА","10/0,4",360,{"$f":"$D$91","v":360},296331.11,9877.68,{"$f":"E92-F92","v":286453.43},null,2469.42,null,null,{"$f":"E92","v":296331.11},{"$f":"F92+I92","v":12347.1},{"$f":"L92-M92","v":283984.01},{"$f":"IF(C92>0,IF(N92>L92/C92*9,(L92/C92*9),N92),0)","v":7408.2777499999993},{"$f":"I92+O92","v":9877.6977499999994},9877.6977499999994,{"$f":"IF((N92-O92)>0,(N92-O92),0)","v":276575.73225},276575.73225,{"$f":"IF(C92>0,IF(R92>L92/C92*12,(L92/C92*12),R92),0)","v":9877.7036666666663},{"$f":"IF(D92>0,IF(R92>L92/D92*12,(L92/D92*12),R92),0)","v":9877.7036666666663},{"$f":"IF((R92-T92)>0,(R92-T92),0)","v":266698.02858333336},null,{"$f":"(R92+V92)/2*W92","v":0},0,0,271636.88041666668]
[null,null,null,{"$f":"$D$91","v":360},null,null,null,null,null,null,null,null,null,null,0,{"$f":"I93+O93","v":0},0,{"$f":"IF((N93-O93)>0,(N93-O93),0)","v":0},0,{"$f":"IF(C93>0,IF(R93>L93/C93*12,(L93/C93*12),R93),0)","v":0},{"$f":"IF(D93>0,IF(R93>L93/D93*12,(L93/D93*12),R93),0)","v":0},0,null,{"$f":"(R93+V93)/2*W93","v":0},0,0,0]
["Добавить"]
["Десятая группа (свыше 30 лет)"]
["Воздушная двухц(ВЛ)10кВ от ТП2 до ТП22 ф1003,1005","10 кВ",180,{"$f":"MAX(361,C96)","v":361},192147.14,12809.76,{"$f":"E96-F96","v":179337.38},null,3202.44,null,null,{"$f":"E96","v":192147.14},{"$f":"F96+I96","v":16012.2},{"$f":"L96-M96","v":176134.94},{"$f":"IF(C96>0,IF(N96>L96/C96*9,(L96/C96*9),N96),0)","v":9607.357},{"$f":"I96+O96","v":12809.797},{"$f":"IF(C96-D96=0,P96,E96/D96*12)","v":6387.1625484764554},{"$f":"IF((N96-O96)>0,(N96-O96),0)","v":166527.58300000001},{"$f":"IF(P96-Q96=0,R96,E96-(I96*4*(F96/(I96*4)-2))-Q96*3)","v":185795.41235457067},{"$f":"IF(C96>0,IF(R96>L96/C96*12,(L96/C96*12),R96),0)","v":12809.809333333335},{"$f":"IF(D96>0,IF(R96>L96/D96*12,(L96/D96*12),R96),0)","v":6387.1625484764554},153717.77366666668,null,{"$f":"(R96+V96)/2*W96","v":0},0,{"$f":"IF(W96=1.9,(V96+R96)/2,0)","v":0},160122.67833333334]
[" Трансформаторная подстанция ТП 38 10/0,4-250кВА","10/0,4",480,{"$f":"MAX(361,C97)","v":480},1200003.71,30000.12,{"$f":"E97-F97","v":1170003.5899999999},null,7500.03,null,null,{"$f":"E97","v":1200003.71},{"$f":"F97+I97","v":37500.15},{"$f":"L97-M97","v":1162503.56},{"$f":"IF(C97>0,IF(N97>L97/C97*9,(L97/C97*9),N97),0)","v":22500.069562500001},30000.0995625,30000.0995625,1140003.4904374999,1140003.4904374999,30000.09275,30000.09275,{"$f":"IF((R97-T97)>0,(R97-T97),0)","v":1110003.3976874999},null,{"$f":"(R97+V97)/2*W97","v":0},0,0,1125003.4440624998]
[" Трансформаторная подстанция ТП 39 10/0,4-250кВА","10/0,4",480,{"$f":"MAX(361,C98)","v":480},1725143.97,43128.6,1682015.3699999999,null,10782.15,null,null,1725143.97,53910.75,1671233.22,32346.449437499999,43128.599437500001,{"$f":"IF(C98-D98=0,P98,E98/D98*12)","v":43128.599437500001},1638886.7705625,{"$f":"IF(P98-Q98=0,R98,E98-(I98*4*(F98/(I98*4)-2))-Q98*3)","v":1638886.7705625},43128.599249999999,43128.599249999999,1595758.1713125,null,0,{"$f":"IF(W98=2.2,(V98+R98)/2,0)","v":0},{"$f":"IF(W98=1.9,(V98+R98)/2,0)","v":0},{"$f":"IF(W98=0,(V98+R98)/2,0)","v":1617322.4709375}]
[" Трансформаторная подстанция ТП 45 10/0,4-250кВА","10/0,4",600,600,1714123.93,34282.44,1679841.49,null,8570.61,null,null,1714123.93,42853.05,1671270.88,25711.858949999998,34282.468949999995,34282.468949999995,1645559.0210499999,1645559.0210499999,34282.478599999995,34282.478599999995,1611276.5424499998,null,0,0,0,1628417.7817499998]
[" Трансформаторная подстанция ТП 51 Очистные сооружения","10/0,4",600,600,4153930.01,83078.64,4070851.3699999996,null,20769.66,null,null,4153930.01,103848.3,4050081.71,62308.950149999997,83078.610149999993,83078.610149999993,3987772.75985,3987772.75985,83078.600200000001,83078.600200000001,3904694.1596499998,null,0,0,0,3946233.4597499999]
[" Трансформаторная подстанция ТП 54 10/0,4-250кВА","10/0,4",480,480,1459986.91,36499.68,1423487.23,null,9124.92,null,null,1459986.91,45624.6,1414362.3099999998,27374.754562499998,36499.674562499997,36499.674562499997,1386987.5554374999,1386987.5554374999,36499.672749999998,36499.672749999998,1350487.8826875,null,0,0,0,1368737.7190624999]
[" Трансформаторная подстанция ТП 55 10/0,4-400кВА","10/0,4",480,480,2112753.69,52818.84,2059934.8499999999,null,13204.71,null,null,2112753.69,66023.549999999988,2046730.14,39614.131687499997,52818.841687499997,52818.841687499997,2007116.0083124998,2007116.0083124998,52818.842249999994,52818.842249999994,1954297.1660624999,null,0,0,0,1980706.5871874997]
[" Трансформаторная подстанция ТП 56 10/0,4-400кВА*2","10/0,4",600,600,3337073.68,66741.48,3270332.2,null,16685.37,null,null,3337073.68,83426.849999999991,3253646.83,50056.105200000005,66741.475200000001,66741.475200000001,3203590.7248,3203590.7248,66741.473599999998,66741.473599999998,3136849.2511999998,null,0,0,0,3170219.9879999999]
[" Трансформаторная подстанция ТП 62 10/0,4-400кВА","10/0,4",600,600,4367990.75,87359.76,4280630.99,null,21839.94,null,null,4367990.75,109199.7,4258791.05,65519.861249999994,87359.80124999999,87359.80124999999,4193271.1887499997,4193271.1887499997,87359.815000000002,87359.815000000002,4105911.3737499998,null,0,0,0,4149591.28125]
[" Трансформаторная подстанция ТП 63 10/0,4-400кВА*2","10/0,4",600,600,4241739.6500000004,84834.84,4156904.8100000005,null,21208.71,null,null,4241739.6500000004,106043.54999999999,4135696.1000000006,63626.094750000004,84834.80475000001,84834.80475000001,4072070.0052500004,4072070.0052500004,84834.793000000005,84834.793000000005,3987235.2122500003,null,0,0,0,4029652.6087500006]
[" Трансформаторная подстанция ТП 91 10/0,4-250кВА","10/0,4",480,480,1702885.57,42572.160000000003,1660313.4100000001,null,10643.04,null,null,1702885.57,53215.200000000004,1649670.37,31929.104437500002,42572.144437499999,42572.144437499999,1617741.2655625001,1617741.2655625001,42572.13925,42572.13925,1575169.1263125001,null,0,0,0,1596455.1959375001]
[" Трансформаторная подстанция ТП 10 10/0,4-100кВА","10/0,4",600,600,1708942.34,34178.879999999997,1674763.4600000002,null,8544.7199999999993,null,null,1708942.34,42723.6,1666218.74,25634.1351,34178.855100000001,34178.855100000001,1640584.6048999999,1640584.6048999999,34178.846799999999,34178.846799999999,1606405.7581,null,0,0,0,1623495.1814999999]
[" Трансформаторная подстанция ТП 11 10/0,4-250кВА","10/0,4",600,600,1339231.8899999999,26784.6,1312447.2899999998,null,6696.15,null,null,1339231.8899999999,33480.75,1305751.1399999999,20088.478349999998,26784.628349999999,26784.628349999999,1285662.6616499999,1285662.6616499999,26784.637799999997,26784.637799999997,1258878.02385,null,0,0,0,1272270.3427499998]
[" Трансформаторная подстанция ТП 37 10/0,4-250кВА*2","10/0,4",600,600,2315283.12,46305.72,2268977.4,null,11576.43,null,null,2315283.12,57882.15,2257400.9700000002,34729.246800000001,46305.676800000001,46305.676800000001,2222671.7232000004,2222671.7232000004,46305.662400000001,46305.662400000001,2176366.0608000006,null,0,0,0,2199518.8920000005]
["Подстанция ТП-13","10/0,4",600,600,660254.31999999995,13205.04,647049.27999999991,null,3301.26,null,null,660254.31999999995,16506.300000000003,643748.0199999999,9903.8147999999983,13205.074799999999,13205.074799999999,633844.20519999985,633844.20519999985,13205.086399999998,13205.086399999998,620639.11879999982,null,0,0,0,627241.66199999978]
["Подстанция ТП-2","10/0,4",600,600,875872.97,17517.48,858355.49,null,4379.37,null,null,875872.97,21896.85,853976.12,13138.09455,17517.464550000001,17517.464550000001,840838.02544999996,840838.02544999996,17517.4594,17517.4594,823320.56604999991,null,0,0,0,832079.29574999993]
["КТП 40 ул. 1-я Воронцова","10/0,4",480,480,2028474.33,0,2028474.33,null,12677.97,null,null,2028474.33,12677.97,2015796.36,38033.8936875,{"$f":"I112+O112","v":50711.863687500001},50711.863687500001,{"$f":"IF((N112-O112)>0,(N112-O112),0)","v":1977762.4663125002},1977762.4663125002,{"$f":"IF(C112>0,IF(R112>L112/C112*12,(L112/C112*12),R112),0)","v":50711.858250000005},{"$f":"IF(D112>0,IF(R112>L112/D112*12,(L112/D112*12),R112),0)","v":50711.858250000005},1927050.6080625001,null,0,0,0,1952406.5371875002]
[null,null,null,361,null,null,null,null,null,null,null,null,null,null,0,0,0,0,0,0,0,0,null,{"$f":"(R113+V113)/2*W113","v":0},0,0,0]
["Добавить"]
["Неамортизируемое имущество (Земельные участки)"]
[null,null,null,null,null,null,null,null,null,null,null,null,null,null,"х",null,{"$f":"IF(C116-D116=0,P116,E116/D116*12)","v":0},{"$f":"G116","v":0},null,"х","х",{"$f":"R116","v":0},null,"х",0,{"$f":"IF(W116=1.9,(V116+R116)/2,0)","v":0},0]
[null,null,null,null,null,null,null,null,null,null,null,null,null,null,"х",null,0,{"$f":"G117","v":0},null,"х","х",{"$f":"R117","v":0},null,"х",0,0,0]
[null,null,null,null,null,null,null,null,null,null,null,null,null,null,"х",null,0,{"$f":"G118","v":0},null,"х","х",0,null,"х",0,0,0]
[null,null,null,null,null,null,null,null,null,null,null,null,null,null,"х",null,0,{"$f":"G119","v":0},null,"х","х",0,null,"х",0,0,0]
["Добавить"]
["Итого","x","x","x",{"$f":"SUM(E7:E119)","v":119414146.07000001},4730181.9499999983,114683964.12,0,1570581.8699999992,0,0,119414146.07000001,6300763.8199999984,113113382.25,{"$f":"SUM(O8:O10)+SUM(O13:O15)+SUM(O18:O20)+SUM(O23:O25)+SUM(O28:O30)+SUM(O33:O75)+SUM(O78:O83)+SUM(O86:O88)+SUM(O91:O93)+SUM(O96:O113)+SUM(O116:O119)","v":4656570.5605562516},6227152.4305562498,6063028.3203949053,108456811.68944374,109059534.51436529,6208760.7474083342,6063028.3863199055,102248050.94203542,"х",{"$f":"SUM(X8:X10)+SUM(X13:X15)+SUM(X18:X20)+SUM(X23:X25)+SUM(X28:X30)+SUM(X33:X75)+SUM(X78:X83)+SUM(X86:X88)+SUM(X91:X93)+SUM(X96:X113)+SUM(X116:X119)","v":9959.9343333333345},{"$f":"SUM(Y8:Y10)+SUM(Y13:Y15)+SUM(Y18:Y20)+SUM(Y23:Y25)+SUM(Y28:Y30)+SUM(Y33:Y75)+SUM(Y78:Y83)+SUM(Y86:Y88)+SUM(Y91:Y93)+SUM(Y96:Y113)+SUM(Y116:Y119)","v":0},{"$f":"SUM(Z8:Z10)+SUM(Z13:Z15)+SUM(Z18:Z20)+SUM(Z23:Z25)+SUM(Z28:Z30)+SUM(Z33:Z75)+SUM(Z78:Z83)+SUM(Z86:Z88)+SUM(Z91:Z93)+SUM(Z96:Z113)+SUM(Z116:Z119)","v":0},{"$f":"SUM(AA8:AA10)+SUM(AA13:AA15)+SUM(AA18:AA20)+SUM(AA23:AA25)+SUM(AA28:AA30)+SUM(AA33:AA75)+SUM(AA78:AA83)+SUM(AA86:AA88)+SUM(AA91:AA93)+SUM(AA96:AA113)+SUM(AA116:AA119)","v":105352431.31573957}]
[]
["Руководитель организации",null,null,null,null,{"$f":"'Инф-я'!$C$17","v":"Окунев Василий Михайлович"}]

{"sheet":"Справка по ОС","index":9,"n_rows":23,"n_cols":18,"rows_kept":23,"cut":false,"hidden":false,"merged":[[1,0,1,7],[3,0,3,7],[6,16,6,17],[19,0,19,17],[20,0,20,10],[22,0,22,1],[6,4,6,5],[6,9,7,15],[6,0,7,0],[6,1,7,1],[6,2,6,3],[6,6,7,6],[6,7,6,8]]}
[]
["Справка о наличии основных средств полностью самортизированным по бухгалтерскому учету, участвующих в передаче электрической энергии на 01.01.2017"]
[]
[{"$f":"'Инф-я'!C9","v":"Общество с ограниченной ответственностью \"Энергетик\""}]
[]
[]
["Основное средство, Инвентарный номер","Амортизационная группа","Срок полезного использования, мес.",null,"Дата принятия объекта",null,"Первоначальная стоимость, тыс. руб. ","Амортизация  в месяц",null,"Остаточная стоимость на 01.01.2015",null,null,null,null,null,null,"Амортизация  2018 год"]
[null,null,"бух.учет","Максимальный срок по группе ","Порядковый номер месяца","год",null,"бух.учет","Максимальный срок по группе ",null,null,null,null,null,null,null,"По данным организации","По данным экспертов"]
[1,{"$f":"+A9+1","v":2},3,4,5,6,7,8,9,10,11,12,13,14,15,16,17,18]
[null,null,null,null,null,null,null,{"$f":"IF(C10=0,0,G10/C10)","v":0},{"$f":"IF(D10=0,0,G10/D10)","v":0},{"$f":"G10-((2015-F10)*12-(12-(13-E10))-1)*H10","v":0},{"$f":"IF($D10>0,IF(J10>$I10*12,($I10*12),J10),0)","v":0},{"$f":"IF((J10-K10)>0,(J10-K10),0)","v":0},{"$f":"IF($D10>0,IF(L10>$I10*12,($I10*12),L10),0)","v":0},{"$f":"IF((L10-M10)>0,(L10-M10),0)","v":0},{"$f":"IF($D10>0,IF(N10>$I10*12,($I10*12),N10),0)","v":0},{"$f":"IF((N10-O10)>0,(N10-O10),0)","v":0},{"$f":"IF($D10>0,IF(P10>$I10*12,($I10*12),P10),0)","v":0}]
[null,null,null,null,null,null,null,{"$f":"IF(C11=0,0,G11/C11)","v":0},{"$f":"IF(D11=0,0,G11/D11)","v":0},{"$f":"G11-((2015-F11)*12-(12-(13-E11))-1)*H11","v":0},{"$f":"IF($D11>0,IF(J11>$I11*12,($I11*12),J11),0)","v":0},{"$f":"IF((J11-K11)>0,(J11-K11),0)","v":0},{"$f":"IF($D11>0,IF(L11>$I11*12,($I11*12),L11),0)","v":0},{"$f":"IF((L11-M11)>0,(L11-M11),0)","v":0},{"$f":"IF($D11>0,IF(N11>$I11*12,($I11*12),N11),0)","v":0},{"$f":"IF((N11-O11)>0,(N11-O11),0)","v":0},{"$f":"IF($D11>0,IF(P11>$I11*12,($I11*12),P11),0)","v":0}]
[null,null,null,null,null,null,null,0,0,0,0,0,0,0,0,0,0]
[null,null,null,null,null,null,null,0,0,0,0,0,0,0,0,0,0]
[null,null,null,null,null,null,null,0,0,0,0,0,0,0,0,0,0]
[null,null,null,null,null,null,null,0,0,0,0,0,0,0,0,0,0]
[null,null,null,null,null,null,null,0,0,0,0,0,0,0,0,0,0]
[null,null,null,null,null,null,null,0,0,0,0,0,0,0,0,0,0]
[null,null,null,null,null,null,null,0,0,0,0,0,0,0,0,0,0]
[null,null,null,null,null,null,null,0,0,0,0,0,0,0,0,0,0]
["Добавить"]
["Всего по основным средствам полностью самортизированных по бухгалтерскому учету, участвующих в передаче электрической энергии",null,null,null,null,null,null,null,null,null,null,"х","х","х","х","х",{"$f":"SUM(Q10:Q20)","v":0},{"$f":"SUM(R10:R20)","v":0}]
[]
["Руководитель организации",null,null,{"$f":"'Инф-я'!C17","v":"Окунев Василий Михайлович"}]

{"sheet":"Ввод выбытие ОС  ","index":10,"n_rows":29,"n_cols":7,"rows_kept":29,"cut":false,"hidden":false,"merged":[[1,0,1,6],[3,0,3,6],[17,1,17,3],[17,4,17,6],[23,0,23,6],[28,0,29,6],[15,7,15,13],[15,0,15,6],[11,0,11,6],[5,1,5,3],[5,4,5,6],[26,0,26,1]]}
[]
["Справка о вводе основных средств в 2017 году  (с 01.04.2017 г.), участвующих в передаче электрической энергии"]
[]
[{"$f":"'Инф-я'!C9","v":"Общество с ограниченной ответственностью \"Энергетик\""}]
[]
[null,"По данным организации",null,null,"По данным экспертов"]
["Наименование вводимых  объектов основных фондов","Стоимость объекта (тыс. руб.)","Норма амортизационных отчислений, %","Корректировка годовой суммы амортизационных отчислений по вводимым объектам (тыс. руб.)","Стоимость объекта (тыс. руб.)","Норма амортизационных отчислений, %","Корректировка годовой суммы амортизационных отчислений по вводимым объектам (тыс. руб.)"]
[1,2,3,4,5,6,7]
["Реконструкция ВЛ 10 кВ от ТП 27 до ТП 9 (фидер 1001)",1187.71,6.6699999999999995E-2,{"$f":"B9*C9","v":79.220257000000004},null,null,{"$f":"E9*F9","v":0}]
["Строительство ВЛ 10 кВ от ТП 27 до ТП 28 (фидер 1001)",1153.67,6.6699999999999995E-2,76.949788999999996,null,null,0]
["Строительство ВЛ 10 кВ от ТП 45 до ТП 28 (фидер 1001)",2385.17,6.6699999999999995E-2,159.09083899999999,null,null,0]
["Добавить"]
["Всего по вводимым объектам в 2017 году (с 01.04.2017 г.)",{"$f":"SUM(B9:B11)","v":4726.55},"х",{"$f":"SUM(D9:D11)","v":315.26088500000003},{"$f":"SUM(E9:E11)","v":0},"х",{"$f":"SUM(G9:G11)","v":0}]
[]
[]
["Справка о выбытии неполностью самортизированных основных средств в 2017 году  (с 01.04.2017 г.), участвующих в передаче электрической энергии"]
[]
[null,"По данным организации",null,null,"По данным экспертов"]
["Наименование выводимых объектов основных фондов","Стоимость объекта (тыс. руб.)","Норма амортизационных отчислений","Корректировка годовой суммы амортизационных отчислений по выбывающим объектам* (тыс. руб.)","Стоимость объекта (тыс. руб.)","Норма амортизационных отчислений","Корректировка годовой суммы амортизационных отчислений по выбывающим объектам* (тыс. руб.)"]
[1,2,3,4,5,6,7]
[null,null,null,{"$f":"B21*C21","v":0},null,null,{"$f":"E21*F21","v":0}]
[null,null,null,{"$f":"B22*C22","v":0},null,null,{"$f":"E22*F22","v":0}]
[null,null,null,0,null,null,0]
["Добавить"]
["Всего по выбывающим объектам в 2017 году (с 01.04.2017 г.)",{"$f":"SUM(B21:B23)","v":0},"х",{"$f":"SUM(D21:D23)","v":0},{"$f":"SUM(E21:E23)","v":0},"х",{"$f":"SUM(G21:G23)","v":0}]
[]
["Руководитель организации",null,null,{"$f":"'Инф-я'!C17","v":"Окунев Василий Михайлович"}]
[]
["В справке о выбытии основных средств указывается информация о выбывающих объектах (продажа, ликвидация)"]

{"sheet":"Свод по амортизации","index":11,"n_rows":21,"n_cols":8,"rows_kept":21,"cut":false,"hidden":false,"merged":[[7,6,7,7],[6,0,7,0],[2,0,2,6],[6,3,6,4],[20,3,20,5],[4,0,4,6],[6,1,6,2],[6,5,6,6]]}
[]
[]
["Сводный расчет амортизационных отчислений на восстановление основных производственных фондов,  участвующих в передаче электрической энергии"]
[]
[{"$f":"'Инф-я'!C9","v":"Общество с ограниченной ответственностью \"Энергетик\""}]
[null,null,null,null,null,null,"тыс. руб."]
["Наименование","2016 год",null,"2017 год",null,"2018 год",null,"2019 год"]
[null,"Утверждено","Факт","Утверждено","Ожидаемые","По данным организации","По данным экспертов"]
[1,2,3,4,5,6,7,8]
["Амортизационные отчисления на 2017 год по основным средствам по состоянию на 01.04.2017 г.","х","х","х","х",{"$f":"'Расчет аморт. max срок '!U121/1000","v":6063.0283863199056}]
["Корректировка годовой суммы амортизационных отчислений, в том числе:","х","х","х","х",{"$f":"F12-F13+F14","v":315.26088500000003},{"$f":"G12-G13+G14","v":0},0]
["по вводимым объектам основных средств после 01.04.2017 г. (+)","х","х","х","х",{"$f":"'Ввод выбытие ОС  '!D13","v":315.26088500000003},{"$f":"'Ввод выбытие ОС  '!G13","v":0}]
["по выбывающим объектам основных средств  после 01.04.2017 г.(-)","х","х","х","х",{"$f":"'Ввод выбытие ОС  '!D25","v":0},{"$f":"'Ввод выбытие ОС  '!G25","v":0}]
["по объектам основных средств полностью самортизированных по бухгалтерскому учету  ",null,null,null,null,{"$f":"'Справка по ОС'!Q21","v":0},{"$f":"'Справка по ОС'!R21","v":0}]
["Годовая сумма амортизационных отчислений",4548.3327827592784,4730.1819500000001,4681.14131188181,6227.1523999999999,{"$f":"F10+F11","v":6378.2892713199053},{"$f":"G10+G11","v":0},{"$f":"H10+H11","v":0}]
["в т.ч. по уровням напряжения:                                                                                          ВН","х","х",null,"х"]
["СН1","х","х",null,"х"]
["СН2","х","х",null,"х"]
["НН","х","х",null,"х"]
[]
["Руководитель организации",null,null,{"$f":"'Инф-я'!C17","v":"Окунев Василий Михайлович"}]

{"sheet":"Отчислен во внебюдж фонды","index":12,"n_rows":38,"n_cols":11,"rows_kept":38,"cut":false,"hidden":false,"merged":[[6,8,6,9],[26,0,26,8],[23,4,23,6],[1,1,1,8],[3,1,3,8],[5,0,6,0],[5,1,6,1],[5,2,6,2],[5,3,5,4],[5,7,5,8],[5,5,5,6]]}
[]
[null,"Расчет отчислений во внебюджетные фонды"]
[]
[null,{"$f":"'Инф-я'!C9","v":"Общество с ограниченной ответственностью \"Энергетик\""}]
[null,null,null,null,null,null,null,"тыс. руб."]
["№ п/п","Наименование","Ед.изм.","2016 год",null,"2017 год",null,"2018 год",null,"2019 год","2016 год"]
[null,null,null,"Утверждено","Факт","Утверждено","Ожидаемые","По данным организации","По данным экспертов",null,"Факт по данным экспертов"]
[1,2,3,4,5,6,7,8,9,10,11]
["1.","Сумма выплат и иных вознаграждений, начисленных в пользу физических лиц, в соответствии со статьей 420 НК РФ","тыс. руб.","х","х",11759.006186734299,12088.252,{"$f":"H10+H11","v":12845.470917830882},{"$f":"H10+H11","v":12845.470917830882},2910.3540312167388,"х"]
["1.1.","Расходы из фонда оплаты труда","тыс. руб.","х","х",11759.006186734299,12088.252,{"$f":"'Подконтрольные расходы'!E17","v":12485.151292005776},{"$f":"'Подконтрольные расходы'!F17","v":2828.7176566334638},{"$f":"'Подконтрольные расходы'!G17","v":2800.4304800671293},"х"]
["1.2.","Расходы по коллективным договорам","тыс. руб.","х","х",329.843937710202,null,{"$f":"'Подконтрольные расходы'!E30","v":360.31962582510704},{"$f":"'Подконтрольные расходы'!F30","v":81.636374583275},{"$f":"'Подконтрольные расходы'!G30","v":80.820010837442254},"х"]
["2.","Суммы, не подлежащие обложению страховыми взносами, в соответствии со статьей 422 НК РФ","тыс. руб.","х","х",104.91714135294018,null,{"$f":"F12*'Подконтрольные расходы'!E15","v":114.61088349043806},{"$f":"F12*'Подконтрольные расходы'!F15","v":25.966992484852693},{"$f":"I12*'Подконтрольные расходы'!G15","v":25.707322560004165},"х"]
["3.","Тарифы страховых взносов во внебюджетные фонды:","%","х","х","х","х","х","х","х","х"]
["3.1.","ПФР","%","х","х",0.22,0.22,0.22,0.22,0.22,"х"]
["3.2.","ФФОМС","%","х","х",5.0999999999999997E-2,5.0999999999999997E-2,5.0999999999999997E-2,5.0999999999999997E-2,5.0999999999999997E-2,"х"]
["3.3.","ФСС","%","х","х",2.9000000000000001E-2,2.9000000000000001E-2,2.9000000000000001E-2,2.9000000000000001E-2,2.9000000000000001E-2,"х"]
["3.4.","на обязательное страхование от несчастных случаев","%","х","х",4.0000000000000001E-3,4.0000000000000001E-3,4.0000000000000001E-3,null,null,"х"]
["4.","Отчисления во внебюджетные фонды","тыс. руб.",3315.8618937141241,{"$f":"SUM(E19:E22)","v":3671.3102899999999},3542.8430697959334,{"$f":"G19+G20+G21+G22","v":3674.8286080000003},{"$f":"H19+H20+H21+H22","v":3870.1814504394952},{"$f":"I19+I20+I21+I22","v":3845.8511776038085},{"$f":"J19+J20+J21+J22","v":865.39401259702026}]
["4.1.","ПФР","тыс. руб.","х",2613.4631300000001,2563.8995899838992,{"$f":"(G9-G12)*G14","v":2659.4154400000002},{"$f":"(H9-H12)*H14","v":2800.7892075548975},{"$f":"(I9-I12)*I14","v":2820.2908635761264},{"$f":"(J9-J12)*J14","v":634.62227590448163}]
["4.2.","ФФОМС","тыс. руб.","х",605.84829000000002,594.35854131444933,{"$f":"(G9-G12)*G15","v":616.50085200000001},{"$f":"(H9-H12)*H15","v":649.27386175136257},{"$f":"(I9-I12)*I15","v":653.7947001926475},{"$f":"(J9-J12)*J15","v":147.11698214149345}]
["4.3.","ФСС","тыс. руб.","х",404.48135000000002,337.96858231605944,{"$f":"(G9-G12)*G16","v":350.55930800000004},{"$f":"(H9-H12)*H16","v":369.19494099587286},{"$f":"(I9-I12)*I16","v":371.76561383503486},{"$f":"(J9-J12)*J16","v":83.654754551045301}]
["4.4.","на обязательное страхование от несчастных случаев","тыс. руб.","х",47.517519999999998,46.61635618152544,{"$f":"(G9-G12)*G17","v":48.353008000000003},{"$f":"(H9-H12)*H17","v":50.923440137361773},{"$f":"(I9-I12)*I17","v":0},{"$f":"(J9-J12)*J17","v":0}]
[]
[null,"Руководитель организации",null,null,{"$f":"'Инф-я'!C17","v":"Окунев Василий Михайлович"}]
[]
[]
[]
[]
[]
[]
["№ п./п.","Показатели","По расчету Общества"]
[1,2,3]
["1.","Расходы на оплату труда, включаемые в базу для начисления страховых взносов",{"$f":"H9","v":12845.470917830882}]
["2.","Выплаты работникам по коллективному договору - всего. в т. ч.",0]
["3.","суммы, не подлежащие обложению страховыми взносами в соответствии со ст. 9 закона от 24.07.2009 г. № 212-ФЗ",0]
["4.","Итого база страховых взносов  (п.1+п.2-п.3)",{"$f":"C33+C34","v":12845.470917830882}]
["5.","Отчисления во внебюджетные фонды ",{"$f":"C36*C38/100","v":3905.0231590205881}]
["6.","Процент отчислений (%)",30.4]

{"sheet":"Расходы рег. орг-ий","index":13,"n_rows":24,"n_cols":9,"rows_kept":24,"cut":false,"hidden":false,"merged":[[23,3,23,4],[1,0,1,6],[3,0,3,6],[6,0,7,0],[6,1,6,2],[6,5,6,6],[6,3,6,4],[12,0,12,8],[16,0,16,8],[20,0,20,8],[7,6,7,7]]}
[]
["Расходы на оплату услуг организаций, осуществляющих регулируемые виды деятельности"]
[]
[{"$f":"'Инф-я'!C9","v":"Общество с ограниченной ответственностью \"Энергетик\""}]
[]
[null,null,null,null,null,"тыс. руб."]
["Наименование","2016 год",null,"2017 год",null,"2018 год",null,"2019 год","2016 год"]
[null,"Утверждено","Факт","Утверждено","Ожидаемые","По данным организации","По данным экспертов",null,"Факт по данным экспертов"]
[1,2,3,4,5,6,7,8,9]
["Тепловая энергия",142.97662837626353,{"$f":"C11","v":200.89005},169.39519711,{"$f":"SUM(E11:E12)","v":211.14},{"$f":"SUM(F11:F12)","v":221.48},0,0,0]
["договор  с _____ от_____№  __ на_________","х",200.89005,"х",211.14,221.48]
["договор  с _____ от_____№  __ на_________","х",null,"х"]
["Добавить"]
["Водоснабжение и канализация",11.361860774399998,{"$f":"C15","v":25.250430000000001},22.672671630839996,{"$f":"SUM(E15:E16)","v":26.54},31.44,0,0,0]
["договор  с _____ от_____№  __ на_________","х",25.250430000000001,"х",26.54,31.44]
["договор  с _____ от_____№  __ на_________","х",null,"х"]
["Добавить"]
["Прочие услуги по регулируемым тарифам (вывоз ТБО)",13.203611601600004,{"$f":"C19+C20","v":12.467879999999999},13.520767571639997,{"$f":"SUM(E19:E20)","v":13.11},{"$f":"SUM(F19:F20)","v":13.79},{"$f":"SUM(G19:G20)","v":0},{"$f":"SUM(H19:H20)","v":0},{"$f":"SUM(I19:I20)","v":0}]
["договор  с _____ от_____№  __ на_________","х",12.467879999999999,"х",13.11,13.79]
["договор  с _____ от_____№  __ на_________","х",null,"х"]
["Добавить"]
["Итого",{"$f":"B10+B14+B18","v":167.54210075226354},238.60836,205.58863631247999,250.78999999999996,266.70999999999998,{"$f":"G10+G14+G18","v":0},{"$f":"H10+H14+H18","v":0},{"$f":"I10+I14+I18","v":0}]
[]
["Руководитель организации",null,null,{"$f":"'Инф-я'!C17","v":"Окунев Василий Михайлович"}]

{"sheet":"Аренда имущества","index":14,"n_rows":49,"n_cols":23,"rows_kept":49,"cut":false,"hidden":false,"merged":[[5,22,8,22],[14,0,14,22],[20,0,20,22],[40,0,40,22],[33,0,33,22],[7,21,8,21],[48,3,48,5],[1,0,1,12],[3,0,3,12],[7,14,8,14],[7,15,7,20],[5,0,8,0],[5,1,7,2],[5,3,7,4],[5,5,5,20],[6,5,6,12],[7,5,8,5],[7,6,8,6],[7,7,7,12],[7,13,8,13],[6,13,6,21]]}
[]
["Расходы по аренде имущества, в части амортизации и налогов, относимых к арендуемому имуществу"]
[]
[{"$f":"'Инф-я'!C9","v":"Общество с ограниченной ответственностью \"Энергетик\""}]
[null,null,null,null,null,null,null,null,null,null,null,null,"тыс. руб."]
["Наименование","2016 год",null,"2017 год",null,"2018 год",null,null,null,null,null,null,null,null,null,null,null,null,null,null,null,"2019 год","2016 год Факт по данным экспертов"]
[null,null,null,null,null,"По данным организации",null,null,null,null,null,null,null,"По расчету экспертов"]
[null,null,null,null,null,"Сумма арендной платы для включения в тариф","Стоимость арендной платы по договору","Стоимость арендной платы расчитанной в соответствии с требованиями п. 28 Основ ценообразования",null,null,null,null,null,"Сумма арендной платы для включения в тариф","Стоимость арендной платы по договору","Стоимость арендной платы расчитанной в соответствии с требованиями п. 28 Основ ценообразования",null,null,null,null,null,"Сумма арендной платы для включения в тариф"]
[null,"Утверждено","Факт","Утверждено","Ожидаемые",null,null,"Всего","амортизационные отчисления","налог на имущество","транспортный налог","плата за землю","иные обязательные платежи предусмотренные законодательством, связанные с арендуемым имуществом",null,null,"Всего","амортизационные отчисления","налог на имущество","транспортный налог","плата за землю","иные обязательные платежи предусмотренные законодательством, связанные с арендуемым имуществом"]
[1,2,3,4,5,6,7,8,9,10,11,12,13,14,15,16,17,18,19,20,21,22,23]
["Аренда объектов электросетевого хозяйства",{"$f":"SUM(B12:B14)","v":2976},{"$f":"SUM(C12:C14)","v":2976},2976,2976,2976,2976,2976,2976,0,0,0,0,{"$f":"SUM(N12:N14)","v":0},{"$f":"SUM(O12:O14)","v":0},0,0,0,0,0,0,{"$f":"SUM(V12:V14)","v":0},{"$f":"SUM(W12:W14)","v":0}]
["договор  с ООО \"Техстройэнерго\" от 30.12.2015 № 2-16",2976,2976,2976,2976,{"$f":"MIN(G12,H12)","v":2976},2976,{"$f":"I12+J12+K12+L12+M12","v":2976},2976,null,null,null,null,{"$f":"MIN(O12,P12)","v":0},null,{"$f":"Q12+R12+S12+T12+U12","v":0}]
["договор  с _____ от_____№  __ ",null,null,null,null,{"$f":"MIN(G13,H13)","v":0},null,{"$f":"I13+J13+K13+L13+M13","v":0},null,null,null,null,null,{"$f":"MIN(O13,P13)","v":0},null,{"$f":"Q13+R13+S13+T13+U13","v":0}]
["договор  с _____ от_____№  __ ",null,null,null,null,0,null,0,null,null,null,null,null,0,null,0]
["Добавить "]
["Аренда зданий, соружений, помещений, основных средств",{"$f":"SUM(B17:B20)","v":228.48},{"$f":"SUM(C17:C20)","v":228.48},228.48,228.48,228.48,228.48,228.48,228.48,0,0,0,0,{"$f":"SUM(N17:N20)","v":0},{"$f":"SUM(O17:O20)","v":0},0,0,0,0,0,0,{"$f":"SUM(V17:V20)","v":0},{"$f":"SUM(W17:W20)","v":0}]
["договор  с ООО \"Техстройэнерго\" от 30.12.2015г.  № 3-16",228.48,228.48,228.48,228.48,{"$f":"MIN(G17,H17)","v":228.48},228.48,{"$f":"I17+J17+K17+L17+M17","v":228.48},228.48,null,null,null,null,{"$f":"MIN(O17,P17)","v":0},null,{"$f":"Q17+R17+S17+T17+U17","v":0}]
["договор  с _____ от_____№  __ ",null,null,null,null,{"$f":"MIN(G18,H18)","v":0},null,{"$f":"I18+J18+K18+L18+M18","v":0},null,null,null,null,null,0,null,{"$f":"Q18+R18+S18+T18+U18","v":0}]
["договор  с _____ от_____№  __ ",null,null,null,null,0,null,0,null,null,null,null,null,0,null,0]
["договор  с _____ от_____№  __ ",null,null,null,null,0,null,0,null,null,null,null,null,0,null,0]
["Добавить"]
["Аренда транспортных средств",{"$f":"SUM(B23:B33)","v":1405.3647999999998},1646.01956,1639.8,1686.01956,1686.0172,1686.02,1686.01956,1686.01956,0,0,0,0,0,0,0,0,0,0,0,0,0,0]
["договор  с ООО \"Техстройэнерго\" от 01.09.2015г. № 8А-15 на аренду УАЗ-3909 (VIN XTT39090030476836)",1405.3647999999998,63.577199999999998,1639.8,63.577199999999998,{"$f":"MIN(G23,H23)","v":63.577199999999998},63.58,{"$f":"I23+J23+K23+L23+M23","v":63.577199999999998},63.577199999999998,null,null,null,null,{"$f":"MIN(O23,P23)","v":0},null,{"$f":"Q23+R23+S23+T23+U23","v":0}]
["договор  с ООО \"Техстройэнерго\" от 01.09.2015г. № 6А-15 на аренду ЗИЛ-130 Г (VIN отсутствует; год выпуска 1985г.; модель двигателя 508.400; двигатель № 292036)",null,240,null,240,{"$f":"MIN(G24,H24)","v":240},240,{"$f":"I24+J24+K24+L24+M24","v":240},240]
["договор  с ООО \"Техстройэнерго\" от 01.09.2015г. № 1А-15 на аренду ГАЗ-6612 (VIN XTH006612P0726008)",null,240,null,240,240,240,240,240]
["договор  с ООО \"Техстройэнерго\" от 01.09.2015г. № 4А-15 на аренду АПТ-17Э (VIN XTH330700R1536123)",null,240,null,240,240,240,240,240]
["договор  с ООО \"Техстройэнерго\" от 01.09.2015г. № 5А-15 на аренду ГАЗ-5312 (VIN XTH531200M1403186)",null,120,null,120,120,120,120,120]
["договор  с ООО \"Техстройэнерго\" от 01.09.2015г. № 7А-15 на аренду ВАЗ-2105 (VIN ХТА210540А2178050)",null,38.442360000000001,null,38.442360000000001,38.44,38.44,38.442360000000001,38.442360000000001]
["договор  с ООО \"Техстройэнерго\" от 01.09.2015г. № 3А-15 на аренду ВАЗ-11193 (VIN XTA11193070022812)",null,84,null,84,84,84,84,84]
["договор  с ООО \"Техстройэнерго\" от 01.09.2015г. № 2А-15 на аренду ЗИЛ-131 (VIN отсутствует; год выпуска 1993г.; модель двигателя отсутствует; двигатель № 146550)",null,420,null,420,420,420,420,420]
["договор  с ООО \"Техстройэнерго\" от 01.03.2016г. № 1-16 на аренду ТА-18 (VIN X89483713FCAH3011)",null,200,null,240,240,240,240,240]
[]
[]
["Добавить"]
["Лизинг",{"$f":"SUM(B36:B40)","v":0},{"$f":"SUM(C36:C40)","v":0},0,0,0,"х","х","х","х","х","х","х",{"$f":"SUM(N36:N40)","v":0},"х","х","х","х","х","х","х",{"$f":"SUM(V36:V40)","v":0},{"$f":"SUM(W36:W40)","v":0}]
["объектов электросетевого хозяйства договор  с _____ от_____№  __ ",null,null,null,null,null,"х","х","х","х","х","х","х",null,"х","х","х","х","х","х","х"]
["иного имущества договор  с _____ от_____№  __ ",null,null,null,null,null,"х","х","х","х","х","х","х",null,"х","х","х","х","х","х","х"]
["договор  с _____ от_____№  __ ",null,null,null,null,null,"х","х","х","х","х","х","х",null,"х","х","х","х","х","х","х"]
["договор  с _____ от_____№  __ ",null,null,null,null,null,"х","х","х","х","х","х","х",null,"х","х","х","х","х","х","х"]
["договор  с _____ от_____№  __ ",null,null,null,null,null,"х","х","х","х","х","х","х",null,"х","х","х","х","х","х","х"]
["Добавить"]
["ИТОГО расходы по аренде имущества, всего в том числе",{"$f":"B11+B16+B22+B35","v":4609.8447999999999},{"$f":"C11+C16+C22+C35","v":4850.4995600000002},{"$f":"D11+D16+D22+D35","v":4844.28},{"$f":"E11+E16+E22+E35","v":4890.4995600000002},{"$f":"F11+F16+F22+F35","v":4890.4971999999998},{"$f":"G11+G16+G22","v":4890.5},{"$f":"H11+H16+H22","v":4890.4995600000002},4890.4995600000002,0,0,0,0,{"$f":"N11+N16+N22+N35","v":0},{"$f":"O11+O16+O22","v":0},{"$f":"P11+P16+P22","v":0},0,0,0,0,0,{"$f":"V11+V16+V22+V35","v":0},{"$f":"W11+W16+W22+W35","v":0}]
["в т.ч. по уровням напряжения:  ВН","х","х",null,"х",null,"х","х","х","х","х","х","х",null,"х","х","х","х","х","х","х"]
["СН1","х","х",null,"х",null,"х","х","х","х","х","х","х",null,"х","х","х","х","х","х","х"]
["СН2","х","х",null,"х",null,"х","х","х","х","х","х","х",null,"х","х","х","х","х","х","х"]
["НН","х","х",null,"х",null,"х","х","х","х","х","х","х",null,"х","х","х","х","х","х","х"]
["Для проверки прибыли на капитальные вложения (аренда и лизинг  объектов электросетевого хозяйства)",{"$f":"B11+B36","v":2976},{"$f":"C11+C36","v":2976},{"$f":"D11+D36","v":2976},{"$f":"E11+E36","v":2976},{"$f":"F11+F36","v":2976},"х","х","х","х","х","х","х",{"$f":"N11+N36","v":0},"х","х","х","х","х","х","х",{"$f":"V11+V36","v":0},{"$f":"W11+W36","v":0}]
[]
["Руководитель организации",null,null,{"$f":"'Инф-я'!$C$17","v":"Окунев Василий Михайлович"}]

{"sheet":"Плата за землю","index":15,"n_rows":18,"n_cols":9,"rows_kept":18,"cut":false,"hidden":false,"merged":[[1,0,1,6],[5,0,6,0],[5,3,5,4],[17,3,17,5],[17,0,17,1],[5,1,5,2],[3,0,3,6],[14,0,14,8],[6,6,6,7],[5,5,5,6]]}
[]
["Плата за землю "]
[]
[{"$f":"'Инф-я'!C9","v":"Общество с ограниченной ответственностью \"Энергетик\""}]
[null,null,null,null,null,null,"тыс. руб."]
["Наименование","2016 год",null,"2017 год",null,"2018 год",null,"2019 год","2016 год"]
[null,"Утверждено","Факт","Утверждено","Ожидаемые","По данным организации","По данным экспертов",null,"Факт по данным экспертов"]
[1,2,3,4,5,6,7,8,9]
["Земельный налог"]
[]
["Арендная плата за землю",191.98207524,{"$f":"SUM(C12:C14)","v":342.03946999999999},200.44376564561998,{"$f":"SUM(E12:E14)","v":334.84728000000001},{"$f":"SUM(F12:F14)","v":401.82000000000005},{"$f":"SUM(G12:G14)","v":0},{"$f":"SUM(H12:H14)","v":0},{"$f":"SUM(I12:I14)","v":0}]
["договор № 09/2017 от 22.03.17 на 2017г.","x",1.30986,"x",0.18010999999999999,0.22]
["договор № 10/2017 от 22.03.17 на 2017г.","x",340.72960999999998,"x",334.66717,401.6]
["договор № ___ от ____","x",null,"x"]
["Добавить"]
["Всего плата за землю",{"$f":"B9+B11","v":191.98207524},342.03946999999999,200.44376564561998,334.84728000000001,401.82000000000005,0,0,0]
[]
["Руководитель организации",null,null,{"$f":"'Инф-я'!$C$17","v":"Окунев Василий Михайлович"}]

{"sheet":"Транспортный налог","index":16,"n_rows":18,"n_cols":13,"rows_kept":18,"cut":false,"hidden":false,"merged":[[6,12,7,12],[13,0,13,12],[17,0,17,1],[17,3,17,6],[1,0,1,10],[5,0,7,0],[5,1,7,1],[5,2,7,2],[3,0,3,10],[5,3,6,4],[5,5,6,6],[5,7,5,10],[6,7,6,8],[6,9,6,11]]}
[]
["Расчет транспортного налога "]
[]
[{"$f":"'Инф-я'!C9","v":"Общество с ограниченной ответственностью \"Энергетик\""}]
[null,null,null,null,null,null,null,null,"тыс. руб."]
["Объект налогообложения (вид и марка транспортного средства)","Налоговая база, (л.с.)","Налоговая ставка, руб.","2016 год",null,"2017 год",null,"2018 год",null,null,null,"2019 год","2016 год"]
[null,null,null,null,null,null,null,"По расчету организации",null,"По расчету экспертов",null,null,"Факт по данным экспертов"]
[null,null,null,"Утверждено","Факт","Утверждено","Ожидаемые","Коэф. использ.","Годовая сумма налога,  тыс.руб.","Коэф. использ.","Годовая сумма налога, тыс. руб.","Годовая сумма налога, тыс. руб."]
[1,2,3,4,5,6,7,8,9,10,11,12,13]
[null,null,null,"х",null,"х",null,null,{"$f":"B10*C10*H10/1000","v":0},null,{"$f":"B10*C10*J10/1000","v":0}]
[null,null,null,"х",null,"х",null,null,{"$f":"B11*C11*H11/1000","v":0},null,{"$f":"B11*C11*J11/1000","v":0}]
[null,null,null,"х",null,"х",null,null,0,null,0]
[null,null,null,"х",null,"х",null,null,0,null,0]
["Добавить"]
["Транспортный налог всего, в т.ч.","х","х",null,{"$f":"SUM(E10:E13)","v":0},null,{"$f":"SUM(G10:G13)","v":0},"х",{"$f":"SUM(I10:I13)","v":0},"х",{"$f":"SUM(K10:K13)","v":0},{"$f":"SUM(L10:L13)","v":0},{"$f":"SUM(M10:M13)","v":0}]
[" относимый на услугу по передаче электрической энергии","х","х",null,null,null,null,"х",null,"х"]
[]
["Руководитель организации",null,null,{"$f":"'Инф-я'!$C$17","v":"Окунев Василий Михайлович"}]

{"sheet":"Налог на имущество","index":17,"n_rows":21,"n_cols":9,"rows_kept":21,"cut":false,"hidden":false,"merged":[[6,6,6,7],[1,0,1,6],[3,0,3,6],[20,0,20,1],[20,3,20,5],[5,0,6,0],[5,1,5,2],[5,5,5,6],[5,3,5,4]]}
[]
["Налог на имущество"]
[]
[{"$f":"'Инф-я'!C9","v":"Общество с ограниченной ответственностью \"Энергетик\""}]
[null,null,null,null,null,"тыс. руб."]
["Наименование","2016 год",null,"2017 год",null,"2018 год",null,"2019 год","2016 год"]
[null,"Утверждено","Факт","Утверждено","Ожидаемые","По данным организации","По данным экспертов",null,"Факт по данным экспертов"]
[1,2,3,4,5,6,7,8,9]
["Среднегодовая остаточная стоимость основных средств, всего, в том числе:","х",{"$f":"C10+C11+C12","v":0},"х",{"$f":"E10+E11+E12","v":0},{"$f":"F10+F11+F12","v":105352.43131573957},{"$f":"G10+G11+G12","v":0},{"$f":"H10+H11+H12","v":0},{"$f":"I10+I11+I12","v":0}]
["-облагаемых по ставке 2,2 %","х",null,"х",null,{"$f":"'Расчет аморт. max срок '!Y121/1000","v":0},null,{"$f":"G10","v":0}]
["-облагаемых по льготной ставке ","х",null,"х",null,{"$f":"'Расчет аморт. max срок '!Z121/1000","v":0},null,{"$f":"G11","v":0}]
["- необлагаемых (движимое имущество, введенное с 01.01.2013 года","х",null,"х",null,{"$f":"'Расчет аморт. max срок '!AA121/1000","v":105352.43131573957},null,0]
["Льготная ставка налога ","х",1.2999999999999999E-2,"х",1.6E-2,1.9E-2,1.9E-2,2.1999999999999999E-2,1.2999999999999999E-2]
["Налог на имущество",null,{"$f":"C10*2.2%+C11*C13","v":0},null,{"$f":"E10*2.2%+E11*E13","v":0},0,0,{"$f":"H10*2.2%+H11*H13","v":0},{"$f":"I10*2.2%+I11*I13","v":0}]
["Налог на имущество, относимый на услугу по передаче электрической энергии"]
["в  т.ч. по уровням напряжения:                   ВН","x","x",null,"x"]
["СН1","x","x",null,"x"]
["СН11","x","x",null,"x"]
["НН","x","x",null,"x"]
[]
["Руководитель организации",null,null,{"$f":"'Инф-я'!$C$17","v":"Окунев Василий Михайлович"}]

{"sheet":"Налог прим при УСНО","index":18,"n_rows":18,"n_cols":9,"rows_kept":18,"cut":false,"hidden":false,"merged":[[1,1,1,6],[3,1,3,6],[5,1,6,1],[5,2,5,3],[5,5,5,6],[6,6,6,7],[17,0,17,6],[15,0,15,1],[15,3,15,4],[9,0,9,1],[5,0,6,0],[10,0,10,1],[11,0,11,1],[12,0,12,1],[13,0,13,1]]}
[]
[null,"Налог организаций, применяющих УСНО от деятельности по передаче и технологического присоединения "]
[]
[null,{"$f":"'Инф-я'!C9","v":"Общество с ограниченной ответственностью \"Энергетик\""}]
[null,null,null,null,null,"тыс. руб."]
["№ п/п","Наименование","2016 год",null,"2017 год","2018 год",null,"2019 год","2016 год"]
[null,null,"Утверждено","Факт","Утверждено","По данным организации","По данным экспертов",null,"Факт по данным экспертов"]
[1,2,3,4,5,6,7,8,9]
[1,"Налог организаций, применяющих УСНО всего по декларации","х",null,"х"]
["Налог организаций, применяющих УСНО от деятельности по передаче и технологического присоединения ",null,634.6,991.89499999999998,1038.2619999999999,1428.336,{"$f":"G9","v":0},{"$f":"H9","v":0},0]
["в  т.ч. по уровням напряжения:          ВН",null,"х","х"]
["СН1","СН1","х","х"]
["СН11","СН11","х","х"]
["НН","НН","х","х"]
[]
["Руководитель организации",null,null,{"$f":"'Инф-я'!$C$17","v":"Окунев Василий Михайлович"}]
[]
["Постановлением Правительства РФ от 11 июня 2014 года № 542 внесены изменения в п. 20 Основ ценообразования в области регулируемых цен (тарифов) в электроэнергетике, утвержденных постановлением Правительства РФ от 29 декабря 2011 г. № 1178 в части определения налога на прибыль:\n«В необходимую валовую выручку включается величина налога на прибыль организаций по регулируемому виду деятельности, сформированная по данным бухгалтерского учета за последний истекший период.\nПри установлении тарифов на услуги по передаче электрической энергии учитывается величина налога на прибыль организаций, которая относится по данным раздельного учета к деятельности по оказанию услуг по передаче электрической энергии и осуществлению технологического присоединения к электрическим сетям»."]

{"sheet":"Негативное воздействие на ОС","index":19,"n_rows":59,"n_cols":10,"rows_kept":59,"cut":false,"hidden":false,"merged":[[29,1,29,2],[29,4,29,6],[2,1,2,7],[1,1,1,7],[4,1,5,1],[4,2,4,3],[4,6,4,7],[4,4,4,5],[5,7,5,8],[26,0,26,1],[27,0,27,1],[4,0,5,0]]}
[]
[null,"Расчет платы за негативное воздействие на окружающую среду"]
[null,{"$f":"'Инф-я'!C9","v":"Общество с ограниченной ответственностью \"Энергетик\""}]
[null,null,null,null,null,null,"тыс. руб."]
["№ п./п.","Наименование","2016 год",null,"2017 год",null,"2018 год",null,"2019 год","2016 год"]
[null,null,"Утверждено","Факт","Утверждено","Ожидаемые","По данным организации","По данным экспертов",null,"Факт по данным экспертов"]
[1,2,3,4,5,6,7,8,9,10]
["1.","Плата за выбросы загрязняющих веществ в атмосферный воздух стационарными объектами, исчисленная без учета корректировки, в том числе:","x",{"$f":"SUM(D9:D11)","v":0},"x","x",{"$f":"SUM(G9:G11)","v":0},{"$f":"SUM(H9:H11)","v":0},0,0]
["1.1.","плата за выбросы в пределах предельно-допустимых выбросов (ПДВ) ","x",null,"x","x"]
["1.2.","плата за выбросы в пределах лимитов на выбросы загрязняющих веществ (временно согласованные выбросы ВСВ)","x",null,"x","x"]
["1.3.","плата за выбросы, превышающие установленные разрешениями на выброс загрязняющих веществ в атмосферный воздух ","x",null,"x","x"]
["2.","Плата за сбросы загрязняющих веществ в водные объекты  ","x",{"$f":"SUM(D13:D15)","v":0},"x","x",{"$f":"SUM(G13:G15)","v":0},{"$f":"SUM(H13:H15)","v":0},0,0]
["2.1.","плата за сбросы в пределах нормативов допустимых сбросов (НДС)","x",null,"x","x"]
["2.2.","плата за сбросы в пределах лимитов на сбросы загрязняющих веществ (временно согласованный сбор ВСС)","x",null,"x","x"]
["2.3.","плата за сбросы, превышающие установленные разрешениями  на сброс загрязняющих веществ (сверх лимита на сбросы)","x",null,"x","x"]
["3.","Плата за размещение отходов производства и потребления, исчисленная без учета корректировки, в том числе:","x",{"$f":"SUM(D17:D18)","v":0.51090999999999998},"x","x",{"$f":"SUM(G17:G18)","v":0.52},{"$f":"SUM(H17:H18)","v":0},0,0]
["3.1.","плата за размещение отходов в пределах установленного лимита на их размещение  ","x",null,"x","x"]
["3.2.","плата за размещение отходов сверх установленного лимита на их размещение","x",0.51090999999999998,"x","x",0.52]
["4.","Сумма средств на выполнение мероприятий по снижению негативного воздействия на окружающую среду, всего (п.4.1.+п.4.2.+п.4.3.), в том числе","x",{"$f":"D20+D22+D24","v":0},"x","x",{"$f":"G20+G22+G24","v":0},{"$f":"H20+H22+H24","v":0},0,0]
["4.1.","платы за выбросы","x",null,"x","x"]
["4.1.1.","средства, уменьшающие плату за выбросы в части предельно допустимых выбросов","x",{"$f":"IF(D8=0,0,D20*((D9+D10)/D8))","v":0},"x","x",{"$f":"IF(G8=0,0,G20*((G9+G10)/G8))","v":0},{"$f":"IF(H8=0,0,H20*((H9+H10)/H8))","v":0},0,0]
["4.2.","платы за сбросы","x",null,"x","x"]
["4.2.1.","средства, уменьшающие плату за сбросы в части нормативов сбросов","x",{"$f":"IF(D12=0,0,D22*((D13+D14)/D12))","v":0},"x","x",{"$f":"IF(G12=0,0,G22*((G13+G14)/G12))","v":0},{"$f":"IF(H12=0,0,H22*((H13+H14)/H12))","v":0},0,0]
["4.3.","платы за размещение отходов","x",null,"x","x"]
["4.3.1.","средства, уменьшающие плату за размещение отходов в части лимита","x",{"$f":"IF(D16=0,0,D24*(D17/D16))","v":0},"x","x",{"$f":"IF(G16=0,0,G24*(G17/G16))","v":0},{"$f":"IF(H16=0,0,H24*(H17/H16))","v":0},0,0]
["5.","Сумма платы, подлежащей внесению в бюджет, всего (п.1+п.2+п.3-п.4), в том числе","x",{"$f":"D8+D12+D16-D19","v":0.51090999999999998},"x","x",{"$f":"G8+G12+G16-G19","v":0.52},{"$f":"H8+H12+H16-H19","v":0},0,0]
["Плата за негативное воздействие на окружающую среду в пределах лимитов",null,null,{"$f":"D9+D10-D21+D13+D14-D23+D17-D25","v":0},null,null,{"$f":"G9+G10-G21+G13+G14-G23+G17-G25","v":0},{"$f":"H9+H10-H21+H13+H14-H23+H17-H25","v":0},{"$f":"I9+I10-I21+I13+I14-I23+I17-I25","v":0},0]
["Плата за негативное воздействие на окружающую среду, относимая на услугу по передаче электрической энергии",null,null,2]
[]
[null,"Руководитель организации",null,null,{"$f":"'Инф-я'!$C$17","v":"Окунев Василий Михайлович"}]
[]
[]
[]
[null,"Плата вносится раздельно по четырем компонентам окружающей среды: плата за выбросы, плата за выбросы ПНГ, плата за сбросы в водные объекты и плата за размещение отходов. Каждая по своему КБК (коду бюджетной классификации)"]
[null,"1. Плата за выбросы загрязняющих веществ в атмосферный воздух стационарными объектами, исчисленная без учета корректировки, в том числе:"]
[null,"1.1. плата за выбросы в пределах предельно-допустимых выбросов (ПДВ) "]
[null,"1.2. плата за выбросы в пределах лимитов на выбросы загрязняющих веществ (временно согласованные выбросы ВСВ)"]
[null,"1.3. плата за выбросы, превышающие установленные разрешениями на выброс загрязняющих веществ в атмосферный воздух "]
[null,"2. Плата за выбросы загрязняющих веществ при сжигании и (или) рассеивании попутного нефтяного газа"]
[null,"2.1. плата за выбросы ПНГ в пределах ПДВ"]
[null,"2.2. плата за выбросы ПНГ в пределах лимитов  на выбросы загрязняющих веществ (ВСВ)"]
[null,"2.3. плата за выбросы ПНГ сверх лимита на выбросы"]
[null,"3. Плата за сбросы загрязняющих веществ в водные объекты  "]
[null,"3.1. плата за сбросы в пределах НДС"]
[null,"3.2. плата за сбросы в пределах лимитов на сбросы загрязняющих веществ (ВСС)"]
[null,"3.3. плата за сбросы, превышающие установленные разрешениями  на сброс загрязняющих веществ (сверх лимита на сбросы)"]
[null,"4. Плата за размещение отходов производства и потребления, исчисленная без учета корректировки, в том числе:"]
[null,"4.1. плата за размещение отходов в пределах установленного лимита на их размещение  "]
[null,"4.2. плата за размещение отходов сверх установленного лимита на их размещение"]
[null,"5. Сумма средств на выполнение мероприятий по снижению негативного воздействия на окружающую среду, всего    "]
[null,"5.1. платы за выбросы "]
[null,"5.2. платы за выбросы ПНГ"]
[null,"5.3. платы за сбросы"]
[null,"5.4. платы за размещение отходов"]
[null,"Сумма платы, подлежащей внесению в бюджет, всего (п.1+п.2+п.3+п.4-п.5)"]
[]
[null,"НК, Статья 270. Расходы, не учитываемые в целях налогообложения"]
[null,"4) в виде суммы налога, а также суммы платежей за выбросы загрязняющих веществ в атмосферный воздух, сбросы загрязняющих веществ в составе сточных вод в водные объекты, "]
[null,"осуществляемые с превышением нормативов допустимых сбросов, за размещение отходов производства и потребления с превышением установленных лимитов на их размещение;"]

{"sheet":"Услуги ФСК","index":20,"n_rows":19,"n_cols":21,"rows_kept":19,"cut":false,"hidden":false,"merged":[[5,20,6,20],[18,0,18,1],[18,3,18,5],[1,0,1,16],[4,0,6,0],[4,11,4,16],[5,11,5,13],[5,2,5,4],[4,1,4,4],[5,5,5,7],[4,5,4,10],[5,8,5,10],[2,0,2,16],[5,14,5,19],[4,17,4,19]]}
[]
["Оплата услуг ОАО \"ФСК ЕЭС\""]
[{"$f":"'Инф-я'!C9","v":"Общество с ограниченной ответственностью \"Энергетик\""}]
[null,null,null,null,null,null,null,null,null,null,null,null,null,"тыс. руб."]
["Показатели","2016 год",null,null,null,"2017 год",null,null,null,null,null,"2018 год",null,null,null,null,null,"2019 год",null,null,"2016 год"]
[null,"Утверждено","Факт",null,null,"Утверждено",null,null,"Ожидаемые",null,null,"По данным организации",null,null,"По данным экспертов",null,null,null,null,null,"Факт по данным экспертов"]
[null,"год","1 полугодие","2 полугодие","год","1 полугодие","2 полугодие","год","1 полугодие","2 полугодие","год","1 полугодие","2 полугодие","год","1 полугодие","2 полугодие","год","1 полугодие","2 полугодие","год"]
[1,2,3,4,5,6,7,8,9,10,11,9,10,11,12,13,14,15,16,17,18]
["Расходы на содержание сетей, тыс. руб.","х",{"$f":"C10*C11*6/1000","v":0},{"$f":"D10*D11*6/1000","v":0},{"$f":"D9+C9","v":0},{"$f":"F10*F11*6/1000","v":0},{"$f":"G10*G11*6/1000","v":0},{"$f":"G9+F9","v":0},{"$f":"I10*I11*6/1000","v":0},{"$f":"J10*J11*6/1000","v":0},{"$f":"J9+I9","v":0},{"$f":"L10*L11*6/1000","v":0},{"$f":"M10*M11*6/1000","v":0},{"$f":"M9+L9","v":0},{"$f":"O10*O11*6/1000","v":0},{"$f":"P10*P11*6/1000","v":0},{"$f":"O9+P9","v":0},{"$f":"R10*R11*6/1000","v":0},{"$f":"S10*S11*6/1000","v":0},{"$f":"R9+S9","v":0},"х"]
["Заявленная мощность в точках присоединения к сетям ОАО \"ФСК ЕЭС\", МВт","х",null,null,"х",null,null,"х",null,null,"х",null,null,"х",null,null,"х",null,null,"х","х"]
["Ставка тарифа услуги по передаче электрической энергии на содержание объектов электросетевого хозяйства, входящих в ЕНЭС, руб. МВт/мес.","х",null,null,"х",null,null,"х",null,null,"х",null,null,"х",null,null,"х",null,null,"х","х"]
["Расходы на компенсацию потерь, тыс. руб.","х",{"$f":"C13*C16","v":0},{"$f":"D13*D16","v":0},{"$f":"C12+D12","v":0},{"$f":"F13*F16","v":0},{"$f":"G13*G16","v":0},{"$f":"F12+G12","v":0},{"$f":"I13*I16","v":0},{"$f":"J13*J16","v":0},{"$f":"I12+J12","v":0},{"$f":"L13*L16","v":0},{"$f":"M13*M16","v":0},{"$f":"L12+M12","v":0},{"$f":"O13*O16","v":0},{"$f":"P13*P16","v":0},{"$f":"O12+P12","v":0},{"$f":"R13*R16","v":0},{"$f":"S13*S16","v":0},{"$f":"R12+S12","v":0},"х"]
["Объем технологических потерь электрической энергии при ее передаче по ЕНЭС, млн. кВт.ч","х",{"$f":"C14*C15%","v":0},{"$f":"D14*D15%","v":0},{"$f":"E14*E15%","v":0},{"$f":"F14*F15%","v":0},0,0,0,0,0,{"$f":"L14*L15%","v":0},0,0,0,0,0,{"$f":"R14*R15%","v":0},0,0,"х"]
["Объем отпуска электроэнергии из сети ОАО \"ФСК ЕЭС\" в сеть организации, млн. кВт.ч","х",null,null,{"$f":"D14+C14","v":0},null,null,{"$f":"G14+F14","v":0},null,null,{"$f":"J14+I14","v":0},null,null,{"$f":"M14+L14","v":0},null,null,{"$f":"P14+O14","v":0},null,null,{"$f":"S14+R14","v":0},"х"]
["Норматив технологических потерь электрической энергии при ее передаче по ЕНЭС, применяемый к отпуску электроэнергии из сети ОАО \"ФСК ЕЭС\" класса 220 кВ и ниже, %","х",4.8600000000000003,4.8600000000000003,4.8600000000000003,4.8600000000000003,4.8600000000000003,4.8600000000000003,4.6500000000000004,4.6500000000000004,4.6500000000000004,4.6500000000000004,4.6500000000000004,4.6500000000000004,4.6500000000000004,4.6500000000000004,4.6500000000000004,4.6500000000000004,4.6500000000000004,4.6500000000000004,"х"]
["Ставка тарифа на оплату нормативных технологических потерь электрической энергии в ЕНЭС, руб./МВт.ч","х",null,null,"х",null,null,"х",null,null,"х",null,null,"х",null,null,"х",null,null,"х","х"]
["ИТОГО оплата услуг ОАО \"ФСК ЕЭС\"",null,{"$f":"C9+C12","v":0},0,0,0,0,0,0,0,0,{"$f":"L9+L12","v":0},0,0,0,0,0,{"$f":"R9+R12","v":0},0,0]
[]
["Руководитель организации",null,null,{"$f":"'Инф-я'!$C$17","v":"Окунев Василий Михайлович"}]

{"sheet":"Прочие НР","index":21,"n_rows":15,"n_cols":9,"rows_kept":15,"cut":false,"hidden":false,"merged":[[14,0,14,1],[14,3,14,5],[1,0,1,6],[4,0,5,0],[4,1,4,2],[4,5,4,6],[4,3,4,4],[2,0,2,6],[11,0,11,8],[5,6,5,7]]}
[]
["Прочие обоснованные неподконтрольные расходы"]
[{"$f":"'Инф-я'!C9","v":"Общество с ограниченной ответственностью \"Энергетик\""}]
[null,null,null,null,null,"тыс. руб."]
["Наименование","2016 год",null,"2017 год",null,"2018 год",null,"2019 год","2016 год"]
[null,"Утверждено","Факт","Утверждено","Ожидаемые","По данным организации","По данным экспертов",null,"Факт по данным экспертов"]
[1,2,3,4,5,6,7,8,9]
["Экспертиза НВВ по договору с ТОРИ-АУДИТ",173.1,173.1,190.41,190.41,198.02600000000001]
["Договор о возмездном оказании услуг № 165/14-Э от 09.09.2014 г. с ООО «Региональный центр энергоэффективности и нормирования» на оказание инженерно–консультационных услуг",null,938.88,null,1600,1500]
["Госпошлина за государственную регистрацию объектов и договоров аренды",null,22,null,264]
[]
["Добавить"]
["ИТОГО прочие обоснованные неподконтрольные расходы:",{"$f":"SUM(B8:B11)","v":173.1},1133.98,190.41,2054.41,1698.0260000000001,0,0,0]
[]
["Руководитель организации",null,null,{"$f":"'Инф-я'!$C$17","v":"Окунев Василий Михайлович"}]

{"sheet":" КВЛ","index":22,"n_rows":26,"n_cols":8,"rows_kept":26,"cut":false,"hidden":false,"merged":[[15,0,15,6],[5,1,5,2],[25,0,25,1],[25,3,25,5],[1,0,1,6],[5,0,6,0],[5,3,5,4],[5,5,5,6],[3,0,3,6],[6,6,6,7]]}
[]
["Расходы на капитальные вложения"]
[]
[{"$f":"'Инф-я'!C9","v":"Общество с ограниченной ответственностью \"Энергетик\""}]
[null,null,null,null,null,"тыс. руб."]
["Наименование капитальных вложений","2016 год",null,"2017 год",null,"2018 год",null,"2019 год"]
[null,"Утверждено","Факт","Утверждено","Ожидаемые","По данным организации","По данным экспертов"]
[1,2,3,4,5,6,7,8]
["Монтаж ВЛ 10кВ от ТП66 до ТП45 (фидер 1001)",1804.2818758704011,2480.19704]
["Монтаж ТП45 250/10/0,4кВ",2034.3388168537376,1777.3160399999999]
["Реконструкция ВЛ 10 кВ от ТП 27 до ТП 9 (фидер 1001)",null,null,1016.5,1187.71317]
["Строительство ВЛ 10 кВ от ТП 27 до ТП 28 (фидер 1001)",null,null,1005,1153.6743799999999]
["Строительство ВЛ 10 кВ от ТП 45 до ТП 28 (фидер 1001)",null,null,2220.5,2385.1716700000002]
["Строительство ВЛ 10 кВ от ТП 9 до ТП 62 Ф1001, Фидер 1001",null,null,null,null,1386.94893]
["Строительство ВЛ 0,4 кВ от ТП 45, Технологическое присоединение абонентов в районе ул.Чистопольная, Луговая, Сосновая, Дружбы, Тихая, Фидер 1001",null,null,null,null,4104.9122600000001]
["Добавить"]
["ИТОГО капитальных вложений",{"$f":"SUM(B9:B15)","v":3838.6206927241387},4257.5130799999997,4242,4726.5592200000001,5491.8611899999996,0,0]
[" - амортизация",{"$f":"'Свод по амортизации'!B15","v":4548.3327827592784},{"$f":"'Свод по амортизации'!C15","v":4730.1819500000001},2891,{"$f":"'Свод по амортизации'!E15","v":6227.1523999999999},{"$f":"'Свод по амортизации'!F15","v":6378.2892713199053},{"$f":"'Свод по амортизации'!G15","v":0},{"$f":"'Свод по амортизации'!H15","v":0}]
[" - прочие средства "]
[" - прибыль",{"$f":"IF((B17-B18-B19)<=0,0,(B17-B18-B19))","v":0},0,1351,0,{"$f":"IF((F17-F18-F19)<=0,0,(F17-F18-F19))","v":0},0,{"$f":"IF((H17-H18-H19)<=0,0,(H17-H18-H19))","v":0}]
["в  т.ч. по уровням напряжения:                                     ВН","х","х",null,"х",null,"х","х"]
["СН1","х","х",null,"х",null,"х","х"]
["СН11","х","х",null,"х",null,"х","х"]
["НН","х","х",null,"х",null,"х","х"]
[]
["Руководитель организации",null,null,{"$f":"'Инф-я'!$C$17","v":"Окунев Василий Михайлович"}]

{"sheet":"Выпадающий доход","index":23,"n_rows":25,"n_cols":5,"rows_kept":25,"cut":false,"hidden":false,"merged":[[22,0,22,4],[5,3,5,4],[24,0,24,1],[24,2,24,3],[1,0,1,4],[5,0,6,0],[3,0,3,4]]}
[]
["Расходы, связанные с компенсацией выпадающих доходов по льготному технологическому присоединению"]
[]
[{"$f":"'Инф-я'!C9","v":"Общество с ограниченной ответственностью \"Энергетик\""}]
[null,null,null,"тыс. руб."]
["Наименование","2016 год","2017 год","2018 год"]
[null,"Утверждено","Утверждено","По данным организации","По данным экспертов"]
[1,2,3,4,5]
["   выпадающие доходы сетевой организации от присоединения энергопринимающих устройств, максимальной мощностью, не превышающей 15 кВт включительно, исходя из стоимости мероприятий по технологическому присоединению в размере не более 550 рублей;",{"$f":"SUM(B10:B14)","v":0},0,0,0]
["             за 2014 год",{"$f":"'Расчет выпадающих до 15 кВт'!C43","v":0},"х","х","х"]
["             за 2015 год","х",null,"х","х"]
["             за 2016 год",{"$f":"'Расчет выпадающих до 15 кВт'!C41-'Расчет выпадающих до 15 кВт'!C42","v":0},"х",{"$f":"'Расчет выпадающих до 15 кВт'!C44","v":0}]
["             за 2017 год","х",null,"х","х"]
["             за 2018 год","х","х",{"$f":"'Расчет выпадающих до 15 кВт'!K28-'Расчет выпадающих до 15 кВт'!C45","v":0}]
["   выпадающие доходы сетевой организации от присоединения энергопринимающих устройств, максимальной мощностью не более чем 150 кВт, на покрытие расходов на строительство объектов электросетевого хозяйства ",{"$f":"SUM(B16:B19)","v":0},{"$f":"SUM(C16:C19)","v":0},{"$f":"SUM(D16:D19)","v":0},{"$f":"SUM(E16:E19)","v":0}]
["             за 2015 год","х",null,"х","х"]
["             за 2016 год",{"$f":"'Расчет выпадающих до 150 кВт'!C39","v":0},"х",{"$f":"'Расчет выпадающих до 150 кВт'!C40","v":0}]
["             за 2017 год","х",null,"х","х"]
["             за 2018 год","х","х",{"$f":"'Расчет выпадающих до 150 кВт'!K26-'Расчет выпадающих до 150 кВт'!C41","v":0}]
["   выпадающие доходы сетевой организации от выплаты процентов по кредитным договорам, связанным с рассрочкой по оплате субъектами малого и среднего предпринимательства технологического присоединения энергопринимающих устройств максимальной мощностью свыше 15 кВт и до 150 кВт включительно.",null,null,{"$f":"'СВОД по % по рассрочке'!J17","v":0}]
["Итого расходы, связанные с компенсацией выпадающих доходов по льготному технологическому присоединению, всего, в том числе:",{"$f":"B9+B20+B15","v":0},{"$f":"C9+C20+C15","v":0},0,0]
[]
[]
[]
["Руководитель организации",null,{"$f":"'Инф-я'!$C$17","v":"Окунев Василий Михайлович"}]

{"sheet":"Расчет выпадающих до 15 кВт","index":24,"n_rows":49,"n_cols":11,"rows_kept":49,"cut":false,"hidden":false,"merged":[[3,0,3,10],[8,0,10,0],[8,1,10,1],[8,2,9,4],[8,5,9,7],[8,8,9,10],[4,0,4,10],[35,5,35,7],[45,2,45,4],[6,0,6,9],[41,2,41,4],[42,2,42,4],[32,5,32,7],[33,5,33,7],[48,1,48,2],[48,3,48,5],[30,1,30,7],[40,2,40,4],[43,2,43,4],[46,2,46,4],[38,1,38,7],[36,2,36,4],[36,5,36,7],[44,2,44,4],[32,2,32,4],[33,2,33,4],[34,2,34,4],[35,2,35,4],[43,6,43,7],[34,5,34,7]]}
[null,null,null,null,null,null,"Приложение 1"]
[null,null,null,null,null,null,"к Методическим указаниям, "]
[null,null,null,null,null,null,"утвержденным приказом ФСТ от 11.09.2014 г. №215-э/1"]
[]
["Расчет размера расходов, связанных с осуществлением технологического присоединения энергопринимающих устройств максимальной мощностью, не превышающей 15 кВт включительно, не включаемых в состав платы за технологическое присоединение за 2016 год и плановый период 2018 года"]
[]
[{"$f":"'Инф-я'!$C$9","v":"Общество с ограниченной ответственностью \"Энергетик\""}]
[]
["№ п./п.","Показатели","Фактические данные за 2016 год",null,null,"Расчетные (фактические) данные за 2016 год",null,null,"Плановые показатели на 2018 год"]
[]
[null,null,"ставка платы (руб./кВт, руб./км)","мощность, длина линий, (кВт., км)","Сумма (в соответствии с актами приемки выполненных работ) тыс. руб. ","стандартизированная тарифная ставка (руб./кВт, руб./км)","мощность, длина линий, (кВт., км)","Сумма,   тыс. руб. ","стандартизированная тарифная ставка (руб./кВт, руб./км)","мощность, длина линий, (кВт., км)","Сумма,   тыс. руб. "]
[1,2,3,4,5,6,7,8,9,10,11]
["1.","Расходы на выполнение организационно-технических мероприятий, связанные с осуществлением технологического присоединения [п. 1.1 + п. 1.2 + п. 1.3 + п. 1.4]:",{"$f":"SUM(C14:C17)","v":0},{"$f":"F36","v":0},{"$f":"SUM(E14:E17)","v":0},{"$f":"SUM(F14:F17)","v":0},{"$f":"F36","v":0},0,0,{"$f":"F37","v":0},0]
["1.1.","подготовка и выдача сетевой организацией технических условий (ТУ) Заявителю, на уровне напряжения i и (или) диапазоне мощности j",{"$f":"IF(D14=0,0,E14/D14*1000)","v":0},{"$f":"D13","v":0},null,null,{"$f":"G13","v":0},{"$f":"F14*G14/1000","v":0},null,{"$f":"J13","v":0},{"$f":"I14*J14/1000","v":0}]
["1.2.","проверка сетевой организацией выполнения Заявителем ТУ, на уровне напряжения i и (или) диапазоне мощности j",{"$f":"IF(D15=0,0,E15/D15*1000)","v":0},{"$f":"D13","v":0},null,null,{"$f":"G13","v":0},{"$f":"F15*G15/1000","v":0},null,{"$f":"J13","v":0},{"$f":"I15*J15/1000","v":0}]
["1.3.","участие в осмотре должностным лицом органа федерального, государственного энергетического надзора при участии сетевой организации и собственника присоединяемых Устройств Заявителя, на уровне напряжения i и (или) диапазоне мощности j",0,{"$f":"D13","v":0},null,null,{"$f":"G13","v":0},0,null,{"$f":"J13","v":0},0]
["1.4.","Осуществление сетевой организацией фактического присоединения объектов Заявителя к электрическим сетям и включение коммутационного аппарата (фиксация коммутационного аппарата в положение \"включено\"), на уровне напряжения i и (или) диапазоне мощности j",0,{"$f":"D13","v":0},null,null,{"$f":"G13","v":0},0,null,{"$f":"J13","v":0},0]
["2.","Расходы по мероприятиям \"последней мили\", связанные с осуществлением технологического присоединения [п. 2.1 + п. 2.2 + п. 2.3 + п. 2.4 + 2.5]:","х","х",{"$f":"SUM(E19:E24)","v":0},{"$f":"C18","v":"х"},"х",{"$f":"SUM(H19:H24)","v":0},{"$f":"F18","v":"х"},"х",{"$f":"SUM(K19:K24)","v":0}]
["2.1.","строительство воздушных линий, на уровне напряжения i и (или) диапазоне мощности j",0,null,null,null,null,0,null,null,{"$f":"I19*J19/1000","v":0}]
["2.2.","строительство кабельных линий, на уровне напряжения i и (или) диапазоне мощности j",0,null,null,null,null,0,null,null,0]
["2.3.","строительством пунктов секционирования, на уровне напряжения i и (или) диапазоне мощности j",0,null,null,null,null,0,null,null,0]
["2.4.","строительство комплектных трансформаторных подстанций (КТП), распределительных трансформаторных подстанций (РТП) с уровнем напряжения до 35 кВ, на уровне напряжения i и (или) диапазоне мощности j",0,null,null,null,null,0,null,null,0]
["2.5.","строительство центров питания, подстанций уровнем напряжения 35 кВ и выше (ПС), на уровне напряжения i и (или) диапазоне мощности j",0,null,null,null,null,0,null,null,0]
["2.6.","Расходы на разработку сетевой организацией проектной документации",0,null,null,null,null,0,null,null,0]
["3.","Суммарный размер платы за технологическое присоединение [п. 3.1 * п. 3.2 / 1000]:","х","х",{"$f":"E26*E27/1000","v":0},"х","х",{"$f":"H26*H27/1000","v":0},"х","х",{"$f":"K26*K27/1000","v":0}]
["3.1.","Размер платы за технологическое присоединение (руб. без НДС)","х","х",466.1,"х","х",466.1,"х","х",466.1]
["3.2.","Плановое количество договоров на осуществление технологическое присоединение к электрическим сетям (плановое количество членов объединений (организаций), указанных в п. 18 Методических указаний по определению размера платы за технологическое присоединение к электрическим сетям, утвержденных приказом ФСТ России от 11 сентября 2012 года, N 209-э/1) (шт.)","х","х",{"$f":"C36","v":0},"х","х",{"$f":"C36","v":0},"х","х",{"$f":"C37","v":0}]
["4.","Размер расходов, связанных с осуществлением технологического присоединения к электрическим сетям, не включаемых в состав платы за технологическое присоединение (п. 1 + п. 2 - п. 3)","х","х",{"$f":"E13+E18-E25","v":0},"х","х",{"$f":"H13+H18-H25","v":0},"х","х",{"$f":"K13+K18-K25","v":0}]
[]
[]
[null,"Фактические средние данные по выполненым договорам технологического присоединения за 3 предыдущих года "]
[]
[null,"Год","Количество договоров на осуществление технологического присоединения, ед.",null,null,"Присоединенная мощность, кВт","Присоединенная мощность, кВт","Присоединенная мощность, кВт"]
[null,"Факт 2014 г."]
[null,"Факт 2015 г."]
[null,"Факт 2016 г."]
[null,"План 2018 г. (расчет плановых значений исходя из данных за 3 предыдущих периода)",{"$f":"(C34+C35+C36)/3","v":0},null,null,{"$f":"(F34+F35+F36)/3","v":0}]
[]
[null,"Сводный расчет выпадающих  доходов от льготного ТП, подлежащих учету в 2018 году, тыс. руб."]
[]
[null,"Выпадающие доходы планового периода 2016 года, учтенные при тарифном регулировании на 2016 год без учета превышения фактических над расчетными расходами 2014 года, тыс. руб."]
[null,"Превышение фактических над расчетными расходами 2014 года, тыс. руб."]
[null,"Фактические расходы 2014 года не покрытые плановыми  выпадающими доходами, учтенными при тарифном регулировании на 2014 год, тыс. руб."]
[null,"Выпадающие доходы по итогам 2016 года с учетом ИПЦ, подлежащие учету в 2018 году, тыс. руб.",{"$f":"(E28-C41)*(1+H45)*(1+H46)","v":0},null,null,null,"ИПЦ, %"]
[null,"Превышение фактических над расчетными расходами 2016 года",{"$f":"IF(E28-H28>0,E28-H28,0)","v":0},null,null,null,"2018 г. к 2017 г."]
[null,"Плановые выпадающие доходы на 2018 год",{"$f":"K28-C45","v":0},null,null,null,"2017 г. к 2016 г."]
[null,"Итого выпадающие доходы от льготного ТП, тыс. руб.",{"$f":"C44+K28-C45","v":0}]
[]
[null,"Руководитель организации",null,{"$f":"'Инф-я'!$C$17","v":"Окунев Василий Михайлович"}]

{"sheet":"Расчет выпадающих до 150 кВт","index":25,"n_rows":44,"n_cols":11,"rows_kept":44,"cut":false,"hidden":false,"merged":[[39,2,39,4],[40,2,40,4],[41,2,41,4],[43,1,43,2],[43,3,43,5],[36,1,36,7],[38,2,38,4],[28,1,28,7],[3,0,3,10],[4,0,4,10],[8,0,10,0],[8,1,10,1],[8,2,9,4],[8,5,9,7],[8,8,9,10],[38,6,38,7],[6,1,6,10]]}
[null,null,null,null,null,null,"Приложение 3"]
[null,null,null,null,null,null,"к Методическим указаниям, "]
[null,null,null,null,null,null,"утвержденным приказом ФСТ от 11.09.2014 г. №215-э/1"]
[]
["Расчет размера расходов, связанных с осуществлением технологического присоединения к электрическим сетям энергопринимающих устройств максимальной мощностью до 150 кВт включительно, не включаемых в состав платы за технологическое присоединение за 2016 год и плановый период 2018 года"]
[]
[null,{"$f":"'Инф-я'!$C$9","v":"Общество с ограниченной ответственностью \"Энергетик\""}]
[]
["№ п./п.","Показатели","Фактические данные за 2016 год",null,null,"Расчетные (фактические) данные за 2016 год",null,null,"Плановые показатели на 2018 год"]
[]
[null,null,"ставка платы (руб./кВт, руб./км)","мощность, длина линий, (кВт., км)","Сумма (в соответствии с актами приемки выполненных работ) тыс. руб. ","стандартизированная тарифная ставка (руб./кВт, руб./км)","мощность, длина линий, (кВт., км)","Сумма,   тыс. руб. ","стандартизированная тарифная ставка (руб./кВт, руб./км)","мощность, длина линий, (кВт., км)","Сумма,   тыс. руб. "]
[1,2,3,4,5,6,7,8,9,10,11]
["1.","Расходы по мероприятиям \"последней мили\", связанные с осуществлением технологического присоединения к электрическим сетям [п.1.1 + п.1.2 + п.1.3 + п.1.4+ п.1.5+ п.1.6]:","х","х",{"$f":"SUM(E14:E19)","v":0},"х","х",{"$f":"SUM(H14:H19)","v":0},"х","х",{"$f":"SUM(K14:K19)","v":0}]
["1.1.","строительство воздушных линий, на уровне напряжения i и (или) диапазоне мощности j",{"$f":"IF(D14=0,0,E14/D14*1000)","v":0},null,null,null,{"$f":"D14","v":0},{"$f":"F14*G14/1000","v":0},null,{"$f":"C35","v":0},{"$f":"I14*J14/1000","v":0}]
["1.2.","строительство кабельных линий, на уровне напряжения i и (или) диапазоне мощности j",{"$f":"IF(D15=0,0,E15/D15*1000)","v":0},null,null,null,{"$f":"D15","v":0},{"$f":"F15*G15/1000","v":0},null,{"$f":"D35","v":0},{"$f":"I15*J15/1000","v":0}]
["1.3.","строительством пунктов секционирования, на уровне напряжения i и (или) диапазоне мощности j",0,null,null,null,0,{"$f":"F16*G16/1000","v":0},null,{"$f":"E35","v":0},0]
["1.4.","строительство комплектных трансформаторных подстанций (КТП), распределительных трансформаторных подстанций (РТП) с уровнем напряжения до 35 кВ, на уровне напряжения i и (или) диапазоне мощности j",0,null,null,null,0,0,null,{"$f":"F35","v":0},0]
["1.5.","строительство центров питания, подстанций уровнем напряжения 35 кВ и выше (ПС), на уровне напряжения i и (или) диапазоне мощности j",{"$f":"IF(D18=0,0,E18/D18*1000)","v":0},null,null,null,0,0,null,{"$f":"G35","v":0},0]
["1.6.","Рразработка сетевой организацией проектной документации","х","х",null,"х","х",null,"х","х","х"]
["2.","Суммарный размер платы за технологическое присоединение в части мероприятий \"последней мили\" [n.2.1 + п.2.2 + п.2.3 + п.2.4 + п.2.5+ п.2.6]:","х","х",{"$f":"SUM(E21:E25)","v":0},{"$f":"C20","v":"х"},"х",{"$f":"SUM(H21:H25)","v":0},{"$f":"F20","v":"х"},"х",{"$f":"SUM(K21:K25)","v":0}]
["2.1.","строительство воздушных линий, на уровне напряжения i и (или) диапазоне мощности j",{"$f":"IF(D21=0,0,E21/D21*1000)","v":0},null,null,null,null,0,null,null,{"$f":"I21*J21/1000","v":0}]
["2.2.","строительство кабельных линий, на уровне напряжения i и (или) диапазоне мощности j",0,null,null,null,null,0,null,null,0]
["2.3.","строительством пунктов секционирования, на уровне напряжения i и (или) диапазоне мощности j",0,null,null,null,null,0,null,null,0]
["2.4.","строительство комплектных трансформаторных подстанций (КТП), распределительных трансформаторных подстанций (РТП) с уровнем напряжения до 35 кВ, на уровне напряжения i и (или) диапазоне мощности j",0,null,null,null,null,0,null,null,0]
["2.5.","строительство центров питания, подстанций уровнем напряжения 35 кВ и выше (ПС), на уровне напряжения i и (или) диапазоне мощности j",0,null,null,null,null,0,null,null,0]
["3.","Размер расходов по мероприятиям \"последней мили\", связанных с осуществлением технологического присоединения к электрическим сетям, не включаемых в плату за технологическое присоединение [п.1 - п.2]","х","х",{"$f":"E13-E20","v":0},"х","х",{"$f":"H13-H20","v":0},"х","х",{"$f":"K13-K20","v":0}]
[]
[]
[null,"Фактические средние данные по выполненым договорам технологического присоединения за 3 предыдущих года "]
[]
[null,"Год","строительство ВЛ, км","строительство КЛ, км","строительством пунктов секционирования, кВт","строительство КТП, РТП с уровнем напряжения до 35 кВ, кВт","строительство ПС, кВт"]
[null,"Факт 2014 г."]
[null,"Факт 2015 г."]
[null,"Факт 2016 г."]
[null,"План 2018 г. (расчет плановых значений исходя из данных за 3 предыдущих периода)",{"$f":"(C32+C33+C34)/3","v":0},{"$f":"(D32+D33+D34)/3","v":0},0,0,0]
[]
[null,"Сводный расчет выпадающих  доходов от льготного ТП, подлежащих учету в 2018 году, тыс. руб."]
[]
[null,"Выпадающие доходы планового периода 2016 года, учтенные при тарифном регулировании на 2016 год, тыс. руб.",null,null,null,null,"ИПЦ, %"]
[null,"Выпадающие доходы по итогам 2016 года с учетом ИПЦ, подлежащие учету в 2018 году, тыс. руб.",{"$f":"(E26-C39)*(1+H40)*(1+H41)","v":0},null,null,null,"2018 г. к 2017 г."]
[null,"Превышение фактических над расчетными расходами 2016 года",{"$f":"IF(E26-H26>0,E26-H26,0)","v":0},null,null,null,"2017 г. к 2016 г."]
[null,"Итого выпадающие доходы от льготного ТП, подлежащие учету в 2018 году, тыс. руб.",{"$f":"C40+K26-C41","v":0}]
[]
[null,"Руководитель организации",null,{"$f":"'Инф-я'!$C$17","v":"Окунев Василий Михайлович"}]

{"sheet":"СВОД по % по рассрочке","index":26,"n_rows":44,"n_cols":20,"rows_kept":44,"cut":false,"hidden":false,"merged":[[32,1,32,16],[39,1,39,2],[39,3,39,4],[1,1,1,9],[9,1,9,4],[10,1,10,4],[11,1,11,4],[16,0,16,7],[5,7,7,7],[5,1,7,4],[5,5,7,5],[5,6,7,6],[5,8,7,8],[5,9,7,9],[14,1,14,4],[3,0,3,9],[26,5,28,9],[13,1,13,4],[42,0,42,9],[43,0,43,9],[5,0,7,0],[30,0,30,16],[34,0,35,0],[34,10,34,14],[34,15,34,19],[12,1,12,4],[34,1,35,4],[36,1,36,4],[37,1,37,4],[34,5,34,9],[15,0,15,9],[8,1,8,4]]}
[]
[null," Выпадающие доходы сетевой организации от выплаты процентов по кредитным договорам, связанным с рассрочкой по оплате субъектами малого и среднего предпринимательства технологического присоединения энергопринимающих устройств максимальной мощностью свыше 15 кВт и до 150 кВт включительно в 2018 году"]
[]
[{"$f":"'Инф-я'!$C$9","v":"Общество с ограниченной ответственностью \"Энергетик\""}]
[]
["N п/п","Информация о договоре технологического присоединения (Контрагент (наименование), № договора ТП, Дата заключения договора)",null,null,null,"Ставка рефинансирования Центрального банка Российской Федерации ","Год закрытия","Квартал закрытия","Сумма договора,тыс. руб. с НДС","Размера расходов, связанных с предоставлением беспроцентной рассрочки в 2018 году, тыс. руб. "]
[]
[]
[1,2,null,null,null,3,4,5,6,7]
[1,{"$f":"Заявитель1!A4","v":0},null,null,null,{"$f":"Заявитель1!B31","v":0},{"$f":"Заявитель1!B34","v":0},{"$f":"Заявитель1!B32","v":0},{"$f":"Заявитель1!B33","v":0},{"$f":"Заявитель1!G36","v":0}]
[2,{"$f":"Заявитель2!A4","v":0},null,null,null,{"$f":"Заявитель2!B31","v":0},{"$f":"Заявитель2!B34","v":0},{"$f":"Заявитель2!B32","v":0},{"$f":"Заявитель2!B33","v":0},{"$f":"Заявитель2!G36","v":0}]
[3,{"$f":"Заявитель3!A4","v":0},null,null,null,{"$f":"Заявитель3!B31","v":0},{"$f":"Заявитель3!B34","v":0},{"$f":"Заявитель3!B32","v":0},{"$f":"Заявитель3!B33","v":0},{"$f":"Заявитель3!G36","v":0}]
[4,{"$f":"Заявитель4!A4","v":0},null,null,null,{"$f":"Заявитель4!B31","v":0},{"$f":"Заявитель4!B34","v":0},{"$f":"Заявитель4!B32","v":0},{"$f":"Заявитель4!B33","v":0},{"$f":"Заявитель4!G36","v":0}]
[]
[]
["Добавить"]
["ИТОГО",null,null,null,null,null,null,null,{"$f":"SUM(I10:I16)","v":0},{"$f":"SUM(J10:J16)","v":0}]
[]
[null,"Свод по кварталам ","Сумма по договорам"]
[null,1,{"$f":"SUMIF(H$6:H$21,B20,I$6:I$21)","v":0}]
[null,2,{"$f":"SUMIF(H$6:H$21,B21,I$6:I$21)","v":0}]
[null,3,{"$f":"SUMIF(H$6:H$21,B22,I$6:I$21)","v":0}]
[null,4,{"$f":"SUMIF(H$6:H$21,B23,I$6:I$21)","v":0}]
[null,"ГОД",{"$f":"SUM(C20:C23)","v":0}]
[null,null,{"$f":"C24-I17","v":0}]
[]
[null,null,null,null,null,"Приложение 2 к Методическим указаниям,  утвержденным приказом ФСТ от 11.09.2014 г. №215-э/1"]
[]
[]
[]
["Таблица 1. Расчет суммарного размера платы за технологическое присоединение, подлежащего беспроцентной рассрочке"]
[]
[null,{"$f":"'Инф-я'!C9","v":"Общество с ограниченной ответственностью \"Энергетик\""}]
[null,null,null,null,null,null,null,null,null,null,null,null,null,null,null,null,"тыс. руб. с НДС"]
["N п/п","Показатель",null,null,null,"Фактические данные за предыдущий период регулирования",null,null,null,null,"Ожидаемые данные за текущий период регулирования",null,null,null,null,"Плановые показатели на следующий период регулирования"]
[null,null,null,null,null,"1 кв.","2 кв.","3 кв.","4 кв.","всего за год","1 кв.","2 кв.","3 кв.","4 кв.","всего за год","1 кв.","2 кв.","3 кв.","4 кв.","всего за год"]
[1,"Суммарный размер платы за технологическое присоединение, тыс. руб., в т.ч.:",null,null,null,null,null,null,null,{"$f":"SUM(F37:I37)","v":0},null,null,null,null,{"$f":"SUM(K37:N37)","v":0},{"$f":"C20","v":0},{"$f":"C21","v":0},{"$f":"C22","v":0},{"$f":"C23","v":0},{"$f":"SUM(P37:S37)","v":0}]
[2,"Суммарный размер платы за технологическое присоединение, подлежащий беспроцентной рассрочке",null,null,null,null,null,null,null,{"$f":"SUM(F38:I38)","v":0},null,null,null,null,{"$f":"SUM(K38:N38)","v":0},{"$f":"P37*0.95","v":0},{"$f":"Q37*0.95","v":0},0,0,0]
[]
[null,"Руководитель организации",null,{"$f":"'Инф-я'!$C$17","v":"Окунев Василий Михайлович"}]
[]
["Примечание:"]
["1) Суммарный размер платы за технологическое присоединение (п. 1) за каждый квартал следующего расчетного периода регулирования представляет собой прогнозную величину платы за технологическое присоединение для заявителей, обращающихся за беспроцентной рассрочкой, определенную на основе фактических данных о заявителях, обратившихся за рассрочкой за последний год, но не ниже документально подтвержденных данных о заявителях, обратившихся за рассрочкой на следующий период регулирования."]
["2) Суммарный размер платы за технологическое присоединение, подлежащий беспроцентной рассрочке (п. 2), за каждый квартал определяется как суммарный размер платы за технологическое присоединение (п. 1) за каждый квартал, умноженный на 0,95."]

{"sheet":"Заявитель1","index":27,"n_rows":53,"n_cols":10,"rows_kept":53,"cut":false,"hidden":false,"merged":[[4,1,4,6],[6,7,7,7],[37,0,37,6],[3,0,3,6],[52,0,52,6],[0,2,0,7],[48,0,48,6],[49,0,49,6],[50,0,50,6],[51,0,51,6],[42,0,42,6],[43,0,43,6],[44,0,44,6],[45,0,45,6],[46,0,46,6],[35,0,35,5],[2,0,2,6],[6,0,7,0],[6,1,7,1],[6,2,6,6]]}
[null,null,"Приложение 2 к Методическим указаниям,  утвержденным приказом ФСТ от 11.09.2014 г. №215-э/1"]
[]
[" Расчет размера расходов, связанных с предоставлением беспроцентной рассрочки (для конкретного заявителя)\n"]
[]
[null,"(Контрагент (наименование), № договора ТП, Дата заключения договора)"]
[]
["N п/п","Квартал, на который рассчитывается размер расходов, связанных с предоставлением беспроцентной рассрочки","Расходы, связанные с предоставлением беспроцентной рассрочки, тыс. руб. (с учетом НДС)",null,null,null,null,"Номер квартала i"]
[null,null,"в отношении суммарного размера платы за технологическое присоединение в 1 квартале","в отношении суммарного размера платы за технологическое присоединение во 2 квартале","в отношении суммарного размера платы за технологическое присоединение в 3 квартале","в отношении суммарного размера платы за технологическое присоединение в 4 квартале","всего в год",null,null,"  "]
[1,{"$f":"CONCATENATE(\"1 год (\",$B$34,\"г.):\")","v":"1 год (г.):"},{"$f":"SUM(C10:C13)","v":0},{"$f":"SUM(D10:D13)","v":0},{"$f":"SUM(E10:E13)","v":0},{"$f":"SUM(F10:F13)","v":0},{"$f":"SUM(C9:F9)","v":0}]
["1.1.","1 квартал",{"$f":"IF($H10>=$B$32,Заявитель1!$B$33*0.95*((12+$B$32-$H10)/12)*($B$31/4),0)","v":0},null,null,null,0,1]
["1.2.","2 квартал",null,{"$f":"IF($H11>=$B$32,Заявитель1!$B$33*0.95*((12+$B$32-$H11)/12)*($B$31/4),0)","v":0},null,null,0,2]
["1.3.","3 квартал",null,null,{"$f":"IF($H12>=$B$32,Заявитель1!$B$33*0.95*((12+$B$32-$H12)/12)*($B$31/4),0)","v":0},null,0,3]
["1.4.","4 квартал",null,null,null,{"$f":"IF($H13>=$B$32,Заявитель1!$B$33*0.95*((12+$B$32-$H13)/12)*($B$31/4),0)","v":0},0,4]
[2,{"$f":"CONCATENATE(\"1 год (\",$B$34+1,\"г.):\")","v":"1 год (1г.):"},{"$f":"SUM(C15:C18)","v":0},{"$f":"SUM(D15:D18)","v":0},{"$f":"SUM(E15:E18)","v":0},{"$f":"SUM(F15:F18)","v":0},0]
["2.1.","5 квартал",{"$f":"Заявитель1!$B$33*0.95*((12+$B$32-$H15)/12)*($B$31/4)","v":0},null,null,null,0,5]
["2.2.","6 квартал",null,{"$f":"Заявитель1!$B$33*0.95*((12+$B$32-$H16)/12)*($B$31/4)","v":0},null,null,0,6]
["2.3.","7 квартал",null,null,{"$f":"Заявитель1!$B$33*0.95*((12+$B$32-$H17)/12)*($B$31/4)","v":0},null,0,7]
["2.4.","8 квартал",null,null,null,{"$f":"Заявитель1!$B$33*0.95*((12+$B$32-$H18)/12)*($B$31/4)","v":0},0,8]
[3,{"$f":"CONCATENATE(\"1 год (\",$B$34+2,\"г.):\")","v":"1 год (2г.):"},{"$f":"SUM(C20:C23)","v":0},{"$f":"SUM(D20:D23)","v":0},{"$f":"SUM(E20:E23)","v":0},{"$f":"SUM(F20:F23)","v":0},0]
["3.1.","9 квартал",{"$f":"Заявитель1!$B$33*0.95*((12+$B$32-$H20)/12)*($B$31/4)","v":0},null,null,null,0,9]
["3.2.","10 квартал",null,{"$f":"Заявитель1!$B$33*0.95*((12+$B$32-$H21)/12)*($B$31/4)","v":0},null,null,0,10]
["3.3.","11 квартал",null,null,{"$f":"Заявитель1!$B$33*0.95*((12+$B$32-$H22)/12)*($B$31/4)","v":0},null,0,11]
["3.4.","12 квартал",null,null,null,{"$f":"Заявитель1!$B$33*0.95*((12+$B$32-$H23)/12)*($B$31/4)","v":0},0,12]
[4,{"$f":"CONCATENATE(\"1 год (\",$B$34+3,\"г.):\")","v":"1 год (3г.):"},{"$f":"SUM(C25:C27)","v":0},{"$f":"SUM(D25:D27)","v":0},{"$f":"SUM(E25:E27)","v":0},{"$f":"SUM(F25:F27)","v":0},0]
["4.1.","13 квартал",{"$f":"Заявитель1!$B$33*0.95*((12+$B$32-$H25)/12)*($B$31/4)","v":0},null,null,null,0,13]
["4.2.","14 квартал",null,{"$f":"IF((Заявитель1!$B$33*0.95*((12+$B$32-$H26)/12)*($B$31/4))<0,0,Заявитель1!$B$33*0.95*((12+$B$32-$H26)/12)*($B$31/4))","v":0},null,null,0,14]
["4.3.","15 квартал",null,null,{"$f":"IF((Заявитель1!$B$33*0.95*((12+$B$32-$H27)/12)*($B$31/4))<0,0,Заявитель1!$B$33*0.95*((12+$B$32-$H27)/12)*($B$31/4))","v":0},null,0,15]
[5,"Итого",{"$f":"C9+C14+C19+C24","v":0},{"$f":"D9+D14+D19+D24","v":0},{"$f":"E9+E14+E19+E24","v":0},{"$f":"F9+F14+F19+F24","v":0},{"$f":"G9+G14+G19+G24","v":0}]
[]
[]
[]
["k"]
[]
["Год закрытия договора"]
[]
["Размера расходов, связанных с предоставлением беспроцентной рассрочки в 2018 году",null,null,null,null,null,{"$f":"IF(B34<2015,0,IF(B34=2015,G24,IF(B34=2016,G19,IF(B34=2017,G14))))","v":0},"тыс. руб. "]
[]
["Размер расходов, связанных с предоставлением беспроцентной рассрочки, в i-м квартале в течение трехлетнего периода предоставления беспроцентной рассрочки рассчитывается по формуле (1):"]
[]
[null,null,null,", (1)"]
[]
["где:"]
["       - суммарный размер платы за технологическое присоединение, начисляемый заявителям, которым предоставляется рассрочка, в квартале k периода регулирования (тыс. руб.);"]
["k - номер квартала по порядку в периоде регулирования, в который начисляется размер платы за технологическое присоединение (равен от 1 до 4);"]
["i - номер квартала по порядку, начиная с момента начисления размера платы за технологическое присоединение с условием предоставления беспроцентной рассрочки в квартале k, с учетом квартала, в котором произведены начисления, в течение трехлетнего периода предоставления беспроцентной рассрочки (равен от k до 12 + k - 1);"]
["          - ставка рефинансирования Центрального банка Российской Федерации на дату представления сетевой организацией заявки на установление размера платы за технологическое присоединение в регулирующий орган."]
["В случае отклонения фактического значения процентной ставки по кредитам, связанным с рассрочкой по оплате технологического присоединения, от ставки рефинансирования Центрального банка Российской Федерации, при расчете фактического размера расходов, связанных с предоставлением беспроцентной рассрочки, применяется величина процентной ставки в соответствии с пунктом 87 Основ ценообразования."]
[]
["Примечание: "]
["1) Периодом предоставления беспроцентной рассрочки считается 3 года."]
["2) Размер расходов, связанных с предоставлением беспроцентной рассрочки, в каждый квартал периода регулирования в течение трехлетнего периода предоставления беспроцентной рассрочки в отношении планируемого к получению (фактически полученного) от заявителей суммарного размера платы за технологическое присоединение, определяется в соответствии с формулой (1) Методических указаний по определению выпадающих доходов, связанных с осуществлением технологического присоединения к электрическим сетям."]
["3) При расчете планируемых значений показателей при заполнении таблиц 1 и 2 применяется планируемая к получению величина суммарного размера платы за технологическое присоединение, подлежащего беспроцентной рассрочке."]
["4) При расчете фактических значений показателей при заполнении таблиц 1 и 2 применяется суммарная плата за технологическое присоединение, начисленная с беспроцентной рассрочкой в соответствии с заключенными договорами об осуществлении технологического присоединения к электрическим сетям."]

{"sheet":"Заявитель2","index":28,"n_rows":53,"n_cols":10,"rows_kept":53,"cut":false,"hidden":false,"merged":[[0,2,0,7],[2,0,2,6],[3,0,3,6],[6,0,7,0],[6,1,7,1],[6,2,6,6],[6,7,7,7],[4,1,4,6],[52,0,52,6],[35,0,35,5],[37,0,37,6],[42,0,42,6],[43,0,43,6],[44,0,44,6],[45,0,45,6],[46,0,46,6],[48,0,48,6],[49,0,49,6],[50,0,50,6],[51,0,51,6]]}
[null,null,"Приложение 2 к Методическим указаниям,  утвержденным приказом ФСТ от 11.09.2014 г. №215-э/1"]
[]
[" Расчет размера расходов, связанных с предоставлением беспроцентной рассрочки (для конкретного заявителя)\n"]
[]
[null,"(Контрагент (наименование), № договора ТП, Дата заключения договора)"]
[]
["N п/п","Квартал, на который рассчитывается размер расходов, связанных с предоставлением беспроцентной рассрочки","Расходы, связанные с предоставлением беспроцентной рассрочки, тыс. руб. (с учетом НДС)",null,null,null,null,"Номер квартала i"]
[null,null,"в отношении суммарного размера платы за технологическое присоединение в 1 квартале","в отношении суммарного размера платы за технологическое присоединение во 2 квартале","в отношении суммарного размера платы за технологическое присоединение в 3 квартале","в отношении суммарного размера платы за технологическое присоединение в 4 квартале","всего в год",null,null,"  "]
[1,{"$f":"CONCATENATE(\"1 год (\",$B$34,\"г.):\")","v":"1 год (г.):"},{"$f":"SUM(C10:C13)","v":0},{"$f":"SUM(D10:D13)","v":0},{"$f":"SUM(E10:E13)","v":0},{"$f":"SUM(F10:F13)","v":0},{"$f":"SUM(C9:F9)","v":0}]
["1.1.","1 квартал",{"$f":"IF($H10>=$B$32,Заявитель2!$B$33*0.95*((12+$B$32-$H10)/12)*($B$31/4),0)","v":0},null,null,null,0,1]
["1.2.","2 квартал",null,{"$f":"IF($H11>=$B$32,Заявитель2!$B$33*0.95*((12+$B$32-$H11)/12)*($B$31/4),0)","v":0},null,null,0,2]
["1.3.","3 квартал",null,null,{"$f":"IF($H12>=$B$32,Заявитель2!$B$33*0.95*((12+$B$32-$H12)/12)*($B$31/4),0)","v":0},null,0,3]
["1.4.","4 квартал",null,null,null,{"$f":"IF($H13>=$B$32,Заявитель2!$B$33*0.95*((12+$B$32-$H13)/12)*($B$31/4),0)","v":0},0,4]
[2,{"$f":"CONCATENATE(\"1 год (\",$B$34+1,\"г.):\")","v":"1 год (1г.):"},{"$f":"SUM(C15:C18)","v":0},{"$f":"SUM(D15:D18)","v":0},{"$f":"SUM(E15:E18)","v":0},{"$f":"SUM(F15:F18)","v":0},0]
["2.1.","5 квартал",{"$f":"Заявитель2!$B$33*0.95*((12+$B$32-$H15)/12)*($B$31/4)","v":0},null,null,null,0,5]
["2.2.","6 квартал",null,{"$f":"Заявитель2!$B$33*0.95*((12+$B$32-$H16)/12)*($B$31/4)","v":0},null,null,0,6]
["2.3.","7 квартал",null,null,{"$f":"Заявитель2!$B$33*0.95*((12+$B$32-$H17)/12)*($B$31/4)","v":0},null,0,7]
["2.4.","8 квартал",null,null,null,{"$f":"Заявитель2!$B$33*0.95*((12+$B$32-$H18)/12)*($B$31/4)","v":0},0,8]
[3,{"$f":"CONCATENATE(\"1 год (\",$B$34+2,\"г.):\")","v":"1 год (2г.):"},{"$f":"SUM(C20:C23)","v":0},{"$f":"SUM(D20:D23)","v":0},{"$f":"SUM(E20:E23)","v":0},{"$f":"SUM(F20:F23)","v":0},0]
["3.1.","9 квартал",{"$f":"Заявитель2!$B$33*0.95*((12+$B$32-$H20)/12)*($B$31/4)","v":0},null,null,null,0,9]
["3.2.","10 квартал",null,{"$f":"Заявитель2!$B$33*0.95*((12+$B$32-$H21)/12)*($B$31/4)","v":0},null,null,0,10]
["3.3.","11 квартал",null,null,{"$f":"Заявитель2!$B$33*0.95*((12+$B$32-$H22)/12)*($B$31/4)","v":0},null,0,11]
["3.4.","12 квартал",null,null,null,{"$f":"Заявитель2!$B$33*0.95*((12+$B$32-$H23)/12)*($B$31/4)","v":0},0,12]
[4,{"$f":"CONCATENATE(\"1 год (\",$B$34+3,\"г.):\")","v":"1 год (3г.):"},{"$f":"SUM(C25:C27)","v":0},{"$f":"SUM(D25:D27)","v":0},{"$f":"SUM(E25:E27)","v":0},{"$f":"SUM(F25:F27)","v":0},0]
["4.1.","13 квартал",{"$f":"Заявитель2!$B$33*0.95*((12+$B$32-$H25)/12)*($B$31/4)","v":0},null,null,null,0,13]
["4.2.","14 квартал",null,{"$f":"IF((Заявитель2!$B$33*0.95*((12+$B$32-$H26)/12)*($B$31/4))<0,0,Заявитель2!$B$33*0.95*((12+$B$32-$H26)/12)*($B$31/4))","v":0},null,null,0,14]
["4.3.","15 квартал",null,null,{"$f":"IF((Заявитель2!$B$33*0.95*((12+$B$32-$H27)/12)*($B$31/4))<0,0,Заявитель2!$B$33*0.95*((12+$B$32-$H27)/12)*($B$31/4))","v":0},null,0,15]
[5,"Итого",{"$f":"C9+C14+C19+C24","v":0},{"$f":"D9+D14+D19+D24","v":0},{"$f":"E9+E14+E19+E24","v":0},{"$f":"F9+F14+F19+F24","v":0},{"$f":"G9+G14+G19+G24","v":0}]
[]
[]
[]
["k"]
[]
["Год закрытия договора"]
[]
["Размера расходов, связанных с предоставлением беспроцентной рассрочки в 2018 году",null,null,null,null,null,{"$f":"IF(B34<2015,0,IF(B34=2015,G24,IF(B34=2016,G19,IF(B34=2017,G14))))","v":0},"тыс. руб. "]
[]
["Размер расходов, связанных с предоставлением беспроцентной рассрочки, в i-м квартале в течение трехлетнего периода предоставления беспроцентной рассрочки рассчитывается по формуле (1):"]
[]
[null,null,null,", (1)"]
[]
["где:"]
["       - суммарный размер платы за технологическое присоединение, начисляемый заявителям, которым предоставляется рассрочка, в квартале k периода регулирования (тыс. руб.);"]
["k - номер квартала по порядку в периоде регулирования, в который начисляется размер платы за технологическое присоединение (равен от 1 до 4);"]
["i - номер квартала по порядку, начиная с момента начисления размера платы за технологическое присоединение с условием предоставления беспроцентной рассрочки в квартале k, с учетом квартала, в котором произведены начисления, в течение трехлетнего периода предоставления беспроцентной рассрочки (равен от k до 12 + k - 1);"]
["          - ставка рефинансирования Центрального банка Российской Федерации на дату представления сетевой организацией заявки на установление размера платы за технологическое присоединение в регулирующий орган."]
["В случае отклонения фактического значения процентной ставки по кредитам, связанным с рассрочкой по оплате технологического присоединения, от ставки рефинансирования Центрального банка Российской Федерации, при расчете фактического размера расходов, связанных с предоставлением беспроцентной рассрочки, применяется величина процентной ставки в соответствии с пунктом 87 Основ ценообразования."]
[]
["Примечание: "]
["1) Периодом предоставления беспроцентной рассрочки считается 3 года."]
["2) Размер расходов, связанных с предоставлением беспроцентной рассрочки, в каждый квартал периода регулирования в течение трехлетнего периода предоставления беспроцентной рассрочки в отношении планируемого к получению (фактически полученного) от заявителей суммарного размера платы за технологическое присоединение, определяется в соответствии с формулой (1) Методических указаний по определению выпадающих доходов, связанных с осуществлением технологического присоединения к электрическим сетям."]
["3) При расчете планируемых значений показателей при заполнении таблиц 1 и 2 применяется планируемая к получению величина суммарного размера платы за технологическое присоединение, подлежащего беспроцентной рассрочке."]
["4) При расчете фактических значений показателей при заполнении таблиц 1 и 2 применяется суммарная плата за технологическое присоединение, начисленная с беспроцентной рассрочкой в соответствии с заключенными договорами об осуществлении технологического присоединения к электрическим сетям."]

{"sheet":"Заявитель3","index":29,"n_rows":53,"n_cols":10,"rows_kept":53,"cut":false,"hidden":false,"merged":[[0,2,0,7],[2,0,2,6],[3,0,3,6],[6,0,7,0],[6,1,7,1],[6,2,6,6],[6,7,7,7],[4,1,4,6],[52,0,52,6],[35,0,35,5],[37,0,37,6],[42,0,42,6],[43,0,43,6],[44,0,44,6],[45,0,45,6],[46,0,46,6],[48,0,48,6],[49,0,49,6],[50,0,50,6],[51,0,51,6]]}
[null,null,"Приложение 2 к Методическим указаниям,  утвержденным приказом ФСТ от 11.09.2014 г. №215-э/1"]
[]
[" Расчет размера расходов, связанных с предоставлением беспроцентной рассрочки (для конкретного заявителя)\n"]
[]
[null,"(Контрагент (наименование), № договора ТП, Дата заключения договора)"]
[]
["N п/п","Квартал, на который рассчитывается размер расходов, связанных с предоставлением беспроцентной рассрочки","Расходы, связанные с предоставлением беспроцентной рассрочки, тыс. руб. (с учетом НДС)",null,null,null,null,"Номер квартала i"]
[null,null,"в отношении суммарного размера платы за технологическое присоединение в 1 квартале","в отношении суммарного размера платы за технологическое присоединение во 2 квартале","в отношении суммарного размера платы за технологическое присоединение в 3 квартале","в отношении суммарного размера платы за технологическое присоединение в 4 квартале","всего в год",null,null,"  "]
[1,{"$f":"CONCATENATE(\"1 год (\",$B$34,\"г.):\")","v":"1 год (г.):"},{"$f":"SUM(C10:C13)","v":0},{"$f":"SUM(D10:D13)","v":0},{"$f":"SUM(E10:E13)","v":0},{"$f":"SUM(F10:F13)","v":0},{"$f":"SUM(C9:F9)","v":0}]
["1.1.","1 квартал",{"$f":"IF($H10>=$B$32,Заявитель3!$B$33*0.95*((12+$B$32-$H10)/12)*($B$31/4),0)","v":0},null,null,null,0,1]
["1.2.","2 квартал",null,{"$f":"IF($H11>=$B$32,Заявитель3!$B$33*0.95*((12+$B$32-$H11)/12)*($B$31/4),0)","v":0},null,null,0,2]
["1.3.","3 квартал",null,null,{"$f":"IF($H12>=$B$32,Заявитель3!$B$33*0.95*((12+$B$32-$H12)/12)*($B$31/4),0)","v":0},null,0,3]
["1.4.","4 квартал",null,null,null,{"$f":"IF($H13>=$B$32,Заявитель3!$B$33*0.95*((12+$B$32-$H13)/12)*($B$31/4),0)","v":0},0,4]
[2,{"$f":"CONCATENATE(\"1 год (\",$B$34+1,\"г.):\")","v":"1 год (1г.):"},{"$f":"SUM(C15:C18)","v":0},{"$f":"SUM(D15:D18)","v":0},{"$f":"SUM(E15:E18)","v":0},{"$f":"SUM(F15:F18)","v":0},0]
["2.1.","5 квартал",{"$f":"Заявитель3!$B$33*0.95*((12+$B$32-$H15)/12)*($B$31/4)","v":0},null,null,null,0,5]
["2.2.","6 квартал",null,{"$f":"Заявитель3!$B$33*0.95*((12+$B$32-$H16)/12)*($B$31/4)","v":0},null,null,0,6]
["2.3.","7 квартал",null,null,{"$f":"Заявитель3!$B$33*0.95*((12+$B$32-$H17)/12)*($B$31/4)","v":0},null,0,7]
["2.4.","8 квартал",null,null,null,{"$f":"Заявитель3!$B$33*0.95*((12+$B$32-$H18)/12)*($B$31/4)","v":0},0,8]
[3,{"$f":"CONCATENATE(\"1 год (\",$B$34+2,\"г.):\")","v":"1 год (2г.):"},{"$f":"SUM(C20:C23)","v":0},{"$f":"SUM(D20:D23)","v":0},{"$f":"SUM(E20:E23)","v":0},{"$f":"SUM(F20:F23)","v":0},0]
["3.1.","9 квартал",{"$f":"Заявитель3!$B$33*0.95*((12+$B$32-$H20)/12)*($B$31/4)","v":0},null,null,null,0,9]
["3.2.","10 квартал",null,{"$f":"Заявитель3!$B$33*0.95*((12+$B$32-$H21)/12)*($B$31/4)","v":0},null,null,0,10]
["3.3.","11 квартал",null,null,{"$f":"Заявитель3!$B$33*0.95*((12+$B$32-$H22)/12)*($B$31/4)","v":0},null,0,11]
["3.4.","12 квартал",null,null,null,{"$f":"Заявитель3!$B$33*0.95*((12+$B$32-$H23)/12)*($B$31/4)","v":0},0,12]
[4,{"$f":"CONCATENATE(\"1 год (\",$B$34+3,\"г.):\")","v":"1 год (3г.):"},{"$f":"SUM(C25:C27)","v":0},{"$f":"SUM(D25:D27)","v":0},{"$f":"SUM(E25:E27)","v":0},{"$f":"SUM(F25:F27)","v":0},0]
["4.1.","13 квартал",{"$f":"Заявитель3!$B$33*0.95*((12+$B$32-$H25)/12)*($B$31/4)","v":0},null,null,null,0,13]
["4.2.","14 квартал",null,{"$f":"IF((Заявитель3!$B$33*0.95*((12+$B$32-$H26)/12)*($B$31/4))<0,0,Заявитель3!$B$33*0.95*((12+$B$32-$H26)/12)*($B$31/4))","v":0},null,null,0,14]
["4.3.","15 квартал",null,null,{"$f":"IF((Заявитель3!$B$33*0.95*((12+$B$32-$H27)/12)*($B$31/4))<0,0,Заявитель3!$B$33*0.95*((12+$B$32-$H27)/12)*($B$31/4))","v":0},null,0,15]
[5,"Итого",{"$f":"C9+C14+C19+C24","v":0},{"$f":"D9+D14+D19+D24","v":0},{"$f":"E9+E14+E19+E24","v":0},{"$f":"F9+F14+F19+F24","v":0},{"$f":"G9+G14+G19+G24","v":0}]
[]
[]
[]
["k"]
[]
["Год закрытия договора"]
[]
["Размера расходов, связанных с предоставлением беспроцентной рассрочки в 2018 году",null,null,null,null,null,{"$f":"IF(B34<2015,0,IF(B34=2015,G24,IF(B34=2016,G19,IF(B34=2017,G14))))","v":0},"тыс. руб. "]
[]
["Размер расходов, связанных с предоставлением беспроцентной рассрочки, в i-м квартале в течение трехлетнего периода предоставления беспроцентной рассрочки рассчитывается по формуле (1):"]
[]
[null,null,null,", (1)"]
[]
["где:"]
["       - суммарный размер платы за технологическое присоединение, начисляемый заявителям, которым предоставляется рассрочка, в квартале k периода регулирования (тыс. руб.);"]
["k - номер квартала по порядку в периоде регулирования, в который начисляется размер платы за технологическое присоединение (равен от 1 до 4);"]
["i - номер квартала по порядку, начиная с момента начисления размера платы за технологическое присоединение с условием предоставления беспроцентной рассрочки в квартале k, с учетом квартала, в котором произведены начисления, в течение трехлетнего периода предоставления беспроцентной рассрочки (равен от k до 12 + k - 1);"]
["          - ставка рефинансирования Центрального банка Российской Федерации на дату представления сетевой организацией заявки на установление размера платы за технологическое присоединение в регулирующий орган."]
["В случае отклонения фактического значения процентной ставки по кредитам, связанным с рассрочкой по оплате технологического присоединения, от ставки рефинансирования Центрального банка Российской Федерации, при расчете фактического размера расходов, связанных с предоставлением беспроцентной рассрочки, применяется величина процентной ставки в соответствии с пунктом 87 Основ ценообразования."]
[]
["Примечание: "]
["1) Периодом предоставления беспроцентной рассрочки считается 3 года."]
["2) Размер расходов, связанных с предоставлением беспроцентной рассрочки, в каждый квартал периода регулирования в течение трехлетнего периода предоставления беспроцентной рассрочки в отношении планируемого к получению (фактически полученного) от заявителей суммарного размера платы за технологическое присоединение, определяется в соответствии с формулой (1) Методических указаний по определению выпадающих доходов, связанных с осуществлением технологического присоединения к электрическим сетям."]
["3) При расчете планируемых значений показателей при заполнении таблиц 1 и 2 применяется планируемая к получению величина суммарного размера платы за технологическое присоединение, подлежащего беспроцентной рассрочке."]
["4) При расчете фактических значений показателей при заполнении таблиц 1 и 2 применяется суммарная плата за технологическое присоединение, начисленная с беспроцентной рассрочкой в соответствии с заключенными договорами об осуществлении технологического присоединения к электрическим сетям."]

{"sheet":"Заявитель4","index":30,"n_rows":53,"n_cols":10,"rows_kept":53,"cut":false,"hidden":false,"merged":[[0,2,0,7],[2,0,2,6],[3,0,3,6],[6,0,7,0],[6,1,7,1],[6,2,6,6],[6,7,7,7],[4,1,4,6],[52,0,52,6],[35,0,35,5],[37,0,37,6],[42,0,42,6],[43,0,43,6],[44,0,44,6],[45,0,45,6],[46,0,46,6],[48,0,48,6],[49,0,49,6],[50,0,50,6],[51,0,51,6]]}
[null,null,"Приложение 2 к Методическим указаниям,  утвержденным приказом ФСТ от 11.09.2014 г. №215-э/1"]
[]
[" Расчет размера расходов, связанных с предоставлением беспроцентной рассрочки (для конкретного заявителя)\n"]
[]
[null,"(Контрагент (наименование), № договора ТП, Дата заключения договора)"]
[]
["N п/п","Квартал, на который рассчитывается размер расходов, связанных с предоставлением беспроцентной рассрочки","Расходы, связанные с предоставлением беспроцентной рассрочки, тыс. руб. (с учетом НДС)",null,null,null,null,"Номер квартала i"]
[null,null,"в отношении суммарного размера платы за технологическое присоединение в 1 квартале","в отношении суммарного размера платы за технологическое присоединение во 2 квартале","в отношении суммарного размера платы за технологическое присоединение в 3 квартале","в отношении суммарного размера платы за технологическое присоединение в 4 квартале","всего в год",null,null,"  "]
[1,{"$f":"CONCATENATE(\"1 год (\",$B$34,\"г.):\")","v":"1 год (г.):"},{"$f":"SUM(C10:C13)","v":0},{"$f":"SUM(D10:D13)","v":0},{"$f":"SUM(E10:E13)","v":0},{"$f":"SUM(F10:F13)","v":0},{"$f":"SUM(C9:F9)","v":0}]
["1.1.","1 квартал",{"$f":"IF($H10>=$B$32,Заявитель4!$B$33*0.95*((12+$B$32-$H10)/12)*($B$31/4),0)","v":0},null,null,null,0,1]
["1.2.","2 квартал",null,{"$f":"IF($H11>=$B$32,Заявитель4!$B$33*0.95*((12+$B$32-$H11)/12)*($B$31/4),0)","v":0},null,null,0,2]
["1.3.","3 квартал",null,null,{"$f":"IF($H12>=$B$32,Заявитель4!$B$33*0.95*((12+$B$32-$H12)/12)*($B$31/4),0)","v":0},null,0,3]
["1.4.","4 квартал",null,null,null,{"$f":"IF($H13>=$B$32,Заявитель4!$B$33*0.95*((12+$B$32-$H13)/12)*($B$31/4),0)","v":0},0,4]
[2,{"$f":"CONCATENATE(\"1 год (\",$B$34+1,\"г.):\")","v":"1 год (1г.):"},{"$f":"SUM(C15:C18)","v":0},{"$f":"SUM(D15:D18)","v":0},{"$f":"SUM(E15:E18)","v":0},{"$f":"SUM(F15:F18)","v":0},0]
["2.1.","5 квартал",{"$f":"Заявитель4!$B$33*0.95*((12+$B$32-$H15)/12)*($B$31/4)","v":0},null,null,null,0,5]
["2.2.","6 квартал",null,{"$f":"Заявитель4!$B$33*0.95*((12+$B$32-$H16)/12)*($B$31/4)","v":0},null,null,0,6]
["2.3.","7 квартал",null,null,{"$f":"Заявитель4!$B$33*0.95*((12+$B$32-$H17)/12)*($B$31/4)","v":0},null,0,7]
["2.4.","8 квартал",null,null,null,{"$f":"Заявитель4!$B$33*0.95*((12+$B$32-$H18)/12)*($B$31/4)","v":0},0,8]
[3,{"$f":"CONCATENATE(\"1 год (\",$B$34+2,\"г.):\")","v":"1 год (2г.):"},{"$f":"SUM(C20:C23)","v":0},{"$f":"SUM(D20:D23)","v":0},{"$f":"SUM(E20:E23)","v":0},{"$f":"SUM(F20:F23)","v":0},0]
["3.1.","9 квартал",{"$f":"Заявитель4!$B$33*0.95*((12+$B$32-$H20)/12)*($B$31/4)","v":0},null,null,null,0,9]
["3.2.","10 квартал",null,{"$f":"Заявитель4!$B$33*0.95*((12+$B$32-$H21)/12)*($B$31/4)","v":0},null,null,0,10]
["3.3.","11 квартал",null,null,{"$f":"Заявитель4!$B$33*0.95*((12+$B$32-$H22)/12)*($B$31/4)","v":0},null,0,11]
["3.4.","12 квартал",null,null,null,{"$f":"Заявитель4!$B$33*0.95*((12+$B$32-$H23)/12)*($B$31/4)","v":0},0,12]
[4,{"$f":"CONCATENATE(\"1 год (\",$B$34+3,\"г.):\")","v":"1 год (3г.):"},{"$f":"SUM(C25:C27)","v":0},{"$f":"SUM(D25:D27)","v":0},{"$f":"SUM(E25:E27)","v":0},{"$f":"SUM(F25:F27)","v":0},0]
["4.1.","13 квартал",{"$f":"Заявитель4!$B$33*0.95*((12+$B$32-$H25)/12)*($B$31/4)","v":0},null,null,null,0,13]
["4.2.","14 квартал",null,{"$f":"IF((Заявитель4!$B$33*0.95*((12+$B$32-$H26)/12)*($B$31/4))<0,0,Заявитель4!$B$33*0.95*((12+$B$32-$H26)/12)*($B$31/4))","v":0},null,null,0,14]
["4.3.","15 квартал",null,null,{"$f":"IF((Заявитель4!$B$33*0.95*((12+$B$32-$H27)/12)*($B$31/4))<0,0,Заявитель4!$B$33*0.95*((12+$B$32-$H27)/12)*($B$31/4))","v":0},null,0,15]
[5,"Итого",{"$f":"C9+C14+C19+C24","v":0},{"$f":"D9+D14+D19+D24","v":0},{"$f":"E9+E14+E19+E24","v":0},{"$f":"F9+F14+F19+F24","v":0},{"$f":"G9+G14+G19+G24","v":0}]
[]
[]
[]
["k"]
[]
["Год закрытия договора"]
[]
["Размера расходов, связанных с предоставлением беспроцентной рассрочки в 2018 году",null,null,null,null,null,{"$f":"IF(B34<2015,0,IF(B34=2015,G24,IF(B34=2016,G19,IF(B34=2017,G14))))","v":0},"тыс. руб. "]
[]
["Размер расходов, связанных с предоставлением беспроцентной рассрочки, в i-м квартале в течение трехлетнего периода предоставления беспроцентной рассрочки рассчитывается по формуле (1):"]
[]
[null,null,null,", (1)"]
[]
["где:"]
["       - суммарный размер платы за технологическое присоединение, начисляемый заявителям, которым предоставляется рассрочка, в квартале k периода регулирования (тыс. руб.);"]
["k - номер квартала по порядку в периоде регулирования, в который начисляется размер платы за технологическое присоединение (равен от 1 до 4);"]
["i - номер квартала по порядку, начиная с момента начисления размера платы за технологическое присоединение с условием предоставления беспроцентной рассрочки в квартале k, с учетом квартала, в котором произведены начисления, в течение трехлетнего периода предоставления беспроцентной рассрочки (равен от k до 12 + k - 1);"]
["          - ставка рефинансирования Центрального банка Российской Федерации на дату представления сетевой организацией заявки на установление размера платы за технологическое присоединение в регулирующий орган."]
["В случае отклонения фактического значения процентной ставки по кредитам, связанным с рассрочкой по оплате технологического присоединения, от ставки рефинансирования Центрального банка Российской Федерации, при расчете фактического размера расходов, связанных с предоставлением беспроцентной рассрочки, применяется величина процентной ставки в соответствии с пунктом 87 Основ ценообразования.",null,null,null,null,null,null," "]
[]
["Примечание: "]
["1) Периодом предоставления беспроцентной рассрочки считается 3 года."]
["2) Размер расходов, связанных с предоставлением беспроцентной рассрочки, в каждый квартал периода регулирования в течение трехлетнего периода предоставления беспроцентной рассрочки в отношении планируемого к получению (фактически полученного) от заявителей суммарного размера платы за технологическое присоединение, определяется в соответствии с формулой (1) Методических указаний по определению выпадающих доходов, связанных с осуществлением технологического присоединения к электрическим сетям."]
["3) При расчете планируемых значений показателей при заполнении таблиц 1 и 2 применяется планируемая к получению величина суммарного размера платы за технологическое присоединение, подлежащего беспроцентной рассрочке."]
["4) При расчете фактических значений показателей при заполнении таблиц 1 и 2 применяется суммарная плата за технологическое присоединение, начисленная с беспроцентной рассрочкой в соответствии с заключенными договорами об осуществлении технологического присоединения к электрическим сетям."]

{"sheet":"Возврат заемных средств","index":31,"n_rows":17,"n_cols":8,"rows_kept":17,"cut":false,"hidden":false,"merged":[[6,6,6,7],[16,0,16,1],[16,3,16,5],[1,0,1,6],[3,0,3,6],[5,0,6,0],[5,1,5,2],[5,3,5,4],[5,5,5,6]]}
[]
["Расходы на возврат и обслуживание долгосрочных заемных средств, направляемых на финансирования капитальных вложений "]
[]
[{"$f":"'Инф-я'!C9","v":"Общество с ограниченной ответственностью \"Энергетик\""}]
[null,null,null,null,null,"тыс. руб."]
["Показатели","2016 год",null,"2017 год",null,"2018 год",null,"2019 год"]
[null,"Утверждено","Факт","Утверждено","Ожидаемые","По данным организации","По данным экспертов"]
[1,2,3,4,5,6,7,8]
["Расходы по возврату заемных средств, направляемых на финансирования капитальных вложений ",null,4636.7720300000001,506.68,5615.5473000000002,1042.42443]
["Расходы на обслуживание долгосрочных заемных вредств, направляемых на финансирования капитальных вложений ",null,1764.6621700000001,184.93819999999999,785.88689999999997,24.4815]
["Итого расходы на возврат и обслуживание долгосрочных заемных средств, направляемых на финансирования капитальных вложений ",{"$f":"B10+B9","v":0},6401.4341999999997,691.6182,6401.4341999999997,1066.9059300000001,0,{"$f":"H10+H9","v":0}]
["в  т.ч. по уровням напряжения:                         ВН","х","х",null,"х"]
["СН1","х","х",null,"х"]
["СН11","х","х",null,"х"]
["НН","х","х",null,"х"]
[]
["Руководитель организации",null,null,{"$f":"'Инф-я'!$C$17","v":"Окунев Василий Михайлович"}]

{"sheet":"Корр. ПР","index":32,"n_rows":20,"n_cols":5,"rows_kept":20,"cut":false,"hidden":false,"merged":[[19,1,19,2],[17,0,17,1],[3,0,3,4],[1,0,1,4],[5,3,6,4],[5,0,7,0],[5,1,7,1],[5,2,7,2]]}
[]
["Корректировка подконтрольных расходов по результатам 2016 года"]
[]
[{"$f":"'Инф-я'!C9","v":"Общество с ограниченной ответственностью \"Энергетик\""}]
[]
["№ п.п.","Наименование","Ед.изм.","2016 год"]
[]
[null,null,null,"По расчету организации","По расчету экспертов"]
[1,2,3,4,5]
["1.","Величина подконтрольных расходов, утвержденных на 2015 год ","тыс.руб.",28486.084661407531]
["2.","Величина подконтрольных расходов, утвержденных на 2016 год ","тыс.руб.",30260.186278415807]
["3.","Фактический индекс потребительских цен 2016 года (ИПЦ)","%",4.2000000000000003E-2]
["4.","Индекс эффективности подконтрольных расходов (Хэф)","%",{"$f":"'Подконтрольные расходы'!E10","v":0.01},{"$f":"D13","v":0.01}]
["5.","Индекс изменения количества активов (ИКАф) ((стр.5.1.- стр. 5.2.)/стр.5.2*100)","%",{"$f":"IF(D16=0,0,(D15-D16)/D16)","v":7.4396136346225938E-2},{"$f":"IF(E16=0,0,(E15-E16)/E16)","v":7.4396136346225938E-2}]
["5.1.","фактический объем условных единиц 2016 года","усл.ед.",{"$f":"'УЕ ТП 2015-2018'!L59","v":960.70299999999997},{"$f":"D15","v":960.70299999999997}]
["5.2.","фактический объем условных единиц 2015 года ","усл.ед.",{"$f":"'УЕ ТП 2015-2018'!H59","v":894.17949999999985},{"$f":"D16","v":894.17949999999985}]
["6.","Коэффициент эластичности подконтрольных расходов по количеству активов (К эл)","знач.",0.75,0.75]
["Итого корректировка подконтрольных расходов",null,"тыс.руб.",{"$f":"D10*(1+D12)*(1+D17*D14)*(1-D13)-D11","v":765.12446154058853},{"$f":"E10*(1+E12)*(1+E17*E14)*(1-E13)-E11","v":0}]
[]
[null,"Руководитель организации",null,{"$f":"'Инф-я'!$C$17","v":"Окунев Василий Михайлович"}]

{"sheet":"Корр. ПО","index":33,"n_rows":52,"n_cols":13,"rows_kept":52,"cut":false,"hidden":false,"merged":[[47,5,47,6],[51,3,51,4],[51,5,51,6],[50,3,50,4],[50,5,50,6],[48,3,48,4],[48,5,48,6],[49,3,49,4],[49,5,49,6],[46,0,47,1],[1,0,1,9],[5,1,5,2],[5,3,6,3],[5,6,5,7],[47,3,47,4],[46,2,47,2],[5,0,6,0],[3,0,3,9],[41,0,41,3],[41,5,41,7],[5,8,5,9],[5,4,5,5],[46,3,46,6],[24,0,24,9],[8,0,8,9]]}
[]
["Корректировка НВВ с учетом изменения полезного отпуска и цен на электрическую энергию за 2016 год                       "]
[]
[{"$f":"'Инф-я'!C9","v":"Общество с ограниченной ответственностью \"Энергетик\""}]
[]
["Месяц  (Период)","Вход электрической энергии в сеть организации",null,"Норматив потерь","Объем потерь 2016 года",null,"Цена покупки потерь электрической энергии",null,"Величина корректировки"]
[null,"План","Факт",null,"Согласовано регулирующим органом","Факт","Учтенная при установлении тарифа","Фактическая цена","По данным организации","По данным экспертов"]
["Ед.изм.","тыс.кВт.ч.","тыс.кВт.ч.","%","тыс.кВт.ч.","тыс.кВт.ч.","руб/тыс.кВт.ч","руб/тыс.кВт.ч","тыс. руб.","тыс. руб."]
["По данным организации"]
["Январь","х",2691.9720000000002,"х","х",417.95100000000002,"х",{"$f":"1761.82*1.18","v":2078.9476},"х","х"]
["Февраль","х",2294.1060000000002,"х","х",358.15800000000002,"х",{"$f":"1708.04*1.18","v":2015.4871999999998},"х","х"]
["Март","х",2344.6460000000002,"х","х",366.416,"х",{"$f":"1808.52*1.18","v":2134.0535999999997},"х","х"]
["Апрель","х",2098.9380000000001,"х","х",327.577,"х",{"$f":"1771.21*1.18","v":2090.0277999999998},"х","х"]
["Май","х",1771.954,"х","х",233.703,"х",{"$f":"1853.53*1.18","v":2187.1653999999999},"х","х"]
["Июнь","х",1727.252,"х","х",200.553,"х",{"$f":"1886.52*1.18","v":2226.0935999999997},"х","х"]
["1 полугодие",13569,{"$f":"C10+C11+C12+C13+C14+C15","v":12928.868},"х",2121.1,{"$f":"F10+F11+F12+F13+F14+F15","v":1904.3580000000002},2219.0673660000002,"х","х",null,null,0.41116000000000003,0.48027999999999998]
["Июль","х",1752.87,"х","х",256.82499999999999,"х",{"$f":"2174.21*1.18","v":2565.5677999999998},"х","х"]
["Август","х",1814.8420000000001,"х","х",246.30199999999999,"х",{"$f":"2199.57*1.18","v":2595.4926},"х","х"]
["Сентябрь","х",2046.058,"х","х",259.02199999999999,"х",{"$f":"2098.165*1.18","v":2475.8346999999999},"х","х"]
["Октябрь","х",2351.2339999999999,"х","х",286.40899999999999,"х",{"$f":"2020.37*1.18","v":2384.0365999999999},"х","х"]
["Ноябрь","х",2447.9760000000001,"х","х",342.20299999999997,"х",{"$f":"2012.16*1.18","v":2374.3487999999998},"х","х"]
["Декабрь","х",2589.6320000000001,"х","х",375.49700000000001,"х",{"$f":"1929.17*1.18","v":2276.4205999999999},"х","х"]
["2 полугодие",11306.9,{"$f":"C17+C18+C19+C20+C21+C22","v":13002.612000000001},"х",1767.5,{"$f":"F17+F18+F19+F20+F21+F22","v":1766.258},2592.11193,"х","х","х"]
["ВСЕГО:",{"$f":"B16+B23","v":24875.9},{"$f":"C16+C23","v":25931.480000000003},{"$f":"E24/B24","v":0.1563199723427092},{"$f":"E16+E23","v":3888.6},{"$f":"F16+F23","v":3670.616},{"$f":"IF(E24=0,0,(E16*G16+E23*G23)/E24)","v":2388.6287163240245},{"$f":"IF(F24=0,0,(F10*H10+F11*H11+F12*H12+F13*H13+F14*H14+F15*H15+F17*H17+F18*H18+F19*H19+F20*H20+F21*H21+F22*H22)/F24)","v":2262.4363131414452},{"$f":"((C24-B24)*D24*H24+B24*(H24-G24)*D24)/1000","v":-117.39115300450719},"х"]
["По данным экспертов"]
["Январь","х",null,"х","х",null,"х",null,"х","х"]
["Февраль","х",null,"х","х",null,"х",null,"х","х"]
["Март","х",null,"х","х",null,"х",null,"х","х"]
["Апрель","х",null,"х","х",null,"х",null,"х","х"]
["Май","х",null,"х","х",null,"х",null,"х","х"]
["Июнь","х",null,"х","х",null,"х",null,"х","х"]
["1 полугодие",null,{"$f":"C26+C27+C28+C29+C30+C31","v":0},"х",null,{"$f":"F26+F27+F28+F29+F30+F31","v":0},null,"х","х","х"]
["Июль","х",null,"х","х",null,"х",null,"х","х"]
["Август","х",null,"х","х",null,"х",null,"х","х"]
["Сентябрь","х",null,"х","х",null,"х",null,"х","х"]
["Октябрь","х",null,"х","х",null,"х",null,"х","х"]
["Ноябрь","х",null,"х","х",null,"х",null,"х","х"]
["Декабрь","х",null,"х","х",null,"х",null,"х","х"]
["2 полугодие",null,{"$f":"C33+C34+C35+C36+C37+C38","v":0},"х",null,{"$f":"F33+F34+F35+F36+F37+F38","v":0},null,"х","х","х"]
["ВСЕГО:",{"$f":"B32+B39","v":0},{"$f":"C32+C39","v":0},{"$f":"E40/B40","v":{"$error":"#DIV/0!"}},{"$f":"E32+E39","v":0},{"$f":"F32+F39","v":0},{"$f":"IF(E40=0,0,(E32*G32+E39*G39)/E40)","v":0},{"$f":"IF(F40=0,0,(F26*H26+F27*H27+F28*H28+F29*H29+F30*H30+F31*H31+F33*H33+F34*H34+F35*H35+F36*H36+F37*H37+F38*H38)/F40)","v":0},"х",{"$f":"((C40-B40)*D40*H40+B40*(H40-G40)*D40)/1000","v":{"$error":"#DIV/0!"}}]
[]
["Руководитель организации",null,null,null,null,{"$f":"'Инф-я'!$C$17","v":"Окунев Василий Михайлович"}]
[]
[]
["Справочная информация:"]
[]
["Наименование энергосбытовой организации - Гарантирующего поставщика ",null,"Ед.изм.","Цена (тариф) покупки потерь электрической энергии, учтенная при расчете тарифа на компенсацию потерь на 2016 год"]
[null,null,null,"с 01.01.2016г.",null,"с 01.07.2016г."]
["ОАО \"Владимирэнергосбыт\"",null,"руб./МВт.ч."]
["ОАО \"Владимирские коммунальные сети\"",null,"руб./МВт.ч."]
["ООО \"Русэнергосбыт\"",null,"руб./МВт.ч."]
["ОАО \"Оборонэнергосбыт\"",null,"руб./МВт.ч."]

{"sheet":"Корр. НР","index":34,"n_rows":21,"n_cols":7,"rows_kept":21,"cut":false,"hidden":false,"merged":[[20,0,20,1],[20,2,20,4],[1,0,1,5],[5,0,6,0],[5,1,6,1],[5,3,5,4],[5,5,5,6],[5,2,6,2],[3,0,3,5]]}
[]
["Корректировка неподконтрольных расходов по результатам 2016 года"]
[]
[{"$f":"'Инф-я'!C9","v":"Общество с ограниченной ответственностью \"Энергетик\""}]
[]
["№ п/п","Наименование показателей","2016 год утверждено","По данным организации",null,"По данным экспертов"]
[null,null,null,"Факт  2016 год","Величина корректировки НР","Факт  2016 год","Величина корректировки НР"]
[1,2,3,4,5,6,7]
["1.","Отчисления во внебюджетные фонды",{"$f":"'Отчислен во внебюдж фонды'!D18","v":3315.8618937141241},{"$f":"'Отчислен во внебюдж фонды'!E18","v":3671.3102899999999},{"$f":"D9-C9","v":355.44839628587579},{"$f":"'Отчислен во внебюдж фонды'!K18","v":0},{"$f":"F9-C9","v":-3315.8618937141241}]
["2.","Расходы на оплату услуг организаций, осуществляющие регулируемые виды деятельности",{"$f":"'Расходы рег. орг-ий'!B22","v":167.54210075226354},{"$f":"'Расходы рег. орг-ий'!C22","v":238.60836},71.066259247736468,{"$f":"'Расходы рег. орг-ий'!I22","v":0},-167.54210075226354]
["3.","Плата за землю",{"$f":"'Плата за землю'!B16","v":191.98207524},{"$f":"'Плата за землю'!C16","v":342.03946999999999},150.05739475999999,{"$f":"'Плата за землю'!I16","v":0},-191.98207524]
["4.","Транспортный налог",{"$f":"'Транспортный налог'!D16","v":0},{"$f":"'Транспортный налог'!E16","v":0},0,{"$f":"'Транспортный налог'!M16","v":0},0]
["5.","Налог на имущество",{"$f":"'Налог на имущество'!B15","v":0},{"$f":"'Налог на имущество'!C15","v":0},0,{"$f":"'Налог на имущество'!I15","v":0},0]
["6.","Плата за негативное воздействие на окружающую среду",{"$f":"'Негативное воздействие на ОС'!C28","v":0},{"$f":"'Негативное воздействие на ОС'!D28","v":2},2,{"$f":"'Негативное воздействие на ОС'!J28","v":0},0]
["7.","Налог на прибыль",{"$f":"'Налог прим при УСНО'!C10","v":634.6},{"$f":"'Налог прим при УСНО'!D10","v":991.89499999999998},357.29499999999996,{"$f":"'Налог прим при УСНО'!I10","v":0},-634.6]
["8.","Плата за аренду имущества",{"$f":"'Аренда имущества'!B42","v":4609.8447999999999},{"$f":"'Аренда имущества'!C42","v":4850.4995600000002},240.65476000000035,{"$f":"'Аренда имущества'!W42","v":0},-4609.8447999999999]
["9.","Оплата услуг ОАО \"ФСК ЕЭС\"",{"$f":"'Услуги ФСК'!B17","v":0},{"$f":"'Услуги ФСК'!E17","v":0},0,{"$f":"'Услуги ФСК'!U17","v":0},0]
["10.","Прочие обоснованные неподконтрольные расходы",{"$f":"'Прочие НР'!B13","v":173.1},{"$f":"'Прочие НР'!C13","v":1133.98},960.88,{"$f":"'Прочие НР'!I13","v":0},-173.1]
[null,"Итого корректировка неподконтрольных расходов по результатам 2016 года",{"$f":"SUM(C9:C18)","v":9092.930869706388},{"$f":"SUM(D9:D18)","v":11230.33268},{"$f":"SUM(E9:E18)","v":2137.4018102936125},{"$f":"SUM(F9:F18)","v":0},{"$f":"SUM(G9:G18)","v":-9092.930869706388}]
[]
["Руководитель организации",null,{"$f":"'Инф-я'!$C$17","v":"Окунев Василий Михайлович"}]

{"sheet":"Корр. ИП","index":35,"n_rows":28,"n_cols":5,"rows_kept":28,"cut":false,"hidden":false,"merged":[[1,0,1,4],[15,0,15,4],[3,0,3,4],[27,0,27,1],[27,2,27,4]]}
[]
["Корректировка НВВ в связи с изменением (неисполнением) инвестиционной программы по результатам 2016 года"]
[]
[{"$f":"'Инф-я'!C9","v":"Общество с ограниченной ответственностью \"Энергетик\""}]
[]
["№ п/п","Наименование показателей","Обозначение в Мет. указаниях","По данным организации","По данным экспертов"]
[1,2,3,4,5]
["1.","Расчетная величина собственных средств организации для финансирования инвестиционной программы , всего, в том числе:",null,{"$f":"IF((D9+D10)>=D20,D20,(D9+D10))","v":3838.6206927241387},{"$f":"IF((E9+E10)>=E20,E20,(E9+E10))","v":0}]
[null,"-амортизация",null,{"$f":"' КВЛ'!B18","v":4548.3327827592784}]
[null,"- капитальные вложения из прибыли",null,{"$f":"' КВЛ'!B20","v":0}]
["2.","Утвержденная инвестиционная программа (в случае, если договорная схема организации предполагает взаиморасчет по одноставочному тарифу, величина   принимается равной расчетному значению)",null,{"$f":"D26","v":4071.5574577880466},{"$f":"E26","v":0}]
["3.","Объем фактического исполнения инвестиционной программы ",null,{"$f":"' КВЛ'!C17-' КВЛ'!C19","v":4257.5130799999997}]
["4.","Учтенная при расчете тарифов на (i-1) год корректировка необходимой валовой выручки на (i-2)-ой год долгосрочного периода регулирования, осуществленная в связи с изменением (неисполнением) инвестиционной программы за истекший период на (i-2)-го года по результатам 9 месяцев"]
[null,"Итого корректировка НВВ в связи с изменением (неисполнением) инвестиционной программы по результатам 2015 года",null,{"$f":"IF(D11=0,0,D8*(D12/D11-1)-D13)","v":175.31696574386288},{"$f":"IF(E11=0,0,E8*(E12/E11-1))","v":0}]
[]
["Расчет утвержденной инвестиционной программы в случае, если договорная схема организации предполагает взаиморасчет по одноставочному тарифу"]
[]
["№ п/п","Наименование показателей","Обозначение в Метод. указаниях","По данным организации","По данным экспертов"]
[1,2,3,4,5]
["1.","Утвержденная инвестиционная программа",null,{"$f":"' КВЛ'!B17-' КВЛ'!B19","v":3838.6206927241387}]
["2.","Полезный отпуск электрической энергии, учтенный при формировании тарифов (млн.кВт.ч.)",null,20.987300000000001]
["3.","Фактический полезный отпуск электроэнергии (млн.кВт.ч.)",null,22.260860000000001]
["4.","Доля необходимой валовой выручки, относящейся на потребителей услуг по передаче электрической энергии, договорная схема которых предусматривает расчеты по одноставочным тарифам",null,"х","х"]
["4.1.","- плановая",null,1,1]
["4.2.","- фактическая",null,1,1]
["5.","Утвержденная инвестиционная программа, в случае если договорная схема предполагает взаиморасчет по одноставочному тарифу",null,{"$f":"IF((D21*D24)*D20=0,0,(D22*D25)/(D21*D24)*D20)","v":4071.5574577880466},{"$f":"IF((E21*E24)*E20=0,0,(E22*E25)/(E21*E24)*E20)","v":0}]
[]
["Руководитель организации",null,{"$f":"'Инф-я'!$C$17","v":"Окунев Василий Михайлович"}]

{"sheet":"Корр. КНК","index":36,"n_rows":30,"n_cols":8,"rows_kept":30,"cut":false,"hidden":false,"merged":[[29,0,29,7],[1,0,1,4],[3,0,3,4],[14,1,14,2],[16,0,16,6],[18,0,19,0],[18,1,19,1],[18,6,18,7],[26,0,26,1],[26,2,26,4],[18,2,19,2],[18,3,19,3],[18,4,18,5]]}
[]
["Корректировка НВВ с учетом надежности и качества оказываемых услуг по результатам 2016 года"]
[]
[{"$f":"'Инф-я'!C9","v":"Общество с ограниченной ответственностью \"Энергетик\""}]
[]
["№ п/п","Наименование показателей","Обзнач. в Методических указаниях","По данным организации","По данным экспертов"]
[1,2,3,4,5]
["1.","Оценка достижения показателя уровня надежности   оказываемых услуг",null,{"$f":"(IF(AND(D22=0,E22=0),0,IF(AND(67<F22,F22<133),0,IF(F22>=133,-1,IF(F22<=67,1)))))","v":1},{"$f":"(IF(AND(G22=0,D22=0),0,IF(AND(67<H22,H22<133),0,IF(H22>=133,-1,IF(H22<=67,1)))))","v":1}]
["2.","Оценка достижения показателя уровня качества осуществляемого технологического присоединения к сети",null,{"$f":"(IF(AND(D23=0,E23=0),0,IF(AND(67<F23,F23<133),0,IF(F23>=133,-1,IF(F23<=67,1)))))","v":0},{"$f":"(IF(AND(G23=0,D23=0),0,IF(AND(67<H23,H23<133),0,IF(H23>=133,-1,IF(H23<=67,1)))))","v":1}]
["3.","Оценка достижения показателя уровня качества оказываемых услуг",null,{"$f":"(IF(AND(67<F24,F24<133),0,IF(F24>=133,-1,IF(F24<=67,1))))","v":0},{"$f":"(IF(AND(67<H24,H24<133),0,IF(H24>=133,-1,IF(H24<=67,1))))","v":1}]
["4.","Обобщенный показатель уровня надежности и качества оказываемых услуг ","                           ",{"$f":"D8*0.65+D9*0.25+D10*0.1","v":0.65},{"$f":"E8*0.65+E9*0.25+E10*0.1","v":1}]
["5.","Максимальный процент корректировки, %",null,0.02,0.02]
["6.","Коэффициент, корректирующий НВВ с учетом надежности и качества оказываемых услуг",null,{"$f":"D11*D12","v":1.3000000000000001E-2},{"$f":"E11*E12","v":0.02}]
["7.","Утвержденная НВВ на содержание электрических сетей (тыс. руб.)",null,{"$f":"' НВВ содержание'!C47","v":47476.824503044183},{"$f":"' НВВ содержание'!C47","v":47476.824503044183}]
["8.","Величина корректировки НВВ с учетом надежности и качества оказываемых услуг",null,{"$f":"D13*D14","v":617.19871853957443},{"$f":"E13*E14","v":949.53649006088369}]
[]
["Показатели уровня надежности и уровня качества оказываемых услуг"]
[]
["№ п/п","Наименование показателей","Обозначение в Методических  указаниях","Утверждено на 2016 год","По данным организации",null,"По данным экспертов"]
[null,null,null,null,"Факт","% отклонения","Факт","% отклонения"]
[1,2,3,4,5,6,7,8]
["1.","Показатель средней продолжительности прекращений передачи электрической энергии",null,0.99760000000000004,{"$f":"'Форма 1.2'!E8","v":1.3094769956744003E-3},{"$f":"IF(D22=0,0,E22/D22*100)","v":0.13126273011972736},null,{"$f":"IF(D22=0,0,G22/D22*100)","v":0}]
["2.","Показатель уровня качества осуществляемого технологического присоединения к сети",null,1.0096000000000001,{"$f":"'форма 3 '!D37","v":1},{"$f":"IF(D23=0,0,E23/D23*100)","v":99.049128367670363},null,{"$f":"IF(D23=0,0,G23/D23*100)","v":0}]
["3.","Показатель уровня качества обслуживания потребителей услуг ",null,0.89749999999999996,{"$f":"'форма 2.4'!C14","v":0.93882222222222222},{"$f":"IF(D24=0,0,E24/D24*100)","v":104.60414732281026},null,{"$f":"IF(D24=0,0,G24/D24*100)","v":0}]
[]
[]
["Руководитель организации",null,{"$f":"'Инф-я'!$C$17","v":"Окунев Василий Михайлович"}]
[]
[]
["Приказ Министерства энергетики РФ от 14 октября 2013 г. N 718 \"Об утверждении Методических указаний по расчету уровня надежности и качества поставляемых товаров и оказываемых услуг для организации по управлению единой национальной (общероссийской) электрической сетью и территориальных сетевых организаций\" (с изменениями и дополнениями) Методические указания по расчету уровня надежности и качества поставляемых товаров и оказываемых услуг для организации по управлению единой национальной (общероссийской) электрической сетью и территориальных сетевых организаций 4. Порядок определения плановых и фактических значений показателей надежности и качества услуг   4.3. Коэффициенты допустимого отклонения на первый долгосрочный период регулирования устанавливаются равными: для организации по управлению единой национальной (общероссийской) электрической сетью для показателя уровня надежности оказания услуг - 25% на первые три расчетных периода регулирования и 20% на следующие расчетные периоды регулирования первого долгосрочного периода регулирования, а для показателя уровня качества оказания услуг - 15%; для территориальных сетевых организаций, в отношении которых переход к регулированию цен (тарифов) на услуги по передаче электрической энергии в форме долгосрочных тарифов на основе долгосрочных параметров регулирования деятельности осуществлен до 1 июля 2010 г., - 30% на первые три расчетных периода регулирования и 25% на следующие расчетные периоды регулирования первого долгосрочного периода регулирования; для остальных территориальных сетевых организаций - 35% на первые три расчетных периода регулирования и 30% на следующие расчетные периоды регулирования первого долгосрочного периода регулирования. В последующие долгосрочные периоды регулирования коэффициенты снижаются в случае достижения показателей на 1% в год - до 15% для организации по управлению единой национальной (общероссийской) электрической сетью и до 25% для территориальных сетевых организаций."]

{"sheet":" НВВ содержание","index":37,"n_rows":49,"n_cols":11,"rows_kept":49,"cut":false,"hidden":false,"merged":[[5,7,5,8],[5,1,6,1],[4,0,4,10],[5,9,5,10],[5,2,5,3],[48,0,48,1],[48,2,48,4],[5,5,5,6],[3,0,3,6],[1,0,1,6],[5,0,6,0]]}
[]
["Расчет необходимой валовой выручки  на содержание электрических сетей на 2018 год"]
[]
[{"$f":"'Инф-я'!C9","v":"Общество с ограниченной ответственностью \"Энергетик\""}]
[]
["№","Наименование","2016 год",null,"2017 год","2018 год",null,"Темп роста планируемых затрат по расчету организации, %",null,"Темп роста затрат организации по расчету экспертов, %"]
[null,null,"Утверждено","Факт","Утверждено","По данным организации","По данным экспертов","к факту 2016 года","к утвержденным 2017 года","к факту 2016 года","к утвержденным 2017 года"]
["1","2","3","4","5","7","8","9","10","11","12"]
["1.","Подконтрольные расходы",{"$f":"C10+C11+C12+C13+C22","v":30260.186278415811},{"$f":"D10+D11+D12+D13+D22","v":37074.891920000009},{"$f":"'Подконтрольные расходы'!D32","v":31416.515021127096},{"$f":"'Подконтрольные расходы'!E32","v":34319.2208282664},{"$f":"'Подконтрольные расходы'!F32","v":7775.5874677289557},{"$f":"IF(D9=0,IF(F9=0,0,100),F9/D9*100)","v":92.567284895449504},{"$f":"IF(E9=0,IF(F9=0,0,100),F9/E9*100)","v":109.23942647740299},{"$f":"IF(D9=0,IF(G9=0,0,100),G9/D9*100)","v":20.972650397759956},{"$f":"IF(E9=0,IF(G9=0,0,100),G9/E9*100)","v":24.75}]
["1.1.","Расходы на оплату труда",11008.495959183552,11959,{"$f":"'Подконтрольные расходы'!D17","v":11429.162249024097},{"$f":"'Подконтрольные расходы'!E17","v":12485.151292005776},{"$f":"'Подконтрольные расходы'!F17","v":2828.7176566334638},{"$f":"IF(D10=0,IF(F10=0,0,100),F10/D10*100)","v":104.39962615608141},{"$f":"IF(E10=0,IF(F10=0,0,100),F10/E10*100)","v":109.23942647740299},{"$f":"IF(D10=0,IF(G10=0,0,100),G10/D10*100)","v":23.653463137665888},{"$f":"IF(E10=0,IF(G10=0,0,100),G10/E10*100)","v":24.749999999999996}]
["1.2","Материалы",3982.7306516972803,6479.0821500000002,{"$f":"'Подконтрольные расходы'!D18","v":4134.9222437999279},{"$f":"'Подконтрольные расходы'!E18","v":4516.9653444136038},{"$f":"'Подконтрольные расходы'!F18","v":1023.3932553404821},69.71613015299711,109.23942647740299,15.79534310026432,24.75]
["1.3","Ремонт основных фондов",14096.85821834866,14820.420120000001,{"$f":"'Подконтрольные расходы'!D19","v":14635.539711906726},{"$f":"'Подконтрольные расходы'!E19","v":15987.779643159465},{"$f":"'Подконтрольные расходы'!F19","v":3622.2960786969147},107.87669656937813,109.23942647740299,24.44125098591952,24.75]
["1.4","Другие обоснованные подконтрольные расходы, в том числе:",{"$f":"SUM(C14:C21)","v":854.3978785896204},{"$f":"SUM(D14:D21)","v":3417.4882900000002},{"$f":"'Подконтрольные расходы'!D20","v":887.04687868614087},{"$f":"'Подконтрольные расходы'!E20","v":969.00492286244491},{"$f":"'Подконтрольные расходы'!F20","v":219.54410247481985},28.354301189498589,109.23942647740299,6.4241362031066345,24.75]
["1.4.1","Работы и услуги производственного характера",0,919.46424999999999,{"$f":"'Подконтрольные расходы'!D21","v":0},{"$f":"'Подконтрольные расходы'!E21","v":0},{"$f":"'Подконтрольные расходы'!F21","v":0},0,0,0,0]
["1.4.2","Работы и услуги непроизводственного характера",532.89319728266071,609.88306,{"$f":"'Подконтрольные расходы'!D22","v":553.25657889385661},{"$f":"'Подконтрольные расходы'!E22","v":604.37431373214952},{"$f":"'Подконтрольные расходы'!F22","v":136.93100327622952},99.09675368457512,109.23942647740299,22.452009615782657,24.75]
["1.4.3","Обеспечение нормальных условий труда и техники безопасности",73.70919781334679,365.09555,{"$f":"'Подконтрольные расходы'!D23","v":76.525838241451467},{"$f":"'Подконтрольные расходы'!E23","v":83.596386801986711},{"$f":"'Подконтрольные расходы'!F23","v":18.940144964759238},22.897125643406692,109.23942647740299,5.1877227659332572,24.75]
["1.4.4.","Расходы на командировки",0,0,{"$f":"'Подконтрольные расходы'!D24","v":0},{"$f":"'Подконтрольные расходы'!E24","v":0},{"$f":"'Подконтрольные расходы'!F24","v":0},0,0,0,0]
["1.4.5","Расходы на обучение персонала",95.605162921777804,34.450000000000003,{"$f":"'Подконтрольные расходы'!D25","v":99.258511147095945},{"$f":"'Подконтрольные расходы'!E25","v":108.42942830709673},{"$f":"'Подконтрольные расходы'!F25","v":24.566481508906246},314.74434922234173,109.23942647740299,71.310541390148757,24.75]
["1.4.6","Расходы на страхование",0,1375.1959400000001,{"$f":"'Подконтрольные расходы'!D26","v":0},{"$f":"'Подконтрольные расходы'!E26","v":0},{"$f":"'Подконтрольные расходы'!F26","v":0},0,0,0,0]
["1.4.7","Расходы на услуги банков",152.19032057183512,113.39949,{"$f":"'Подконтрольные расходы'!D27","v":158.00595040373682},{"$f":"'Подконтрольные расходы'!E27","v":172.60479402121192},{"$f":"'Подконтрольные расходы'!F27","v":39.106472724924863},152.20949760992039,109.23942647740299,34.485580777237061,24.75]
["1.4.8","Прочие обоснованные подконтрольные расходы",0,null,{"$f":"'Подконтрольные расходы'!D28","v":0},{"$f":"'Подконтрольные расходы'!E28","v":0},{"$f":"'Подконтрольные расходы'!F28","v":0},0,0,0,0]
["1.5","Расходы из прибыли, в том числе:",{"$f":"SUM(C23:C24)","v":317.70357059669863},{"$f":"SUM(D23:D24)","v":398.90136000000001},{"$f":"'Подконтрольные расходы'!D29","v":329.843937710202},{"$f":"'Подконтрольные расходы'!E29","v":360.31962582510704},{"$f":"'Подконтрольные расходы'!F29","v":81.636374583275},90.3280013447703,109.23942647740299,20.465303648820601,24.750000000000004]
["1.5.1","Расходы по коллективным договорам",317.70357059669863,null,{"$f":"'Подконтрольные расходы'!D30","v":329.843937710202},{"$f":"'Подконтрольные расходы'!E30","v":360.31962582510704},{"$f":"'Подконтрольные расходы'!F30","v":81.636374583275},100,109.23942647740299,100,24.750000000000004]
["1.5.2","Прочие обоснованные расходы из прибыли",null,398.90136000000001,{"$f":"'Подконтрольные расходы'!D31","v":0},{"$f":"'Подконтрольные расходы'!E31","v":0},{"$f":"'Подконтрольные расходы'!F31","v":0},0,0,0,0]
["2.","Неподконтрольные расходы",{"$f":"C26+C27+C28+C29+C35+C36+C37+C38+C39+C40","v":13641.263652465665},{"$f":"D26+D27+D28+D29+D35+D36+D37+D38+D40","v":22361.948830000001},16745.586983635843,{"$f":"F26+F27+F28+F29+F35+F36+F37+F38+F39+F40","v":20000.765851759399},3845.8511776038085,{"$f":"IF(D25=0,IF(F25=0,0,100),F25/D25*100)","v":89.441067966880766},{"$f":"IF(E25=0,IF(F25=0,0,100),F25/E25*100)","v":119.4390251670759},{"$f":"IF(D25=0,IF(G25=0,0,100),G25/D25*100)","v":17.198193265000008},{"$f":"IF(E25=0,IF(G25=0,0,100),G25/E25*100)","v":22.966356338312053}]
["2.1.","Амортизация основных средств",{"$f":"'Свод по амортизации'!B15","v":4548.3327827592784},{"$f":"'Свод по амортизации'!C15","v":4730.1819500000001},{"$f":"'Свод по амортизации'!D15","v":4681.14131188181},{"$f":"'Свод по амортизации'!F15","v":6378.2892713199053},{"$f":"'Свод по амортизации'!G15","v":0},{"$f":"IF(D26=0,IF(F26=0,0,100),F26/D26*100)","v":134.84236629248278},{"$f":"IF(E26=0,IF(F26=0,0,100),F26/E26*100)","v":136.25500377718453},0,0]
["2.2.","Отчисления на социальные нужды",{"$f":"'Отчислен во внебюдж фонды'!D18","v":3315.8618937141241},{"$f":"'Отчислен во внебюдж фонды'!E18","v":3671.3102899999999},{"$f":"'Отчислен во внебюдж фонды'!F18","v":3542.8430697959334},{"$f":"'Отчислен во внебюдж фонды'!H18","v":3870.1814504394952},{"$f":"'Отчислен во внебюдж фонды'!I18","v":3845.8511776038085},{"$f":"IF(D27=0,IF(F27=0,0,100),F27/D27*100)","v":105.41689872907733},{"$f":"IF(E27=0,IF(F27=0,0,100),F27/E27*100)","v":109.23942647740297},104.75418512238606,108.55268217751819]
["2.3.","Расходы на оплату услуг организаций, осуществляющие регулируемые виды деятельности",{"$f":"'Расходы рег. орг-ий'!B22","v":167.54210075226354},{"$f":"'Расходы рег. орг-ий'!C22","v":238.60836},{"$f":"'Расходы рег. орг-ий'!D22","v":205.58863631247999},{"$f":"'Расходы рег. орг-ий'!F22","v":266.70999999999998},{"$f":"'Расходы рег. орг-ий'!G22","v":0},111.77730738353004,129.72993293005743,0,0]
["2.4.","Налоги и сборы, в том числе:",{"$f":"C30+C31+C32+C33+C34","v":826.58207523999999},1335.9344699999999,1238.70576564562,1830.1559999999999,0,136.99444404634608,147.74743532788136,0,0]
["2.4.1.","Плата за землю",{"$f":"'Плата за землю'!B16","v":191.98207524},{"$f":"'Плата за землю'!C16","v":342.03946999999999},{"$f":"'Плата за землю'!D16","v":200.44376564561998},{"$f":"'Плата за землю'!F16","v":401.82000000000005},{"$f":"'Плата за землю'!G16","v":0},117.47767004784566,200.46520215071629,0,0]
["2.4.2.","Транспортный налог",{"$f":"'Транспортный налог'!D16","v":0},{"$f":"'Транспортный налог'!E16","v":0},{"$f":"'Транспортный налог'!F16","v":0},{"$f":"'Транспортный налог'!I16","v":0},{"$f":"'Транспортный налог'!K16","v":0},0,0,0,0]
["2.4.3.","Налог на имущество",{"$f":"'Налог на имущество'!B15","v":0},{"$f":"'Налог на имущество'!C15","v":0},{"$f":"'Налог на имущество'!D15","v":0},{"$f":"'Налог на имущество'!F15","v":0},{"$f":"'Налог на имущество'!G15","v":0},0,0,0,0]
["2.4.4.","Плата за негативное воздействие на окружающую среду",{"$f":"'Негативное воздействие на ОС'!C28","v":0},{"$f":"'Негативное воздействие на ОС'!D28","v":2},{"$f":"'Негативное воздействие на ОС'!E28","v":0},{"$f":"'Негативное воздействие на ОС'!G28","v":0},{"$f":"'Негативное воздействие на ОС'!H28","v":0},0,0,0,0]
["2.4.5.","Налог на прибыль",{"$f":"'Налог прим при УСНО'!C10","v":634.6},{"$f":"'Налог прим при УСНО'!D10","v":991.89499999999998},{"$f":"'Налог прим при УСНО'!E10","v":1038.2619999999999},{"$f":"'Налог прим при УСНО'!F10","v":1428.336},{"$f":"'Налог прим при УСНО'!G10","v":0},144.00072588328402,137.56990046828258,0,0]
["2.5.","Плата за аренду имущества",{"$f":"'Аренда имущества'!B42","v":4609.8447999999999},{"$f":"'Аренда имущества'!C42","v":4850.4995600000002},{"$f":"'Аренда имущества'!D42","v":4844.28},{"$f":"'Аренда имущества'!F42","v":4890.4971999999998},{"$f":"'Аренда имущества'!N42","v":0},100.82460867185399,100.9540571560686,0,0]
["2.6.","Оплата услуг ОАО \"ФСК ЕЭС\"",{"$f":"'Услуги ФСК'!B17","v":0},{"$f":"'Услуги ФСК'!E17","v":0},{"$f":"'Услуги ФСК'!H17","v":0},{"$f":"'Услуги ФСК'!N17","v":0},{"$f":"'Услуги ФСК'!Q17","v":0},0,0,0,0]
["2.7.","Прочие обоснованные неподконтрольные расходы",{"$f":"'Прочие НР'!B13","v":173.1},{"$f":"'Прочие НР'!C13","v":1133.98},{"$f":"'Прочие НР'!D13","v":190.41},{"$f":"'Прочие НР'!F13","v":1698.0260000000001},{"$f":"'Прочие НР'!G13","v":0},149.74038342827916,891.77354130560377,0,0]
["2.8.","Капитальные вложения производственного характера из прибыли",{"$f":"' КВЛ'!B20","v":0},{"$f":"' КВЛ'!C20","v":0},{"$f":"' КВЛ'!D20","v":1351},{"$f":"' КВЛ'!F20","v":0},{"$f":"' КВЛ'!G20","v":0},{"$f":"IF(D38=0,IF(F38=0,0,100),F38/D38*100)","v":0},{"$f":"IF(E38=0,IF(F38=0,0,100),F38/E38*100)","v":0},0,0]
["2.9.","Расходы, связанные с компенсацией выпадающих доходов от льготного технологического присоединения",{"$f":"'Выпадающий доход'!B21","v":0},"х",{"$f":"'Выпадающий доход'!C21","v":0},{"$f":"'Выпадающий доход'!D21","v":0},{"$f":"'Выпадающий доход'!E21","v":0},"х",0,"х",0]
["2.10.","Расходы на возврат и обслуживание долгосрочных заемных средств, направляемых для финансирования капитальных вложений ",{"$f":"'Возврат заемных средств'!B11","v":0},{"$f":"'Возврат заемных средств'!C11","v":6401.4341999999997},{"$f":"'Возврат заемных средств'!D11","v":691.6182},{"$f":"'Возврат заемных средств'!F11","v":1066.9059300000001},{"$f":"'Возврат заемных средств'!G11","v":0},{"$f":"IF(D40=0,IF(F40=0,0,100),F40/D40*100)","v":16.666670259611514},154.26226926937437,{"$f":"IF(D40=0,IF(G40=0,0,100),G40/D40*100)","v":0},0]
["3.","Корректировка необходимой валовой выручки ",{"$f":"C43+C42+C44+C45+C46","v":3575.3745721627065},"x",{"$f":"E43+E42+E44+E45+E46","v":2782.2201038835146},{"$f":"F42+F43+F44+F45+F46","v":3577.6508031131316},{"$f":"G42+G43+G44+G45+G46","v":{"$error":"#DIV/0!"}},"x",128.58978332157577,"х",{"$error":"#DIV/0!"}]
["3.1.","Корректировка подконтрольных расходов",1131.0083527803545,"x",0,{"$f":"'Корр. ПР'!D18","v":765.12446154058853},{"$f":"'Корр. ПР'!E18","v":0},"x","х","х",{"$f":"IF(E42=0,IF(G42=0,0,100),G42/E42*100)","v":0}]
["3.2.","Корректировка неподконтрольных расходов",822.90204629604852,"x",156.89661865273303,{"$f":"'Корр. НР'!E19","v":2137.4018102936125},{"$f":"'Корр. НР'!G19","v":-9092.930869706388},"x",1362.2994737856197,"х",-5795.4919282436658]
["3.3.","Корректировка НВВ с учетом изменения полезного отпуска и цен на электрическую энергию ",989.9030492793147,"x",1126.813508395046,{"$f":"'Корр. ПО'!I24","v":-117.39115300450719},{"$f":"'Корр. ПО'!J40","v":{"$error":"#DIV/0!"}},"x",-10.417975302027653,"х",{"$error":"#DIV/0!"}]
["3.4.","Корректировка НВВ в связи с изменением (неисполнением) инвестиционной программы ",148.45340561426474,"x",915.18582387262325,{"$f":"'Корр. ИП'!D14","v":175.31696574386288},{"$f":"'Корр. ИП'!E14","v":0},"x",19.156433717690945,"х",0]
["3.5.","Корректировка НВВ с учетом надежности и качества оказываемых услуг ",483.10771819272372,"x",583.3241529631124,{"$f":"'Корр. КНК'!D15","v":617.19871853957443},{"$f":"'Корр. КНК'!E15","v":949.53649006088369},"x",105.80715977632494,"х",162.78024580973067]
["4.","ИТОГО необходимая валовая выручка на содержание электрических сетей",{"$f":"C41+C25+C9","v":47476.824503044183},{"$f":"D25+D9","v":59436.84075000001},50944.322108646455,{"$f":"F41+F25+F9","v":57897.637483138926},{"$error":"#DIV/0!"},{"$f":"IF(D47=0,IF(F47=0,0,100),F47/D47*100)","v":97.410354844842445},{"$f":"IF(E47=0,IF(F47=0,0,100),F47/E47*100)","v":113.64885248578531},{"$f":"IF(D47=0,IF(G47=0,0,100),G47/D47*100)","v":{"$error":"#DIV/0!"}},{"$error":"#DIV/0!"}]
[]
["Руководитель организации",null,{"$f":"'Инф-я'!$C$17","v":"Окунев Василий Михайлович"}]

{"sheet":"НВВ по данным предпр.","index":38,"n_rows":70,"n_cols":7,"rows_kept":70,"cut":false,"hidden":false,"merged":[[69,0,69,1],[69,2,69,4],[60,0,60,6],[64,0,64,6],[7,0,7,6],[15,0,15,6],[22,0,22,6],[55,0,55,6],[28,0,28,6],[30,0,30,6],[48,0,48,6],[1,0,1,6],[2,0,2,6],[4,0,5,0],[4,1,5,1],[4,2,5,2],[4,3,4,4],[4,6,5,6],[4,5,5,5]]}
[]
["Расчет необходимой валовой выручки (НВВ) на оказание услуги по передаче электрической энергии на 2018 год долгосрочного периода регулирования 2015 - 2019 годы"]
[{"$f":"'Инф-я'!C9","v":"Общество с ограниченной ответственностью \"Энергетик\""}]
[]
["№ п.п.","Наименование","Ед.изм.","2016 год",null,"2017 год утверждено","2018 год"]
[null,null,null,"Утверждено","Факт"]
[1,2,3,4,5,6,7]
["Долгосрочные параметры регулирования"]
[1,"Базовый уровень подконтрольных расходов (ПР)","тыс.руб.",30260.19,"х","х","х"]
[2,"Индекс эффективности подконтрольных расходов (Хэф)","%",{"$f":"'Подконтрольные расходы'!D10","v":0.01},{"$f":"'Подконтрольные расходы'!D10","v":0.01},{"$f":"'Подконтрольные расходы'!E10","v":0.01},{"$f":"'Подконтрольные расходы'!F10","v":0.01}]
[3,"Коэффициент эластичности подконтрольных расходов по количеству активов (К эл)","знач.",0.75,0.75,0.75,0.75]
[5,"Уровень надежности и качества оказываемых услуг","х","х","х","х","х"]
["5.1.","Показатель средней продолжительности прекращения передачи электрическолй энергии (Пп)","знач.",{"$f":"'Корр. КНК'!D22","v":0.99760000000000004},{"$f":"'Корр. КНК'!E22","v":1.3094769956744003E-3},0.98270000000000002,0.96789999999999998]
["5.2.","Показатель уровня качества осуществляемого технологического присоединения (Птпр)","знач.",{"$f":"'Корр. КНК'!D23","v":1.0096000000000001},{"$f":"'Корр. КНК'!E23","v":1},0.99450000000000005,0.97960000000000003]
["5.3.","Показатель уровня качества оказываемых услуг территориальных сетевых организаций (Птсо)","знач.",{"$f":"'Корр. КНК'!D24","v":0.89749999999999996},{"$f":"'Корр. КНК'!E24","v":0.93882222222222222},0.89749999999999996,0.89749999999999996]
["Планируемые значения параметров расчета тарифов"]
[1,"Индекс потребительских цен (ИПЦ)","%","х","х",{"$f":"'Подконтрольные расходы'!D12","v":4.4999999999999998E-2},{"$f":"'Подконтрольные расходы'!E12","v":4.9000000000000002E-2}]
[2,"Количество активов (УЕ)","усл.ед.",{"$f":"'УЕ ТП 2015-2018'!J59","v":902.22639999999978},{"$f":"'УЕ ТП 2015-2018'!L59","v":960.70299999999997},{"$f":"'УЕ ТП 2015-2018'!N59","v":904.17949999999985},{"$f":"'УЕ ТП 2015-2018'!P59","v":966.73199999999997}]
[3,"Величина неподконтрольных расходов (НР)","тыс.руб.",{"$f":"D47","v":13641.263652465665},{"$f":"E47","v":22361.948830000001},{"$f":"F47","v":16745.586983635843},{"$f":"G47","v":20000.765851759399}]
[4,"Величина мощности","МВт",{"$f":"'Баланс мощности'!C9","v":4.41},{"$f":"'Баланс мощности'!H9","v":4.41},{"$f":"'Баланс мощности'!#REF!","v":{"$error":"#REF!"}},{"$f":"'Баланс мощности'!M9","v":4.47}]
[5,"Величина полезного отпуска электрической энергии","млн.кВт.ч.",{"$f":"'Баланс энергии'!C22","v":20.9872955680767},{"$f":"'Баланс энергии'!R22","v":22.260918162925456},{"$f":"'Баланс энергии'!AG22","v":22.923806620844701},{"$f":"'Баланс энергии'!AV22","v":22.260858772682397}]
[6,"Прогнозная цена (тариф) покупки потерь электрической энергии","руб./МВт.ч.",{"$f":"D63","v":2388.6287163240245},{"$f":"E63","v":2262.4363131414452},{"$f":"F63","v":2631.9082055229637},{"$f":"G63","v":2741.2634112291025}]
["Расчетные показатели"]
[1,"Доля подконтрольных расходов на МВт.ч.","руб.МВт.ч.",{"$f":"IF(D21=0,0,D30/D21/10)","v":144.18335216302904},{"$f":"IF(E21=0,0,E30/E21/10)","v":166.54700245808618},{"$f":"IF(F21=0,0,F30/F21/10)","v":137.04754860634685},{"$f":"IF(G21=0,0,G30/G21/10)","v":154.16844955856567}]
[2,"Проверка прибыли на капитальные вложения (не более 12 % от НВВ на содержание сетей)","%","х","х","х",{"$f":"IF(G26=0,0,G44/G26)","v":0}]
[3,"НВВ для расчета КВЛ ","тыс.руб.","х","х","х",{"$f":"G60-' КВЛ'!F20/0.8-'Услуги ФСК'!N17-'Аренда имущества'!F47-'Возврат заемных средств'!F11","v":53854.731553138932}]
[4,"Индекс изменения количества активов (ИКА)","%","х","х","х",{"$f":"'Подконтрольные расходы'!E14","v":6.918150654820214E-2}]
[5,"Общий коэффициент индексации подконтрольных расходов ПР= ИПЦ*(1+(Кэл*ИКА))*(1-Хэф)","знач.","х","х","х",{"$f":"'Подконтрольные расходы'!E15","v":1.0923942647740299}]
["Подконтрольные расходы организации (ПР)"]
[null,"Итого ПР с учетом индексации:","тыс.руб.",{"$f":"' НВВ содержание'!C9","v":30260.186278415811},{"$f":"' НВВ содержание'!D9","v":37074.891920000009},{"$f":"' НВВ содержание'!E9","v":31416.515021127096},{"$f":"' НВВ содержание'!F9","v":34319.2208282664}]
["Неподконтрольные расходы организации (НР)"]
[1,"Амортизация основных средств","тыс.руб.",{"$f":"'Свод по амортизации'!B15","v":4548.3327827592784},{"$f":"'Свод по амортизации'!C15","v":4730.1819500000001},{"$f":"'Свод по амортизации'!D15","v":4681.14131188181},{"$f":"'Свод по амортизации'!F15","v":6378.2892713199053}]
[2,"Отчисления на социальные нужды","тыс.руб.",{"$f":"'Отчислен во внебюдж фонды'!D18","v":3315.8618937141241},{"$f":"'Отчислен во внебюдж фонды'!E18","v":3671.3102899999999},{"$f":"'Отчислен во внебюдж фонды'!F18","v":3542.8430697959334},{"$f":"'Отчислен во внебюдж фонды'!H18","v":3870.1814504394952}]
[3,"Расходы на оплату услуг организаций, осуществляющие регулируемые виды деятельности","тыс.руб.",{"$f":"'Расходы рег. орг-ий'!B22","v":167.54210075226354},{"$f":"'Расходы рег. орг-ий'!C22","v":238.60836},{"$f":"'Расходы рег. орг-ий'!D22","v":205.58863631247999},{"$f":"'Расходы рег. орг-ий'!F22","v":266.70999999999998}]
[4,"Налоги и сборы, в том числе:","тыс.руб.",{"$f":"SUM(D36:D40)","v":826.58207523999999},{"$f":"SUM(E36:E40)","v":1335.9344699999999},1238.70576564562,1830.1559999999999]
["4.1","Плата за землю","тыс.руб.",{"$f":"'Плата за землю'!B16","v":191.98207524},{"$f":"'Плата за землю'!C16","v":342.03946999999999},{"$f":"'Плата за землю'!D16","v":200.44376564561998},{"$f":"'Плата за землю'!F16","v":401.82000000000005}]
["4.2","Транспортный налог","тыс.руб.",{"$f":"'Транспортный налог'!D16","v":0},{"$f":"'Транспортный налог'!E16","v":0},{"$f":"'Транспортный налог'!F16","v":0},{"$f":"'Транспортный налог'!I16","v":0}]
["4.3","Налог на имущество","тыс.руб.",{"$f":"'Налог на имущество'!B15","v":0},{"$f":"'Налог на имущество'!C15","v":0},{"$f":"'Налог на имущество'!D15","v":0},{"$f":"'Налог на имущество'!F15","v":0}]
["4.4","Плата за негативное воздействие на окружающую среду","тыс.руб.",{"$f":"'Негативное воздействие на ОС'!C28","v":0},{"$f":"'Негативное воздействие на ОС'!D28","v":2},{"$f":"'Негативное воздействие на ОС'!E28","v":0},{"$f":"'Негативное воздействие на ОС'!G28","v":0}]
["4.5","Налог на прибыль","тыс.руб.",{"$f":"'Налог прим при УСНО'!C10","v":634.6},{"$f":"'Налог прим при УСНО'!D10","v":991.89499999999998},{"$f":"'Налог прим при УСНО'!E10","v":1038.2619999999999},{"$f":"'Налог прим при УСНО'!F10","v":1428.336}]
["5","Плата за аренду имущества","тыс.руб.",{"$f":"'Аренда имущества'!B42","v":4609.8447999999999},{"$f":"'Аренда имущества'!C42","v":4850.4995600000002},{"$f":"'Аренда имущества'!D42","v":4844.28},{"$f":"'Аренда имущества'!F42","v":4890.4971999999998}]
["6","Оплата услуг ОАО \"ФСК ЕЭС\"","тыс.руб.",{"$f":"'Услуги ФСК'!B17","v":0},{"$f":"'Услуги ФСК'!E17","v":0},{"$f":"'Услуги ФСК'!H17","v":0},{"$f":"'Услуги ФСК'!N17","v":0}]
["7","Прочие обоснованные неподконтрольные расходы","тыс.руб.",{"$f":"'Прочие НР'!B13","v":173.1},{"$f":"'Прочие НР'!C13","v":1133.98},{"$f":"'Прочие НР'!D13","v":190.41},{"$f":"'Прочие НР'!F13","v":1698.0260000000001}]
["8","Капитальные вложения производственного характера из прибыли","тыс.руб.",{"$f":"' КВЛ'!B20","v":0},{"$f":"' КВЛ'!C20","v":0},{"$f":"' КВЛ'!D20","v":1351},{"$f":"' КВЛ'!F20","v":0}]
["9","Расходы, связанные с компенсацией выпадающих доходов от льготного технологического присоединения","тыс.руб.",{"$f":"'Выпадающий доход'!B21","v":0},"х",{"$f":"'Выпадающий доход'!C21","v":0},{"$f":"'Выпадающий доход'!D21","v":0}]
["10",{"$f":"' НВВ содержание'!B40","v":"Расходы на возврат и обслуживание долгосрочных заемных средств, направляемых для финансирования капитальных вложений "},"тыс.руб.",{"$f":"'Возврат заемных средств'!B11","v":0},{"$f":"'Возврат заемных средств'!C11","v":6401.4341999999997},{"$f":"'Возврат заемных средств'!D11","v":691.6182},{"$f":"'Возврат заемных средств'!F11","v":1066.9059300000001}]
[null,"Итого НР:","тыс.руб.",{"$f":"SUM(D32:D35,D41:D46)","v":13641.263652465665},{"$f":"SUM(E32:E35,E41:E46)","v":22361.948830000001},16745.586983635843,{"$f":"SUM(G32:G35,G41:G46)","v":20000.765851759399}]
[]
["Корректировка необходимой валовой выручки "]
["1","Корректировка подконтрольных расходов","тыс.руб.",{"$f":"' НВВ содержание'!C42","v":1131.0083527803545},{"$f":"' НВВ содержание'!D42","v":"x"},{"$f":"' НВВ содержание'!E42","v":0},{"$f":"' НВВ содержание'!F42","v":765.12446154058853}]
["2","Корректировка неподконтрольных расходов","тыс.руб.",{"$f":"' НВВ содержание'!C43","v":822.90204629604852},{"$f":"' НВВ содержание'!D43","v":"x"},{"$f":"' НВВ содержание'!E43","v":156.89661865273303},{"$f":"' НВВ содержание'!F43","v":2137.4018102936125}]
["3","Корректировка НВВ с учетом изменения полезного отпуска и цен на электрическую энергию ","тыс.руб.",{"$f":"' НВВ содержание'!C44","v":989.9030492793147},{"$f":"' НВВ содержание'!D44","v":"x"},{"$f":"' НВВ содержание'!E44","v":1126.813508395046},{"$f":"' НВВ содержание'!F44","v":-117.39115300450719}]
["4","Корректировка НВВ в связи с изменением (неисполнением) инвестиционной программы ","тыс.руб.",{"$f":"' НВВ содержание'!C45","v":148.45340561426474},{"$f":"' НВВ содержание'!D45","v":"x"},{"$f":"' НВВ содержание'!E45","v":915.18582387262325},{"$f":"' НВВ содержание'!F45","v":175.31696574386288}]
["5","Корректировка НВВ с учетом надежности и качества оказываемых услуг ","тыс.руб.",{"$f":"' НВВ содержание'!C46","v":483.10771819272372},{"$f":"' НВВ содержание'!D46","v":"x"},{"$f":"' НВВ содержание'!E46","v":583.3241529631124},{"$f":"' НВВ содержание'!F46","v":617.19871853957443}]
[null,"Итого корректировка НВВ","тыс.руб.",{"$f":"SUM(D50:D54)","v":3575.3745721627065},"х",{"$f":"SUM(F50:F54)","v":2782.2201038835146},{"$f":"SUM(G50:G54)","v":3577.6508031131316}]
["Расходы организации на содержание сетей "]
[1,"Подконтрольные расходы","тыс.руб.",{"$f":"D30","v":30260.186278415811},{"$f":"E30","v":37074.891920000009},{"$f":"F30","v":31416.515021127096},{"$f":"G30","v":34319.2208282664}]
[2,"Неподконтрольные расходы","тыс.руб.",{"$f":"D47","v":13641.263652465665},{"$f":"E47","v":22361.948830000001},{"$f":"F47","v":16745.586983635843},{"$f":"G47","v":20000.765851759399}]
[3,"Корректировка необходимой валовой выручки ","тыс.руб.",{"$f":"D55","v":3575.3745721627065},{"$f":"E55","v":"х"},{"$f":"F55","v":2782.2201038835146},{"$f":"G55","v":3577.6508031131316}]
[null,"Итого расходы на содержание электрических сетей:","тыс.руб.",{"$f":"D57+D58+D59","v":47476.824503044183},{"$f":"E57+E58","v":59436.84075000001},{"$f":"F57+F58+F59","v":50944.322108646455},{"$f":"G57+G58+G59","v":57897.637483138933}]
["Расходы организации на компенсацию потерь"]
[1,"Величина технологического расхода (потерь) электрической энергии","млн.кВт.ч.",{"$f":"'Баланс энергии'!C19","v":3.8886044319232997},{"$f":"'Баланс энергии'!R19","v":3.670581837074542},{"$f":"'Баланс энергии'!AG19","v":3.8880933791552996},{"$f":"'Баланс энергии'!AV19","v":4.1239412273175997}]
[2,"Прогнозная цена (тариф) покупки потерь электрической энергии","руб./МВт.ч.",{"$f":"'Корр. ПО'!G24","v":2388.6287163240245},{"$f":"'Корр. ПО'!H24","v":2262.4363131414452},{"$f":"'НВВ на потери'!F11","v":2631.9082055229637},{"$f":"'НВВ на потери'!I11","v":2741.2634112291025}]
[null,"Итого расходы на компенсацию потерь:","тыс.руб.",{"$f":"D62*D63","v":9288.4322125168637},{"$f":"E62*E63","v":8304.4576385548789},{"$f":"F62*F63","v":10233.10486843834},{"$f":"G62*G63","v":11304.809196504975}]
["Необходимая валовая выручка (НВВ) организации на оказание услуги по передаче электрической энергии"]
[1,"Расходы на содержание электрических сетей","тыс.руб.",{"$f":"D60","v":47476.824503044183},{"$f":"E60","v":59436.84075000001},{"$f":"F60","v":50944.322108646455},{"$f":"G60","v":57897.637483138933}]
[2,"Расходы на компенсацию потерь","тыс.руб.",{"$f":"D64","v":9288.4322125168637},8304.4576385548789,10233.10486843834,11304.809196504975]
[null,"Необходимая валовая выручка (НВВ) организации на оказание услуги по передаче электрической энергии","тыс.руб.",{"$f":"D66+D67","v":56765.256715561045},67741.298388554889,61177.426977084797,{"$f":"G66+G67","v":69202.446679643908}]
[]
["Руководитель организации",null,{"$f":"'Инф-я'!$C$17","v":"Окунев Василий Михайлович"}]

{"sheet":"НВВ по данным экспертов","index":39,"n_rows":70,"n_cols":8,"rows_kept":70,"cut":false,"hidden":false,"merged":[[4,7,5,7],[30,0,30,6],[48,0,48,6],[22,0,22,6],[28,0,28,6],[7,0,7,6],[15,0,15,6],[64,0,64,6],[55,0,55,6],[60,0,60,6],[69,1,69,2],[69,3,69,5],[1,0,1,6],[2,0,2,6],[4,0,5,0],[4,1,5,1],[4,2,5,2],[4,6,5,6],[4,3,4,4],[4,5,5,5]]}
[]
["Экспертиза необходимой валовой выручки (НВВ) на оказание услуги по передаче электрической энергии на 2018-2019 годы долгосрочного периода регулирования 2015 - 2019 годы"]
[{"$f":"'Инф-я'!C9","v":"Общество с ограниченной ответственностью \"Энергетик\""}]
[]
["№ п.п.","Наименование","Ед.изм.","2016 год",null,"2017 год утверждено","2018 год","2019 год"]
[null,null,null,"Утверждено","Факт"]
[1,2,3,4,5,6,7,8]
["Долгосрочные параметры регулирования"]
[1,"Базовый уровень подконтрольных расходов (ПР)","тыс.руб.",null,"х","х","х","х"]
[2,"Индекс эффективности подконтрольных расходов (Хэф)","%",{"$f":"'Подконтрольные расходы'!D10","v":0.01},{"$f":"'Подконтрольные расходы'!D10","v":0.01},{"$f":"'Подконтрольные расходы'!E10","v":0.01},{"$f":"'Подконтрольные расходы'!F10","v":0.01},{"$f":"'Подконтрольные расходы'!G10","v":0.01}]
[3,"Коэффициент эластичности подконтрольных расходов по количеству активов (К эл)","знач.",0.75,0.75,{"$f":"'Подконтрольные расходы'!E11","v":0.75},{"$f":"'Подконтрольные расходы'!F11","v":0.75},{"$f":"'Подконтрольные расходы'!G11","v":0.75}]
[5,"Уровень надежности и качества оказываемых услуг","х","х","х","х","х","х"]
["5.1.","Показатель средней продолжительности прекращения передачи электрическолй энергии (Пп)","знач.",{"$f":"'Корр. КНК'!D22","v":0.99760000000000004},{"$f":"'Корр. КНК'!G22","v":0}]
["5.2.","Показатель уровня качества осуществляемого технологического присоединения (Птпр)","знач.",{"$f":"'Корр. КНК'!D23","v":1.0096000000000001},{"$f":"'Корр. КНК'!G23","v":0}]
["5.3.","Показатель уровня качества оказываемых услуг территориальных сетевых организаций (Птсо)","знач.",{"$f":"'Корр. КНК'!D24","v":0.89749999999999996},{"$f":"'Корр. КНК'!G24","v":0}]
["Планируемые значения параметров расчета тарифов"]
[1,"Индекс потребительских цен (ИПЦ)","%","х",{"$f":"'НВВ по данным предпр.'!E17","v":"х"},{"$f":"'НВВ по данным предпр.'!F17","v":4.4999999999999998E-2},{"$f":"'Подконтрольные расходы'!F12","v":0},{"$f":"'Подконтрольные расходы'!G12","v":0}]
[2,"Количество активов (УЕ)","усл.ед.",{"$f":"'УЕ ТП 2015-2018'!J59","v":902.22639999999978},{"$f":"'УЕ ТП 2015-2018'!L59","v":960.70299999999997},{"$f":"'УЕ ТП 2015-2018'!N59","v":904.17949999999985},{"$f":"'УЕ ТП 2015-2018'!R59","v":0},{"$f":"G18","v":0}]
[3,"Величина неподконтрольных расходов (НР)","тыс.руб.",{"$f":"D47","v":13641.263652465665},22361.948830000001,16745.586983635843,{"$f":"G47","v":3845.8511776038085},{"$f":"H47","v":865.39401259702026}]
[4,"Величина мощности","МВт",{"$f":"'НВВ по данным предпр.'!D20","v":4.41},{"$f":"'НВВ по данным предпр.'!E20","v":4.41},{"$f":"'НВВ по данным предпр.'!F20","v":{"$error":"#REF!"}},{"$f":"'Баланс мощности'!R9","v":0},{"$f":"G20","v":0}]
[5,"Величина полезного отпуска электрической энергии","млн.кВт.ч.",{"$f":"'НВВ по данным предпр.'!D21","v":20.9872955680767},{"$f":"'НВВ по данным предпр.'!E21","v":22.260918162925456},{"$f":"'НВВ по данным предпр.'!F21","v":22.923806620844701},{"$f":"'Баланс энергии'!BK22","v":0},{"$f":"G21","v":0}]
[6,"Прогнозная цена (тариф) покупки потерь электрической энергии","руб./МВт.ч.",{"$f":"'НВВ по данным предпр.'!D22","v":2388.6287163240245},{"$f":"'НВВ по данным предпр.'!E22","v":2262.4363131414452},{"$f":"'НВВ по данным предпр.'!F22","v":2631.9082055229637},{"$f":"'НВВ на потери'!L11","v":0},{"$f":"'НВВ на потери'!O11","v":0}]
["Расчетные показатели"]
[1,"Доля подконтрольных расходов на МВт.ч.","руб.МВт.ч.",{"$f":"IF(D21=0,0,D30/D21/10)","v":144.18335216302904},{"$f":"IF(E21=0,0,E30/E21/10)","v":166.54700245808618},{"$f":"IF(F21=0,0,F30/F21/10)","v":137.04754860634685},{"$f":"IF(G21=0,0,G30/G21/10)","v":0},{"$f":"IF(H21=0,0,H30/H21/10)","v":0}]
[2,"Проверка прибыли на капитальные вложения (не более 12 % от НВВ на содержание сетей)","%","х","х","х",{"$f":"IF(G26=0,0,(G44+'Возврат заемных средств'!G9)/G26)","v":{"$error":"#DIV/0!"}},{"$f":"IF(H26=0,0,(H44+'Возврат заемных средств'!H9)/H26)","v":0}]
[3,"НВВ для расчета КВЛ ","тыс.руб.","х","х","х",{"$f":"G60-G44/0.8-G42-'Аренда имущества'!N47-'Возврат заемных средств'!G9","v":{"$error":"#DIV/0!"}},{"$f":"H60-H44/0.8-H42-'Аренда имущества'!V47-'Возврат заемных средств'!H9","v":8563.2256056486876}]
[4,"Индекс изменения количества активов (ИКА)","%","х","х","х",{"$f":"'Подконтрольные расходы'!F14","v":-1},{"$f":"'Подконтрольные расходы'!G14","v":0}]
[5,"Общий коэффициент индексации подконтрольных расходов ПР= ИПЦ*(1+(Кэл*ИКА))*(1-Хэф)","знач.","х","х","х",{"$f":"'Подконтрольные расходы'!F15","v":0.2475},{"$f":"'Подконтрольные расходы'!G15","v":0.99}]
["Подконтрольные расходы организации (ПР)"]
[null,"Итого ПР с учетом индексации:","тыс.руб.",{"$f":"' НВВ содержание'!C9","v":30260.186278415811},{"$f":"' НВВ содержание'!D9","v":37074.891920000009},{"$f":"' НВВ содержание'!E9","v":31416.515021127096},{"$f":"' НВВ содержание'!G9","v":7775.5874677289557},{"$f":"'Подконтрольные расходы'!G32","v":7697.8315930516665}]
["Неподконтрольные расходы организации (НР)"]
[1,"Амортизация основных средств","тыс.руб.",{"$f":"'Свод по амортизации'!B15","v":4548.3327827592784},{"$f":"'Свод по амортизации'!C15","v":4730.1819500000001},{"$f":"'Свод по амортизации'!D15","v":4681.14131188181},{"$f":"'Свод по амортизации'!G15","v":0},{"$f":"'Свод по амортизации'!H15","v":0}]
[2,"Отчисления на социальные нужды","тыс.руб.",{"$f":"'Отчислен во внебюдж фонды'!D18","v":3315.8618937141241},{"$f":"'Отчислен во внебюдж фонды'!E18","v":3671.3102899999999},{"$f":"'Отчислен во внебюдж фонды'!F18","v":3542.8430697959334},{"$f":"'Отчислен во внебюдж фонды'!I18","v":3845.8511776038085},{"$f":"'Отчислен во внебюдж фонды'!J18","v":865.39401259702026}]
[3,"Расходы на оплату услуг организаций, осуществляющие регулируемые виды деятельности","тыс.руб.",{"$f":"'Расходы рег. орг-ий'!B22","v":167.54210075226354},{"$f":"'Расходы рег. орг-ий'!C22","v":238.60836},{"$f":"'Расходы рег. орг-ий'!D22","v":205.58863631247999},{"$f":"'Расходы рег. орг-ий'!G22","v":0},{"$f":"'Расходы рег. орг-ий'!H22","v":0}]
[4,"Налоги и сборы, в том числе:","тыс.руб.",{"$f":"SUM(D36:D40)","v":826.58207523999999},1335.9344699999999,1238.70576564562,0,{"$f":"SUM(H36:H40)","v":0}]
["4.1","Плата за землю","тыс.руб.",{"$f":"'Плата за землю'!B16","v":191.98207524},{"$f":"'Плата за землю'!C16","v":342.03946999999999},{"$f":"'Плата за землю'!D16","v":200.44376564561998},{"$f":"'Плата за землю'!G16","v":0},{"$f":"'Плата за землю'!H16","v":0}]
["4.2","Транспортный налог","тыс.руб.",{"$f":"'Транспортный налог'!D16","v":0},{"$f":"'Транспортный налог'!E16","v":0},{"$f":"'Транспортный налог'!F16","v":0},{"$f":"'Транспортный налог'!K16","v":0},{"$f":"'Транспортный налог'!L16","v":0}]
["4.3","Налог на имущество","тыс.руб.",{"$f":"'Налог на имущество'!B15","v":0},{"$f":"'Налог на имущество'!C15","v":0},{"$f":"'Налог на имущество'!D15","v":0},{"$f":"'Налог на имущество'!G15","v":0},{"$f":"'Налог на имущество'!H15","v":0}]
["4.4","Плата за негативное воздействие на окружающую среду","тыс.руб.",{"$f":"'Негативное воздействие на ОС'!C28","v":0},{"$f":"'Негативное воздействие на ОС'!D28","v":2},{"$f":"'Негативное воздействие на ОС'!E28","v":0},{"$f":"'Негативное воздействие на ОС'!H28","v":0},{"$f":"'Негативное воздействие на ОС'!I28","v":0}]
["4.5","Налог на прибыль","тыс.руб.",{"$f":"'Налог прим при УСНО'!C10","v":634.6},{"$f":"'Налог прим при УСНО'!D10","v":991.89499999999998},{"$f":"'Налог прим при УСНО'!E10","v":1038.2619999999999},{"$f":"'Налог прим при УСНО'!G10","v":0},{"$f":"'Налог прим при УСНО'!H10","v":0}]
["5","Плата за аренду имущества","тыс.руб.",{"$f":"'Аренда имущества'!B42","v":4609.8447999999999},{"$f":"'Аренда имущества'!C42","v":4850.4995600000002},{"$f":"'Аренда имущества'!D42","v":4844.28},{"$f":"'Аренда имущества'!N42","v":0},{"$f":"'Аренда имущества'!V42","v":0}]
["6","Оплата услуг ОАО \"ФСК ЕЭС\"","тыс.руб.",{"$f":"'Услуги ФСК'!B17","v":0},{"$f":"'Услуги ФСК'!E17","v":0},{"$f":"'Услуги ФСК'!H17","v":0},{"$f":"'Услуги ФСК'!Q17","v":0},{"$f":"'Услуги ФСК'!T17","v":0}]
["7","Прочие обоснованные неподконтрольные расходы","тыс.руб.",{"$f":"'Прочие НР'!B13","v":173.1},{"$f":"'Прочие НР'!C13","v":1133.98},{"$f":"'Прочие НР'!D13","v":190.41},{"$f":"'Прочие НР'!G13","v":0},{"$f":"'Прочие НР'!H13","v":0}]
["8","Капитальные вложения производственного характера из прибыли","тыс.руб.",{"$f":"' КВЛ'!B20","v":0},{"$f":"' КВЛ'!C20","v":0},{"$f":"' КВЛ'!D20","v":1351},{"$f":"' НВВ содержание'!G38","v":0},{"$f":"' КВЛ'!H20","v":0}]
["9","Расходы, связанные с компенсацией выпадающих доходов от льготного технологического присоединения","тыс.руб.",{"$f":"'Выпадающий доход'!B21","v":0},"х",{"$f":"'Выпадающий доход'!C21","v":0},{"$f":"'Выпадающий доход'!E21","v":0},"x"]
["10",{"$f":"'НВВ по данным предпр.'!B46","v":"Расходы на возврат и обслуживание долгосрочных заемных средств, направляемых для финансирования капитальных вложений "},"тыс.руб.",{"$f":"'Возврат заемных средств'!B11","v":0},{"$f":"'Возврат заемных средств'!C11","v":6401.4341999999997},{"$f":"'Возврат заемных средств'!D11","v":691.6182},{"$f":"'Возврат заемных средств'!G11","v":0},{"$f":"'Возврат заемных средств'!H11","v":0}]
[null,"Итого НР:","тыс.руб.",{"$f":"SUM(D32:D35,D41:D46)","v":13641.263652465665},22361.948830000001,16745.586983635843,3845.8511776038085,{"$f":"SUM(H32:H35,H41:H46)","v":865.39401259702026}]
[]
["Корректировка необходимой валовой выручки "]
["1","Корректировка подконтрольных расходов","тыс.руб.",{"$f":"' НВВ содержание'!C42","v":1131.0083527803545},{"$f":"' НВВ содержание'!D42","v":"x"},{"$f":"' НВВ содержание'!E42","v":0},{"$f":"' НВВ содержание'!G42","v":0},"x"]
["2","Корректировка неподконтрольных расходов","тыс.руб.",{"$f":"' НВВ содержание'!C43","v":822.90204629604852},{"$f":"' НВВ содержание'!D43","v":"x"},{"$f":"' НВВ содержание'!E43","v":156.89661865273303},{"$f":"' НВВ содержание'!G43","v":-9092.930869706388},"x"]
["3","Корректировка НВВ с учетом изменения полезного отпуска и цен на электрическую энергию ","тыс.руб.",{"$f":"' НВВ содержание'!C44","v":989.9030492793147},{"$f":"' НВВ содержание'!D44","v":"x"},{"$f":"' НВВ содержание'!E44","v":1126.813508395046},{"$f":"' НВВ содержание'!G44","v":{"$error":"#DIV/0!"}},"x"]
["4","Корректировка НВВ в связи с изменением (неисполнением) инвестиционной программы ","тыс.руб.",{"$f":"' НВВ содержание'!C45","v":148.45340561426474},{"$f":"' НВВ содержание'!D45","v":"x"},{"$f":"' НВВ содержание'!E45","v":915.18582387262325},{"$f":"' НВВ содержание'!G45","v":0},"x"]
["5","Корректировка НВВ с учетом надежности и качества оказываемых услуг ","тыс.руб.",{"$f":"' НВВ содержание'!C46","v":483.10771819272372},{"$f":"' НВВ содержание'!D46","v":"x"},{"$f":"' НВВ содержание'!E46","v":583.3241529631124},{"$f":"' НВВ содержание'!G46","v":949.53649006088369},"x"]
[null,"Итого корректировка НВВ","тыс.руб.",{"$f":"SUM(D50:D54)","v":3575.3745721627065},"х",{"$f":"SUM(F50:F54)","v":2782.2201038835146},{"$f":"SUM(G50:G54)","v":{"$error":"#DIV/0!"}},"х"]
["Расходы организации на содержание сетей на долгосрочный период регулирования"]
[1,"Подконтрольные расходы","тыс.руб.",{"$f":"D30","v":30260.186278415811},{"$f":"E30","v":37074.891920000009},{"$f":"F30","v":31416.515021127096},{"$f":"G30","v":7775.5874677289557},{"$f":"H30","v":7697.8315930516665}]
[2,"Неподконтрольные расходы","тыс.руб.",{"$f":"D47","v":13641.263652465665},{"$f":"E47","v":22361.948830000001},{"$f":"F47","v":16745.586983635843},{"$f":"G47","v":3845.8511776038085},{"$f":"H47","v":865.39401259702026}]
[3,"Корректировка необходимой валовой выручки ","тыс.руб.",{"$f":"D55","v":3575.3745721627065},{"$f":"E55","v":"х"},2782.2201038835146,{"$error":"#DIV/0!"},{"$f":"H55","v":"х"}]
[null,"Итого расходы на содержание электрических сетей:","тыс.руб.",{"$f":"D57+D58+D59","v":47476.824503044183},{"$f":"E57+E58","v":59436.84075000001},{"$f":"F57+F58+F59","v":50944.322108646455},{"$error":"#DIV/0!"},{"$f":"SUM(H57:H59)","v":8563.2256056486876}]
["Расходы организации на компенсацию потерь на долгосрочный период регулирования"]
[1,"Величина технологического расхода (потерь) электрической энергии","млн.кВт.ч.",{"$f":"'Баланс энергии'!C19","v":3.8886044319232997},{"$f":"'Баланс энергии'!R19","v":3.670581837074542},{"$f":"'Баланс энергии'!AG19","v":3.8880933791552996},{"$f":"'Баланс энергии'!BK19","v":0},{"$f":"G62","v":0}]
[2,"Прогнозная цена (тариф) покупки потерь электрической энергии","руб./МВт.ч.",{"$f":"'Корр. ПО'!G40","v":0},{"$f":"'Корр. ПО'!H40","v":0},{"$f":"'НВВ на потери'!F11","v":2631.9082055229637},{"$f":"'НВВ на потери'!L11","v":0},{"$f":"'НВВ на потери'!O11","v":0}]
[null,"Итого расходы на компенсацию потерь:","тыс.руб.",{"$f":"D62*D63","v":0},{"$f":"E62*E63","v":0},{"$f":"F62*F63","v":10233.10486843834},{"$f":"G62*G63","v":0},{"$f":"H62*H63","v":0}]
["Необходимая валовая выручка (НВВ) организации на оказание услуги по передаче электрической энергии"]
[1,"Расходы на содержание электрических сетей","тыс.руб.",{"$f":"D60","v":47476.824503044183},{"$f":"E60","v":59436.84075000001},{"$f":"F60","v":50944.322108646455},{"$f":"G60","v":{"$error":"#DIV/0!"}},{"$f":"H60","v":8563.2256056486876}]
[2,"Расходы на компенсацию потерь","тыс.руб.",{"$f":"D64","v":0},0,10233.10486843834,0,{"$f":"H64","v":0}]
[null,"Необходимая валовая выручка (НВВ) организации на оказание услуги по передаче электрической энергии","тыс.руб.",{"$f":"D66+D67","v":47476.824503044183},59436.84075000001,61177.426977084797,{"$error":"#DIV/0!"},{"$f":"H66+H67","v":8563.2256056486876}]
[]
[null,"Руководитель организации",null,{"$f":"'Инф-я'!$C$17","v":"Окунев Василий Михайлович"}]

{"sheet":"НВВ на потери","index":40,"n_rows":24,"n_cols":15,"rows_kept":24,"cut":false,"hidden":false,"merged":[[3,0,3,10],[5,0,7,0],[5,1,7,1],[5,2,7,2],[5,6,5,11],[6,6,6,8],[5,3,6,5],[23,7,23,8],[20,4,20,5],[21,4,21,5],[22,4,22,5],[23,4,23,5],[20,7,20,8],[21,7,21,8],[22,7,22,8],[5,12,5,14],[6,9,6,14],[13,0,13,1],[13,2,13,4],[18,6,18,8],[17,0,19,0],[17,1,19,1],[17,2,19,2],[17,6,17,10],[19,7,19,8],[19,4,19,5],[17,3,18,5]]}
[]
[]
["Расходы организации на компенсацию потерь на 2018 год долгосрочного периода регулирования 2015 - 2019 годы"]
[{"$f":"'Инф-я'!C9","v":"Общество с ограниченной ответственностью \"Энергетик\""}]
[]
["№ п/п","Показатели","Ед.измер.","2017 год утверждено",null,null,"2018 год",null,null,null,null,null,"2019 год"]
[null,null,null,null,null,null,"По данным организации ",null,null,"По данным экспертов"]
[null,null,null,"1-е полугодие","2-е полугодие","Год","1-е полугодие","2-е полугодие","Год","1-е полугодие","2-е полугодие","Год","1-е полугодие","2-е полугодие","Год"]
[1,2,3,4,5,6,7,8,9,7,8,9,10,11,12]
[1,"Величина технологического расхода (потерь) электрической энергии","млн.кВт.ч.",{"$f":"'Баланс энергии'!W19","v":2.1206978045767002},{"$f":"'Баланс энергии'!AB19","v":1.7673955745785999},{"$f":"D10+E10","v":3.8880933791553001},{"$f":"'Баланс энергии'!AL19","v":2.0678290219213},{"$f":"'Баланс энергии'!AQ19","v":2.0561122053962997},{"$f":"'Баланс энергии'!AV19","v":4.1239412273175997},{"$f":"'Баланс энергии'!BA19","v":0},{"$f":"'Баланс энергии'!BF19","v":0},{"$f":"'Баланс энергии'!BK19","v":0},{"$f":"J10","v":0},0,0]
[2,"Прогнозная цена (тариф) покупки потерь электрической энергии","руб./МВт.ч.",2591.42,2680.49,{"$f":"IF(F10=0,0,F12/F10)","v":2631.9082055229637},2695.08,2787.71,{"$f":"IF(I10=0,0,I12/I10)","v":2741.2634112291025},null,null,{"$f":"IF(L10=0,0,L12/L10)","v":0},null,null,{"$f":"IF(O10=0,0,O12/O10)","v":0}]
[null,"Итого расходы на компенсацию потерь:","тыс.руб.",{"$f":"D10*D11","v":5495.6187047361527},{"$f":"E10*E11","v":4737.4861637021904},{"$f":"D12+E12","v":10233.104868438342},{"$f":"G10*G11","v":5572.9646403996567},{"$f":"H10*H11","v":5731.8445561053186},{"$f":"G12+H12","v":11304.809196504975},{"$f":"J10*J11","v":0},{"$f":"K10*K11","v":0},{"$f":"J12+K12","v":0},{"$f":"M10*M11","v":0},{"$f":"N10*N11","v":0},{"$f":"M12+N12","v":0}]
[]
["Руководитель организации",null,{"$f":"'Инф-я'!$C$17","v":"Окунев Василий Михайлович"}]
[]
["Справочная информация: расшифровка прогнозной цены покупки потерь электрической энергии у энергосбытовой организации"]
[]
[null,"Наименование энергосбытовой организации - Гарантирующего поставщика ","Ед.изм.","Цена (тариф) покупки потерь электрической энергии, учтенная при расчете тарифа на компенсацию потерь на 2017 год",null,null,"Цена (тариф) покупки потерь электрической энергии, учтенная при расчете тарифа на компенсацию потерь на 2018 год"]
[null,null,null,null,null,null,"По данным организации ",null,null,"По данным экспертов"]
[null,null,null,"с 01.01.2017 г.","с 01.07.2017 г.",null,"с 01.01.2018 г.","с 01.07.2018 г.",null,"с 01.01.2018 г.","с 01.07.2018 г."]
[1,"ОАО \"Владимирэнергосбыт\"","руб./МВт.ч."]
[2,"ОАО \"Владимирские коммунальные системы\"","руб./МВт.ч."]
[3,"ООО \"Русэнергосбыт\"","руб./МВт.ч."]
[4,"ОАО \"Оборонэнергосбыт\"","руб./МВт.ч."]

{"sheet":"НВВ для шаблона ЕИАС","index":41,"n_rows":8,"n_cols":65,"rows_kept":8,"cut":false,"hidden":true,"merged":[[2,36,3,36],[2,37,3,37],[1,33,1,50],[2,50,3,50],[2,42,3,42],[2,43,3,43],[2,44,3,44],[2,45,3,45],[2,46,3,46],[2,47,3,47],[2,38,3,38],[2,39,3,39],[2,40,3,40],[2,41,3,41],[2,48,3,48],[2,49,3,49],[2,35,3,35],[2,24,3,24],[2,17,3,17],[2,18,3,18],[2,33,3,33],[2,34,3,34],[2,25,3,25],[2,26,3,26],[2,27,3,27],[2,28,3,28],[2,31,3,31],[2,32,3,32],[2,29,3,29],[2,30,3,30],[1,62,2,63],[1,64,3,64],[1,51,3,51],[1,52,3,52],[1,53,2,54],[1,55,3,55],[1,56,3,56],[1,57,3,57],[1,58,3,58],[1,59,3,59],[1,60,3,60],[1,61,3,61],[1,12,1,32],[2,2,3,2],[2,3,3,3],[2,4,3,4],[2,5,3,5],[2,11,3,11],[2,21,3,21],[2,22,3,22],[2,19,3,19],[2,20,3,20],[2,13,3,13],[2,14,3,14],[2,23,3,23],[2,12,3,12],[2,15,3,15],[2,16,3,16],[0,0,0,1],[1,0,4,0],[1,1,4,1],[1,2,1,11],[2,6,3,6],[2,7,3,7],[2,8,3,8],[2,9,3,9],[2,10,3,10]]}
["Расчет НВВ методом индексации"]
["Наименование организации","Период","Расчет коэффициента индексации",null,null,null,null,null,null,null,null,null,"Расчет подконтрольных расходов",null,null,null,null,null,null,null,null,null,null,null,null,null,null,null,null,null,null,null,null,"Расчет неподконтрольных расходов",null,null,null,null,null,null,null,null,null,null,null,null,null,null,null,null,null,"Расходы, связанные с компенсацией незапланированных расходов или полученного избытка","Итого НВВ на содержание сетей","в том числе",null,"Доля стороннего отпуска в сеть от организаций, занимающихся несколькими видами деятельности (без собственных нужд)","Отношение НВВ на содержание сетей текущего года к предыдущему года","Поступление в сеть электроэнергии","Объем технологического расхода (потерь)","Тариф на покупку потерь ","Норматив техноло-гического расхода (потерь) электро-энергии ","Итого расходов на оплату потерь","в том числе",null,"Прирост расходов на оплату потерь текущего года к предыдущему году"]
[null,null,"Инфляция","Индекс эффективности операционных расходов","Количество активов, всего","ВН","СН1","СН2","НН","Индекс изменения количества активов","Коэффициент эластичности затрат по росту активов","Итого коэффициент индексации","Материальные затраты","Сырье, материалы, запасные части, инструмент, топливо","Работы и услуги производственного характера (в т.ч. услуги сторонних организаций по содержанию сетей и распределительных устройств)","Расходы на оплату труда","Прочие расходы, всего, в том числе:","Ремонт основных фондов","Оплата работ и услуг сторонних организаций","услуги связи","Расходы на услуги вневедомственной охраны и коммунального хозяйства","Расходы на юридические и информационные услуги","Расходы на аудиторские и консультационные услуги","Транспортные услуги","Прочие услуги сторонних организаций","Расходы на командировки и представительские","Расходы на подготовку кадров","Расходы на обеспечение нормальных условий труда и мер по технике безопасности","Расходы на страхование","Другие прочие расходы","Электроэнергия на хоз. нужды","Подконтрольные расходы из прибыли","ИТОГО подконтрольные расходы","Оплата услуг ОАО \"ФСК ЕЭС\"","Теплоэнергия","Аренда, всего","в том числе аренда объектов электро-\nсетевого комплекса","Налоги (без учета налога на прибыль), всего, в том числе:","плата за землю","Налог на имущество","Прочие налоги и сборы","Отчисления на социальные нужды (ЕСН)","Прочие неподконтрольные расходы","Налог на прибыль, в том числе:","налог на прибыль на капитальные вложения ","Выпадающие доходы по п.87 Основ ценообразования","Амортизация ОС","Прибыль на капитальные вложения","Возврат заемных средств, направляемый на финансирование капитальных вложений","Проверка прибыли на капитальные вложения (не более 12% от НВВ на содержание сетей)","ИТОГО неподконтрольных расходов"]
[null,null,null,null,null,null,null,null,null,null,null,null,null,null,null,null,null,null,null,null,null,null,null,null,null,null,null,null,null,null,null,null,null,null,null,null,null,null,null,null,null,null,null,null,null,null,null,null,null,null,null,null,null,"НВВ на 1 полугодие","НВВ на 2 полугодие",null,null,null,null,null,null,null,"расходы на 1 полугодие","расходы на 2 полугодие"]
[null,null,"%","%","у.е.","у.е.","у.е.","у.е.","у.е.","%",null,null,"тыс.руб","тыс.руб","тыс.руб","тыс.руб","тыс.руб","тыс.руб","тыс.руб","тыс.руб","тыс.руб","тыс.руб","тыс.руб","тыс.руб","тыс.руб","тыс.руб","тыс.руб","тыс.руб","тыс.руб","тыс.руб","тыс.руб","тыс.руб","тыс.руб","тыс.руб","тыс.руб","тыс.руб","тыс.руб","тыс.руб","тыс.руб","тыс.руб","тыс.руб","тыс.руб","тыс.руб","тыс.руб","тыс.руб","тыс.руб","тыс.руб","тыс.руб","тыс.руб","%","тыс.руб","тыс.руб","тыс.руб","тыс.руб","тыс.руб","%","%","млн.кВтч","млн.кВтч","руб./МВтч","%","тыс.руб","тыс.руб","тыс.руб","%"]
[1,2,3,4,5,6,7,8,9,10,11,12,13,14,15,16,17,18,19,20,21,22,23,24,25,26,27,28,29,30,31,32,33,34,35,36,37,38,39,40,41,42,43,44,45,46,47,48,49,50,51,52,53,54,55,56,57,58,59,60,61,62,63,64,65]
[null,2015,{"$f":"'Подконтрольные расходы'!#REF!","v":{"$error":"#REF!"}},{"$f":"'Подконтрольные расходы'!F10","v":0.01},{"$f":"'Подконтрольные расходы'!#REF!","v":{"$error":"#REF!"}},{"$f":"'УЕ ВЛЭП 2015-2018'!N48+'УЕ ТП 2015-2018'!N50","v":0},{"$f":"'УЕ ВЛЭП 2015-2018'!N49+'УЕ ТП 2015-2018'!N51","v":0},{"$f":"'УЕ ВЛЭП 2015-2018'!N50+'УЕ ТП 2015-2018'!N52","v":574.77799999999991},{"$f":"'УЕ ВЛЭП 2015-2018'!N51+'УЕ ТП 2015-2018'!N53","v":329.40149999999994},null,null,null,{"$f":"SUM(N7:O7)","v":{"$error":"#REF!"}},{"$f":"'Подконтрольные расходы'!#REF!","v":{"$error":"#REF!"}},{"$f":"'Подконтрольные расходы'!#REF!","v":{"$error":"#REF!"}},{"$f":"'Подконтрольные расходы'!#REF!","v":{"$error":"#REF!"}},{"$f":"R7+S7+Z7+AA7+AB7+AC7+AD7+AE7+AF7","v":{"$error":"#REF!"}},{"$f":"'Подконтрольные расходы'!#REF!","v":{"$error":"#REF!"}},{"$f":"SUM(T7:Y7)","v":{"$error":"#REF!"}},null,null,null,null,null,{"$f":"'Подконтрольные расходы'!#REF!","v":{"$error":"#REF!"}},{"$f":"'Подконтрольные расходы'!#REF!","v":{"$error":"#REF!"}},{"$f":"'Подконтрольные расходы'!#REF!","v":{"$error":"#REF!"}},{"$f":"'Подконтрольные расходы'!#REF!","v":{"$error":"#REF!"}},{"$f":"'Подконтрольные расходы'!#REF!","v":{"$error":"#REF!"}},null,null,{"$f":"'Подконтрольные расходы'!#REF!","v":{"$error":"#REF!"}},{"$f":"M7+P7+Q7","v":{"$error":"#REF!"}},{"$f":"' НВВ содержание'!E36","v":0},{"$f":"' НВВ содержание'!E28","v":205.58863631247999},{"$f":"' НВВ содержание'!E35","v":4844.28},null,{"$f":"SUM(AM7:AO7)","v":200.44376564561998},{"$f":"' НВВ содержание'!E30","v":200.44376564561998},{"$f":"' НВВ содержание'!E32","v":0},{"$f":"' НВВ содержание'!E33+' НВВ содержание'!E31","v":0},{"$f":"' НВВ содержание'!E27","v":3542.8430697959334},{"$f":"' НВВ содержание'!E37","v":190.41},{"$f":"' НВВ содержание'!E34","v":1038.2619999999999},null,{"$f":"' НВВ содержание'!E39","v":0},{"$f":"' НВВ содержание'!E26","v":4681.14131188181},{"$f":"' НВВ содержание'!E38","v":1351},{"$f":"' НВВ содержание'!E40","v":691.6182},{"$f":"((AV7+AW7)/(BA7-AH7-AS7-AV7-AW7-AK7))","v":{"$error":"#REF!"}},{"$f":"AH7+AI7+AJ7+AL7+AQ7+AR7+AT7+AP7+AU7+AV7+AW7","v":16745.586983635843},null,{"$f":"SUM(AY7,AZ7,AG7)","v":{"$error":"#REF!"}},null,{"$f":"BA7-BB7","v":{"$error":"#REF!"}},null,null,null,null,null,{"$f":"IF(BF7=0,0,BG7/BF7)","v":0},{"$f":"BG7*BH7","v":0},null,{"$f":"BJ7-BK7","v":0}]
[null,2016,{"$f":"'Подконтрольные расходы'!E12","v":4.9000000000000002E-2},{"$f":"D7","v":0.01},{"$f":"'Подконтрольные расходы'!E13","v":966.73199999999997},{"$f":"'УЕ ВЛЭП 2015-2018'!P48+'УЕ ТП 2015-2018'!P50","v":0},{"$f":"'УЕ ВЛЭП 2015-2018'!P49+'УЕ ТП 2015-2018'!P51","v":0},{"$f":"'УЕ ВЛЭП 2015-2018'!P50+'УЕ ТП 2015-2018'!P52","v":639.32499999999993},{"$f":"'УЕ ВЛЭП 2015-2018'!P51+'УЕ ТП 2015-2018'!P53","v":327.40700000000004},{"$f":"IF(E7=0,0,(E8-E7)/E7*K8)","v":{"$error":"#REF!"}},{"$f":"'Подконтрольные расходы'!#REF!","v":{"$error":"#REF!"}},{"$f":"(1+C8)*(1-D8)*(1+J8)","v":{"$error":"#REF!"}},{"$f":"SUM(N8:O8)","v":{"$error":"#REF!"}},{"$f":"N7*$L8","v":{"$error":"#REF!"}},{"$f":"O7*$L8","v":{"$error":"#REF!"}},{"$error":"#REF!"},{"$f":"R8+S8+Z8+AA8+AB8+AC8+AD8+AE8+AF8","v":{"$error":"#REF!"}},{"$f":"R7*$L8","v":{"$error":"#REF!"}},{"$f":"SUM(T8:Y8)","v":{"$error":"#REF!"}},{"$f":"T7*$L8","v":{"$error":"#REF!"}},{"$error":"#REF!"},{"$error":"#REF!"},{"$error":"#REF!"},{"$error":"#REF!"},{"$error":"#REF!"},{"$error":"#REF!"},{"$error":"#REF!"},{"$error":"#REF!"},{"$error":"#REF!"},{"$error":"#REF!"},{"$error":"#REF!"},{"$error":"#REF!"},{"$f":"M8+P8+Q8","v":{"$error":"#REF!"}},{"$f":"' НВВ содержание'!F36","v":0},{"$f":"' НВВ содержание'!F28","v":266.70999999999998},{"$f":"' НВВ содержание'!F35","v":4890.4971999999998},null,{"$f":"SUM(AM8:AO8)","v":401.82000000000005},{"$f":"' НВВ содержание'!F30","v":401.82000000000005},{"$f":"' НВВ содержание'!F32","v":0},{"$f":"' НВВ содержание'!F31+' НВВ содержание'!F33","v":0},{"$f":"' НВВ содержание'!F27","v":3870.1814504394952},{"$f":"' НВВ содержание'!F37","v":1698.0260000000001},{"$f":"' НВВ содержание'!F34","v":1428.336},null,{"$f":"' НВВ содержание'!F39","v":0},{"$f":"' НВВ содержание'!F26","v":6378.2892713199053},{"$f":"' НВВ содержание'!F38","v":0},{"$f":"' НВВ содержание'!F40","v":1066.9059300000001},{"$f":"((AV8+AW8)/(BA8-AH8-AS8-AV8-AW8-AK8))","v":{"$error":"#REF!"}},{"$f":"AH8+AI8+AJ8+AL8+AQ8+AR8+AT8+AP8+AU8+AV8+AW8","v":20000.765851759403},null,{"$f":"SUM(AY8,AZ8,AG8)","v":{"$error":"#REF!"}},null,{"$f":"BA8-BB8","v":{"$error":"#REF!"}},null,{"$f":"((BA8-BA7)/BA7)","v":{"$error":"#REF!"}},null,null,null,{"$f":"IF(BF8=0,0,BG8/BF8)","v":0},{"$f":"BG8*BH8","v":0},null,{"$f":"BJ8-BK8","v":0},{"$f":"((BJ8-BJ7)/BJ7)","v":{"$error":"#DIV/0!"}}]

{"sheet":"Таблица № 8.2. ","index":42,"n_rows":61,"n_cols":5,"rows_kept":61,"cut":false,"hidden":true,"merged":[[60,0,60,1],[60,2,60,4],[1,0,1,4],[3,0,3,4],[4,0,4,4],[5,0,6,0],[5,1,6,1],[5,2,6,2],[5,3,5,4]]}
[]
["Расчет необходимой валовой выручки сетевых организаций, регулирование деятельности которых осуществляется методом долгосрочной индексации необходимой валовой выручки"]
[]
[{"$f":"'Инф-я'!C9","v":"Общество с ограниченной ответственностью \"Энергетик\""}]
["тыс.руб."]
["№","Наименование","Базовый период (2015 год)","Период регулирования (2017 год)"]
[null,null,null,"По данным организации","По данным экспертов"]
["1","2","3","4","5"]
["1.","ИТОГО необходимая валовая выручка на содержание электрических сетей",{"$f":"C10+C30+C48+C49","v":{"$error":"#REF!"}},{"$f":"D10+D30+D48+D49","v":57897.637483138933},{"$error":"#DIV/0!"}]
["1.1.","Подконтрольные расходы, всего, в том числе:",{"$f":"C11+C13+C15+C17+C28+C29","v":{"$error":"#REF!"}},{"$f":"'Подконтрольные расходы'!E32","v":34319.2208282664},{"$f":"'Подконтрольные расходы'!F32","v":7775.5874677289557}]
["1.1.1.","Сырье, материалы, запасные части, инструмент, топливо",{"$f":"'Подконтрольные расходы'!#REF!","v":{"$error":"#REF!"}},{"$f":"'Подконтрольные расходы'!E18","v":4516.9653444136038},{"$f":"'Подконтрольные расходы'!F18","v":1023.3932553404821}]
["1.1.1.1","в т.ч. на ремонт"]
["1.1.2.","Работы и услуги производственного характера (в т.ч. услуги сторонних организаций по содержанию электрических сетей и распределительных устройств)",{"$f":"'Подконтрольные расходы'!#REF!-C19+C14","v":{"$error":"#REF!"}},{"$f":"'Подконтрольные расходы'!E21-D19+D14","v":15987.779643159465},{"$f":"'Подконтрольные расходы'!F21-E19+E14","v":3622.2960786969147}]
["1.1.2.1","в том числе на ремонт",{"$f":"'Подконтрольные расходы'!#REF!","v":{"$error":"#REF!"}},{"$f":"'Подконтрольные расходы'!E19","v":15987.779643159465},{"$f":"'Подконтрольные расходы'!F19","v":3622.2960786969147}]
["1.1.3.","Фонд оплаты труда",{"$f":"'Подконтрольные расходы'!#REF!","v":{"$error":"#REF!"}},{"$f":"'Подконтрольные расходы'!E17","v":12485.151292005776},{"$f":"'Подконтрольные расходы'!F17","v":2828.7176566334638}]
["1.1.3.1","в том числе на ремонт"]
["1.1.4.","Прочие подконтрольные расходы (с расшифровкой), в том числе:",{"$f":"C18+C19+C20","v":{"$error":"#REF!"}},{"$f":"D18+D19+D20","v":1329.3245486875519},301.18047705809488]
["1.1.4.1","прибыль на социальное развитие (включая социальные выплаты)",{"$f":"'Подконтрольные расходы'!#REF!","v":{"$error":"#REF!"}},{"$f":"'Подконтрольные расходы'!E30","v":360.31962582510704},{"$f":"'Подконтрольные расходы'!F30","v":81.636374583275}]
["1.1.4.2","транспортные услуги"]
["1.1.4.3","прочие услуги сторонних организаций (с расшифровкой)",{"$f":"C21+C22+C23+C24+C25+C26+C27","v":{"$error":"#REF!"}},{"$f":"D21+D22+D23+D24+D25+D26+D27","v":969.0049228624448},219.54410247481985]
["1.1.4.3.1.","Работы и услуги непроизводственного характера",{"$f":"'Подконтрольные расходы'!#REF!","v":{"$error":"#REF!"}},{"$f":"'Подконтрольные расходы'!E22","v":604.37431373214952},{"$f":"'Подконтрольные расходы'!F22","v":136.93100327622952}]
["1.1.4.3.2.","Обеспечение нормальных условий труда и техники безопасности",{"$f":"'Подконтрольные расходы'!#REF!","v":{"$error":"#REF!"}},{"$f":"'Подконтрольные расходы'!E23","v":83.596386801986711},{"$f":"'Подконтрольные расходы'!F23","v":18.940144964759238}]
["1.1.4.3.3.","Расходы на командировки",{"$f":"'Подконтрольные расходы'!#REF!","v":{"$error":"#REF!"}},{"$f":"'Подконтрольные расходы'!E24","v":0},{"$f":"'Подконтрольные расходы'!F24","v":0}]
["1.1.4.3.4.","Расходы на обучение персонала",{"$f":"'Подконтрольные расходы'!#REF!","v":{"$error":"#REF!"}},{"$f":"'Подконтрольные расходы'!E25","v":108.42942830709673},{"$f":"'Подконтрольные расходы'!F25","v":24.566481508906246}]
["1.1.4.3.5.","Расходы на страхование",{"$f":"'Подконтрольные расходы'!#REF!","v":{"$error":"#REF!"}},{"$f":"'Подконтрольные расходы'!E26","v":0},{"$f":"'Подконтрольные расходы'!F26","v":0}]
["1.1.4.3.6.","Расходы на услуги банков",{"$f":"'Подконтрольные расходы'!#REF!","v":{"$error":"#REF!"}},{"$f":"'Подконтрольные расходы'!E27","v":172.60479402121192},{"$f":"'Подконтрольные расходы'!F27","v":39.106472724924863}]
["1.1.4.3.7.","Прочие обоснованные подконтрольные расходы",{"$f":"'Подконтрольные расходы'!#REF!","v":{"$error":"#REF!"}},{"$f":"'Подконтрольные расходы'!E28","v":0},{"$f":"'Подконтрольные расходы'!F28","v":0}]
["1.1.5.","Расходы на обслуживание операционных заемных средств в составе подконтрольных расходов"]
["1.1.6.","Прочие расходы из прибыли в составе подконтрольных расходов",{"$f":"'Подконтрольные расходы'!#REF!","v":{"$error":"#REF!"}},{"$f":"'Подконтрольные расходы'!E31","v":0},{"$f":"'Подконтрольные расходы'!F31","v":0}]
["1.2.","Неподконтрольные расходы, включенные в НВВ, всего,\nв том числе:",{"$f":"C31+C32+C33+C34+C35+C36+C37+C38+C39+C44+C45+C46+C47","v":16745.586983635843},{"$f":"D31+D32+D33+D34+D35+D36+D37+D38+D39+D44+D45+D46+D47","v":20000.765851759403},3845.8511776038085]
["1.2.1.","Оплата услуг организации по управлению единой национальной (общероссийской) электрической сетью",{"$f":"'Услуги ФСК'!H17","v":0},{"$f":"'Услуги ФСК'!N17","v":0},{"$f":"'Услуги ФСК'!Q17","v":0}]
["1.2.2.","Расходы на оплату технологического присоединения к сетям смежной сетевой организации"]
["1.2.3.","Плата за аренду имущества",{"$f":"'Аренда имущества'!D42","v":4844.28},{"$f":"'Аренда имущества'!F42","v":4890.4971999999998},{"$f":"'Аренда имущества'!N42","v":0}]
["1.2.4.","Отчисления на социальные нужды",{"$f":"'Отчислен во внебюдж фонды'!F18","v":3542.8430697959334},{"$f":"'Отчислен во внебюдж фонды'!H18","v":3870.1814504394952},{"$f":"'Отчислен во внебюдж фонды'!I18","v":3845.8511776038085}]
["1.2.5.","Расходы на возврат и обслуживание долгосрочных заемных средств, направляемых на финансирование капитальных вложений",{"$f":"'Возврат заемных средств'!D11","v":691.6182},{"$f":"'Возврат заемных средств'!F11","v":1066.9059300000001},{"$f":"'Возврат заемных средств'!G11","v":0}]
["1.2.6.","Амортизация",{"$f":"'Свод по амортизации'!D15","v":4681.14131188181},{"$f":"'Свод по амортизации'!F15","v":6378.2892713199053},{"$f":"'Свод по амортизации'!G15","v":0}]
["1.2.7.","Прибыль на капитальные вложения",{"$f":"' КВЛ'!D20","v":1351},{"$f":"' КВЛ'!F20","v":0},{"$f":"' КВЛ'!G20","v":0}]
["1.2.8.","Налог на прибыль",{"$f":"'Налог прим при УСНО'!E10","v":1038.2619999999999},{"$f":"'Налог прим при УСНО'!F10","v":1428.336},{"$f":"'Налог прим при УСНО'!G10","v":0}]
["1.2.9.","Прочие налоги всего в т.ч.",{"$f":"C40+C41+C42+C43","v":200.44376564561998},{"$f":"D40+D41+D42+D43","v":401.82000000000005},0]
["1.2.9.1.","Плата за землю",{"$f":"'Плата за землю'!D16","v":200.44376564561998},{"$f":"'Плата за землю'!F16","v":401.82000000000005},{"$f":"'Плата за землю'!G16","v":0}]
["1.2.9.2.","Транспортный налог",{"$f":"'Транспортный налог'!F16","v":0},{"$f":"'Транспортный налог'!I16","v":0},{"$f":"'Транспортный налог'!K16","v":0}]
["1.2.9.3.","Налог на имущество",{"$f":"'Налог на имущество'!D15","v":0},{"$f":"'Налог на имущество'!F15","v":0},{"$f":"'Налог на имущество'!G15","v":0}]
["1.2.9.4.","Плата за негативное воздействие на окружающую среду",{"$f":"'Негативное воздействие на ОС'!E28","v":0},{"$f":"'Негативное воздействие на ОС'!G28","v":0},{"$f":"'Негативное воздействие на ОС'!H28","v":0}]
["1.2.10.","Расходы на оплату услуг организаций, осуществляющие регулируемые виды деятельности",{"$f":"'Расходы рег. орг-ий'!D22","v":205.58863631247999},{"$f":"'Расходы рег. орг-ий'!F22","v":266.70999999999998},{"$f":"'Расходы рег. орг-ий'!G22","v":0}]
["1.2.11.","Выпадающие доходы от льготного технологического присоединения",{"$f":"'Выпадающий доход'!C21","v":0},{"$f":"'Выпадающий доход'!D21","v":0},{"$f":"'Выпадающий доход'!E21","v":0}]
["1.2.12.","Средства, подлежащие дополнительному учету по результатам вступивших в законную силу решений суда, решений ФСТ России, принятого по итогам рассмотрения разногласий или досудебного урегулирования споров, решения ФСТ России об отмене решения регулирующего органа, принятого им с превышением полномочий (предписания)"]
["1.2.13.","Прочие неподконтрольные расходы (с расшифровкой)",{"$f":"'Прочие НР'!D13","v":190.41},{"$f":"'Прочие НР'!F13","v":1698.0260000000001},{"$f":"'Прочие НР'!G13","v":0}]
["1.3.","Недополученный по независящим причинам доход (+)/избыток средств, полученный в предыдущем периоде регулирования (-)",{"$f":"' НВВ содержание'!E41","v":2782.2201038835146},{"$f":"' НВВ содержание'!F41","v":3577.6508031131316},{"$f":"' НВВ содержание'!G41","v":{"$error":"#DIV/0!"}}]
["1.4.","Экономия от снижения технологических потерь"]
["2.","Итого необходимая валовая выручка на содержание электрических сетей",{"$f":"C9","v":{"$error":"#REF!"}},{"$f":"D9","v":57897.637483138933},{"$f":"E9","v":{"$error":"#DIV/0!"}}]
["2.1.","Инвестиционные  расходы",{"$f":"C52+C53+C54+C55","v":0},{"$f":"D52+D53+D54+D55","v":0},{"$error":"#VALUE!"}]
["2.1.1.","ВН",{"$f":"'Свод по амортизации'!D16+'Аренда имущества'!D43+'Налог на имущество'!D16+'Налог прим при УСНО'!E11+' КВЛ'!D21+'Возврат заемных средств'!D12","v":0},{"$f":"'Свод по амортизации'!F16+'Аренда имущества'!F43+'Налог на имущество'!F16+'Налог прим при УСНО'!F11+' КВЛ'!F21+'Возврат заемных средств'!F12","v":0},{"$f":"'Свод по амортизации'!G16+'Аренда имущества'!N43+'Налог на имущество'!G16+'Налог прим при УСНО'!G11+' КВЛ'!G21+'Возврат заемных средств'!G12","v":{"$error":"#VALUE!"}}]
["2.1.2.","СН1",{"$f":"'Свод по амортизации'!D17+'Аренда имущества'!D44+'Налог на имущество'!D17+'Налог прим при УСНО'!E12+' КВЛ'!D22+'Возврат заемных средств'!D13","v":0},{"$f":"'Свод по амортизации'!F17+'Аренда имущества'!F44+'Налог на имущество'!F17+'Налог прим при УСНО'!F12+' КВЛ'!F22+'Возврат заемных средств'!F13","v":0},{"$f":"'Свод по амортизации'!G17+'Аренда имущества'!N44+'Налог на имущество'!G17+'Налог прим при УСНО'!G12+' КВЛ'!G22+'Возврат заемных средств'!G13","v":{"$error":"#VALUE!"}}]
["2.1.3.","СН2",{"$f":"'Свод по амортизации'!D18+'Аренда имущества'!D45+'Налог на имущество'!D18+'Налог прим при УСНО'!E13+' КВЛ'!D23+'Возврат заемных средств'!D14","v":0},{"$f":"'Свод по амортизации'!F18+'Аренда имущества'!F45+'Налог на имущество'!F18+'Налог прим при УСНО'!F13+' КВЛ'!F23+'Возврат заемных средств'!F14","v":0},{"$f":"'Свод по амортизации'!G18+'Аренда имущества'!N45+'Налог на имущество'!G18+'Налог прим при УСНО'!G13+' КВЛ'!G23+'Возврат заемных средств'!G14","v":{"$error":"#VALUE!"}}]
["2.1.4.","НН",{"$f":"'Свод по амортизации'!D19+'Аренда имущества'!D46+'Налог на имущество'!D19+'Налог прим при УСНО'!E14+' КВЛ'!D24+'Возврат заемных средств'!D15","v":0},{"$f":"'Свод по амортизации'!F19+'Аренда имущества'!F46+'Налог на имущество'!F19+'Налог прим при УСНО'!F14+' КВЛ'!F24+'Возврат заемных средств'!F15","v":0},{"$f":"'Свод по амортизации'!G19+'Аренда имущества'!N46+'Налог на имущество'!G19+'Налог прим при УСНО'!G14+' КВЛ'!G24+'Возврат заемных средств'!G15","v":{"$error":"#VALUE!"}}]
["2.2.","Эксплуатационные расходы, всего",{"$f":"C50-C51","v":{"$error":"#REF!"}},{"$f":"D50-D51","v":57897.637483138933},{"$error":"#DIV/0!"}]
["3.","Необходимая валовая выручка на оплату технологического расхода (потерь) электроэнергии",{"$f":"'НВВ на потери'!F12","v":10233.104868438342},{"$f":"'НВВ на потери'!I12","v":11304.809196504975},{"$f":"'НВВ на потери'!L12","v":0}]
["3.1."," Объем технологического расхода (потерь), млн.кВт·ч",{"$f":"'НВВ на потери'!F10","v":3.8880933791553001},{"$f":"'НВВ на потери'!I10","v":4.1239412273175997},{"$f":"'НВВ на потери'!L10","v":0}]
["3.2."," Цена покупки потерь, руб./кВт·ч",{"$f":"'НВВ на потери'!F11","v":2631.9082055229637},{"$f":"'НВВ на потери'!I11","v":2741.2634112291025},{"$f":"'НВВ на потери'!L11","v":0}]
[]
["Руководитель организации",null,{"$f":"'Инф-я'!C17","v":"Окунев Василий Михайлович"}]

{"sheet":"Тарифы","index":43,"n_rows":19,"n_cols":13,"rows_kept":19,"cut":false,"hidden":false,"merged":[[5,7,5,12],[18,0,18,1],[18,2,18,5],[1,0,1,9],[5,0,6,0],[5,1,6,1],[5,2,6,2],[5,4,5,6],[3,0,3,9],[5,3,6,3]]}
[]
["Расчет индивидуальных тарифов на 2018 -2019 годы долгосрочного периода регулирования 2018 - 2019 годы"]
[]
[{"$f":"'Инф-я'!C9","v":"Общество с ограниченной ответственностью \"Энергетик\""}]
[]
["№ п./п.","Показатели","Ед. изм.","Утв. 2 полугодие 2017","По расчету организации",null,null,"По расчету экспертов"]
[null,null,null,null,2018,"1 полугодие","2 полугодие",2018,"1 полугодие","2 полугодие",2019,"1 полугодие","2 полугодие"]
[1,2,3,4,5,6,7,8,9,10,11,12,13]
[1,"Необходимая валовая выручка на передачу электрической энергии, всего, в том числе:","тыс. руб.","х",{"$f":"E10+E11","v":69202.446679643908},30582.228074179267,38620.218605464637,{"$error":"#DIV/0!"},0,{"$error":"#DIV/0!"},{"$f":"K10+K11","v":8563.2256056486876},0,8563.2256056486876]
["1.1.","Необходимая валовая выручка на содержание электрических сетей","тыс. руб.","х",{"$f":"'НВВ по данным предпр.'!G66","v":57897.637483138933},{"$f":"F15*F12*6","v":25449.238114199998},{"$f":"E10-F10","v":32448.399368938935},{"$f":"'НВВ по данным экспертов'!G66","v":{"$error":"#DIV/0!"}},null,{"$f":"H10-I10","v":{"$error":"#DIV/0!"}},{"$f":"'НВВ по данным экспертов'!H66","v":8563.2256056486876},null,{"$f":"K10-L10","v":8563.2256056486876}]
["1.2.","Необходимая валовая выручка на оплату технологического расхода (потерь) электрической энергии","тыс. руб.","х",{"$f":"'НВВ по данным предпр.'!G67","v":11304.809196504975},{"$f":"F16*F13","v":5132.9899599792707},{"$f":"E11-F11","v":6171.8192365257046},{"$f":"'НВВ по данным экспертов'!G67","v":0},null,{"$f":"H11-I11","v":0},{"$f":"'НВВ по данным экспертов'!H67","v":0},null,{"$f":"K11-L11","v":0}]
[2,"Договорная мощность ","МВт","х",4.47,4.47,4.47]
[3,"Полезный отпуск электрической энергии за исключением перетока в сети филиала «Владимирэнерго» ОАО «МРСК Центра и Приволжья»","тыс. кВт ч.","х",{"$f":"('Баланс энергии'!AV22-'Баланс энергии'!AV24)*1000","v":22260.858772682397},{"$f":"('Баланс энергии'!AL22-'Баланс энергии'!AL24)*1000","v":11162.0709780787},{"$f":"('Баланс энергии'!AQ22-'Баланс энергии'!AQ24)*1000","v":11098.787794603701},{"$f":"('Баланс энергии'!BK22-'Баланс энергии'!BK24)*1000","v":0},{"$f":"('Баланс энергии'!BA22-'Баланс энергии'!BA24)*1000","v":0},{"$f":"('Баланс энергии'!BF22-'Баланс энергии'!BF24)*1000","v":0},{"$f":"H13","v":0},{"$f":"I13","v":0},0]
[4,"Двухставочный тариф"]
["4.1.","ставка на содержание электрических сетей","руб./кВт мес",948.89031,{"$f":"IF(E12=0,0,E10/E12/12)","v":1079.374300580517},{"$f":"D15","v":948.89031},{"$f":"IF(G12=0,0,G10/G12/6)","v":1209.8582911610342},{"$f":"IF(H12=0,0,H10/H12/12)","v":0},{"$f":"IF(I12=0,0,I10/I12/6)","v":0},{"$f":"IF(J12=0,0,J10/J12/6)","v":0},{"$f":"IF(K12=0,0,K10/K12/12)","v":0},{"$f":"IF(L12=0,0,L10/L12/6)","v":0},{"$f":"IF(M12=0,0,M10/M12/6)","v":0}]
["4.2.","ставка на оплату технологического расхода (потерь)","руб./кВт ч.",0.45985999999999999,{"$f":"IF(E13=0,0,E11/E13)","v":0.5078334718325318},{"$f":"D16","v":0.45985999999999999},0.5560804793048193,0,0,0,{"$f":"IF(K13=0,0,K11/K13)","v":0},0,0]
[5,"Одноставочный тариф","руб./кВт ч.",2.9032,{"$f":"IF(E13=0,0,E9/E13)","v":3.1087051666023902},{"$f":"IF(F13=0,0,F9/F13)","v":2.7398345821523624},{"$f":"IF(G13=0,0,G9/G13)","v":3.4796789811804518},0,0,0,{"$f":"IF(K13=0,0,K9/K13)","v":0},0,0]
[]
["Руководитель организации",null,{"$f":"'Инф-я'!$C$17","v":"Окунев Василий Михайлович"}]

{"sheet":"Форма 1.1","index":44,"n_rows":27,"n_cols":4,"rows_kept":27,"cut":false,"hidden":false,"merged":[[1,0,1,3],[5,0,5,3],[26,0,29,3],[3,1,3,3],[21,0,21,1],[21,2,21,4]]}
[]
["Форма 1.1 - Журнал учета текущей информации о прекращении передачи электрической энергии для потребителей услуг за 2016 год   "]
[]
[null,{"$f":"'Инф-я'!C9","v":"Общество с ограниченной ответственностью \"Энергетик\""}]
[]
["(наименование территориальной сетевой организации)"]
["№","Период","Продолжительность прекращения,\nчас.","Количество точек присоединения потребителей услуг к электрической сети электросетевой организации, шт."]
[1,2,3,4]
[1,"январь",null,2529]
[2,"февраль",null,2532]
[3,"март",null,2530]
[4,"апрель",null,2528]
[5,"май",null,2528]
[6,"июнь",null,2527]
[7,"июль",3.33,2529]
[8,"август",null,2535]
[9,"сентябрь",null,2537]
[10,"октябрь",null,2542]
[11,"ноябрь",null,2542]
[12,"декабрь",null,2543]
[]
["Руководитель организации",null,{"$f":"'Инф-я'!$C$17","v":"Окунев Василий Михайлович"}]
[]
[]
[]
[]
["Согласно п. 14 Постановления Правительства от 31.12.2009 г.  № 1220 организации предоставляют регулирующим органам до 1 апреля года, следующего за отчетным, отчетные данные, используемые при расчете фактических значений показателей надежности и качества"]

{"sheet":"Форма 1.2","index":45,"n_rows":10,"n_cols":6,"rows_kept":10,"cut":false,"hidden":false,"merged":[[9,1,9,2],[9,3,9,5],[1,0,1,4],[2,0,2,4],[3,0,3,4],[5,0,5,2],[6,0,6,2],[7,0,7,2]]}
[]
["Форма 1.2 - Расчет фактического показателя средней продолжительности прекращений передачи электрической энергии за 2016 год"]
[{"$f":"'Инф-я'!C9","v":"Общество с ограниченной ответственностью \"Энергетик\""}]
["(наименование территориальной сетевой организации)"]
[]
["Максимальное за расчетный период",null,null,"Максимальное за расчетный период регулирования число точек присоединения  потребителей услуг к э. сети ТСО, шт.",{"$f":"MAX('Форма 1.1'!D9:D20)","v":2543}," "]
["Суммарная продолжительность прекращений передачи электрической энергии, час. (Тпр)",null,null,"гр. 3 формы 1.1",{"$f":"SUM('Форма 1.1'!C9:C20)","v":3.33}]
["Показатель средней продолжительности прекращений передачи электрической энергии (Пп)",null,null,"Пп = Тпр/Nтп",{"$f":"IF(E6=0,0,E7/E6)","v":1.3094769956744003E-3}]
[]
[null,"Руководитель организации",null,{"$f":"'Инф-я'!$C$17","v":"Окунев Василий Михайлович"}]

{"sheet":"Форма 2.1","index":46,"n_rows":33,"n_cols":8,"rows_kept":33,"cut":false,"hidden":false,"merged":[[32,2,32,4],[35,2,35,4],[35,5,35,7],[37,5,37,7],[25,5,25,6],[26,5,26,6],[27,5,27,6],[28,5,28,6],[29,5,29,6],[30,5,30,6],[24,5,24,6],[13,5,13,6],[14,5,14,6],[15,5,15,6],[16,5,16,6],[17,5,17,6],[18,5,18,6],[19,5,19,6],[20,5,20,6],[21,5,21,6],[22,5,22,6],[23,5,23,6],[12,5,12,6],[0,0,0,7],[1,0,1,7],[2,0,2,7],[5,0,6,0],[5,1,6,1],[5,2,5,3],[5,4,6,4],[5,5,6,6],[5,7,6,7],[7,5,7,6],[8,5,8,6],[9,5,9,6],[10,5,10,6],[11,5,11,6]]}
["Форма 2.1 - Расчет значения индикатора информативности за 2016 год"]
[{"$f":"'Инф-я'!C9","v":"Общество с ограниченной ответственностью \"Энергетик\""}]
["(наименование территориальной сетевой организации)"]
[]
[]
["Наименование параметра (критерия), характеризующего индикатор","Ед.изм-ния","Значение",null,"Ф / П * 100, %","Зависи-мость",null,"Оценочный балл "]
[null,null,"факти-ческое\n(Ф)","плановое\n(П)"]
[1,null,2,3,4,5,null,6]
["1. Возможность личного приема заявителей и потребителей услуг уполномоченными должностными лицами территориальной сетевой организации - всего,",null,"-","-","-","-",null,{"$f":"(H11+H12)/2","v":2}]
["в том числе, по критериям:"]
["1.1. Количество структурных подразделений по работе с заявителями и потребителями услуг в процентном отношении к общему количеству структурных подразделений","%",0.33,0.33,{"$f":"(IF(AND(D11=0,C11=0),1,IF(AND(D11=0,C11>0),1.2,C11/D11)))","v":1},"прямая",null,{"$f":"IF(E11<80%,3,IF(E11>120%,1,2))","v":2}]
["1.2. Количество утвержденных территориальной сетевой организацией в установленном порядке организационно-распорядительных документов по вопросам работы с заявителями и потребителями услуг - всего, шт.","шт.",{"$f":"SUM(C14:C17)","v":10},{"$f":"SUM(D14:D17)","v":9},{"$f":"(IF(AND(D12=0,C12=0),1,IF(AND(D12=0,C12>0),1.2,C12/D12)))","v":1.1111111111111112},"прямая",null,{"$f":"IF(E12<80%,3,IF(E12>120%,1,2))","v":2}]
["в том числе:"]
["а) регламенты оказания услуг и рассмотрения обращений заявителей и потребителей услуг, шт.","шт.",1,0,{"$f":"(IF(AND(D14=0,C14=0),1,IF(AND(D14=0,C14>0),1.2,C14/D14)))","v":1.2},"прямая",null,"-"]
["б) наличие положения о деятельности структурного подразделения по работе \nс заявителями и потребителями услуг ‎(наличие - 1, отсутствие - ‎‎0), шт.‎","шт.",0,0,{"$f":"(IF(AND(D15=0,C15=0),1,IF(AND(D15=0,C15>0),1.2,C15/D15)))","v":1},"прямая",null,"-"]
["в) должностные инструкции сотрудников, обслуживающих заявителей и потребителей услуг, шт.","шт.",8,8,{"$f":"(IF(AND(D16=0,C16=0),1,IF(AND(D16=0,C16>0),1.2,C16/D16)))","v":1},"прямая",null,"-"]
["г) утвержденные территориальной сетевой организацией в установленном порядке формы отчетности о работе с заявителями и потребителями услуг, шт.","шт.",1,1,{"$f":"(IF(AND(D17=0,C17=0),1,IF(AND(D17=0,C17>0),1.2,C17/D17)))","v":1},"прямая",null,"-"]
["2. Наличие телефонной связи для обращений потребителей услуг к уполномоченным должностным лицам территориальной сетевой организации,",null,"-","-","-","-",null,{"$f":"(H20+H21+H22)/3","v":2.3333333333333335}]
["в том числе по критериям:"]
["2.1. Наличие единого телефонного номера для приема обращений потребителей услуг (наличие - 1, отсутствие - 0)","(наличие - 1, отсутствие - 0)",1,1,{"$f":"(IF(AND(D20=0,C20=0),1,IF(AND(D20=0,C20>0),1.2,C20/D20)))","v":1},"прямая",null,{"$f":"IF(E20<80%,3,IF(E20>120%,1,2))","v":2}]
["2.2. Наличие информационно-справочной системы для автоматизации обработки обращений потребителей услуг, поступивших по телефону (наличие - 1, отсутствие - 0)","(наличие - 1, отсутствие - 0)",0,1,{"$f":"(IF(AND(D21=0,C21=0),1,IF(AND(D21=0,C21>0),1.2,C21/D21)))","v":0},"прямая",null,{"$f":"IF(E21<80%,3,IF(E21>120%,1,2))","v":3}]
["2.3. Наличие системы автоинформирования потребителей услуг по телефону, предназначенной для доведения до них типовой информации (наличие - 1, отсутствие - 0)","(наличие - 1, отсутствие - 0)",0,0,{"$f":"(IF(AND(D22=0,C22=0),1,IF(AND(D22=0,C22>0),1.2,C22/D22)))","v":1},"прямая",null,{"$f":"IF(E22<80%,3,IF(E22>120%,1,2))","v":2}]
["3. Наличие в сети Интернет сайта территориальной сетевой организации с возможностью обмена информацией с потребителями услуг посредством электронной почты (наличие - 1, отсутствие - 0)","(наличие - 1, отсутствие - 0)",1,1,{"$f":"(IF(AND(D23=0,C23=0),1,IF(AND(D23=0,C23>0),1.2,C23/D23)))","v":1},"прямая",null,{"$f":"IF(E23<80%,3,IF(E23>120%,1,2))","v":2}]
["4. Проведение мероприятий по доведению до сведения потребителей услуг необходимой информации, в том числе путем ее размещения в сети Интернет, на бумажных носителях или иными доступными способами (проведение - 1, отсутствие - 0)","(наличие - 1, отсутствие - 0)",1,1,{"$f":"(IF(AND(D24=0,C24=0),1,IF(AND(D24=0,C24>0),1.2,C24/D24)))","v":1},"прямая",null,{"$f":"IF(E24<80%,3,IF(E24>120%,1,2))","v":2}]
["5. Простота и доступность схемы обжалования потребителями услуг действий должностных лиц территориальной сетевой организации, по критерию",null,"-","-","-","-",null,{"$f":"H26","v":2}]
["5.1. Общее количество обращений потребителей услуг о проведении консультаций по порядку обжалования действий (бездействия) территориальной сетевой организации в ходе исполнения своих функций в процентах от общего количества поступивших обращений","%",0,0,{"$f":"(IF(AND(D26=0,C26=0),1,IF(AND(D26=0,C26>0),1.2,C26/D26)))","v":1},"обратная",null,{"$f":"IF(E26<80%,1,IF(E26>120%,3,2))","v":2}]
["6. Степень полноты, актуальности и достоверности предоставляемой потребителям услуг информации о деятельности территориальной сетевой организации - всего,",null,"-","-","-","-",null,{"$f":"(H29+H30)/2","v":1.5}]
["в том числе по критериям:"]
["6.1. Общее количество обращений потребителей услуг о проведении консультаций по вопросам деятельности территориальной сетевой организации в процентах от общего количества поступивших обращений","%",0.15,0.15,{"$f":"(IF(AND(D29=0,C29=0),1,IF(AND(D29=0,C29>0),1.2,C29/D29)))","v":1},"обратная",null,{"$f":"IF(E29<80%,1,IF(E29>120%,3,2))","v":2}]
["6.2. Количество обращений потребителей услуг с указанием на отсутствие необходимой информации, которая должна быть раскрыта территориальной сетевой организацией в соответствии с нормативными правовыми актами, в процентах от общего количества поступивших обращений","%",0,0.03,{"$f":"(IF(AND(D30=0,C30=0),1,IF(AND(D30=0,C30>0),1.2,C30/D30)))","v":0},"обратная",null,{"$f":"IF(E30<80%,1,IF(E30>120%,3,2))","v":1}]
["7. Итого по индикатору \nинформативности (Ин)","-","-","-","-","-",null,{"$f":"(H9+H18+H23+H24+H25+H27)/6","v":1.9722222222222223}]
[]
["Руководитель организации",null,"Окунев Василий Михайлович"]

{"sheet":"Форма 2.2","index":47,"n_rows":31,"n_cols":8,"rows_kept":31,"cut":false,"hidden":false,"merged":[[8,0,8,1],[28,3,28,5],[28,6,28,7],[30,6,30,7],[30,8,30,10],[2,0,2,7],[3,0,3,7],[4,1,4,7],[6,0,7,1],[6,2,7,2],[6,3,6,4],[6,5,7,5],[6,6,7,6],[6,7,7,7]]}
[]
[]
["Форма 2.2 - Расчет значения индикатора исполнительности за 2016 год"]
[{"$f":"'Инф-я'!C9","v":"Общество с ограниченной ответственностью \"Энергетик\""}]
[null,"(наименование территориальной сетевой организации)"]
[]
["Наименование параметра (показателя), характеризующего индикатор",null,"Ед.изм-ния","Значение",null,"Ф / П * 100, %","Зависи-мость","Оценочный балл "]
[null,null,null,"факти-ческое\n(Ф)","плановое\n(П)"]
[1,null,null,2,3,4,5,6]
[null,"1. Соблюдение сроков по процедурам взаимодействия с потребителями услуг (заявителями) - всего",null,"-","-","-","-",{"$f":"(H12+H16)/2","v":0.75}]
[null,"в том числе, по критериям:"]
[null,"1.1. Среднее время, затраченное территориальной сетевой организацией на направление проекта договора оказания услуг по передаче электрической энергии потребителю услуг (заявителю), дней\n","дней",10,5,{"$f":"(IF(AND(E12=0,D12=0),1,IF(AND(E12=0,D12>0),1.2,D12/E12)))","v":2},"обратная",{"$f":"IF(F12<80%,0.25,IF(F12>120%,0.75,0.5))","v":0.75}]
[null,"1.2. Среднее время, необходимое для оборудования точки поставки приборами учета с момента подачи заявления потребителем услуг:","дней","-","-","-","обратная","-"]
[null,"а) для физических лиц, включая индивидуальных предпринимателей, и юридических лиц - субъектов малого и среднего предпринимательства, дней",null,null,null,null,"-","-"]
[null,"б) для остальных потребителей услуг, дней",null,null,null,null,"-","-"]
[null,"1.3. Количество случаев отказа от заключения и случаев расторжения потребителем услуг договоров оказания услуг по передаче электрической энергии, процентов от общего количества заключенных территориальной сетевой организацией договоров с потребителями услуг (заявителями), кроме физических лиц",null,0.02,1E-3,{"$f":"(IF(AND(E16=0,D16=0),1,IF(AND(E16=0,D16>0),1.2,D16/E16)))","v":20},"обратная",{"$f":"IF(F16<80%,0.25,IF(F16>120%,0.75,0.5))","v":0.75}]
[null,"2. Соблюдение требований нормативных правовых актов Российской Федерации по поддержанию качества электрической энергии, по критерию",null,"-","-","-","-",{"$f":"(H18)","v":0.5}]
[null,"2.1. Количество обращений потребителей услуг с указанием на ненадлежащее качество электрической энергии, процентов от общего количества поступивших обращений\n","дней",1E-3,1E-3,{"$f":"(IF(AND(E18=0,D18=0),1,IF(AND(E18=0,D18>0),1.2,D18/E18)))","v":1},"обратная",{"$f":"IF(F18<80%,0.25,IF(F18>120%,0.75,0.5))","v":0.5}]
[null,"3. Наличие взаимодействия с потребителями услуг при выводе оборудования в ремонт и (или) из эксплуатации",null,"-","-","-","-",{"$f":"(H21+H22)/2","v":0.5}]
[null,"в том числе, по критериям:"]
[null,"3.1.  Наличие (отсутствие) установленной процедуры согласования с потребителями услуг графиков вывода электросетевого оборудования в ремонт и (или) из эксплуатации\n(наличие - 1, отсутствие - 0)","%",0.01,0.01,{"$f":"(IF(AND(E21=0,D21=0),1,IF(AND(E21=0,D21>0),1.2,D21/E21)))","v":1},"обратная",{"$f":"IF(F21<80%,0.25,IF(F21>120%,0.75,0.5))","v":0.5}]
[null,"3.2. Количество обращений потребителей услуг с указанием на несогласие введения предлагаемых территориальной сетевой организацией графиков вывода электросетевого оборудования в ремонт и (или) из эксплуатации, процентов от общего количества поступивших обращений, кроме физических лиц",null,0.01,0,{"$f":"(IF(AND(E22=0,D22=0),1,IF(AND(E22=0,D22>0),1.2,D22/E22)))","v":1.2},"обратная",{"$f":"IF(F22<80%,0.25,IF(F22>120%,0.75,0.5))","v":0.5}]
[null,"4. Соблюдение требований нормативных правовых актов по защите персональных данных потребителей услуг (заявителей), по критерию",null,"-","-","-","-",{"$f":"H24","v":0.2}]
[null,"4.1. Количество установленных вступившим в законную силу решением антимонопольного органа и (или) суда нарушений территориальной сетевой организацией требований в части государственного регулирования цен (тарифов), в процентах от общего количества поступивших заявок на технологическое присоединение","%",0,0,{"$f":"(IF(AND(E24=0,D24=0),1,IF(AND(E24=0,D24>0),1.2,D24/E24)))","v":1},"обратная",{"$f":"IF(F24<80%,0.1,IF(F24>120%,0.3,0.2))","v":0.2}]
[null,"5. Итого по индикатору \nисполнительности (Ис)","-","-","-","-","-",{"$f":"(H10+H17+H19+H23)/4","v":0.48749999999999999}]
[]
[]
[]
[]
[]
[null,"Руководитель организации",null,"Окунев Василий Михайлович"]

{"sheet":"форма 2.3","index":48,"n_rows":36,"n_cols":8,"rows_kept":36,"cut":false,"hidden":false,"merged":[[33,2,33,4],[33,5,33,7],[35,5,35,7],[2,0,2,7],[3,0,3,7],[4,0,4,7],[6,0,7,0],[6,1,7,1],[6,2,6,3],[6,4,7,4],[6,5,7,5],[6,7,7,7]]}
[]
[]
["Форма 2.3 - Расчет значения индикатора результативности обратной связи за 2016 год"]
[{"$f":"'Инф-я'!C9","v":"Общество с ограниченной ответственностью \"Энергетик\""}]
["(наименование территориальной сетевой организации)"]
[]
["Наименование параметра (показателя), характеризующего индикатор","Ед.изм-ния","Значение",null,"Ф / П * 100, %","Зависи-мость",null,"Оценочный балл "]
[null,null,"факти-ческое\n(Ф)","плановое\n(П)"]
[null,null,2,3,4,5,null,6]
["1. Наличие структурного подразделения территориальной сетевой организации по рассмотрению, обработке и принятию мер по обращениям потребителей услуг (наличие - 1, отсутствие - 0)","(наличие - 1, отсутствие - 0)",1,1,{"$f":"(IF(AND(D10=0,C10=0),1,IF(AND(D10=0,C10>0),1.2,C10/D10)))","v":1},"прямая",null,{"$f":"IF(E10<80%,3,IF(E10>120%,1,2))","v":2}]
["2. Степень удовлетворения обращений потребителей услуг",null,"-","-","-","-",null,{"$f":"(H13+H14+H15+H16+H17+H18)/6","v":2}]
["в том числе по критериям:"]
["2.1. Общее количество обращений потребителей услуг с указанием на ненадлежащее качество услуг по передаче электрической энергии и обслуживание, в процентах от общего количества поступивших обращений","%",0,0.01,{"$f":"(IF(AND(D13=0,C13=0),1,IF(AND(D13=0,C13>0),1.2,C13/D13)))","v":0},"обратная",null,{"$f":"IF(E13<80%,1,IF(E13>120%,3,2))","v":1}]
["2.2. Количество принятых мер по результатам рассмотрения обращений потребителей услуг с указанием на ненадлежащее качество услуг по передаче электрической энергии и обслуживание, в процентах от общего количества поступивших обращений","%",0,0.01,0,"прямая",null,{"$f":"IF(E14<80%,3,IF(E14>120%,1,2))","v":3}]
["2.3. Количество обращений, связанных с неудовлетворенностью принятыми мерами, указанными в п. 2.2 настоящей формы, поступивших от потребителей услуг в течение 30 рабочих дней после завершения мероприятий, указанных в п. 2.2 настоящей формы, в процентах от общего количества поступивших обращений","%",0,0,1,"обратная",null,{"$f":"IF(E15<80%,1,IF(E15>120%,3,2))","v":2}]
["2.4. Количество обращений потребителей услуг с указанием на ненадлежащее качество услуг, оказываемых территориальной сетевой организацией, поступивших в соответствующий контролирующий орган исполнительной власти, в процентах от общего количества поступивших обращений","%",0,0,1,"обратная",null,{"$f":"IF(E16<80%,1,IF(E16>120%,3,2))","v":2}]
["2.5. Количество отзывов и предложений по вопросам деятельности территориальной сетевой организации, поступивших через обратную связь, в процентах от общего количества поступивших обращений","%",0,0,1,"прямая",null,{"$f":"IF(E17<80%,3,IF(E17>120%,1,2))","v":2}]
["2.6. Количество реализованных изменений в деятельности организации, направленных на повышение качества обслуживания потребителей услуг, шт.","шт.",0,0,1,"прямая",null,{"$f":"IF(E18<80%,3,IF(E18>120%,1,2))","v":2}]
["3. Оперативность реагирования на обращения потребителей услуг - всего,",null,"-","-","-","-",null,{"$f":"(H21+H22)/2","v":2}]
["в том числе по критериям:"]
["3.1. Средняя продолжительность времени принятия мер по результатам обращения потребителя услуг, дней","дней",0,0,{"$f":"(IF(AND(D21=0,C21=0),1,IF(AND(D21=0,C21>0),1.2,C21/D21)))","v":1},"обратная",null,{"$f":"IF(E21<80%,1,IF(E21>120%,3,2))","v":2}]
["3.2. Взаимодействие территориальной сетевой организации с потребителями услуг с целью получения информации о качестве обслуживания, реализованное посредством:",null,"-","-","-","-",null,{"$f":"(H23+H24+H25)/3","v":2}]
["а) письменных опросов, шт. на 1000 потребителей услуг","шт. на 1000 потребителей услуг",0,0,1,"прямая",null,{"$f":"IF(E23<80%,3,IF(E23>120%,1,2))","v":2}]
["б) электронной связи через сеть Интернет, шт. на 1000 потребителей услуг","шт. на 1000 потребителей услуг",0,0,1,"прямая",null,{"$f":"IF(E24<80%,3,IF(E24>120%,1,2))","v":2}]
["в) системы автоинформирования,шт. на 1000 потребителей услуг","шт. на 1000 потребителей услуг",0,0,1,"прямая",null,{"$f":"IF(E25<80%,3,IF(E25>120%,1,2))","v":2}]
["4. Индивидуальность подхода к потребителям услуг льготных категорий, по критерию",null,"-","-","-","-",null,{"$f":"H27","v":2}]
["4.1. Количество обращений потребителей услуг льготных категорий с указанием на неудовлетворительность качества их обслуживания, шт. на 1000 потребителей услуг","шт. на 1000 потребителей услуг",1,1,1,"обратная",null,{"$f":"IF(E27<80%,1,IF(E27>120%,3,2))","v":2}]
["5. Оперативность возмещения убытков потребителям услуг при несоблюдении территориальной сетевой организацией обязательств, предусмотренных нормативными правовыми актами и договорами",null,"-","-","-","-",null,{"$f":"(H30+H31)/2","v":2}]
["в том числе по критериям:"]
["5.1. Средняя продолжительность времени на принятие территориальной сетевой организацией мер по возмещению потребителю услуг убытков, месяцев","месяцев",0,0,{"$f":"(IF(AND(D30=0,C30=0),1,IF(AND(D30=0,C30>0),1.2,C30/D30)))","v":1},"обратная",null,{"$f":"IF(E30<80%,1,IF(E30>120%,3,2))","v":2}]
["5.2. Доля потребителей услуг, получивших возмещение убытков, возникших в результате неисполнения (ненадлежащего исполнения) территориальной сетевой организацией своих обязательств, от числа потребителей, в пользу которых было вынесено судебное решение, или возмещение было произведено во внесудебном порядке, %","%",0,0,1,"прямая",null,{"$f":"IF(E31<80%,3,IF(E31>120%,1,2))","v":2}]
["6. Итого по индикатору результативности обратной связи (Рс)","-","-","-","-","-",null,{"$f":"(H10+H11+H19+H26+H28)/5","v":2}]
[]
[]
[]
["Руководитель организации","Должность                                                               Ф.И.О.                        Подпись","Окунев Василий Михайлович"]

{"sheet":"форма 2.4","index":49,"n_rows":16,"n_cols":3,"rows_kept":16,"cut":false,"hidden":false,"merged":[[15,1,15,2],[18,1,18,2],[3,0,3,2],[1,0,2,2],[4,0,4,2],[5,0,5,2],[7,1,9,1],[8,0,9,0],[14,0,14,2]]}
[]
["Форма 2.4 - Расчет фактического значения показателя уровня качества оказываемых услуг территориальной (прочей) сетевой организацией за 2016 год"]
[]
[{"$f":"'Инф-я'!C9","v":"Общество с ограниченной ответственностью \"Энергетик\""}]
[]
["(наименование территориальной сетевой организации)"]
[]
[null,"Ед.изм-ния"]
["Предлагаемые плановые значения параметров (критериев), характеризующих индикаторы качества **",null,"2016"]
[null,null,"(год)"]
["Ин (индикатор информативности) ",null,{"$f":"'Форма 2.1'!H31","v":1.9722222222222223}]
["Ис ( индикатор исполнительности)",null,{"$f":"ROUND('Форма 2.2'!H25,3)","v":0.48799999999999999}]
["Рс (индикатор результативности обратной связи)",null,{"$f":"'форма 2.3'!H32","v":2}]
["Фактическое значение показателя уровня качества оказываемых услуг территориальной сетевой организации",null,{"$f":"0.1*C11+0.7*C12+0.2*C13","v":0.93882222222222222}]
[]
["Руководитель организации",{"$f":"'Инф-я'!$C$17","v":"Окунев Василий Михайлович"}]

{"sheet":"форма 3 ","index":50,"n_rows":37,"n_cols":4,"rows_kept":37,"cut":false,"hidden":false,"merged":[[36,0,36,2],[28,1,28,2],[29,1,29,2],[30,1,30,2],[31,0,31,2],[32,0,32,2],[35,0,35,3],[27,1,27,2],[10,1,10,2],[11,0,11,2],[12,0,12,2],[16,0,16,3],[17,1,17,2],[18,1,18,2],[19,1,19,2],[20,1,20,2],[21,0,21,2],[22,0,22,2],[26,0,26,3],[9,1,9,2],[0,0,1,3],[4,0,4,3],[6,0,6,3],[7,1,7,2],[8,1,8,2]]}
["Формы, используемые для расчета значений показателей уровня качества оказываемых услуг"]
[]
[]
[]
[{"$f":"'Инф-я'!C9","v":"Общество с ограниченной ответственностью \"Энергетик\""}]
[null,null,null,"Форма 3.1"]
["Отчетные данные для расчета значения показателя качества рассмотрения заявок на технологическое присоединение к сети за 2016 год"]
["№ п/п","Наименование",null,"Значение"]
[1,2,null,3]
[1,"Число заявок на технологическое присоединение к сети, поданных в соответствии с требованиями нормативных правовых актов, по которым сетевой организацией в соответствующий расчетный период направлен проект договора об осуществлении технологического присоединения заявителей к сети, шт. (Nзаяв_тпр)",null,"28"]
[2,"Число заявок на технологическое присоединение к сети, поданных в соответствии с требованиями нормативных правовых актов, по которым сетевой организацией в соответствующий расчетный период направлен проект договора об осуществлении технологического присоединения заявителей к сети с нарушением установленных сроков его направления, шт. (Nнсзаяв_тпр)"]
["max (1, Nзаяв_тпр - Nнсзаяв_тпр)",null,null,{"$f":"MAX(1,D10-D11)","v":28}]
["Пзаяв_тпр",null,null,{"$f":"IF(D10=\"\",1,IF(D10=\"0\",1,D10/D12))","v":1}]
[]
[]
[null,null,null,"Форма 3.2"]
["Отчетные данные для расчета значения показателя качества исполнения договоров об осуществлении технологического присоединения заявителей к сети за 2016 год"]
["№ п/п","Наименование",null,"Значение"]
[1,2,null,3]
[1,"Число договоров об осуществлении технологического присоединения заявителей к сети, исполненных в соответствующем расчетном периоде, по которым имеется подписанный сторонами акт о технологическом присоединении, шт. (Nсд_тпр)",null,"28"]
[2,"Число договоров об осуществлении технологического присоединения заявителей к сети, исполненных в соответствующем расчетном периоде, по которым имеется подписанный сторонами акт о технологическом присоединении, по которым произошло нарушение установленных сроков технологического присоединения, шт. (Nнссд_тпр)"]
["max (1, Nсд_тпр - Nнссд_тпр)",null,null,{"$f":"MAX(1,D20-D21)","v":28}]
["Пнс_тпр",null,null,{"$f":"IF(D20=\"\",1,IF(D20=\"0\",1,D20/D22))","v":1}]
[]
[]
[null,null,null,"Форма 3.3"]
["Отчетные данные для расчета значения показателя соблюдения антимонопольного законодательства при технологическом присоединении заявителей к электрическим сетям сетевой организации за 2016 год"]
["№ п/п","Наименование",null,"Значение"]
[1,2,null,3]
[1,"Число вступивших в законную силу решений антимонопольного органа и (или) суда об установлении нарушений сетевой организацией требований антимонопольного законодательства Российской Федерации в части оказания услуг по технологическому присоединению в соответствующем расчетном периоде, шт. (Nн_тпр)"]
[2,"Общее число заявок на технологическое присоединение к сети, поданных заявителями в соответствующий расчетный период, в десятках шт. без округления (Nочз_тпр)",null,"3,5"]
["max (1, Nочз_тпр - Nн_тпр)",null,null,{"$f":"MAX(1,D31-D30)","v":3.5}]
["Пнпа_тпр",null,null,{"$f":"IF(D31=\"\",1,IF(D31=\"0\",1,D31/D32))","v":1}]
[]
[]
["Показатель уровня качества осуществляемого технологического присоединения к сети за 2016 год, Птпр"]
["Птпр",null,null,{"$f":"0.4*D13+0.4*D23+0.2*D33","v":1}]

{"sheet":"Выбор оценочного балла","index":51,"n_rows":8,"n_cols":3,"rows_kept":8,"cut":false,"hidden":false,"merged":[[1,0,1,2],[3,0,3,1],[3,2,4,2],[6,0,6,1]]}
[]
["Выбор оценочного балла"]
[]
["Принимаемое значение (Ф / П * 100, % )                             (гр.4 форм 2.1-2.3) ",null,"Оценочный балл                                                           (гр.6 форм 2.1 - 2.3)"]
["прямая зависимость                     (гр.5 форм 2.1 - 2.3)","обратная  зависимость                   (гр.5 форм 2.1 - 2.3)"]
["гр.4 форм 2.1-2.3 < 80%","гр.4 форм 2.1-2.3 > 120 %","3 балла - для всех пунктов форм 2.1 - 2.3                                                                                    кроме:                                                                 0,75 баллов -  для п. 2, 5, 6 формы 2.2                 0,3 балла - для п. 3,4,7 формы 2.2"]
["80 % ≤ гр.4 форм 2.1-2.3 ≤ 120 %",null,"2 балла - для всех пунктов форм 2.1 - 2.3                                                                               кроме:                                                                 0,5 баллов -  для п. 2, 5, 6 формы 2.2                    0,2 балла - для п. 3,4,7 формы 2.2"]
["гр.4 форм 2.1-2.3 > 120 %","гр.4 форм 2.1-2.3 < 80%","1 балл - для всех пунктов форм 2.1 - 2.3                                                                               кроме:                                                                 0,25 баллов -  для п. 2, 5, 6 формы 2.2                 0,1 балла - для п. 3,4,7 формы 2.2"]