{"text_format":"1","workbook":"xlsx","n_sheets":53,"sheets":["Оглавление","Инф-я","Соответствие критериям","Баланс энергии","Баланс мощности","УЕ ВЛЭП 2016-2019","УЕ ТП 2016-2019","Подконтрольные расходы","Расчет аморт. max срок ","Справка по ОС","Ввод выбытие ОС  ","Свод по амортизации","Страховые взносы","Расходы рег. орг-ий","Аренда имущества","Плата за землю","Транспортный налог","Налог на имущество","Налог прим при УСНО","Негативное воздействие на ОС","Услуги ФСК","Прочие НР"," КВЛ","Выпадающий доход","Расчет выпадающих до 15 кВт","Расчет выпадающих до 150 кВт","СВОД по % по рассрочке","Заявитель1","Заявитель2","Заявитель3","Заявитель4","Возврат заемных средств","Корр. ПР","Корр. ПО","Корр.НВВ","Корр. НР","Корр. ИП","Корр. КНК"," НВВ содержание","НВВ по данным предпр.","НВВ по данным экспертов","НВВ на потери","Тарифы","Форма 1.1","Форма 1.2","Форма 2.1","Форма 2.2","форма 2.3","форма 2.4","форма 3 ","НВВ для шаблона ЕИАС","МУ","Выбор оценочного балла"],"not_rendered":{"charts":0,"images":66,"macros":1,"external_links":19,"defined_names":3306,"comments":4,"pivot_tables":0},"unopened":[],"bounds":{"document_bytes":16777216,"sheet_cells":100000,"rows_first":2000,"rows_last":500,"rows_between":2000,"halvings":0,"cell_chars":16384,"cell_head_chars":4096},"cells_cut":0,"cells_raw":0,"read":"whole","date_system":"1900"}

{"sheet":"Оглавление","index":0,"n_rows":51,"n_cols":2,"rows_kept":51,"cut":false,"hidden":false,"merged":[[44,0,50,0],[39,0,43,0],[4,0,5,0],[6,0,7,0],[9,0,25,0],[33,0,38,0],[26,0,32,0]]}
[null,"Содержание"]
[]
[null,"Инф-я"]
[null,"Соответствие критериям"]
["Балансы","Баланс энергии"]
[null,"Баланс мощности"]
["УЕ","УЕ ВЛЭП 2015-2018"]
[null,"УЕ ТП 2015-2018"]
[null,"Подконтрольные расходы"]
["Неподконтрольные расходы","Расчет аморт. max срок "]
[null,"Справка по ОС"]
[null,"Ввод выбытие ОС  "]
[null,"Свод по амортизации"]
[null,"Отчислен во внебюдж фонды"]
[null,"Расходы рег. орг-ий"]
[null,"Аренда имущества"]
[null,"Плата за землю"]
[null,"Транспортный налог"]
[null,"Налог на имущество"]
[null,"Налог на прибыль"]
[null,"Негативное воздействие на ОС"]
[null,"Услуги ФСК"]
[null,"Прочие НР"]
[null," КВЛ"]
[null,"Выпадающий доход"]
[null,"Возврат заемных средств"]
["Расчеты по выпадающим доходам","Расчет выпадающих до 15 кВт"]
[null,"Расчет выпадающих до 150 кВт"]
[null,"СВОД по % по рассрочке"]
[null,"Заявитель1"]
[null,"Заявитель2"]
[null,"Заявитель3"]
[null,"Заявитель4"]
["Корр-ки","Корр. ПР"]
[null,"Корр. ПО"]
[null,"Корр.НВВ"]
[null,"Корр. НР"]
[null,"Корр. ИП"]
[null,"Корр. КНК"]
["ИТОГИ"," НВВ содержание"]
[null,"НВВ по данным предпр."]
[null,"НВВ по данным экспертов"]
[null,"НВВ на потери"]
[null,"Тарифы"]
["Формы для показателя КНК","Форма 1.1"]
[null,"Форма 1.2"]
[null,"Форма 2.1"]
[null,"Форма 2.2"]
[null,"форма 2.3"]
[null,"форма 2.4"]
[null,"форма 3 "]

{"sheet":"Инф-я","index":1,"n_rows":113,"n_cols":3,"rows_kept":113,"cut":false,"hidden":false,"merged":[[38,0,38,2],[40,0,40,2],[41,0,41,2],[4,1,4,2],[1,0,1,2],[34,0,34,2],[36,0,36,2],[37,0,37,2],[39,0,39,2]]}
[]
["Расчет НВВ на услуги по передаче электрической энергии,  устанавливаемых с применением метода долгосрочной индексации необходимой валовой выручки"]
[]
[]
[null,"Информация об организации"]
[]
["№ п/п","Требуемая информация","Данные об организации"]
["1.","Наименование организации в соответствии с уставом:","Общество с ограниченной ответственностью \"Энергетик\""]
[null,"сокращенное название организации ","Общество с ограниченной ответственностью \"Энергетик\""]
[null,"полное наименование организации ","ООО \"Энергетик\""]
["2.","Муниципальное образование","Владимирская область, Александровский район"]
["3.","Адрес организации:"]
[null,"юридический адрес","601640, Владимирская обл, г.Карабаново, ул. Вокзальная, д. 9"]
[null,"фактический адрес (месторасположение)","601640, Владимирская обл, г.Карабаново, ул. Вокзальная, д. 9"]
["4.","ИНН",3311023373]
["5.","КПП",331101001]
["6.","ФИО руководителя организации","Окунев Василий Михайлович"]
[null,"контактный телефон/факс","8-49244-5-24-72"]
[null,"е-mail","оао-energetik@yandex.ru"]
["7.","ФИО начальника ПЭО","Ивановский Михаил Владимирович"]
[null,"контактный телефон/факс","8-49244-5-26-01"]
["8.","ФИО ответственного за электрохозяйство"]
[null,"контактный телефон/факс"]
["9.","ФИО главного бухгалтера","Макарова Галина Юрьевна"]
[null,"контактный телефон/факс","8-49244-5-10-79"]
["10.","ФИО непосредственного исполнителя","Макарова Галина Юрьевна"]
[null,"контактный телефон/факс","8-49244-5-10-79"]
[null,"е-mail","оао-energetik@yandex.ru"]
["11.","Банковские реквизиты:"]
[null,"расчетный счет","40702810710000002518"]
[null,"банк","Владимирское отделение №8611 ПАО Сбербанк"]
[null,"корреспондентский счет","30101810000000000602"]
[null,"БИК","041708602"]
[]
["В конце книги Excel размещены листы серого цвета для заполнения шаблона \"Расчет фактических показателей надежности и качества за 2017 год\". Согласно п. 14 Постановления Правительства от 31.12.2009 г.  № 1220 организации предоставляют регулирующим органам до 1 апреля года, следующего за отчетным, отчетные данные, используемые при расчете фактических значений показателей надежности и качества."]
[]
["Согласно п. 9 Постановления Правительства РФ от 21.01.2004 г. № 24 \"Об утверждении стандартов раскрытия информации субъектами оптового и розничных рынков электрической энергии\":"]
["\"Субъекты рынков электрической энергии раскрывают следующую информацию:"]
["г) предложение о размере цен (тарифов), долгосрочных параметров регулирования (при применении метода доходности инвестированного капитала или метода долгосрочной необходимой валовой выручки), подлежащих регулированию в соответствии с Основами ценообразования в области регулируемых цен (тарифов) в электроэнергетике, утвержденными постановлением Правительства Российской Федерации от 29 декабря 2011 г. № 1178\"."]
["Указанная в подпункте \"г\" пункта 9 настоящего документа информация подлежит раскрытию на официальных сайтах регулируемых организаций или на ином официальном сайте в сети Интернет, определяемом Правительством Российской Федерации, и (или) в периодическом печатном издании, в котором публикуются нормативные правовые акты органа исполнительной власти в области регулирования тарифов, - за 10 дней до представления в регулирующий орган предложения об установлении цен (тарифов) и (или) их предельных уровней, содержащего такую информацию"]
["Согласно п. 9.1 Правил государственного регулирования (пересмотра, применения) цен (тарифов) в электроэнергктике, утвержденных постановлением Правительства РФ от 29 декабря 2011 г. N 1178:"]
["\"Регулирующий орган отказывает в открытии дела об установлении цены (тарифа), в случае если регулируемая организация не опубликовала предложение о размере цен (тарифов) и долгосрочных параметров регулирования (при применении метода доходности инвестированного капитала или метода долгосрочной индексации необходимой валовой выручки), подлежащих регулированию, в порядке, установленном стандартами раскрытия информации субъектами оптового и розничных рынков электрической энергии, утвержденными постановлением Правительства Российской Федерации от 21 января 2004 г. N 24, или указанное опубликованное предложение не соответствует предложению, представляемому в орган регулирования\"."]
[]
[]
[]
[]
[]
[]
[]
[]
[]
[]
[]
[]
[]
[]
[]
[]
[]
[]
[]
[]
[]
[]
[]
[]
[]
[]
[]
[]
[]
[]
[]
[]
[]
[]
[]
[]
[]
[]
[]
[]
[]
[]
[]
[]
[]
[]
[]
[]
[]
[]
[]
[]
[]
[]
[]
[]
[]
[]
[1,"ООО «Радугагорэнерго»"]
[2,"МУП «Горэлектросеть» г. Муром"]
[3,"МУП «Александровэлектросеть»"]
[4,"ООО «СтройГарант»"]
[5,"ООО «Костеревские городские электрические сети»"]
[6,"ООО «Ковровэлектросетьремонт»"]
[7,"ООО «ПромРЭС»"]
[8,"ООО «ПромЭнерго» г. Судогда"]
[9,"ОАО «Энергетик» г. Карабаново"]
[10,"ООО «Электросистемы» "]
[11,"ООО «Ярцево-Энерго»"]
[12,"ПАО «Ставровский завод АТО»"]
[13,"ООО «ЭнергоАктив»"]

{"sheet":"Соответствие критериям","index":2,"n_rows":19,"n_cols":5,"rows_kept":19,"cut":false,"hidden":false,"merged":[[3,0,3,4],[1,0,1,4],[18,1,18,2],[22,1,22,4],[23,1,23,4],[8,0,12,0],[21,1,21,4],[7,4,16,4],[18,3,18,4]]}
[]
["Критерии\nотнесения владельцев объектов электросетевого хозяйства к территориальным сетевым организациям\n(утв. постановлением Правительства РФ от 28 февраля 2015 г. N 184)"]
[]
[{"$f":"'Инф-я'!C9","v":"Общество с ограниченной ответственностью \"Энергетик\""}]
[]
["№ п./п.","Наименование показателя","Ед. измерения","Значение","Представляемые обосновывающие материалы"]
[1,2,3,4,5]
["1.","Владение на праве собственности и (или) на ином законном основании на срок не менее долгосрочного периода регулирования трансформаторными и иными подстанциями с установленными силовыми трансформаторами (автотрансформаторами), расположенными и используемыми для осуществления регулируемой деятельности в административных границах субъекта Российской Федерации, сумма номинальных мощностей которых составляет не менее 10 МВА.","МВА",18723,"Согласно пункта 17  Правил государственного регулирования (пересмотра, применения) цен (тарифов) в электроэнергетике, утвержденных Постановлением Правительства РФ от 29 декабря 2011 г. N 1178:\nК заявлениям, направленным в соответствии с пунктами 12, 14 и 16 настоящих Правил, организации, осуществляющие регулируемую деятельность, и органы исполнительной власти субъектов Российской Федерации в области государственного регулирования тарифов прилагают следующие обосновывающие материалы:\n . . . 13) документы, подтверждающие осуществление (фактическое или планируемое) регулируемой деятельности, - документы, подтверждающие право собственности или иные законные основания владения в отношении объектов, используемых для осуществления деятельности, и (или) договоры на осуществление регулируемой деятельности (при реорганизации юридического лица - передаточные акты);\n . . . 15) справка о наличии официального сайта в сети Интернет и выделенного абонентского номера для обращений потребителей услуг по передаче электрической энергии и (или) технологическому присоединению, подписанная руководителем или иным уполномоченным лицом заявителя и заверенная печатью заявителя;\n16) утвержденные руководителем или иным уполномоченным лицом заявителя и заверенные печатью заявителя (при наличии печати) схемы соединений электрической сети заявителя с обозначением трансформаторных и иных подстанций, а также линий электропередачи, указанных в пунктах 1 и 2 критериев отнесения владельцев объектов электросетевого хозяйства к территориальным сетевым организациям, утвержденных постановлением Правительства Российской Федерации от 28 февраля 2015 г. N 184 \"Об отнесении владельцев объектов электросетевого хозяйства к территориальным сетевым организациям\" (далее - критерии отнесения владельцев объектов электросетевого хозяйства к территориальным сетевым организациям).\n"]
["2.","Владение на праве собственности и (или) на ином законном основании на срок не менее долгосрочного периода регулирования линиями электропередачи (воздушными и (или) кабельными), расположенными и используемыми для осуществления регулируемой деятельности в административных границах субъекта Российской Федерации, непосредственно соединенными с трансформаторными и иными подстанциями, указанными в пункте 1 настоящих критериев, сумма протяженностей которых по трассе составляет не менее 15 км, не менее 2 из следующих проектных номинальных классов напряжения:","км",{"$f":"D10+D11+D12+D13","v":61.39}]
[null,"110 кВ и выше;","км"]
[null,"35 кВ;","км"]
[null,"1 - 20 кВ;","км",61.39]
[null,"ниже 1 кВ - трехфазных участков линий электропередачи.","км"]
["3.","3. Отсутствие за 3 предшествующих расчетных периода регулирования 3 фактов применения органами исполнительной власти субъектов Российской Федерации в области государственного регулирования тарифов понижающих коэффициентов, позволяющих обеспечить соответствие уровня тарифов, установленных для владельца объектов электросетевого хозяйства, уровню надежности и качества поставляемых товаров и оказываемых услуг, а также корректировки цен (тарифов), установленных на долгосрочный период регулирования, в случае представления владельцем объектов электросетевого хозяйства, для которого такие цены (тарифы) установлены, недостоверных отчетных данных, используемых при расчете фактических значений показателей надежности и качества поставляемых товаров и оказываемых услуг, или непредставления таких данных.","х","нет"]
["4.","4. Наличие выделенного абонентского номера для обращений потребителей услуг по передаче электрической энергии и (или) технологическому присоединению.","х","есть"]
["5.","5. Наличие официального сайта в информационно-телекоммуникационной сети \"Интернет\".","х","есть"]
["6.","6. Отсутствие во владении и (или) пользовании объектов электросетевого хозяйства, расположенных в административных границах субъекта Российской Федерации и используемых для осуществления регулируемой деятельности в указанных границах, принадлежащих на праве собственности или ином законном основании иному лицу, владеющему объектом по производству электрической энергии (мощности), который расположен в административных границах соответствующего субъекта Российской Федерации и с использованием которого осуществляется производство электрической энергии и мощности с целью ее продажи на оптовом рынке электрической энергии (мощности) и (или) розничных рынках электрической энергии.","х","нет"]
[]
[null,"Руководитель организации",null,{"$f":"'Инф-я'!C17","v":"Окунев Василий Михайлович"}]

{"sheet":"Баланс энергии","index":3,"n_rows":69,"n_cols":67,"rows_kept":69,"cut":false,"hidden":false,"merged":[[68,1,68,4],[68,6,68,11],[5,57,5,61],[1,5,1,6],[1,10,1,11],[1,15,1,16],[2,0,2,66],[1,20,1,21],[5,17,5,21],[5,42,5,46],[5,52,5,56],[3,0,3,66],[5,62,5,66],[5,47,5,51],[5,2,5,6],[5,27,5,31],[5,32,5,36],[5,37,5,41],[5,12,5,16],[5,22,5,26],[63,0,63,1],[5,7,5,11],[5,0,6,0],[5,1,6,1],[35,0,35,1],[46,0,46,1]]}
[]
[]
["Баланс электрической энергии по сетям ВН, СН1, СН2, и НН"]
[{"$f":"'Инф-я'!C9","v":"Общество с ограниченной ответственностью \"Энергетик\""}]
[null,null,null,null,null,null,null,null,null,null,null,null,null,null,null,null,null,null,null,null,null,null,null,null,null,null,null,null,null,null,null,null,null,null,null,null,null,null,null,null,null,null,null,null,null,null,null,null,null,null,"млн. кВт.ч."]
["№ п.п.","Показатели","Принято регулирующим органом на 2017 год",null,null,null,null,"Факт за 1 полугодие 2017 года",null,null,null,null,"Факт за 2 полугодие 2017 года",null,null,null,null,"Факт за 2017 год",null,null,null,null,"Принято регулирующим органом на 1 полугодие 2018 года",null,null,null,null,"Принято регулирующим органом на 2 полугодие 2018 года",null,null,null,null,"Принято регулирующим органом на 2018 год",null,null,null,null,"По данным организации на 1 полугодие 2019 года",null,null,null,null,"По данным организации на 2 полугодие 2019 года",null,null,null,null,"По данным организации на 2019 год",null,null,null,null,"Принято регулирующим органом на 1 полугодие 2019 года",null,null,null,null,"Принято регулирующим органом на 2 полугодие 2019 года",null,null,null,null,"Принято регулирующим органом на 2019 год"]
[null,null,"Всего","ВН","СН1","СН2","НН","Всего","ВН","СН1","СН2","НН","Всего","ВН","СН1","СН2","НН","Всего","ВН","СН1","СН2","НН","Всего","ВН","СН1","СН2","НН","Всего","ВН","СН1","СН2","НН","Всего","ВН","СН1","СН2","НН","Всего","ВН","СН1","СН2","НН","Всего","ВН","СН1","СН2","НН","Всего","ВН","СН1","СН2","НН","Всего","ВН","СН1","СН2","НН","Всего","ВН","СН1","СН2","НН","Всего","ВН","СН1","СН2","НН"]
[1,2,3,4,5,6,7,8,9,10,11,12,13,14,15,16,17,18,19,20,21,22,23,24,25,26,27,28,29,30,31,32,33,34,35,36,37,38,39,40,41,42,43,44,45,46,47,48,49,50,51,52,53,54,55,56,57,58,59,60,61,62,63,64,65,66,67]
["1.","Поступление эл.энергии в сеть , ВСЕГО ",{"$f":"C19+C21+C22","v":26.811900000000001},{"$f":"D15+D16+D17+D18","v":26.811900000000001},{"$f":"E10+E15+E16+E17+E18","v":0},{"$f":"F10+F15+F16+F17+F18","v":26.811900000000001},{"$f":"G10+G15+G16+G17+G18","v":18.074850679800001},{"$f":"H19+H21+H22","v":13.011550000000002},{"$f":"I15+I16+I17+I18","v":13.01155},{"$f":"J10+J15+J16+J17+J18","v":0},{"$f":"K10+K15+K16+K17+K18","v":13.01155},{"$f":"L10+L15+L16+L17+L18","v":9.0171341638000015},{"$f":"M19+M21+M22","v":12.294560000000001},{"$f":"N15+N16+N17+N18","v":12.294560000000001},{"$f":"O10+O15+O16+O17+O18","v":0},{"$f":"P10+P15+P16+P17+P18","v":12.294560000000001},{"$f":"Q10+Q15+Q16+Q17+Q18","v":8.6001070137600006},{"$f":"R19+R21+R22","v":25.306100000000001},{"$f":"S15+S16+S17+S18","v":25.306100000000001},{"$f":"T10+T15+T16+T17+T18","v":0},{"$f":"U10+U15+U16+U17+U18","v":25.306100000000001},{"$f":"V10+V15+V16+V17+V18","v":17.6171917956},{"$f":"W19+W21+W22","v":14.261100000000001},{"$f":"X15+X16+X17+X18","v":14.261100000000001},{"$f":"Y10+Y15+Y16+Y17+Y18","v":0},{"$f":"Z10+Z15+Z16+Z17+Z18","v":14.261100000000001},{"$f":"AA10+AA15+AA16+AA17+AA18","v":9.0790029862000026},{"$f":"AB19+AB21+AB22","v":11.8855},{"$f":"AC15+AC16+AC17+AC18","v":11.8855},{"$f":"AD10+AD15+AD16+AD17+AD18","v":0},{"$f":"AE10+AE15+AE16+AE17+AE18","v":11.8855},{"$f":"AF10+AF15+AF16+AF17+AF18","v":7.5666352910000008},{"$f":"AG19+AG21+AG22","v":26.146599999999999},{"$f":"AH15+AH16+AH17+AH18","v":26.146599999999999},{"$f":"AI10+AI15+AI16+AI17+AI18","v":0},{"$f":"AJ10+AJ15+AJ16+AJ17+AJ18","v":26.146599999999999},{"$f":"AK10+AK15+AK16+AK17+AK18","v":16.6456382772},{"$f":"AL19+AL21+AL22","v":14.2615},{"$f":"AM15+AM16+AM17+AM18","v":14.2615},{"$f":"AN10+AN15+AN16+AN17+AN18","v":0},{"$f":"AO10+AO15+AO16+AO17+AO18","v":14.2615},{"$f":"AP10+AP15+AP16+AP17+AP18","v":9.0743393000000001},{"$f":"AQ19+AQ21+AQ22","v":11.8851},{"$f":"AR15+AR16+AR17+AR18","v":11.8851},{"$f":"AS10+AS15+AS16+AS17+AS18","v":0},{"$f":"AT10+AT15+AT16+AT17+AT18","v":11.8851},{"$f":"AU10+AU15+AU16+AU17+AU18","v":7.5624008199999988},{"$f":"AV19+AV21+AV22","v":26.146599999999999},{"$f":"AW15+AW16+AW17+AW18","v":26.146599999999999},{"$f":"AX10+AX15+AX16+AX17+AX18","v":0},{"$f":"AY10+AY15+AY16+AY17+AY18","v":26.146599999999999},{"$f":"AZ10+AZ15+AZ16+AZ17+AZ18","v":16.636760120000002},{"$f":"BA19+BA21+BA22","v":0},{"$f":"BB15+BB16+BB17+BB18","v":0},{"$f":"BC10+BC15+BC16+BC17+BC18","v":0},{"$f":"BD10+BD15+BD16+BD17+BD18","v":0},{"$f":"BE10+BE15+BE16+BE17+BE18","v":0},{"$f":"BF19+BF21+BF22","v":0},{"$f":"BG15+BG16+BG17+BG18","v":0},{"$f":"BH10+BH15+BH16+BH17+BH18","v":0},{"$f":"BI10+BI15+BI16+BI17+BI18","v":0},{"$f":"BJ10+BJ15+BJ16+BJ17+BJ18","v":0},{"$f":"BK19+BK21+BK22","v":0},{"$f":"BL15+BL16+BL17+BL18","v":0},{"$f":"BM10+BM15+BM16+BM17+BM18","v":0},{"$f":"BN10+BN15+BN16+BN17+BN18","v":0},{"$f":"BO10+BO15+BO16+BO17+BO18","v":0}]
["1.1.","из смежной сети, всего","х","х",{"$f":"E12","v":0},{"$f":"F12+F13","v":26.811900000000001},{"$f":"G12+G13+G14","v":18.074850679800001},"х","х",{"$f":"J12","v":0},{"$f":"K12+K13","v":13.01155},{"$f":"L12+L13+L14","v":9.0171341638000015},"х","х",{"$f":"O12","v":0},{"$f":"P12+P13","v":12.294560000000001},{"$f":"Q12+Q13+Q14","v":8.6001070137600006},"х","х",{"$f":"T12","v":0},{"$f":"U12+U13","v":25.306100000000001},{"$f":"V12+V13+V14","v":17.6171917956},"х","х",{"$f":"Y12","v":0},{"$f":"Z12+Z13","v":14.261100000000001},{"$f":"AA12+AA13+AA14","v":9.0790029862000026},"х","х",{"$f":"AD12","v":0},{"$f":"AE12+AE13","v":11.8855},{"$f":"AF12+AF13+AF14","v":7.5666352910000008},"х","х",{"$f":"AI12","v":0},{"$f":"AJ12+AJ13","v":26.146599999999999},{"$f":"AK12+AK13+AK14","v":16.6456382772},"х","х",{"$f":"AN12","v":0},{"$f":"AO12+AO13","v":14.2615},{"$f":"AP12+AP13+AP14","v":9.0743393000000001},"х","х",{"$f":"AS12","v":0},{"$f":"AT12+AT13","v":11.8851},{"$f":"AU12+AU13+AU14","v":7.5624008199999988},"х","х",{"$f":"AX12","v":0},{"$f":"AY12+AY13","v":26.146599999999999},{"$f":"AZ12+AZ13+AZ14","v":16.636760120000002},"х","х",{"$f":"BC12","v":0},{"$f":"BD12+BD13","v":0},{"$f":"BE12+BE13+BE14","v":0},"х","х",{"$f":"BH12","v":0},{"$f":"BI12+BI13","v":0},{"$f":"BJ12+BJ13+BJ14","v":0},"х","х",{"$f":"BM12","v":0},{"$f":"BN12+BN13","v":0},{"$f":"BO12+BO13+BO14","v":0}]
[null,"    в том числе из сети","х","х","х","х","х","х","х","х","х","х","х","х","х","х","х","х","х","х","х","х","х","х","х","х","х","х","х","х","х","х","х","х","х","х","х","х","х","х","х","х","х","х","х","х","х","х","х","х","х","х","х","х","х","х","х","х","х","х","х","х","х","х","х","х","х"]
["1.1.1.","ВН","х","х",null,{"$f":"D9-D19-D21-D22-E12-G12","v":26.811900000000001},null,"х","х",null,{"$f":"I9-I19-I21-I22-J12-L12","v":13.01155},null,"х","х",null,{"$f":"N9-N19-N21-N22-O12-Q12","v":12.294560000000001},null,"х","х",null,{"$f":"S9-S19-S21-S22-T12-V12","v":25.306100000000001},null,"х","х",null,{"$f":"X9-X19-X21-X22-Y12-AA12","v":14.261100000000001},null,"х","х",null,{"$f":"AC9-AC19-AC21-AC22-AD12-AF12","v":11.8855},null,"х","х",null,{"$f":"AH9-AH19-AH21-AH22-AI12-AK12","v":26.146599999999999},null,"х","х",null,{"$f":"AM9-AM19-AM21-AM22-AN12-AP12","v":14.2615},null,"х","х",null,{"$f":"AR9-AR19-AR21-AR22-AS12-AU12","v":11.8851},null,"х","х",null,{"$f":"AW9-AW19-AW21-AW22-AX12-AZ12","v":26.146599999999999},null,"х","х",null,{"$f":"BB9-BB19-BB21-BB22-BC12-BE12","v":0},null,"х","х",null,{"$f":"BG9-BG19-BG21-BG22-BH12-BJ12","v":0},null,"х","х",null,{"$f":"BL9-BL19-BL21-BL22-BM12-BO12","v":0}]
["1.1.2.","СН1","х","х","х",{"$f":"E9-E19-E21-E22-G13","v":0},null,"х","х","х",{"$f":"J9-J19-J21-J22-L13","v":0},null,"х","х","х",{"$f":"O9-O19-O21-O22-Q13","v":0},null,"х","х","х",{"$f":"T9-T19-T21-T22-V13","v":0},null,"х","х","х",{"$f":"Y9-Y19-Y21-Y22-AA13","v":0},null,"х","х","х",{"$f":"AD9-AD19-AD21-AD22-AF13","v":0},null,"х","х","х",{"$f":"AI9-AI19-AI21-AI22-AK13","v":0},null,"х","х","х",{"$f":"AN9-AN19-AN21-AN22-AP13","v":0},null,"х","х","х",{"$f":"AS9-AS19-AS21-AS22-AU13","v":0},null,"х","х","х",{"$f":"AX9-AX19-AX21-AX22-AZ13","v":0},null,"х","х","х",{"$f":"BC9-BC19-BC21-BC22-BE13","v":0},null,"х","х","х",{"$f":"BH9-BH19-BH21-BH22-BJ13","v":0},null,"х","х","х",{"$f":"BM9-BM19-BM21-BM22-BO13","v":0}]
["1.1.3.","СН2","х","х","х","х",{"$f":"F9-F19-F21-F22","v":18.074850679800001},"х","х","х","х",{"$f":"K9-K19-K21-K22","v":9.0171341638000015},"х","х","х","х",{"$f":"P9-P19-P21-P22","v":8.6001070137600006},"х","х","х","х",{"$f":"U9-U19-U21-U22","v":17.6171917956},"х","х","х","х",{"$f":"Z9-Z19-Z21-Z22","v":9.0790029862000026},"х","х","х","х",{"$f":"AE9-AE19-AE21-AE22","v":7.5666352910000008},"х","х","х","х",{"$f":"AJ9-AJ19-AJ21-AJ22","v":16.6456382772},"х","х","х","х",{"$f":"AO9-AO19-AO21-AO22","v":9.0743393000000001},"х","х","х","х",{"$f":"AT9-AT19-AT21-AT22","v":7.5624008199999988},"х","х","х","х",{"$f":"AY9-AY19-AY21-AY22","v":16.636760120000002},"х","х","х","х",{"$f":"BD9-BD19-BD21-BD22","v":0},"х","х","х","х",{"$f":"BI9-BI19-BI21-BI22","v":0},"х","х","х","х",{"$f":"BN9-BN19-BN21-BN22","v":0}]
["1.2.","от электростанций",{"$f":"SUM(D15:G15)","v":0},null,null,null,null,{"$f":"SUM(I15:L15)","v":0},null,null,null,null,{"$f":"SUM(N15:Q15)","v":0},null,null,null,null,{"$f":"SUM(S15:V15)","v":0},null,null,null,null,{"$f":"SUM(X15:AA15)","v":0},null,null,null,null,{"$f":"SUM(AC15:AF15)","v":0},null,null,null,null,{"$f":"SUM(AH15:AK15)","v":0},null,null,null,null,{"$f":"SUM(AM15:AP15)","v":0},null,null,null,null,{"$f":"SUM(AR15:AU15)","v":0},null,null,null,null,{"$f":"SUM(AW15:AZ15)","v":0},null,null,null,null,{"$f":"SUM(BB15:BE15)","v":0},null,null,null,null,{"$f":"SUM(BG15:BJ15)","v":0},null,null,null,null,{"$f":"SUM(BL15:BO15)","v":0}]
["1.3.","от ОАО \"ФСК ЕЭС\"",{"$f":"SUM(D16:G16)","v":0},null,null,null,null,{"$f":"SUM(I16:L16)","v":0},null,null,null,null,{"$f":"SUM(N16:Q16)","v":0},null,null,null,null,{"$f":"SUM(S16:V16)","v":0},null,null,null,null,{"$f":"SUM(X16:AA16)","v":0},null,null,null,null,{"$f":"SUM(AC16:AF16)","v":0},null,null,null,null,{"$f":"SUM(AH16:AK16)","v":0},null,null,null,null,{"$f":"SUM(AM16:AP16)","v":0},null,null,null,null,{"$f":"SUM(AR16:AU16)","v":0},null,null,null,null,{"$f":"SUM(AW16:AZ16)","v":0},null,null,null,null,{"$f":"SUM(BB16:BE16)","v":0},null,null,null,null,{"$f":"SUM(BG16:BJ16)","v":0},null,null,null,null,{"$f":"SUM(BL16:BO16)","v":0}]
["1.4.","от филиала \"Владимирэнерго\" ОАО \"МРСК Центра и Приволжья\" ",{"$f":"SUM(D17:G17)","v":26.811900000000001},26.811900000000001,null,null,null,{"$f":"SUM(I17:L17)","v":13.01155},13.01155,null,null,null,{"$f":"SUM(N17:Q17)","v":12.294560000000001},12.294560000000001,null,null,null,{"$f":"SUM(S17:V17)","v":25.306100000000001},25.306100000000001,null,null,null,{"$f":"SUM(X17:AA17)","v":14.261100000000001},14.261100000000001,null,null,null,{"$f":"SUM(AC17:AF17)","v":11.8855},11.8855,null,null,null,{"$f":"SUM(AH17:AK17)","v":26.146599999999999},26.146599999999999,null,null,null,{"$f":"SUM(AM17:AP17)","v":14.2615},14.2615,null,null,null,{"$f":"SUM(AR17:AU17)","v":11.8851},11.8851,null,null,null,{"$f":"SUM(AW17:AZ17)","v":26.146599999999999},26.146599999999999,null,null,null,{"$f":"SUM(BB17:BE17)","v":0},null,null,null,null,{"$f":"SUM(BG17:BJ17)","v":0},null,null,null,null,{"$f":"SUM(BL17:BO17)","v":0}]
["1.5.","от других сетевых организаций",{"$f":"SUM(D18:G18)","v":0},null,null,null,null,{"$f":"SUM(I18:L18)","v":0},null,null,null,null,{"$f":"SUM(N18:Q18)","v":0},null,null,null,null,{"$f":"SUM(S18:V18)","v":0},null,null,null,null,{"$f":"SUM(X18:AA18)","v":0},null,null,null,null,{"$f":"SUM(AC18:AF18)","v":0},null,null,null,null,{"$f":"SUM(AH18:AK18)","v":0},null,null,null,null,{"$f":"SUM(AM18:AP18)","v":0},null,null,null,null,{"$f":"SUM(AR18:AU18)","v":0},null,null,null,null,{"$f":"SUM(AW18:AZ18)","v":0},null,null,null,null,{"$f":"SUM(BB18:BE18)","v":0},null,null,null,null,{"$f":"SUM(BG18:BJ18)","v":0},null,null,null,null,{"$f":"SUM(BL18:BO18)","v":0}]
["2.","Потери электроэнергии в сети ",{"$f":"SUM(D19:G19)","v":3.8880933791552996},{"$f":"D9*D20/100","v":0},{"$f":"E9*E20/100","v":0},{"$f":"F9*F20/100","v":1.6558493202},{"$f":"G9*G20/100","v":2.2322440589552999},{"$f":"SUM(I19:L19)","v":1.5344545149919981},{"$f":"I9*I20/100","v":0},{"$f":"J9*J20/100","v":0},{"$f":"K9*K20/100","v":0.80416583619999993},{"$f":"L9*L20/100","v":0.73028867879199832},{"$f":"SUM(N19:Q19)","v":1.3972499175648223},{"$f":"N9*N20/100","v":0},{"$f":"O9*O20/100","v":0},{"$f":"P9*P20/100","v":0.75985298623999997},{"$f":"Q9*Q20/100","v":0.63739693132482245},{"$f":"SUM(S19:V19)","v":2.9316584206842231},{"$f":"S9*S20/100","v":0},{"$f":"T9*T20/100","v":0},{"$f":"U9*U20/100","v":1.5640182043999999},{"$f":"V9*V20/100","v":1.3676402162842234},{"$f":"SUM(X19:AA19)","v":2.0020029615986865},{"$f":"X9*X20/100","v":0},{"$f":"Y9*Y20/100","v":0},{"$f":"Z9*Z20/100","v":0.88073701380000002},{"$f":"AA9*AA20/100","v":1.1212659477986864},{"$f":"SUM(AC19:AF19)","v":1.6685041674384999},{"$f":"AC9*AC20/100","v":0},{"$f":"AD9*AD20/100","v":0},{"$f":"AE9*AE20/100","v":0.73402470899999994},{"$f":"AF9*AF20/100","v":0.93447945843850011},{"$f":"SUM(AH19:AK19)","v":3.6704980500341997},{"$f":"AH9*AH20/100","v":0},{"$f":"AI9*AI20/100","v":0},{"$f":"AJ9*AJ20/100","v":1.6147617228},{"$f":"AK9*AK20/100","v":2.0557363272341997},{"$f":"SUM(AM19:AP19)","v":2.0020416035499999},{"$f":"AM9*AM20/100","v":0},{"$f":"AN9*AN20/100","v":0},{"$f":"AO9*AO20/100","v":0.88136069999999989},{"$f":"AP9*AP20/100","v":1.1206809035500001},{"$f":"SUM(AR19:AU19)","v":1.6684556812699998},{"$f":"AR9*AR20/100","v":0},{"$f":"AS9*AS20/100","v":0},{"$f":"AT9*AT20/100","v":0.73449917999999992},{"$f":"AU9*AU20/100","v":0.93395650126999985},{"$f":"SUM(AW19:AZ19)","v":3.6704997548200002},{"$f":"AW9*AW20/100","v":0},{"$f":"AX9*AX20/100","v":0},{"$f":"AY9*AY20/100","v":1.6158598799999999},{"$f":"AZ9*AZ20/100","v":2.0546398748200003},{"$f":"SUM(BB19:BE19)","v":0},{"$f":"BB9*BB20/100","v":0},{"$f":"BC9*BC20/100","v":0},{"$f":"BD9*BD20/100","v":0},{"$f":"BE9*BE20/100","v":0},{"$f":"SUM(BG19:BJ19)","v":0},{"$f":"BG9*BG20/100","v":0},{"$f":"BH9*BH20/100","v":0},{"$f":"BI9*BI20/100","v":0},{"$f":"BJ9*BJ20/100","v":0},{"$f":"SUM(BL19:BO19)","v":0},{"$f":"BL9*BL20/100","v":0},{"$f":"BM9*BM20/100","v":0},{"$f":"BN9*BN20/100","v":0},{"$f":"BO9*BO20/100","v":0}]
["2.1.","то же в % (п.2./п.1.)",{"$f":"IF(C9=0,0,C19/C9*100)","v":14.501372074173405},null,null,6.1757999999999997,12.35,{"$f":"IF(H9=0,0,H19/H9*100)","v":11.793018625697922},null,null,6.1803999999999997,8.0989000000000004,{"$f":"IF(M9=0,0,M19/M9*100)","v":11.364781802397339},null,null,6.1803999999999997,7.4115000000000002,{"$f":"IF(R9=0,0,R19/R9*100)","v":11.584789519855777},null,null,6.1803999999999997,7.7630999999999997,{"$f":"IF(W9=0,0,W19/W9*100)","v":14.038208564547519},null,null,6.1757999999999997,12.350099999999999,{"$f":"IF(AB9=0,0,AB19/AB9*100)","v":14.038148731130368},null,null,6.1757999999999997,12.35,{"$f":"IF(AG9=0,0,AG19/AG9*100)","v":14.038146642524074},null,null,6.1757999999999997,12.35,{"$f":"IF(AL9=0,0,AL19/AL9*100)","v":14.038085780247519},null,null,6.18,12.35,{"$f":"IF(AQ9=0,0,AQ19/AQ9*100)","v":14.038213235647994},null,null,6.18,12.35,{"$f":"IF(AV9=0,0,AV19/AV9*100)","v":14.038153162629177},null,null,6.18,12.35,{"$f":"IF(BA9=0,0,BA19/BA9*100)","v":0},null,null,null,null,{"$f":"IF(BF9=0,0,BF19/BF9*100)","v":0},null,null,null,null,{"$f":"IF(BK9=0,0,BK19/BK9*100)","v":0}]
["3.","Расход электроэнергии на производственные и хознужды",{"$f":"SUM(D21:G21)","v":0},null,null,null,null,{"$f":"SUM(I21:L21)","v":0},null,null,null,null,{"$f":"SUM(N21:Q21)","v":0},null,null,null,null,{"$f":"SUM(S21:V21)","v":0},null,null,null,null,{"$f":"SUM(X21:AA21)","v":0},null,null,null,null,{"$f":"SUM(AC21:AF21)","v":0},null,null,null,null,{"$f":"SUM(AH21:AK21)","v":0},null,null,null,null,{"$f":"SUM(AM21:AP21)","v":0},null,null,null,null,{"$f":"SUM(AR21:AU21)","v":0},null,null,null,null,{"$f":"SUM(AW21:AZ21)","v":0},null,null,null,null,{"$f":"SUM(BB21:BE21)","v":0},null,null,null,null,{"$f":"SUM(BG21:BJ21)","v":0},null,null,null,null,{"$f":"SUM(BL21:BO21)","v":0}]
["4.","Полезный отпуск из сети ",{"$f":"SUM(D22:G22)","v":22.923806620844701},{"$f":"D23+D24+D25","v":0},{"$f":"E23+E24+E25","v":0},{"$f":"F23+F24+F25","v":7.0811999999999999},{"$f":"G9-G19-G21","v":15.842606620844702},{"$f":"SUM(I22:L22)","v":11.477095485008004},{"$f":"I23+I24+I25","v":0},{"$f":"J23+J24+J25","v":0},{"$f":"K23+K24+K25","v":3.1902499999999998},{"$f":"L9-L19-L21","v":8.2868454850080031},{"$f":"SUM(N22:Q22)","v":10.897310082435178},{"$f":"N23+N24+N25","v":0},{"$f":"O23+O24+O25","v":0},{"$f":"P23+P24+P25","v":2.9346000000000001},{"$f":"Q9-Q19-Q21","v":7.9627100824351782},{"$f":"SUM(S22:V22)","v":22.374441579315778},{"$f":"S23+S24+S25","v":0},{"$f":"T23+T24+T25","v":0},{"$f":"U23+U24+U25","v":6.1248899999999997},{"$f":"V9-V19-V21","v":16.249551579315778},{"$f":"SUM(X22:AA22)","v":12.259097038401315},{"$f":"X23+X24+X25","v":0},{"$f":"Y23+Y24+Y25","v":0},{"$f":"Z23+Z24+Z25","v":4.3013599999999999},{"$f":"AA9-AA19-AA21","v":7.9577370384013157},{"$f":"SUM(AC22:AF22)","v":10.216995832561501},{"$f":"AC23+AC24+AC25","v":0},{"$f":"AD23+AD24+AD25","v":0},{"$f":"AE23+AE24+AE25","v":3.5848399999999998},{"$f":"AF9-AF19-AF21","v":6.6321558325615007},{"$f":"SUM(AH22:AK22)","v":22.476101949965798},{"$f":"AH23+AH24+AH25","v":0},{"$f":"AI23+AI24+AI25","v":0},{"$f":"AJ23+AJ24+AJ25","v":7.8861999999999997},{"$f":"AK9-AK19-AK21","v":14.5899019499658},{"$f":"SUM(AM22:AP22)","v":12.25945839645},{"$f":"AM23+AM24+AM25","v":0},{"$f":"AN23+AN24+AN25","v":0},{"$f":"AO23+AO24+AO25","v":4.3057999999999996},{"$f":"AP9-AP19-AP21","v":7.9536583964499998},{"$f":"SUM(AR22:AU22)","v":10.216644318729999},{"$f":"AR23+AR24+AR25","v":0},{"$f":"AS23+AS24+AS25","v":0},{"$f":"AT23+AT24+AT25","v":3.5882000000000001},{"$f":"AU9-AU19-AU21","v":6.6284443187299988},{"$f":"SUM(AW22:AZ22)","v":22.47610024518},{"$f":"AW23+AW24+AW25","v":0},{"$f":"AX23+AX24+AX25","v":0},{"$f":"AY23+AY24+AY25","v":7.89398},{"$f":"AZ9-AZ19-AZ21","v":14.58212024518},{"$f":"SUM(BB22:BE22)","v":0},{"$f":"BB23+BB24+BB25","v":0},{"$f":"BC23+BC24+BC25","v":0},{"$f":"BD23+BD24+BD25","v":0},{"$f":"BE9-BE19-BE21","v":0},{"$f":"SUM(BG22:BJ22)","v":0},{"$f":"BG23+BG24+BG25","v":0},{"$f":"BH23+BH24+BH25","v":0},{"$f":"BI23+BI24+BI25","v":0},{"$f":"BJ9-BJ19-BJ21","v":0},{"$f":"SUM(BL22:BO22)","v":0},{"$f":"BL23+BL24+BL25","v":0},{"$f":"BM23+BM24+BM25","v":0},{"$f":"BN23+BN24+BN25","v":0},{"$f":"BO9-BO19-BO21","v":0}]
["4.1.","потребителям, присоединенным к сети",{"$f":"SUM(D23:G23)","v":22.923806620844701},null,null,7.0811999999999999,15.8426066208447,{"$f":"SUM(I23:L23)","v":11.477087999999998},null,null,3.1902499999999998,8.2868379999999995,{"$f":"SUM(N23:Q23)","v":10.897283},null,null,2.9346000000000001,7.9626830000000002,{"$f":"SUM(S23:V23)","v":22.374410000000001},null,null,6.1248899999999997,16.24952,{"$f":"SUM(X23:AA23)","v":12.259119999999999},null,null,4.3013599999999999,7.9577600000000004,{"$f":"SUM(AC23:AF23)","v":10.217029999999999},null,null,3.5848399999999998,6.6321899999999996,{"$f":"SUM(AH23:AK23)","v":22.476099999999999},null,null,7.8861999999999997,14.5899,{"$f":"SUM(AM23:AP23)","v":12.259499999999999},null,null,4.3057999999999996,7.9537000000000004,{"$f":"SUM(AR23:AU23)","v":10.2166},null,null,3.5882000000000001,6.6284000000000001,{"$f":"SUM(AW23:AZ23)","v":22.476099999999999},null,null,7.89398,14.58212,{"$f":"SUM(BB23:BE23)","v":0},null,null,null,null,{"$f":"SUM(BG23:BJ23)","v":0},null,null,null,null,{"$f":"SUM(BL23:BO23)","v":0}]
["4.2.","переток в филиал \"Владимирэнерго\" ОАО \"МРСК Центра и Приволжья\" ",{"$f":"SUM(D24:G24)","v":0},null,null,null,null,{"$f":"SUM(I24:L24)","v":0},null,null,null,null,{"$f":"SUM(N24:Q24)","v":0},null,null,null,null,{"$f":"SUM(S24:V24)","v":0},null,null,null,null,{"$f":"SUM(X24:AA24)","v":0},null,null,null,null,{"$f":"SUM(AC24:AF24)","v":0},null,null,null,null,{"$f":"SUM(AH24:AK24)","v":0},null,null,null,null,{"$f":"SUM(AM24:AP24)","v":0},null,null,null,null,{"$f":"SUM(AR24:AU24)","v":0},null,null,null,null,{"$f":"SUM(AW24:AZ24)","v":0},null,null,null,null,{"$f":"SUM(BB24:BE24)","v":0},null,null,null,null,{"$f":"SUM(BG24:BJ24)","v":0},null,null,null,null,{"$f":"SUM(BL24:BO24)","v":0}]
["4.3.","переток в другие сетевые организации",{"$f":"SUM(D25:G25)","v":0},null,null,null,null,{"$f":"SUM(I25:L25)","v":0},null,null,null,null,{"$f":"SUM(N25:Q25)","v":0},null,null,null,null,{"$f":"SUM(S25:V25)","v":0},null,null,null,null,{"$f":"SUM(X25:AA25)","v":0},null,null,null,null,{"$f":"SUM(AC25:AF25)","v":0},null,null,null,null,{"$f":"SUM(AH25:AK25)","v":0},null,null,null,null,{"$f":"SUM(AM25:AP25)","v":0},null,null,null,null,{"$f":"SUM(AR25:AU25)","v":0},null,null,null,null,{"$f":"SUM(AW25:AZ25)","v":0},null,null,null,null,{"$f":"SUM(BB25:BE25)","v":0},null,null,null,null,{"$f":"SUM(BG25:BJ25)","v":0},null,null,null,null,{"$f":"SUM(BL25:BO25)","v":0}]
[null,"Проверка",null,{"$f":"D9-D19-D21-D23-D24-D25-E12-F12-G12","v":0},{"$f":"E9-E19-E21-E23-E24-E25-F13-G13","v":0},{"$f":"F9-F19-F21-F23-F24-F25-G14","v":0},{"$f":"G9-G19-G21-G23-G24-G25","v":1.7763568394002505E-15},null,{"$f":"I9-I19-I21-I23-I24-I25-J12-K12-L12","v":0},{"$f":"J9-J19-J21-J23-J24-J25-K13-L13","v":0},{"$f":"K9-K19-K21-K23-K24-K25-L14","v":0},{"$f":"L9-L19-L21-L23-L24-L25","v":7.4850080036270583E-6},null,{"$f":"N9-N19-N21-N23-N24-N25-O12-P12-Q12","v":0},{"$f":"O9-O19-O21-O23-O24-O25-P13-Q13","v":0},{"$f":"P9-P19-P21-P23-P24-P25-Q14","v":0},{"$f":"Q9-Q19-Q21-Q23-Q24-Q25","v":2.708243517801634E-5},null,{"$f":"S9-S19-S21-S23-S24-S25-T12-U12-V12","v":0},{"$f":"T9-T19-T21-T23-T24-T25-U13-V13","v":0},{"$f":"U9-U19-U21-U23-U24-U25-V14","v":0},{"$f":"V9-V19-V21-V23-V24-V25","v":3.1579315777463535E-5},null,{"$f":"X9-X19-X21-X23-X24-X25-Y12-Z12-AA12","v":0},{"$f":"Y9-Y19-Y21-Y23-Y24-Y25-Z13-AA13","v":0},{"$f":"Z9-Z19-Z21-Z23-Z24-Z25-AA14","v":0},{"$f":"AA9-AA19-AA21-AA23-AA24-AA25","v":-2.2961598684645423E-5},null,{"$f":"AC9-AC19-AC21-AC23-AC24-AC25-AD12-AE12-AF12","v":0},{"$f":"AD9-AD19-AD21-AD23-AD24-AD25-AE13-AF13","v":0},{"$f":"AE9-AE19-AE21-AE23-AE24-AE25-AF14","v":0},{"$f":"AF9-AF19-AF21-AF23-AF24-AF25","v":-3.4167438498933222E-5},null,{"$f":"AH9-AH19-AH21-AH23-AH24-AH25-AI12-AJ12-AK12","v":0},{"$f":"AI9-AI19-AI21-AI23-AI24-AI25-AJ13-AK13","v":0},{"$f":"AJ9-AJ19-AJ21-AJ23-AJ24-AJ25-AK14","v":0},{"$f":"AK9-AK19-AK21-AK23-AK24-AK25","v":1.9499657994970221E-6},null,{"$f":"AM9-AM19-AM21-AM23-AM24-AM25-AN12-AO12-AP12","v":0},{"$f":"AN9-AN19-AN21-AN23-AN24-AN25-AO13-AP13","v":0},{"$f":"AO9-AO19-AO21-AO23-AO24-AO25-AP14","v":0},{"$f":"AP9-AP19-AP21-AP23-AP24-AP25","v":-4.1603550000601786E-5},null,{"$f":"AR9-AR19-AR21-AR23-AR24-AR25-AS12-AT12-AU12","v":0},{"$f":"AS9-AS19-AS21-AS23-AS24-AS25-AT13-AU13","v":0},{"$f":"AT9-AT19-AT21-AT23-AT24-AT25-AU14","v":0},{"$f":"AU9-AU19-AU21-AU23-AU24-AU25","v":4.4318729998771289E-5},null,{"$f":"AW9-AW19-AW21-AW23-AW24-AW25-AX12-AY12-AZ12","v":0},{"$f":"AX9-AX19-AX21-AX23-AX24-AX25-AY13-AZ13","v":0},{"$f":"AY9-AY19-AY21-AY23-AY24-AY25-AZ14","v":0},{"$f":"AZ9-AZ19-AZ21-AZ23-AZ24-AZ25","v":2.4518000074635893E-7},null,{"$f":"BB9-BB19-BB21-BB23-BB24-BB25-BC12-BD12-BE12","v":0},{"$f":"BC9-BC19-BC21-BC23-BC24-BC25-BD13-BE13","v":0},{"$f":"BD9-BD19-BD21-BD23-BD24-BD25-BE14","v":0},{"$f":"BE9-BE19-BE21-BE23-BE24-BE25","v":0},null,{"$f":"BG9-BG19-BG21-BG23-BG24-BG25-BH12-BI12-BJ12","v":0},{"$f":"BH9-BH19-BH21-BH23-BH24-BH25-BI13-BJ13","v":0},{"$f":"BI9-BI19-BI21-BI23-BI24-BI25-BJ14","v":0},{"$f":"BJ9-BJ19-BJ21-BJ23-BJ24-BJ25","v":0},null,{"$f":"BL9-BL19-BL21-BL23-BL24-BL25-BM12-BN12-BO12","v":0},{"$f":"BM9-BM19-BM21-BM23-BM24-BM25-BN13-BO13","v":0},{"$f":"BN9-BN19-BN21-BN23-BN24-BN25-BO14","v":0},{"$f":"BO9-BO19-BO21-BO23-BO24-BO25","v":0}]
[]
[null,"Примечание"]
[]
[null,"Расшифровка п. 1.5. (Поступление от других сетевых организаций) "]
["№","Наименование других сетевых организаций","Всего","ВН","СН1","СН2","НН","Всего","ВН","СН1","СН2","НН","Всего","ВН","СН1","СН2","НН","Всего","ВН","СН1","СН2","НН","Всего","ВН","СН1","СН2","НН","Всего","ВН","СН1","СН2","НН","Всего","ВН","СН1","СН2","НН","Всего","ВН","СН1","СН2","НН","Всего","ВН","СН1","СН2","НН","Всего","ВН","СН1","СН2","НН","Всего","ВН","СН1","СН2","НН","Всего","ВН","СН1","СН2","НН","Всего","ВН","СН1","СН2","НН"]
[null,null,{"$f":"SUM(D32:G32)","v":0},null,null,null,null,{"$f":"SUM(I32:L32)","v":0},null,null,null,null,{"$f":"SUM(N32:Q32)","v":0},null,null,null,null,{"$f":"SUM(S32:V32)","v":0},null,null,null,null,{"$f":"SUM(X32:AA32)","v":0},null,null,null,null,{"$f":"SUM(AC32:AF32)","v":0},null,null,null,null,{"$f":"SUM(AH32:AK32)","v":0},null,null,null,null,{"$f":"SUM(AM32:AP32)","v":0},null,null,null,null,{"$f":"SUM(AR32:AU32)","v":0},null,null,null,null,{"$f":"SUM(AW32:AZ32)","v":0},null,null,null,null,{"$f":"SUM(BB32:BE32)","v":0},null,null,null,null,{"$f":"SUM(BG32:BJ32)","v":0},null,null,null,null,{"$f":"SUM(BL32:BO32)","v":0}]
[null,null,{"$f":"SUM(D33:G33)","v":0},null,null,null,null,{"$f":"SUM(I33:L33)","v":0},null,null,null,null,{"$f":"SUM(N33:Q33)","v":0},null,null,null,null,{"$f":"SUM(S33:V33)","v":0},null,null,null,null,{"$f":"SUM(X33:AA33)","v":0},null,null,null,null,{"$f":"SUM(AC33:AF33)","v":0},null,null,null,null,{"$f":"SUM(AH33:AK33)","v":0},null,null,null,null,{"$f":"SUM(AM33:AP33)","v":0},null,null,null,null,{"$f":"SUM(AR33:AU33)","v":0},null,null,null,null,{"$f":"SUM(AW33:AZ33)","v":0},null,null,null,null,{"$f":"SUM(BB33:BE33)","v":0},null,null,null,null,{"$f":"SUM(BG33:BJ33)","v":0},null,null,null,null,{"$f":"SUM(BL33:BO33)","v":0}]
[null,null,{"$f":"SUM(D34:G34)","v":0},null,null,null,null,{"$f":"SUM(I34:L34)","v":0},null,null,null,null,{"$f":"SUM(N34:Q34)","v":0},null,null,null,null,{"$f":"SUM(S34:V34)","v":0},null,null,null,null,{"$f":"SUM(X34:AA34)","v":0},null,null,null,null,{"$f":"SUM(AC34:AF34)","v":0},null,null,null,null,{"$f":"SUM(AH34:AK34)","v":0},null,null,null,null,{"$f":"SUM(AM34:AP34)","v":0},null,null,null,null,{"$f":"SUM(AR34:AU34)","v":0},null,null,null,null,{"$f":"SUM(AW34:AZ34)","v":0},null,null,null,null,{"$f":"SUM(BB34:BE34)","v":0},null,null,null,null,{"$f":"SUM(BG34:BJ34)","v":0},null,null,null,null,{"$f":"SUM(BL34:BO34)","v":0}]
[null,null,{"$f":"SUM(D35:G35)","v":0},null,null,null,null,{"$f":"SUM(I35:L35)","v":0},null,null,null,null,{"$f":"SUM(N35:Q35)","v":0},null,null,null,null,{"$f":"SUM(S35:V35)","v":0},null,null,null,null,{"$f":"SUM(X35:AA35)","v":0},null,null,null,null,{"$f":"SUM(AC35:AF35)","v":0},null,null,null,null,{"$f":"SUM(AH35:AK35)","v":0},null,null,null,null,{"$f":"SUM(AM35:AP35)","v":0},null,null,null,null,{"$f":"SUM(AR35:AU35)","v":0},null,null,null,null,{"$f":"SUM(AW35:AZ35)","v":0},null,null,null,null,{"$f":"SUM(BB35:BE35)","v":0},null,null,null,null,{"$f":"SUM(BG35:BJ35)","v":0},null,null,null,null,{"$f":"SUM(BL35:BO35)","v":0}]
["Добавить"]
[null,"Итого",{"$f":"SUM(C32:C35)","v":0},{"$f":"SUM(D32:D35)","v":0},{"$f":"SUM(E32:E35)","v":0},{"$f":"SUM(F32:F35)","v":0},{"$f":"SUM(G32:G35)","v":0},{"$f":"SUM(H32:H35)","v":0},0,0,0,0,0,0,0,0,0,0,0,0,0,0,0,0,0,0,0,0,0,0,0,0,0,0,0,0,0,0,0,0,0,0,0,0,0,0,0,{"$f":"SUM(AV32:AV35)","v":0},{"$f":"SUM(AW32:AW35)","v":0},{"$f":"SUM(AX32:AX35)","v":0},{"$f":"SUM(AY32:AY35)","v":0},{"$f":"SUM(AZ32:AZ35)","v":0},{"$f":"SUM(BA32:BA35)","v":0},0,0,0,0,0,0,0,0,0,{"$f":"SUM(BK32:BK35)","v":0},{"$f":"SUM(BL32:BL35)","v":0},{"$f":"SUM(BM32:BM35)","v":0},{"$f":"SUM(BN32:BN35)","v":0},{"$f":"SUM(BO32:BO35)","v":0}]
[]
[null,"Расшифровка п. 4.3. (Полезный отпуск - переток в другие сетевые организации) "]
["№","Наименование других сетевых организаций","Всего","ВН","СН1","СН2","НН","Всего","ВН","СН1","СН2","НН","Всего","ВН","СН1","СН2","НН","Всего","ВН","СН1","СН2","НН","Всего","ВН","СН1","СН2","НН","Всего","ВН","СН1","СН2","НН","Всего","ВН","СН1","СН2","НН","Всего","ВН","СН1","СН2","НН","Всего","ВН","СН1","СН2","НН","Всего","ВН","СН1","СН2","НН","Всего","ВН","СН1","СН2","НН","Всего","ВН","СН1","СН2","НН","Всего","ВН","СН1","СН2","НН"]
[null,null,{"$f":"SUM(D41:G41)","v":0},null,null,null,null,{"$f":"SUM(I41:L41)","v":0},null,null,null,null,{"$f":"SUM(N41:Q41)","v":0},null,null,null,null,{"$f":"SUM(S41:V41)","v":0},null,null,null,null,{"$f":"SUM(X41:AA41)","v":0},null,null,null,null,{"$f":"SUM(AC41:AF41)","v":0},null,null,null,null,{"$f":"SUM(AH41:AK41)","v":0},null,null,null,null,{"$f":"SUM(AM41:AP41)","v":0},null,null,null,null,{"$f":"SUM(AR41:AU41)","v":0},null,null,null,null,{"$f":"SUM(AW41:AZ41)","v":0},null,null,null,null,{"$f":"SUM(BB41:BE41)","v":0},null,null,null,null,{"$f":"SUM(BG41:BJ41)","v":0},null,null,null,null,{"$f":"SUM(BL41:BO41)","v":0}]
[null,null,0,null,null,null,null,0,null,null,null,null,0,null,null,null,null,0,null,null,null,null,0,null,null,null,null,0,null,null,null,null,0,null,null,null,null,0,null,null,null,null,0,null,null,null,null,0,null,null,null,null,0,null,null,null,null,0,null,null,null,null,0]
[null,null,0,null,null,null,null,0,null,null,null,null,0,null,null,null,null,0,null,null,null,null,0,null,null,null,null,0,null,null,null,null,0,null,null,null,null,0,null,null,null,null,0,null,null,null,null,0,null,null,null,null,0,null,null,null,null,0,null,null,null,null,0]
[null,null,0,null,null,null,null,0,null,null,null,null,0,null,null,null,null,0,null,null,null,null,0,null,null,null,null,0,null,null,null,null,0,null,null,null,null,0,null,null,null,null,0,null,null,null,null,0,null,null,null,null,0,null,null,null,null,0,null,null,null,null,0]
[null,null,0,null,null,null,null,0,null,null,null,null,0,null,null,null,null,0,null,null,null,null,0,null,null,null,null,0,null,null,null,null,0,null,null,null,null,0,null,null,null,null,0,null,null,null,null,0,null,null,null,null,0,null,null,null,null,0,null,null,null,null,0]
[null,null,0,null,null,null,null,0,null,null,null,null,0,null,null,null,null,0,null,null,null,null,0,null,null,null,null,0,null,null,null,null,0,null,null,null,null,0,null,null,null,null,0,null,null,null,null,0,null,null,null,null,0,null,null,null,null,0,null,null,null,null,0]
["Добавить"]
[null,"Итого",{"$f":"SUM(C41:C46)","v":0},{"$f":"SUM(D41:D46)","v":0},{"$f":"SUM(E41:E46)","v":0},{"$f":"SUM(F41:F46)","v":0},{"$f":"SUM(G41:G46)","v":0},{"$f":"SUM(H41:H46)","v":0},0,0,0,0,0,0,0,0,0,0,0,0,0,0,0,0,0,0,0,0,0,0,0,0,0,0,0,0,0,0,0,0,0,0,0,0,0,0,0,{"$f":"SUM(AV41:AV46)","v":0},{"$f":"SUM(AW41:AW46)","v":0},{"$f":"SUM(AX41:AX46)","v":0},{"$f":"SUM(AY41:AY46)","v":0},{"$f":"SUM(AZ41:AZ46)","v":0},{"$f":"SUM(BA41:BA46)","v":0},0,0,0,0,0,0,0,0,0,{"$f":"SUM(BK41:BK46)","v":0},{"$f":"SUM(BL41:BL46)","v":0},{"$f":"SUM(BM41:BM46)","v":0},{"$f":"SUM(BN41:BN46)","v":0},{"$f":"SUM(BO41:BO46)","v":0}]
[]
[null,"Расшифровка п. 4.1. (Полезный отпуск потребителям,  присоединенным к сети) "]
["№","Наименование сбытовых организаций","Всего","ВН","СН1","СН2","НН","Всего","ВН","СН1","СН2","НН","Всего","ВН","СН1","СН2","НН","Всего","ВН","СН1","СН2","НН","Всего","ВН","СН1","СН2","НН","Всего","ВН","СН1","СН2","НН","Всего","ВН","СН1","СН2","НН","Всего","ВН","СН1","СН2","НН","Всего","ВН","СН1","СН2","НН","Всего","ВН","СН1","СН2","НН","Всего","ВН","СН1","СН2","НН","Всего","ВН","СН1","СН2","НН","Всего","ВН","СН1","СН2","НН"]
["1.","ОАО \"Владимирэнергосбыт\" всего, в том числе:",{"$f":"D52+E52+F52+G52","v":0},{"$f":"D53+D54","v":0},{"$f":"E53+E54","v":0},{"$f":"F53+F54","v":0},{"$f":"G53+G54","v":0},{"$f":"I52+J52+K52+L52","v":0},{"$f":"I53+I54","v":0},{"$f":"J53+J54","v":0},{"$f":"K53+K54","v":0},{"$f":"L53+L54","v":0},{"$f":"N52+O52+P52+Q52","v":0},{"$f":"N53+N54","v":0},{"$f":"O53+O54","v":0},{"$f":"P53+P54","v":0},{"$f":"Q53+Q54","v":0},{"$f":"S52+T52+U52+V52","v":0},{"$f":"S53+S54","v":0},{"$f":"T53+T54","v":0},{"$f":"U53+U54","v":0},{"$f":"V53+V54","v":0},{"$f":"X52+Y52+Z52+AA52","v":0},{"$f":"X53+X54","v":0},{"$f":"Y53+Y54","v":0},{"$f":"Z53+Z54","v":0},{"$f":"AA53+AA54","v":0},{"$f":"AC52+AD52+AE52+AF52","v":0},{"$f":"AC53+AC54","v":0},{"$f":"AD53+AD54","v":0},{"$f":"AE53+AE54","v":0},{"$f":"AF53+AF54","v":0},{"$f":"AH52+AI52+AJ52+AK52","v":0},{"$f":"AH53+AH54","v":0},{"$f":"AI53+AI54","v":0},{"$f":"AJ53+AJ54","v":0},{"$f":"AK53+AK54","v":0},{"$f":"AM52+AN52+AO52+AP52","v":0},{"$f":"AM53+AM54","v":0},{"$f":"AN53+AN54","v":0},{"$f":"AO53+AO54","v":0},{"$f":"AP53+AP54","v":0},{"$f":"AR52+AS52+AT52+AU52","v":0},{"$f":"AR53+AR54","v":0},{"$f":"AS53+AS54","v":0},{"$f":"AT53+AT54","v":0},{"$f":"AU53+AU54","v":0},{"$f":"AW52+AX52+AY52+AZ52","v":0},{"$f":"AW53+AW54","v":0},{"$f":"AX53+AX54","v":0},{"$f":"AY53+AY54","v":0},{"$f":"AZ53+AZ54","v":0},{"$f":"BB52+BC52+BD52+BE52","v":0},{"$f":"BB53+BB54","v":0},{"$f":"BC53+BC54","v":0},{"$f":"BD53+BD54","v":0},{"$f":"BE53+BE54","v":0},{"$f":"BG52+BH52+BI52+BJ52","v":0},{"$f":"BG53+BG54","v":0},{"$f":"BH53+BH54","v":0},{"$f":"BI53+BI54","v":0},{"$f":"BJ53+BJ54","v":0},{"$f":"BL52+BM52+BN52+BO52","v":0},{"$f":"BL53+BL54","v":0},{"$f":"BM53+BM54","v":0},{"$f":"BN53+BN54","v":0},{"$f":"BO53+BO54","v":0}]
["1.1.","прочие потребители",{"$f":"D53+E53+F53+G53","v":0},null,null,null,null,{"$f":"I53+J53+K53+L53","v":0},null,null,null,null,{"$f":"N53+O53+P53+Q53","v":0},null,null,null,null,{"$f":"S53+T53+U53+V53","v":0},null,null,null,null,{"$f":"X53+Y53+Z53+AA53","v":0},null,null,null,null,{"$f":"AC53+AD53+AE53+AF53","v":0},null,null,null,null,{"$f":"AH53+AI53+AJ53+AK53","v":0},null,null,null,null,{"$f":"AM53+AN53+AO53+AP53","v":0},null,null,null,null,{"$f":"AR53+AS53+AT53+AU53","v":0},null,null,null,null,{"$f":"AW53+AX53+AY53+AZ53","v":0},null,null,null,null,{"$f":"BB53+BC53+BD53+BE53","v":0},null,null,null,null,{"$f":"BG53+BH53+BI53+BJ53","v":0},null,null,null,null,{"$f":"BL53+BM53+BN53+BO53","v":0}]
["1.2.","население",{"$f":"D54+E54+F54+G54","v":0},null,null,null,null,0,null,null,null,null,0,null,null,null,null,0,null,null,null,null,0,null,null,null,null,0,null,null,null,null,0,null,null,null,null,0,null,null,null,null,0,null,null,null,null,0,null,null,null,null,0,null,null,null,null,0,null,null,null,null,0]
["2.","ОАО \"ВКС\" всего, в том числе:",0,{"$f":"D56+D57","v":0},{"$f":"E56+E57","v":0},{"$f":"F56+F57","v":0},{"$f":"G56+G57","v":0},0,{"$f":"I56+I57","v":0},{"$f":"J56+J57","v":0},{"$f":"K56+K57","v":0},{"$f":"L56+L57","v":0},0,{"$f":"N56+N57","v":0},{"$f":"O56+O57","v":0},{"$f":"P56+P57","v":0},{"$f":"Q56+Q57","v":0},0,{"$f":"S56+S57","v":0},{"$f":"T56+T57","v":0},{"$f":"U56+U57","v":0},{"$f":"V56+V57","v":0},0,{"$f":"X56+X57","v":0},{"$f":"Y56+Y57","v":0},{"$f":"Z56+Z57","v":0},{"$f":"AA56+AA57","v":0},0,{"$f":"AC56+AC57","v":0},{"$f":"AD56+AD57","v":0},{"$f":"AE56+AE57","v":0},{"$f":"AF56+AF57","v":0},0,{"$f":"AH56+AH57","v":0},{"$f":"AI56+AI57","v":0},{"$f":"AJ56+AJ57","v":0},{"$f":"AK56+AK57","v":0},0,{"$f":"AM56+AM57","v":0},{"$f":"AN56+AN57","v":0},{"$f":"AO56+AO57","v":0},{"$f":"AP56+AP57","v":0},0,{"$f":"AR56+AR57","v":0},{"$f":"AS56+AS57","v":0},{"$f":"AT56+AT57","v":0},{"$f":"AU56+AU57","v":0},0,{"$f":"AW56+AW57","v":0},{"$f":"AX56+AX57","v":0},{"$f":"AY56+AY57","v":0},{"$f":"AZ56+AZ57","v":0},0,{"$f":"BB56+BB57","v":0},{"$f":"BC56+BC57","v":0},{"$f":"BD56+BD57","v":0},{"$f":"BE56+BE57","v":0},0,{"$f":"BG56+BG57","v":0},{"$f":"BH56+BH57","v":0},{"$f":"BI56+BI57","v":0},{"$f":"BJ56+BJ57","v":0},0,{"$f":"BL56+BL57","v":0},{"$f":"BM56+BM57","v":0},{"$f":"BN56+BN57","v":0},{"$f":"BO56+BO57","v":0}]
["2.1.","прочие потребители",0,null,null,null,null,0,null,null,null,null,0,null,null,null,null,0,null,null,null,null,0,null,null,null,null,0,null,null,null,null,0,null,null,null,null,0,null,null,null,null,0,null,null,null,null,0,null,null,null,null,0,null,null,null,null,0,null,null,null,null,0]
["2.2.","население",0,null,null,null,null,0,null,null,null,null,0,null,null,null,null,0,null,null,null,null,0,null,null,null,null,0,null,null,null,null,0,null,null,null,null,0,null,null,null,null,0,null,null,null,null,0,null,null,null,null,0,null,null,null,null,0,null,null,null,null,0]
["3.","ОАО \"Русэнергосбыт\"",0,{"$f":"D59+D60","v":0},{"$f":"E59+E60","v":0},{"$f":"F59+F60","v":0},{"$f":"G59+G60","v":0},0,{"$f":"I59+I60","v":0},{"$f":"J59+J60","v":0},{"$f":"K59+K60","v":0},{"$f":"L59+L60","v":0},0,{"$f":"N59+N60","v":0},{"$f":"O59+O60","v":0},{"$f":"P59+P60","v":0},{"$f":"Q59+Q60","v":0},0,{"$f":"S59+S60","v":0},{"$f":"T59+T60","v":0},{"$f":"U59+U60","v":0},{"$f":"V59+V60","v":0},0,{"$f":"X59+X60","v":0},{"$f":"Y59+Y60","v":0},{"$f":"Z59+Z60","v":0},{"$f":"AA59+AA60","v":0},0,{"$f":"AC59+AC60","v":0},{"$f":"AD59+AD60","v":0},{"$f":"AE59+AE60","v":0},{"$f":"AF59+AF60","v":0},0,{"$f":"AH59+AH60","v":0},{"$f":"AI59+AI60","v":0},{"$f":"AJ59+AJ60","v":0},{"$f":"AK59+AK60","v":0},0,{"$f":"AM59+AM60","v":0},{"$f":"AN59+AN60","v":0},{"$f":"AO59+AO60","v":0},{"$f":"AP59+AP60","v":0},0,{"$f":"AR59+AR60","v":0},{"$f":"AS59+AS60","v":0},{"$f":"AT59+AT60","v":0},{"$f":"AU59+AU60","v":0},0,{"$f":"AW59+AW60","v":0},{"$f":"AX59+AX60","v":0},{"$f":"AY59+AY60","v":0},{"$f":"AZ59+AZ60","v":0},0,{"$f":"BB59+BB60","v":0},{"$f":"BC59+BC60","v":0},{"$f":"BD59+BD60","v":0},{"$f":"BE59+BE60","v":0},0,{"$f":"BG59+BG60","v":0},{"$f":"BH59+BH60","v":0},{"$f":"BI59+BI60","v":0},{"$f":"BJ59+BJ60","v":0},0,{"$f":"BL59+BL60","v":0},{"$f":"BM59+BM60","v":0},{"$f":"BN59+BN60","v":0},{"$f":"BO59+BO60","v":0}]
["3.1.","прочие потребители",0,null,null,null,null,0,null,null,null,null,0,null,null,null,null,0,null,null,null,null,0,null,null,null,null,0,null,null,null,null,0,null,null,null,null,0,null,null,null,null,0,null,null,null,null,0,null,null,null,null,0,null,null,null,null,0,null,null,null,null,0]
["3.2.","население",0,null,null,null,null,0,null,null,null,null,0,null,null,null,null,0,null,null,null,null,0,null,null,null,null,0,null,null,null,null,0,null,null,null,null,0,null,null,null,null,0,null,null,null,null,0,null,null,null,null,0,null,null,null,null,0,null,null,null,null,0]
["4.","ОАО \"Оборонэнергосбыт\"",0,{"$f":"D62+D63","v":0},{"$f":"E62+E63","v":0},{"$f":"F62+F63","v":0},{"$f":"G62+G63","v":0},0,{"$f":"I62+I63","v":0},{"$f":"J62+J63","v":0},{"$f":"K62+K63","v":0},{"$f":"L62+L63","v":0},0,{"$f":"N62+N63","v":0},{"$f":"O62+O63","v":0},{"$f":"P62+P63","v":0},{"$f":"Q62+Q63","v":0},0,{"$f":"S62+S63","v":0},{"$f":"T62+T63","v":0},{"$f":"U62+U63","v":0},{"$f":"V62+V63","v":0},0,{"$f":"X62+X63","v":0},{"$f":"Y62+Y63","v":0},{"$f":"Z62+Z63","v":0},{"$f":"AA62+AA63","v":0},0,{"$f":"AC62+AC63","v":0},{"$f":"AD62+AD63","v":0},{"$f":"AE62+AE63","v":0},{"$f":"AF62+AF63","v":0},0,{"$f":"AH62+AH63","v":0},{"$f":"AI62+AI63","v":0},{"$f":"AJ62+AJ63","v":0},{"$f":"AK62+AK63","v":0},0,{"$f":"AM62+AM63","v":0},{"$f":"AN62+AN63","v":0},{"$f":"AO62+AO63","v":0},{"$f":"AP62+AP63","v":0},0,{"$f":"AR62+AR63","v":0},{"$f":"AS62+AS63","v":0},{"$f":"AT62+AT63","v":0},{"$f":"AU62+AU63","v":0},0,{"$f":"AW62+AW63","v":0},{"$f":"AX62+AX63","v":0},{"$f":"AY62+AY63","v":0},{"$f":"AZ62+AZ63","v":0},0,{"$f":"BB62+BB63","v":0},{"$f":"BC62+BC63","v":0},{"$f":"BD62+BD63","v":0},{"$f":"BE62+BE63","v":0},0,{"$f":"BG62+BG63","v":0},{"$f":"BH62+BH63","v":0},{"$f":"BI62+BI63","v":0},{"$f":"BJ62+BJ63","v":0},0,{"$f":"BL62+BL63","v":0},{"$f":"BM62+BM63","v":0},{"$f":"BN62+BN63","v":0},{"$f":"BO62+BO63","v":0}]
["4.1.","прочие потребители",0,null,null,null,null,0,null,null,null,null,0,null,null,null,null,0,null,null,null,null,0,null,null,null,null,0,null,null,null,null,0,null,null,null,null,0,null,null,null,null,0,null,null,null,null,0,null,null,null,null,0,null,null,null,null,0,null,null,null,null,0]
["4.2.","население",0,null,null,null,null,0,null,null,null,null,0,null,null,null,null,0,null,null,null,null,0,null,null,null,null,0,null,null,null,null,0,null,null,null,null,0,null,null,null,null,0,null,null,null,null,0,null,null,null,null,0,null,null,null,null,0,null,null,null,null,0]
["Добавить"]
[null,"Итого всего, в том числе:",{"$f":"D65+E65+F65+G65","v":0},{"$f":"D66+D67","v":0},{"$f":"E66+E67","v":0},{"$f":"F66+F67","v":0},{"$f":"G66+G67","v":0},{"$f":"I65+J65+K65+L65","v":0},{"$f":"I66+I67","v":0},{"$f":"J66+J67","v":0},{"$f":"K66+K67","v":0},{"$f":"L66+L67","v":0},{"$f":"N65+O65+P65+Q65","v":0},{"$f":"N66+N67","v":0},{"$f":"O66+O67","v":0},{"$f":"P66+P67","v":0},{"$f":"Q66+Q67","v":0},{"$f":"S65+T65+U65+V65","v":0},{"$f":"S66+S67","v":0},{"$f":"T66+T67","v":0},{"$f":"U66+U67","v":0},{"$f":"V66+V67","v":0},{"$f":"X65+Y65+Z65+AA65","v":0},{"$f":"X66+X67","v":0},{"$f":"Y66+Y67","v":0},{"$f":"Z66+Z67","v":0},{"$f":"AA66+AA67","v":0},{"$f":"AC65+AD65+AE65+AF65","v":0},{"$f":"AC66+AC67","v":0},{"$f":"AD66+AD67","v":0},{"$f":"AE66+AE67","v":0},{"$f":"AF66+AF67","v":0},{"$f":"AH65+AI65+AJ65+AK65","v":0},{"$f":"AH66+AH67","v":0},{"$f":"AI66+AI67","v":0},{"$f":"AJ66+AJ67","v":0},{"$f":"AK66+AK67","v":0},{"$f":"AM65+AN65+AO65+AP65","v":0},{"$f":"AM66+AM67","v":0},{"$f":"AN66+AN67","v":0},{"$f":"AO66+AO67","v":0},{"$f":"AP66+AP67","v":0},{"$f":"AR65+AS65+AT65+AU65","v":0},{"$f":"AR66+AR67","v":0},{"$f":"AS66+AS67","v":0},{"$f":"AT66+AT67","v":0},{"$f":"AU66+AU67","v":0},{"$f":"AW65+AX65+AY65+AZ65","v":0},{"$f":"AW66+AW67","v":0},{"$f":"AX66+AX67","v":0},{"$f":"AY66+AY67","v":0},{"$f":"AZ66+AZ67","v":0},{"$f":"BB65+BC65+BD65+BE65","v":0},{"$f":"BB66+BB67","v":0},{"$f":"BC66+BC67","v":0},{"$f":"BD66+BD67","v":0},{"$f":"BE66+BE67","v":0},{"$f":"BG65+BH65+BI65+BJ65","v":0},{"$f":"BG66+BG67","v":0},{"$f":"BH66+BH67","v":0},{"$f":"BI66+BI67","v":0},{"$f":"BJ66+BJ67","v":0},{"$f":"BL65+BM65+BN65+BO65","v":0},{"$f":"BL66+BL67","v":0},{"$f":"BM66+BM67","v":0},{"$f":"BN66+BN67","v":0},{"$f":"BO66+BO67","v":0}]
[null,"прочие потребители",{"$f":"D66+E66+F66+G66","v":0},{"$f":"D53+D56+D59+D62","v":0},0,0,0,{"$f":"I66+J66+K66+L66","v":0},{"$f":"I53+I56+I59+I62","v":0},0,0,0,{"$f":"N66+O66+P66+Q66","v":0},{"$f":"N53+N56+N59+N62","v":0},0,0,0,{"$f":"S66+T66+U66+V66","v":0},{"$f":"S53+S56+S59+S62","v":0},0,0,0,{"$f":"X66+Y66+Z66+AA66","v":0},{"$f":"X53+X56+X59+X62","v":0},0,0,0,{"$f":"AC66+AD66+AE66+AF66","v":0},{"$f":"AC53+AC56+AC59+AC62","v":0},0,0,0,{"$f":"AH66+AI66+AJ66+AK66","v":0},{"$f":"AH53+AH56+AH59+AH62","v":0},0,0,0,{"$f":"AM66+AN66+AO66+AP66","v":0},{"$f":"AM53+AM56+AM59+AM62","v":0},0,0,0,{"$f":"AR66+AS66+AT66+AU66","v":0},{"$f":"AR53+AR56+AR59+AR62","v":0},0,0,0,{"$f":"AW66+AX66+AY66+AZ66","v":0},{"$f":"AW53+AW56+AW59+AW62","v":0},0,0,0,{"$f":"BB66+BC66+BD66+BE66","v":0},{"$f":"BB53+BB56+BB59+BB62","v":0},0,0,0,{"$f":"BG66+BH66+BI66+BJ66","v":0},{"$f":"BG53+BG56+BG59+BG62","v":0},0,0,0,{"$f":"BL66+BM66+BN66+BO66","v":0},{"$f":"BL53+BL56+BL59+BL62","v":0},0,0,0]
[null,"население",{"$f":"D67+E67+F67+G67","v":0},0,{"$f":"E54+E57+E60+E63","v":0},0,{"$f":"G54+G57+G60+G63","v":0},{"$f":"I67+J67+K67+L67","v":0},0,0,0,0,{"$f":"N67+O67+P67+Q67","v":0},0,0,0,0,{"$f":"S67+T67+U67+V67","v":0},0,0,0,0,{"$f":"X67+Y67+Z67+AA67","v":0},0,0,0,0,{"$f":"AC67+AD67+AE67+AF67","v":0},0,0,0,0,{"$f":"AH67+AI67+AJ67+AK67","v":0},0,0,0,0,{"$f":"AM67+AN67+AO67+AP67","v":0},0,0,0,0,{"$f":"AR67+AS67+AT67+AU67","v":0},0,0,0,0,{"$f":"AW67+AX67+AY67+AZ67","v":0},0,0,0,0,{"$f":"BB67+BC67+BD67+BE67","v":0},0,0,0,0,{"$f":"BG67+BH67+BI67+BJ67","v":0},0,0,0,0,{"$f":"BL67+BM67+BN67+BO67","v":0},0,0,0,0]
[]
[null,"Руководитель организации",null,null,null,null,{"$f":"'Инф-я'!C17","v":"Окунев Василий Михайлович"}]

{"sheet":"Баланс мощности","index":4,"n_rows":67,"n_cols":22,"rows_kept":67,"cut":false,"hidden":false,"merged":[[5,17,5,21],[5,0,6,0],[5,1,6,1],[5,2,5,6],[5,7,5,11],[66,1,66,9],[2,0,2,16],[3,0,3,16],[58,0,58,1],[5,12,5,16],[63,1,63,4],[63,6,63,11],[62,1,62,4],[62,6,62,11]]}
[]
[]
["Электрическая мощность по диапазонам напряжения "]
[{"$f":"'Инф-я'!C9","v":"Общество с ограниченной ответственностью \"Энергетик\""}]
[null,null,null,null,null,null,null,null,null,null,null,null,null,null,null,"МВт"]
["№ п.п.","Показатели","Принято регулирующим органом на 2017 год",null,null,null,null,"Факт за 2017 год",null,null,null,null,"По данным организации на 2019 год",null,null,null,null,"Принято регулирующим органом на 2019 год"]
[null,null,"Всего","ВН","СН1","СН2","НН","Всего","ВН","СН1","СН2","НН","Всего","ВН","СН1","СН2","НН","Всего","ВН","СН1","СН2","НН"]
[1,2,3,4,5,6,7,8,9,10,11,12,13,14,15,16,17,18,19,20,21,22]
["1.","Поступление мощности в сеть , ВСЕГО ",{"$f":"C19+C21+C22","v":4.47},{"$f":"D15+D16+D17+D18","v":4.47},{"$f":"E10+E15+E16+E17+E18","v":0},{"$f":"F10+F15+F16+F17+F18","v":4.47},{"$f":"G10+G15+G16+G17+G18","v":3.4218417399999996},{"$f":"H19+H21+H22","v":4.47},{"$f":"I15+I16+I17+I18","v":4.47},{"$f":"J10+J15+J16+J17+J18","v":0},{"$f":"K10+K15+K16+K17+K18","v":4.47},{"$f":"L10+L15+L16+L17+L18","v":3.4216361199999996},{"$f":"M19+M21+M22","v":4.4700000000000006},{"$f":"N15+N16+N17+N18","v":4.47},{"$f":"O10+O15+O16+O17+O18","v":0},{"$f":"P10+P15+P16+P17+P18","v":4.47},{"$f":"Q10+Q15+Q16+Q17+Q18","v":3.4216540000000002},{"$f":"R19+R21+R22","v":0},{"$f":"S15+S16+S17+S18","v":0},{"$f":"T10+T15+T16+T17+T18","v":0},{"$f":"U10+U15+U16+U17+U18","v":0},{"$f":"V10+V15+V16+V17+V18","v":0}]
["1.1.","из смежной сети, всего","х","х",{"$f":"E12","v":0},{"$f":"F12+F13","v":4.47},{"$f":"G12+G13+G14","v":3.4218417399999996},"х","х",{"$f":"J12","v":0},{"$f":"K12+K13","v":4.47},{"$f":"L12+L13+L14","v":3.4216361199999996},"х","х",{"$f":"O12","v":0},{"$f":"P12+P13","v":4.47},{"$f":"Q12+Q13+Q14","v":3.4216540000000002},"х","х",{"$f":"T12","v":0},{"$f":"U12+U13","v":0},{"$f":"V12+V13+V14","v":0}]
[null,"    в том числе из сети","х","х","х","х","х","х","х","х","х","х","х","х","х","х","х","х","х","х","х","х"]
["1.1.1.","ВН","х","х",null,{"$f":"D9-D19-D21-D22-G12-E12","v":4.47},null,"х","х",null,{"$f":"I9-I19-I21-I22-L12-J12","v":4.47},null,"х","х",null,{"$f":"N9-N19-N21-N22-Q12-O12","v":4.47},null,"х","х",null,{"$f":"S9-S19-S21-S22-V12-T12","v":0}]
["1.1.2.","СН1","х","х","х",{"$f":"E9-E19-E21-E22-G13","v":0},null,"х","х","х",{"$f":"J9-J19-J21-J22-L13","v":0},null,"х","х","х",{"$f":"O9-O19-O21-O22-Q13","v":0},null,"х","х","х",{"$f":"T9-T19-T21-T22-V13","v":0}]
["1.1.3.","СН2","х","х","х","х",{"$f":"F9-F19-F21-F22","v":3.4218417399999996},"х","х","х","х",{"$f":"K9-K19-K21-K22","v":3.4216361199999996},"х","х","х","х",{"$f":"P9-P19-P21-P22","v":3.4216540000000002},"х","х","х","х",{"$f":"U9-U19-U21-U22","v":0}]
["1.2.","от электростанций",{"$f":"SUM(D15:G15)","v":0},null,null,null,null,{"$f":"SUM(I15:L15)","v":0},null,null,null,null,{"$f":"SUM(N15:Q15)","v":0},null,null,null,null,{"$f":"SUM(S15:V15)","v":0}]
["1.3.","от ОАО \"ФСК ЕЭС\"",{"$f":"SUM(D16:G16)","v":0},null,null,null,null,{"$f":"SUM(I16:L16)","v":0},null,null,null,null,{"$f":"SUM(N16:Q16)","v":0},null,null,null,null,{"$f":"SUM(S16:V16)","v":0}]
["1.4.","от филиала \"Владимирэнерго\" ОАО \"МРСК Центра и Приволжья\" ",{"$f":"SUM(D17:G17)","v":4.47},4.47,null,null,null,{"$f":"SUM(I17:L17)","v":4.47},4.47,null,null,null,{"$f":"SUM(N17:Q17)","v":4.47},4.47,null,null,null,{"$f":"SUM(S17:V17)","v":0}]
["1.5.","от других сетевых организаций",{"$f":"SUM(D18:G18)","v":0},null,null,null,null,{"$f":"SUM(I18:L18)","v":0},null,null,null,null,{"$f":"SUM(N18:Q18)","v":0},null,null,null,null,{"$f":"SUM(S18:V18)","v":0}]
["2.","Потери мощности в сети ",{"$f":"SUM(D19:G19)","v":0.69865571488999989},{"$f":"D9*D20/100","v":0},{"$f":"E9*E20/100","v":0},{"$f":"F9*F20/100","v":0.27605825999999994},{"$f":"G9*G20/100","v":0.42259745488999995},{"$f":"SUM(I19:L19)","v":0.69883594082},{"$f":"I9*I20/100","v":0},{"$f":"J9*J20/100","v":0},{"$f":"K9*K20/100","v":0.27626387999999996},{"$f":"L9*L20/100","v":0.42257206081999998},{"$f":"SUM(N19:Q19)","v":0.69882026900000005},{"$f":"N9*N20/100","v":0},{"$f":"O9*O20/100","v":0},{"$f":"P9*P20/100","v":0.27624599999999999},{"$f":"Q9*Q20/100","v":0.422574269},{"$f":"SUM(S19:V19)","v":0},{"$f":"S9*S20/100","v":0},{"$f":"T9*T20/100","v":0},{"$f":"U9*U20/100","v":0},{"$f":"V9*V20/100","v":0}]
["2.1.","то же в % (п.2./п.1.)",{"$f":"IF(C9=0,0,C19/C9*100)","v":15.629881764876957},{"$f":"'Баланс энергии'!D20","v":0},{"$f":"'Баланс энергии'!E20","v":0},{"$f":"'Баланс энергии'!F20","v":6.1757999999999997},12.35,{"$f":"IF(H9=0,0,H19/H9*100)","v":15.633913664876959},{"$f":"'Баланс энергии'!S20","v":0},{"$f":"'Баланс энергии'!T20","v":0},{"$f":"'Баланс энергии'!U20","v":6.1803999999999997},12.35,{"$f":"IF(M9=0,0,M19/M9*100)","v":15.633563064876958},{"$f":"'Баланс энергии'!AW20","v":0},{"$f":"'Баланс энергии'!AX20","v":0},{"$f":"'Баланс энергии'!AY20","v":6.18},12.35,{"$f":"IF(R9=0,0,R19/R9*100)","v":0},{"$f":"'Баланс энергии'!BL20","v":0},{"$f":"'Баланс энергии'!BM20","v":0},{"$f":"'Баланс энергии'!BN20","v":0}]
["3.","Расход электроэнергии на производственные и хознужды",{"$f":"SUM(D21:G21)","v":0},null,null,null,null,{"$f":"SUM(I21:L21)","v":0},null,null,null,null,{"$f":"SUM(N21:Q21)","v":0},null,null,null,null,{"$f":"SUM(S21:V21)","v":0}]
["4.","Полезный отпуск из сети ",{"$f":"SUM(D22:G22)","v":3.7713442851099996},{"$f":"D23+D24+D25","v":0},{"$f":"E23+E24+E25","v":0},{"$f":"F23+F24+F25","v":0.77210000000000001},{"$f":"G9-G19-G21","v":2.9992442851099996},{"$f":"SUM(I22:L22)","v":3.7711640591799998},{"$f":"I23+I24+I25","v":0},{"$f":"J23+J24+J25","v":0},{"$f":"K23+K24+K25","v":0.77210000000000001},{"$f":"L9-L19-L21","v":2.9990640591799997},{"$f":"SUM(N22:Q22)","v":3.7711797310000001},{"$f":"N23+N24+N25","v":0},{"$f":"O23+O24+O25","v":0},{"$f":"P23+P24+P25","v":0.77210000000000001},{"$f":"Q9-Q19-Q21","v":2.9990797310000001},{"$f":"SUM(S22:V22)","v":0},{"$f":"S23+S24+S25","v":0},{"$f":"T23+T24+T25","v":0},{"$f":"U23+U24+U25","v":0},{"$f":"V9-V19-V21","v":0}]
["4.1.","потребителям, присоединенным к сети",{"$f":"SUM(D23:G23)","v":3.7713000000000001},null,null,0.77210000000000001,2.9992000000000001,{"$f":"SUM(I23:L23)","v":3.7711999999999999},null,null,0.77210000000000001,2.9990999999999999,{"$f":"SUM(N23:Q23)","v":3.7711999999999999},null,null,0.77210000000000001,2.9990999999999999,{"$f":"SUM(S23:V23)","v":0}]
["4.2.","переток в филиал \"Владимирэнерго\" ОАО \"МРСК Центра и Приволжья\" ",{"$f":"SUM(D24:G24)","v":0},null,null,null,null,{"$f":"SUM(I24:L24)","v":0},null,null,null,null,{"$f":"SUM(N24:Q24)","v":0},null,null,null,null,{"$f":"SUM(S24:V24)","v":0}]
["4.3.","переток в другие сетевые организации",{"$f":"SUM(D25:G25)","v":0},null,null,null,null,{"$f":"SUM(I25:L25)","v":0},null,null,null,null,{"$f":"SUM(N25:Q25)","v":0},null,null,null,null,{"$f":"SUM(S25:V25)","v":0}]
[null,"Проверка",null,{"$f":"D9-D19-D21-D23-D24-D25-E12-F12-G12","v":0},{"$f":"E9-E19-E21-E23-E24-E25-F13-G13","v":0},{"$f":"F9-F19-F21-F23-F24-F25-G14","v":0},{"$f":"G9-G19-G21-G23-G24-G25","v":4.4285109999542271E-5},null,{"$f":"I9-I19-I21-I23-I24-I25-J12-K12-L12","v":0},{"$f":"J9-J19-J21-J23-J24-J25-K13-L13","v":0},{"$f":"K9-K19-K21-K23-K24-K25-L14","v":0},{"$f":"L9-L19-L21-L23-L24-L25","v":-3.5940820000135432E-5},null,{"$f":"N9-N19-N21-N23-N24-N25-O12-P12-Q12","v":0},{"$f":"O9-O19-O21-O23-O24-O25-P13-Q13","v":0},{"$f":"P9-P19-P21-P23-P24-P25-Q14","v":0},{"$f":"Q9-Q19-Q21-Q23-Q24-Q25","v":-2.0268999999739634E-5},null,{"$f":"S9-S19-S21-S23-S24-S25-T12-U12-V12","v":0},{"$f":"T9-T19-T21-T23-T24-T25-U13-V13","v":0},{"$f":"U9-U19-U21-U23-U24-U25-V14","v":0},{"$f":"V9-V19-V21-V23-V24-V25","v":0}]
[]
[null,"Примечание"]
[]
[null,"Расшифровка п. 1.5. (Поступление от других сетевых организаций) "]
["№","Наименование других сетевых организаций","Всего","ВН","СН1","СН2","НН","Всего","ВН","СН1","СН2","НН","Всего","ВН","СН1","СН2","НН","Всего","ВН","СН1","СН2","НН"]
[null,null,{"$f":"SUM(D32:G32)","v":0},null,null,null,null,{"$f":"SUM(I32:L32)","v":0},null,null,null,null,{"$f":"SUM(N32:Q32)","v":0},null,null,null,null,{"$f":"SUM(S32:V32)","v":0}]
[null,null,{"$f":"SUM(D33:G33)","v":0},null,null,null,null,{"$f":"SUM(I33:L33)","v":0},null,null,null,null,{"$f":"SUM(N33:Q33)","v":0},null,null,null,null,{"$f":"SUM(S33:V33)","v":0}]
[null,"Добавить"]
[null,"Итого",{"$f":"SUM(C32:C33)","v":0},0,0,0,0,0,0,0,0,0,0,0,0,0,0,0,0,0,0,0]
[]
[null,"Расшифровка п. 4.3. (Полезный отпуск - переток в другие сетевые организации) "]
["№","Наименование других сетевых организаций","Всего","ВН","СН1","СН2","НН","Всего","ВН","СН1","СН2","НН","Всего","ВН","СН1","СН2","НН","Всего","ВН","СН1","СН2","НН"]
[null,null,{"$f":"SUM(D39:G39)","v":0},null,null,null,null,{"$f":"SUM(I39:L39)","v":0},null,null,null,null,{"$f":"SUM(N39:Q39)","v":0},null,null,null,null,{"$f":"SUM(S39:V39)","v":0}]
[null,null,{"$f":"SUM(D40:G40)","v":0},null,null,null,null,{"$f":"SUM(I40:L40)","v":0},null,null,null,null,{"$f":"SUM(N40:Q40)","v":0},null,null,null,null,{"$f":"SUM(S40:V40)","v":0}]
[null,null,{"$f":"SUM(D41:G41)","v":0},null,null,null,null,{"$f":"SUM(I41:L41)","v":0},null,null,null,null,{"$f":"SUM(N41:Q41)","v":0},null,null,null,null,{"$f":"SUM(S41:V41)","v":0}]
[null,"Добавить"]
[null,"Итого",{"$f":"SUM(C39:C41)","v":0},{"$f":"SUM(D39:D41)","v":0},{"$f":"SUM(E39:E41)","v":0},{"$f":"SUM(F39:F41)","v":0},{"$f":"SUM(G39:G41)","v":0},{"$f":"SUM(H39:H41)","v":0},0,0,0,0,0,0,0,0,0,0,0,0,0,0]
[]
[null,"Расшифровка п. 4.1. (Полезный отпуск потребителям,  присоединенным к сети) "]
["№","Наименование сбытовых организаций","Всего","ВН","СН1","СН2","НН","Всего","ВН","СН1","СН2","НН","Всего","ВН","СН1","СН2","НН","Всего","ВН","СН1","СН2","НН"]
["1.","ОАО \"Владимирэнергосбыт\" всего, в том числе:",{"$f":"D47+E47+F47+G47","v":0},{"$f":"D48+D49","v":0},{"$f":"E48+E49","v":0},{"$f":"F48+F49","v":0},{"$f":"G48+G49","v":0},{"$f":"I47+J47+K47+L47","v":0},{"$f":"I48+I49","v":0},{"$f":"J48+J49","v":0},{"$f":"K48+K49","v":0},{"$f":"L48+L49","v":0},{"$f":"N47+O47+P47+Q47","v":0},{"$f":"N48+N49","v":0},{"$f":"O48+O49","v":0},{"$f":"P48+P49","v":0},{"$f":"Q48+Q49","v":0},{"$f":"S47+T47+U47+V47","v":0},{"$f":"S48+S49","v":0},{"$f":"T48+T49","v":0},{"$f":"U48+U49","v":0},{"$f":"V48+V49","v":0}]
["1.1.","прочие потребители",{"$f":"D48+E48+F48+G48","v":0},null,null,null,null,{"$f":"I48+J48+K48+L48","v":0},null,null,null,null,{"$f":"N48+O48+P48+Q48","v":0},null,null,null,null,{"$f":"S48+T48+U48+V48","v":0}]
["1.2.","население",0,null,null,null,null,0,null,null,null,null,0,null,null,null,null,0]
["2.","ОАО \"ВКС\" всего, в том числе:",0,{"$f":"D51+D52","v":0},{"$f":"E51+E52","v":0},{"$f":"F51+F52","v":0},{"$f":"G51+G52","v":0},0,{"$f":"I51+I52","v":0},{"$f":"J51+J52","v":0},{"$f":"K51+K52","v":0},{"$f":"L51+L52","v":0},0,{"$f":"N51+N52","v":0},{"$f":"O51+O52","v":0},{"$f":"P51+P52","v":0},{"$f":"Q51+Q52","v":0},0,{"$f":"S51+S52","v":0},{"$f":"T51+T52","v":0},{"$f":"U51+U52","v":0},{"$f":"V51+V52","v":0}]
["2.1.","прочие потребители",0,null,null,null,null,0,null,null,null,null,0,null,null,null,null,0]
["2.2.","население",0,null,null,null,null,0,null,null,null,null,0,null,null,null,null,0]
["3.","ОАО \"Русэнергосбыт\"",0,{"$f":"D54+D55","v":0},{"$f":"E54+E55","v":0},{"$f":"F54+F55","v":0},{"$f":"G54+G55","v":0},0,{"$f":"I54+I55","v":0},{"$f":"J54+J55","v":0},{"$f":"K54+K55","v":0},{"$f":"L54+L55","v":0},0,{"$f":"N54+N55","v":0},{"$f":"O54+O55","v":0},{"$f":"P54+P55","v":0},{"$f":"Q54+Q55","v":0},0,{"$f":"S54+S55","v":0},{"$f":"T54+T55","v":0},{"$f":"U54+U55","v":0},{"$f":"V54+V55","v":0}]
["3.1.","прочие потребители",0,null,null,null,null,0,null,null,null,null,0,null,null,null,null,0]
["3.2.","население",0,null,null,null,null,0,null,null,null,null,0,null,null,null,null,0]
["4.","ОАО \"Оборонэнергосбыт\"",0,{"$f":"D57+D58","v":0},{"$f":"E57+E58","v":0},{"$f":"F57+F58","v":0},{"$f":"G57+G58","v":0},0,{"$f":"I57+I58","v":0},{"$f":"J57+J58","v":0},{"$f":"K57+K58","v":0},{"$f":"L57+L58","v":0},0,{"$f":"N57+N58","v":0},{"$f":"O57+O58","v":0},{"$f":"P57+P58","v":0},{"$f":"Q57+Q58","v":0},0,{"$f":"S57+S58","v":0},{"$f":"T57+T58","v":0},{"$f":"U57+U58","v":0},{"$f":"V57+V58","v":0}]
["4.1.","прочие потребители",0,null,null,null,null,0,null,null,null,null,0,null,null,null,null,0]
["4.2.","население",0,null,null,null,null,0,null,null,null,null,0,null,null,null,null,0]
["Добавить"]
[null,"Итого всего, в том числе:",{"$f":"D60+E60+F60+G60","v":0},{"$f":"D61+D62","v":0},{"$f":"E61+E62","v":0},{"$f":"F61+F62","v":0},{"$f":"G61+G62","v":0},{"$f":"I60+J60+K60+L60","v":0},{"$f":"I61+I62","v":0},{"$f":"J61+J62","v":0},{"$f":"K61+K62","v":0},{"$f":"L61+L62","v":0},{"$f":"N60+O60+P60+Q60","v":0},{"$f":"N61+N62","v":0},{"$f":"O61+O62","v":0},{"$f":"P61+P62","v":0},{"$f":"Q61+Q62","v":0},{"$f":"S60+T60+U60+V60","v":0},{"$f":"S61+S62","v":0},{"$f":"T61+T62","v":0},{"$f":"U61+U62","v":0},{"$f":"V61+V62","v":0}]
[null,"прочие потребители",{"$f":"D61+E61+F61+G61","v":0},{"$f":"D48+D51+D54+D57","v":0},{"$f":"E48+E51+E54+E57","v":0},0,0,{"$f":"I61+J61+K61+L61","v":0},{"$f":"I48+I51+I54+I57","v":0},{"$f":"J48+J51+J54+J57","v":0},0,0,{"$f":"N61+O61+P61+Q61","v":0},{"$f":"N48+N51+N54+N57","v":0},{"$f":"O48+O51+O54+O57","v":0},0,0,{"$f":"S61+T61+U61+V61","v":0},{"$f":"S48+S51+S54+S57","v":0},0,0,0]
[null,"население",{"$f":"D62+E62+F62+G62","v":0},{"$f":"D49+D52+D55+D58","v":0},0,0,0,{"$f":"I62+J62+K62+L62","v":0},{"$f":"I49+I52+I55+I58","v":0},0,0,0,{"$f":"N62+O62+P62+Q62","v":0},{"$f":"N49+N52+N55+N58","v":0},0,0,0,{"$f":"S62+T62+U62+V62","v":0},0,0,0,0]
[]
[null,"Руководитель организации",null,null,null,null,{"$f":"'Инф-я'!C17","v":"Окунев Василий Михайлович"}]
[]
[null,"Справочная информация:"]
[null,"Фактические данные по мощности заполняются по данным приборов учета электрической мощности, в случае отсутствия приборов учета по результатам контрольных замеров мощности"]

{"sheet":"УЕ ВЛЭП 2016-2019","index":5,"n_rows":54,"n_cols":20,"rows_kept":54,"cut":false,"hidden":false,"merged":[[13,1,16,1],[13,2,14,2],[15,2,16,2],[7,8,7,9],[51,0,51,4],[17,1,21,1],[9,0,26,0],[11,1,12,1],[22,2,24,2],[17,2,19,2],[20,2,21,2],[25,2,26,2],[22,1,26,1],[38,0,39,0],[35,1,37,1],[35,2,37,2],[27,0,28,0],[30,0,37,0],[30,1,34,1],[33,2,34,2],[30,2,32,2],[7,18,7,19],[5,4,6,4],[7,14,7,15],[7,10,7,11],[7,12,7,13],[53,1,53,4],[53,6,53,11],[2,0,2,17],[5,0,6,0],[5,1,6,1],[5,2,6,2],[5,3,6,3],[7,6,7,7],[3,0,3,17],[7,16,7,17],[42,0,44,0],[42,1,44,1],[42,2,44,2],[47,0,50,0],[47,1,50,3],[11,2,12,2]]}
[]
[]
["Объем воздушных линий электропередач (ВЛЭП) и кабельных линий электропередач (КЛЭП) в условных единицах в зависимости от протяженности, напряжения, конструктивного использования и материала опор в период с 2016 по 2019 годы"]
[{"$f":"'Инф-я'!C9","v":"Общество с ограниченной ответственностью \"Энергетик\""}]
[]
["ЛЭП","Напряжение, кВ ","Количество цепей на опоре","Материал опор","Наименование","Количество условных единиц (у) на 100 км трассы ЛЭП","Протяженность","Объем условных единиц","Протяженность","Объем условных единиц","Протяженность","Объем условных единиц","Протяженность","Объем условных единиц","Протяженность","Объем условных единиц","Протяженность","Объем условных единиц","Протяженность","Объем условных единиц"]
[null,null,null,null,null,"у/100км","ед.изм.","у","ед.изм.","у","ед.изм.","у","ед.изм.","у","км","у","км","у","км","у"]
[null,null,null,null,null,null,"2016 год факт",null,"2017 год утверждено",null,"2017 год факт по данным Общества",null,"2017 год факт  по данным экспертов",null,"2018 год утверждено",null,"2019 год план по данным организации",null,"2019 год по данным экспертов"]
[1,{"$f":"+A9+1","v":2},{"$f":"+B9+1","v":3},{"$f":"+C9+1","v":4},5,6,7,8,9,10,11,12,13,14,15,16,17,18,17,18]
["ВЛЭП",1150,"-","металл","ВЛЭП-1150кВ-металл",800,null,{"$f":"G10*F10/100","v":0},null,{"$f":"I10*F10/100","v":0},null,{"$f":"K10*F10/100","v":0},null,{"$f":"M10*F10/100","v":0},null,{"$f":"F10*O10/100","v":0},null,{"$f":"F10*Q10/100","v":0},null,{"$f":"$F10*S10/100","v":0}]
[null,750,1,"металл","ВЛЭП-750кВ-цепей:1-металл",600,null,{"$f":"G11*F11/100","v":0},null,{"$f":"I11*F11/100","v":0},null,0,null,{"$f":"M11*F11/100","v":0},null,0,null,0,null,0]
[null,"400-500",1,"металл","ВЛЭП-400-500кВ-цепей:1-металл",400,null,0,null,0,null,0,null,0,null,0,null,0,null,0]
[null,null,null,"ж/бетон","ВЛЭП-400-500кВ-ж/бетон",300,null,0,null,0,null,0,null,0,null,0,null,0,null,0]
[null,330,1,"металл","ВЛЭП-330кВ-цепей:1-металл",230,null,0,null,0,null,0,null,0,null,0,null,0,null,0]
[null,null,null,"ж/бетон","ВЛЭП-330кВ-ж/бетон",170,null,0,null,0,null,0,null,0,null,0,null,0,null,0]
[null,null,2,"металл","ВЛЭП-330кВ-цепей:2-металл",290,null,0,null,0,null,0,null,0,null,0,null,0,null,0]
[null,null,null,"ж/бетон","ВЛЭП-330кВ-ж/бетон",210,null,0,null,0,null,0,null,0,null,0,null,0,null,0]
[null,220,1,"дерево","ВЛЭП-220кВ-цепей:1-дерево",260,null,0,null,0,null,0,null,0,null,0,null,0,null,0]
[null,null,null,"металл","ВЛЭП-220кВ-металл",210,null,0,null,0,null,0,null,0,null,0,null,0,null,0]
[null,null,null,"ж/бетон","ВЛЭП-220кВ-ж/бетон",140,null,0,null,0,null,0,null,0,null,0,null,0,null,0]
[null,null,2,"металл","ВЛЭП-220кВ-цепей:2-металл",270,null,0,null,0,null,0,null,0,null,0,null,0,null,0]
[null,null,null,"ж/бетон","ВЛЭП-220кВ-ж/бетон",180,null,0,null,0,null,0,null,0,null,0,null,0,null,0]
[null,"110-150",1,"дерево","ВЛЭП-110-150кВ-цепей:1-дерево",180,null,0,null,0,null,0,null,0,null,0,null,0,null,0]
[null,null,null,"металл","ВЛЭП-110-150кВ-металл",160,null,0,null,0,null,0,null,0,null,0,null,0,null,0]
[null,null,null,"ж/бетон","ВЛЭП-110-150кВ-ж/бетон",130,null,0,null,0,null,0,null,0,null,0,null,0,null,0]
[null,null,2,"металл","ВЛЭП-110-150кВ-цепей:2-металл",190,null,0,null,0,null,0,null,0,null,0,null,0,null,0]
[null,null,null,"ж/бетон","ВЛЭП-110-150кВ-ж/бетон",160,null,0,null,0,null,0,null,0,null,0,null,0,null,0]
["КЛЭП",220,"-","-","КЛЭП-220кВ",3000,null,0,null,0,null,0,null,0,null,0,null,0,null,0]
[null,110,"-","-","КЛЭП-110кВ",2300,null,0,null,0,null,0,null,0,null,0,null,0,null,0]
["ВН, всего ",null,null,null,"Итого:",null,{"$f":"SUM(G10:G29)","v":0},{"$f":"SUM(H10:H29)","v":0},{"$f":"SUM(I10:I29)","v":0},{"$f":"SUM(J10:J29)","v":0},{"$f":"SUM(K10:K29)","v":0},0,{"$f":"SUM(M10:M29)","v":0},0,0,0,0,0,{"$f":"SUM(S10:S29)","v":0},0]
["ВЛЭП",35,1,"дерево","ВЛЭП-35кВ-цепей:1-дерево",170,null,0,null,0,null,{"$f":"K31*F31/100","v":0},null,0,null,{"$f":"F31*O31/100","v":0},null,{"$f":"F31*Q31/100","v":0},null,{"$f":"$F31*S31/100","v":0}]
[null,null,null,"металл","ВЛЭП-35кВ-металл",140,null,0,null,0,null,0,null,0,null,0,null,0,null,0]
[null,null,null,"ж/бетон","ВЛЭП-35кВ-ж/бетон",120,null,0,null,0,null,0,null,0,null,0,null,0,null,0]
[null,null,2,"металл","ВЛЭП-35кВ-цепей:2-металл",180,null,0,null,0,null,0,null,0,null,0,null,0,null,0]
[null,null,null,"ж/бетон","ВЛЭП-35кВ-ж/бетон",150,null,0,null,0,null,0,null,0,null,0,null,0,null,0]
[null," 1 - 20 ","-","дерево","ВЛЭП-1-20кВ-дерево",160,null,0,null,0,null,0,null,0,null,0,null,0,null,0]
[null,null,null,"дерево на ж/б пасынках","ВЛЭП-1-20кВ-дерево на ж/б пасынках",140,7.52,10.527999999999999,7.52,10.527999999999999,7.52,10.527999999999999,null,0,7.52,10.527999999999999,7.52,10.527999999999999,null,0]
[null,null,null,"ж/бетон, металл","ВЛЭП-1-20кВ-ж/бетон,металл",110,36.18,39.798000000000002,36.18,39.798000000000002,37.168999999999997,40.885899999999999,null,0,36.18,39.798000000000002,39.770000000000003,43.747000000000007,null,0]
["КЛЭП"," 20 -35","-","-","КЛЭП-20-35кВ",470,null,0,null,0,null,0,null,0,null,0,null,0,null,0]
[null," 3 - 10","-","-","КЛЭП-3-10кВ",350,16.7,58.45,16.7,58.45,16.7,58.45,null,0,16.7,58.45,16.7,58.45,null,0]
["СН-1, всего",null,null,null,"Итого:",null,{"$f":"SUM(G31:G35)+G39","v":0},{"$f":"SUM(H31:H35)+H39","v":0},{"$f":"SUM(I31:I35)+I39","v":0},{"$f":"SUM(J31:J35)+J39","v":0},{"$f":"SUM(K31:K35)+K39","v":0},0,{"$f":"SUM(M31:M35)+M39","v":0},0,0,0,0,0,{"$f":"SUM(S31:S35)+S39","v":0},0]
["СН-2, всего",null,null,null,"Итого:",null,{"$f":"SUM(G36:G38)+G40","v":60.400000000000006},{"$f":"SUM(H36:H38)+H40","v":108.77600000000001},{"$f":"SUM(I36:I38)+I40","v":60.400000000000006},{"$f":"SUM(J36:J38)+J40","v":108.77600000000001},{"$f":"SUM(K36:K38)+K40","v":61.388999999999996},109.8639,{"$f":"SUM(M36:M38)+M40","v":0},0,60.400000000000006,108.77600000000001,63.990000000000009,112.72500000000001,{"$f":"SUM(S36:S38)+S40","v":0},0]
["ВЛЭП","0,4 кВ ","-","дерево","ВЛЭП-0,4кВ-дерево",260,null,{"$f":"G43*F43/100","v":0},null,{"$f":"I43*F43/100","v":0},null,{"$f":"K43*F43/100","v":0},null,{"$f":"M43*F43/100","v":0},null,{"$f":"F43*O43/100","v":0},null,{"$f":"F43*Q43/100","v":0},null,{"$f":"$F43*S43/100","v":0}]
[null,null,null,"дерево на ж/б пасынках","ВЛЭП-0,4кВ-дерево на ж/б пасынках",220,122.81,{"$f":"G44*F44/100","v":270.18200000000002},122.81,270.18200000000002,122.81,{"$f":"K44*F44/100","v":270.18200000000002},null,0,122.81,{"$f":"F44*O44/100","v":270.18200000000002},122.81,{"$f":"F44*Q44/100","v":270.18200000000002},null,{"$f":"$F44*S44/100","v":0}]
[null,null,null,"ж/бетон, металл","ВЛЭП-0,4кВ-ж/бетон,металл",150,13.71,{"$f":"G45*F45/100","v":20.565000000000001},13.71,20.565000000000001,29.404,{"$f":"K45*F45/100","v":44.106000000000002},null,0,13.71,{"$f":"F45*O45/100","v":20.565000000000001},29.404,{"$f":"F45*Q45/100","v":44.106000000000002},null,{"$f":"$F45*S45/100","v":0}]
["КЛЭП","до 1 кВ ","-","-","КЛЭП-до1кВ",270,12.4,{"$f":"G46*F46/100","v":33.479999999999997},12.4,33.479999999999997,12.4,{"$f":"K46*F46/100","v":33.479999999999997},null,0,12.4,{"$f":"F46*O46/100","v":33.479999999999997},12.4,{"$f":"F46*Q46/100","v":33.479999999999997},null,{"$f":"$F46*S46/100","v":0}]
["НН, всего",null,null,null,"Итого:",null,{"$f":"SUM(G43:G46)","v":148.92000000000002},{"$f":"SUM(H43:H46)","v":324.22700000000003},{"$f":"SUM(I43:I46)","v":148.92000000000002},{"$f":"SUM(J43:J46)","v":324.22700000000003},{"$f":"SUM(K43:K46)","v":164.614},347.76800000000003,{"$f":"SUM(M43:M46)","v":0},0,148.92000000000002,324.22700000000003,164.614,347.76800000000003,{"$f":"SUM(S43:S46)","v":0},0]
[null,"Итого по уровням напряжения:",null,null,"ВН",null,{"$f":"G30","v":0},{"$f":"H30","v":0},{"$f":"I30","v":0},{"$f":"J30","v":0},{"$f":"K30","v":0},0,{"$f":"M30","v":0},0,0,0,0,0,{"$f":"S30","v":0},0]
[null,null,null,null,"СН1",null,{"$f":"G41","v":0},0,0,0,{"$f":"K41","v":0},0,{"$f":"M41","v":0},0,0,0,0,0,{"$f":"S41","v":0},0]
[null,null,null,null,"СН2",null,60.400000000000006,108.77600000000001,60.400000000000006,108.77600000000001,61.388999999999996,109.8639,{"$f":"M42","v":0},0,60.400000000000006,108.77600000000001,63.990000000000009,112.72500000000001,{"$f":"S42","v":0},0]
[null,null,null,null,"НН",null,{"$f":"G47","v":148.92000000000002},{"$f":"H47","v":324.22700000000003},{"$f":"I47","v":148.92000000000002},{"$f":"J47","v":324.22700000000003},{"$f":"K47","v":164.614},347.76800000000003,{"$f":"M47","v":0},0,148.92000000000002,324.22700000000003,164.614,347.76800000000003,{"$f":"S47","v":0},0]
["ВСЕГО:",null,null,null,null,null,{"$f":"SUM(G48:G51)","v":209.32000000000002},{"$f":"SUM(H48:H51)","v":433.00300000000004},{"$f":"SUM(I48:I51)","v":209.32000000000002},{"$f":"SUM(J48:J51)","v":433.00300000000004},{"$f":"SUM(K48:K51)","v":226.00299999999999},457.63190000000003,{"$f":"SUM(M48:M51)","v":0},0,209.32000000000002,433.00300000000004,228.60400000000001,460.49300000000005,{"$f":"SUM(S48:S51)","v":0},0]
[]
[null,"Руководитель организации",null,null,null,null,{"$f":"'Инф-я'!C17","v":"Окунев Василий Михайлович"}]

{"sheet":"УЕ ТП 2016-2019","index":6,"n_rows":61,"n_cols":20,"rows_kept":61,"cut":false,"hidden":false,"merged":[[6,18,6,19],[8,0,14,0],[35,1,39,1],[35,3,39,3],[23,1,30,1],[23,3,30,3],[6,16,6,17],[6,6,6,7],[6,10,6,11],[6,14,6,15],[15,0,22,0],[6,8,6,9],[31,1,34,1],[31,3,34,3],[31,0,34,0],[23,0,30,0],[35,0,39,0],[43,3,44,3],[43,0,44,0],[49,0,52,0],[49,1,52,3],[43,1,44,1],[1,0,1,17],[4,0,5,0],[4,1,5,2],[4,3,5,3],[4,4,5,4],[2,1,2,19],[6,12,6,13],[54,1,57,3],[58,1,58,3],[60,1,60,2],[60,5,60,7],[53,1,53,3],[8,1,14,1],[8,3,14,3],[15,1,22,1],[15,3,22,3],[6,1,6,2]]}
[]
["Объем подстанций 35-1150 кВ, трансформаторных подстанций (ТП), комплексных трансформаторных подстанций (КТП) и распределительных пунктов(РП) 0,4-20 кВ в условных единицах в период с 2016 по 2019 годы"]
[null,{"$f":"'Инф-я'!C9","v":"Общество с ограниченной ответственностью \"Энергетик\""}]
[]
["№ п.п.","Наименование",null,"Единица измерения","Напряжение, кВ ","Количество условных единиц (у) на единицу измерения","Количество единиц измерения","Объем условных единиц","Количество единиц измерения","Объем условных единиц","Количество единиц измерения","Объем условных единиц","Количество единиц измерения","Объем условных единиц","Количество единиц измерения","Объем условных единиц","Количество единиц измерения","Объем условных единиц","Количество единиц измерения","Объем условных единиц"]
[null,null,null,null,null,"у/ед.изм.","ед.изм.","у","ед.изм.","у","ед.изм.","у","ед.изм.","у","ед.изм.","у","ед.изм.","у","ед.изм.","у"]
[null,null,null,null,null,null,"2016 год факт",null,"2017 год утверждено",null,"2017 год факт по данным организации",null,"2017 год факт  по данным экспертов",null,"2018 год утверждено",null,"2019 год план по данным организации",null,"2019 год по данным экспертов"]
[1,{"$f":"+A8+1","v":2},3,4,5,6,7,8,9,10,11,12,13,14,15,16,17,18,19,20]
[1,"Подстанция",{"$f":"B9","v":"Подстанция"},"П/ст",1150,1000,null,{"$f":"F9*G9","v":0},null,{"$f":"I9*F9","v":0},null,{"$f":"K9*F9","v":0},null,{"$f":"M9*F9","v":0},null,{"$f":"F9*O9","v":0},null,{"$f":"F9*Q9","v":0},null,{"$f":"$F9*S9","v":0}]
[null,null,{"$f":"B9","v":"Подстанция"},null,750,600,null,0,null,{"$f":"I10*F10","v":0},null,0,null,{"$f":"M10*F10","v":0},null,0,null,0,null,{"$f":"$F10*S10","v":0}]
[null,null,{"$f":"B9","v":"Подстанция"},null,"400-500",500,null,0,null,0,null,0,null,0,null,0,null,0,null,0]
[null,null,{"$f":"B9","v":"Подстанция"},null,330,250,null,0,null,0,null,0,null,0,null,0,null,0,null,0]
[null,null,{"$f":"B9","v":"Подстанция"},null,220,210,null,0,null,0,null,0,null,0,null,0,null,0,null,0]
[null,null,{"$f":"B9","v":"Подстанция"},null,"110-150",105,null,0,null,0,null,0,null,0,null,0,null,0,null,0]
[null,null,{"$f":"B9","v":"Подстанция"},null,35,75,null,0,null,0,null,0,null,0,null,0,null,0,null,0]
[2,"Силовой трансформатор или реактор (одно- или трехфазный), или вольтодобавочный трансформатор",{"$f":"B16","v":"Силовой трансформатор или реактор (одно- или трехфазный), или вольтодобавочный трансформатор"},"Ед. оборуд.",1150,60,null,0,null,0,null,0,null,0,null,0,null,0,null,0]
[null,null,{"$f":"B16","v":"Силовой трансформатор или реактор (одно- или трехфазный), или вольтодобавочный трансформатор"},null,750,43,null,0,null,0,null,0,null,0,null,0,null,0,null,0]
[null,null,{"$f":"B16","v":"Силовой трансформатор или реактор (одно- или трехфазный), или вольтодобавочный трансформатор"},null,"400-500",28,null,0,null,0,null,0,null,0,null,0,null,0,null,0]
[null,null,{"$f":"B16","v":"Силовой трансформатор или реактор (одно- или трехфазный), или вольтодобавочный трансформатор"},null,330,18,null,0,null,0,null,0,null,0,null,0,null,0,null,0]
[null,null,{"$f":"B16","v":"Силовой трансформатор или реактор (одно- или трехфазный), или вольтодобавочный трансформатор"},null,220,14,null,0,null,0,null,0,null,0,null,0,null,0,null,0]
[null,null,{"$f":"B16","v":"Силовой трансформатор или реактор (одно- или трехфазный), или вольтодобавочный трансформатор"},null,"110-150",7.8,null,0,null,0,null,0,null,0,null,0,null,0,null,0]
[null,null,{"$f":"B16","v":"Силовой трансформатор или реактор (одно- или трехфазный), или вольтодобавочный трансформатор"},null,35,2.1,null,0,null,0,null,0,null,0,null,0,null,0,null,0]
[null,null,{"$f":"B16","v":"Силовой трансформатор или реактор (одно- или трехфазный), или вольтодобавочный трансформатор"},null,"1-20",1,null,0,null,0,null,0,null,0,null,0,null,0,null,0]
[3,"Воздушный выключатель",{"$f":"B24","v":"Воздушный выключатель"},"3 фазы",1150,180,null,0,null,0,null,0,null,0,null,0,null,0,null,0]
[null,null,{"$f":"B24","v":"Воздушный выключатель"},null,750,130,null,0,null,0,null,0,null,0,null,0,null,0,null,0]
[null,null,{"$f":"B24","v":"Воздушный выключатель"},null,"400-500",88,null,0,null,0,null,0,null,0,null,0,null,0,null,0]
[null,null,{"$f":"B24","v":"Воздушный выключатель"},null,330,66,null,0,null,0,null,0,null,0,null,0,null,0,null,0]
[null,null,{"$f":"B24","v":"Воздушный выключатель"},null,220,43,null,0,null,0,null,0,null,0,null,0,null,0,null,0]
[null,null,{"$f":"B24","v":"Воздушный выключатель"},null,"110-150",26,null,0,null,0,null,0,null,0,null,0,null,0,null,0]
[null,null,{"$f":"B24","v":"Воздушный выключатель"},null,35,11,null,0,null,0,null,0,null,0,null,0,null,0,null,0]
[null,null,{"$f":"B24","v":"Воздушный выключатель"},null,"1-20",5.5,null,0,null,0,null,0,null,0,null,0,null,0,null,0]
[4,"Масляный (вакуумный) выключатель",{"$f":"B32","v":"Масляный (вакуумный) выключатель"}," - \" -",220,23,null,0,null,0,null,0,null,0,null,0,null,0,null,0]
[null,null,{"$f":"B32","v":"Масляный (вакуумный) выключатель"},null,"110-150",14,null,0,null,0,null,0,null,0,null,0,null,0,null,0]
[null,null,{"$f":"B32","v":"Масляный (вакуумный) выключатель"},null,35,6.4,null,0,null,0,null,0,null,0,null,0,null,0,null,0]
[null,null,{"$f":"B32","v":"Масляный (вакуумный) выключатель"},null,"1-20",3.1,9,27.900000000000002,9,27.900000000000002,9,27.900000000000002,null,0,9,27.900000000000002,9,27.900000000000002,null,0]
[5,"Отделитель с короткозамыкателем",{"$f":"B36","v":"Отделитель с короткозамыкателем"},"Ед. оборуд.","400-500",35,null,0,null,0,null,0,null,0,null,0,null,0,null,0]
[null,null,{"$f":"B36","v":"Отделитель с короткозамыкателем"},null,330,24,null,0,null,0,null,0,null,0,null,0,null,0,null,0]
[null,null,{"$f":"B36","v":"Отделитель с короткозамыкателем"},null,220,19,null,0,null,0,null,0,null,0,null,0,null,0,null,0]
[null,null,{"$f":"B36","v":"Отделитель с короткозамыкателем"},null,"110-150",9.5,null,0,null,0,null,0,null,0,null,0,null,0,null,0]
[null,null,{"$f":"B36","v":"Отделитель с короткозамыкателем"},null,35,4.7,null,0,null,0,null,0,null,0,null,0,null,0,null,0]
[6,"Выключатель нагрузки",{"$f":"B41","v":"Выключатель нагрузки"}," - \" -","1-20",2.2999999999999998,142,326.59999999999997,142,326.59999999999997,155,356.5,null,0,157,361.09999999999997,165,379.49999999999994,null,0]
[7,"Синхронный компенсатор мощн. до 50 Мвар",{"$f":"B42","v":"Синхронный компенсатор мощн. до 50 Мвар"}," - \" -","1-20",26,null,0,null,0,null,0,null,0,null,0,null,0,null,0]
[8,"То же, 50 Мвар и более","Синхронный компенсатор мощн. 50 Мвар и выше"," - \" -","1-20",48,null,0,null,0,null,0,null,0,null,0,null,0,null,0]
[9,"Статические конденсаторы",{"$f":"B44","v":"Статические конденсаторы"},"100 конд.",35,2.4,null,0,null,0,null,0,null,0,null,0,null,0,null,0]
[null,null,{"$f":"B44","v":"Статические конденсаторы"},null,"1-20",2.4,null,0,null,0,null,0,null,0,null,0,null,0,null,0]
[10,"Мачтовая (столбовая) ТП",{"$f":"B46","v":"Мачтовая (столбовая) ТП"},"ТП","1-20",2.5,9,22.5,9,22.5,19,47.5,null,0,9,22.5,22,55,null,0]
[11,"Однотрансфор-маторная ТП, КТП",{"$f":"B47","v":"Однотрансфор-маторная ТП, КТП"},"ТП, КТП","1-20",2.2999999999999998,28,64.399999999999991,28,64.399999999999991,29,66.699999999999989,null,0,29,66.699999999999989,29,66.699999999999989,null,0]
[12,"Двухтрансформаторная ТП, КТП",{"$f":"B48","v":"Двухтрансформаторная ТП, КТП"},"ТП, КТП","1-20",3,9,27,9,27,9,27,null,0,9,27,10,30,null,0]
[13,"Однотрансфор-маторная подстанция 34/0,4 кВ ",{"$f":"B49","v":"Однотрансфор-маторная подстанция 34/0,4 кВ "},"п/ст",35,3.5,null,0,null,0,null,0,null,0,null,0,null,0,null,0]
[null,"Итого оборудование по уровням напряжения:",null,null,"ВН",null,"х",{"$f":"H9+H10+H11+H12+H16+H17+H18+H19+H24+H25+H26+H27+H36+H37+H39+H38+H33+H32+H29+H28+H21+H20+H14+H13","v":0},"х",0,"х",0,"х",{"$f":"N9+N10+N11+N12+N16+N17+N18+N19+N24+N25+N26+N27+N36+N37+N39+N38+N33+N32+N29+N28+N21+N20+N14+N13","v":0},"х",{"$f":"P9+P10+P11+P12+P16+P17+P18+P19+P24+P25+P26+P27+P36+P37+P39+P38+P33+P32+P29+P28+P21+P20+P14+P13","v":0},"х",{"$f":"R9+R10+R11+R12+R16+R17+R18+R19+R24+R25+R26+R27+R36+R37+R39+R38+R33+R32+R29+R28+R21+R20+R14+R13","v":0},"х",{"$f":"T9+T10+T11+T12+T16+T17+T18+T19+T24+T25+T26+T27+T36+T37+T39+T38+T33+T32+T29+T28+T21+T20+T14+T13","v":0}]
[null,null,null,null,"СН1",null,"х",{"$f":"H15+H22+H30+H34+H40+H44+H49","v":0},"х",0,"х",0,"х",{"$f":"N15+N22+N30+N34+N40+N44+N49","v":0},"х",{"$f":"P15+P22+P30+P34+P40+P44+P49","v":0},"х",{"$f":"R15+R22+R30+R34+R40+R44+R49","v":0},"х",{"$f":"T15+T22+T30+T34+T40+T44+T49","v":0}]
[null,null,null,null,"СН2",null,"х",{"$f":"H23+H31+H35+H41+H42+H43+H45+H46+H47+H48","v":468.39999999999992},"х",468.39999999999992,"х",525.59999999999991,"х",{"$f":"N23+N31+N35+N41+N42+N43+N45+N46+N47+N48","v":0},"х",{"$f":"P23+P31+P35+P41+P42+P43+P45+P46+P47+P48","v":505.19999999999993},"х",{"$f":"R23+R31+R35+R41+R42+R43+R45+R46+R47+R48","v":559.09999999999991},"х",{"$f":"T23+T31+T35+T41+T42+T43+T45+T46+T47+T48","v":0}]
[null,null,null,null,"НН",null,"х",{"$f":"SUM(H9:H49) - H50-H51-H52","v":0},"х",0,"х",0,"х",{"$f":"SUM(N9:N49) - N50-N51-N52","v":0},"х",{"$f":"SUM(P9:P49) - P50-P51-P52","v":0},"х",{"$f":"SUM(R9:R49) - R50-R51-R52","v":0},"х",{"$f":"SUM(T9:T49) - T50-T51-T52","v":0}]
[null,"Итого по оборудованию",null,null,null,null,"х",{"$f":"SUM(H50:H53)","v":468.39999999999992},"х",468.39999999999992,"х",525.59999999999991,"х",{"$f":"SUM(N50:N53)","v":0},"х",{"$f":"SUM(P50:P53)","v":505.19999999999993},"х",{"$f":"SUM(R50:R53)","v":559.09999999999991},"х",{"$f":"SUM(T50:T53)","v":0}]
[null,"Всего активов по уровням напряжения:",null,null,"ВН",null,"х",{"$f":"H50+'УЕ ВЛЭП 2016-2019'!H48","v":0},"х",{"$f":"J50+'УЕ ВЛЭП 2016-2019'!J48","v":0},"х",{"$f":"L50+'УЕ ВЛЭП 2016-2019'!L48","v":0},"х",{"$f":"N50+'УЕ ВЛЭП 2016-2019'!N48","v":0},"х",{"$f":"P50+'УЕ ВЛЭП 2016-2019'!P48","v":0},"х",{"$f":"R50+'УЕ ВЛЭП 2016-2019'!R48","v":0},"х",{"$f":"T50+'УЕ ВЛЭП 2016-2019'!T48","v":0}]
[null,null,null,null,"СН1",null,"х",{"$f":"H51+'УЕ ВЛЭП 2016-2019'!H49","v":0},"х",{"$f":"J51+'УЕ ВЛЭП 2016-2019'!J49","v":0},"х",{"$f":"L51+'УЕ ВЛЭП 2016-2019'!L49","v":0},"х",{"$f":"N51+'УЕ ВЛЭП 2016-2019'!N49","v":0},"х",{"$f":"P51+'УЕ ВЛЭП 2016-2019'!P49","v":0},"х",{"$f":"R51+'УЕ ВЛЭП 2016-2019'!R49","v":0},"х",{"$f":"T51+'УЕ ВЛЭП 2016-2019'!T49","v":0}]
[null,null,null,null,"СН2",null,"х",{"$f":"H52+'УЕ ВЛЭП 2016-2019'!H50","v":577.17599999999993},"х",{"$f":"J52+'УЕ ВЛЭП 2016-2019'!J50","v":577.17599999999993},"х",{"$f":"L52+'УЕ ВЛЭП 2016-2019'!L50","v":635.46389999999997},"х",{"$f":"N52+'УЕ ВЛЭП 2016-2019'!N50","v":0},"х",{"$f":"P52+'УЕ ВЛЭП 2016-2019'!P50","v":613.97599999999989},"х",{"$f":"R52+'УЕ ВЛЭП 2016-2019'!R50","v":671.82499999999993},"х",{"$f":"T52+'УЕ ВЛЭП 2016-2019'!T50","v":0}]
[null,null,null,null,"НН",null,"х",{"$f":"H53+'УЕ ВЛЭП 2016-2019'!H51","v":324.22700000000003},"х",{"$f":"J53+'УЕ ВЛЭП 2016-2019'!J51","v":324.22700000000003},"х",{"$f":"L53+'УЕ ВЛЭП 2016-2019'!L51","v":347.76800000000003},"х",{"$f":"N53+'УЕ ВЛЭП 2016-2019'!N51","v":0},"х",{"$f":"P53+'УЕ ВЛЭП 2016-2019'!P51","v":324.22700000000003},"х",{"$f":"R53+'УЕ ВЛЭП 2016-2019'!R51","v":347.76800000000003},"х",{"$f":"T53+'УЕ ВЛЭП 2016-2019'!T51","v":0}]
[null,"Количество активов - всего",null,null,null,null,"х",{"$f":"H58+H57+H56+H55","v":901.40300000000002},"х",{"$f":"J58+J57+J56+J55","v":901.40300000000002},"х",{"$f":"L58+L57+L56+L55","v":983.2319},"х",{"$f":"N58+N57+N56+N55","v":0},"х",{"$f":"P58+P57+P56+P55","v":938.20299999999997},"х",{"$f":"R58+R57+R56+R55","v":1019.593},"х",{"$f":"T58+T57+T56+T55","v":0}]
[]
[null,"Руководитель организации",null,null,null,{"$f":"'Инф-я'!$C$17","v":"Окунев Василий Михайлович"}]

{"sheet":"Подконтрольные расходы","index":7,"n_rows":34,"n_cols":6,"rows_kept":34,"cut":false,"hidden":false,"merged":[[1,0,1,5],[33,1,33,2],[3,0,3,5],[5,0,6,0],[5,1,6,1],[5,2,6,2],[5,4,5,5],[33,3,33,5]]}
[]
["Подконтрольные расходы на 2019 год долгосрочного периода регулирования 2015 - 2019 годы"]
[]
[{"$f":"'Инф-я'!C9","v":"Общество с ограниченной ответственностью \"Энергетик\""}]
[]
["№ п.п.","Наименование","Ед.изм.","2018 год","2019 год"]
[null,null,null,"Утверждено","По данным организации","По данным экспертов"]
[1,2,3,4,5,6]
["Показатели для расчета подконтрольных расходов"]
[1,"Индекс эффективности подконтрольных расходов (Хэф)","%",0.01,{"$f":"D10","v":0.01},{"$f":"E10","v":0.01}]
[2,"Коэффициент эластичности подконтрольных расходов по количеству активов (К эл)","знач.",0.75,0.75,0.75]
[3,"Индекс потребительских цен (ИПЦ)","%",3.6999999999999998E-2,0.04]
[4,"Количество активов (УЕ)","усл.ед.",{"$f":"'УЕ ТП 2016-2019'!P59","v":938.20299999999997},{"$f":"'УЕ ТП 2016-2019'!R59","v":1019.593},{"$f":"'УЕ ТП 2016-2019'!T59","v":0}]
[5,"Индекс изменения количества активов (ИКА)","%","Х",{"$f":"IF(D13=0,0,(E13-D13)/D13)","v":8.6750948355526464E-2},{"$f":"IF(D13=0,0,(F13-D13)/D13)","v":-1}]
[6,"Общий коэффициент индексации подконтрольных расходов ПР= ИПЦ*(1+(Кэл*ИКА))*(1-Хэф)","знач.","Х",{"$f":"(1+E12)*(1+(E11*E14))*(1-E10)","v":1.0965890823201376},{"$f":"(1+F12)*(1+(F11*F14))*(1-F10)","v":0.2475}]
["Подконтрольные расходы организации (ПР)"]
[1,"Расходы из фонда оплаты труда","тыс.руб.",12064.662592782948,{"$f":"D17*$E$15","v":13229.977281121946},{"$f":"D17*$F$15","v":2986.0039917137797}]
[2,"Материалы","тыс.руб.",4364.838002286544,{"$f":"D18*$E$15","v":4786.4336994034638},{"$f":"D18*$F$15","v":1080.2974055659197}]
[3,"Ремонт основных фондов","тыс.руб.",15449.325562116981,16941.561740626905,{"$f":"D19*$F$15","v":3823.7080766239528}]
["4","Другие обоснованные подконтрольные расходы, в том числе:","тыс.руб.",{"$f":"D21+D22+D23+D24+D25+D26+D27+D28","v":936.36970603364762},1026.8127966518148,231.75150224332779]
["4.1","Работы и услуги производственного характера","тыс.руб.",0,0,0]
["4.2","Работы и услуги непроизводственного характера","тыс.руб.",584.01952882957153,640.42943917625905,144.54483338531895]
["4.3","Обеспечение нормальных условий труда и техники безопасности","тыс.руб.",80.780935461112435,88.583491886263545,19.993281526625328]
["4.4.","Расходы на командировки","тыс.руб.",0,0,0]
["4.5","Расходы на обучение персонала","тыс.руб.",104.77762239782277,114.89799679291437,25.932461543461134]
["4.6","Расходы на страхование","тыс.руб.",0,0,0]
["4.7","Расходы на услуги банков","тыс.руб.",166.79161934514087,182.90186879637776,41.280925787922364]
["4.8","Прочие обоснованные подконтрольные расходы","тыс.руб.",0,0,0]
["5","Расходы из прибыли, в том числе:","тыс.руб.",{"$f":"D30+D31","v":348.18438395065192},381.81519407464782,86.175635027786356]
["5.1","Расходы по коллективным договорам","тыс.руб.",348.18438395065192,381.81519407464782,86.175635027786356]
["5.2","Прочие обоснованные расходы из прибыли","тыс.руб.",null,0,0]
[null,"Итого ПР ","тыс.руб.",{"$f":"D17+D18+D19+D20+D29","v":33163.380247170775},36366.600711878782,{"$f":"D32*F$15","v":8207.9366111747659}]
[]
[null,"Руководитель организации",null,{"$f":"'Инф-я'!C17","v":"Окунев Василий Михайлович"}]

{"sheet":"Расчет аморт. max срок ","index":8,"n_rows":113,"n_cols":23,"rows_kept":113,"cut":false,"hidden":false,"merged":[[109,0,109,2],[109,5,109,7],[1,0,1,19],[2,0,2,19],[6,0,6,22],[11,0,11,22],[10,0,10,22],[4,21,4,22],[4,2,4,3],[4,4,4,6],[4,7,4,10],[4,11,4,13],[4,15,5,15],[4,16,5,16],[4,17,4,18],[4,19,5,19],[4,0,5,0],[4,20,5,20],[15,0,15,22],[4,14,5,14],[4,1,5,1],[16,0,16,22],[20,0,20,22],[21,0,21,22],[25,0,25,22],[26,0,26,22],[30,0,30,22],[31,0,31,22],[64,0,64,22],[65,0,65,22],[82,0,82,22],[100,0,100,22],[101,0,101,22],[106,0,106,22],[72,0,72,22],[73,0,73,22],[77,0,77,22],[78,0,78,22],[81,0,81,22]]}
["Заполняется в Рублях !"]
["Расчет амортизационных отчислений основных средств, участвующих в передаче электрической энергии по максимальному сроку использования и расчет среднегодовой стоимости ОС"]
[{"$f":"'Инф-я'!C9","v":"Общество с ограниченной ответственностью \"Энергетик\""}]
[]
["Группа учета ОС \\ Амортизационная группа \\ Основное средство, Инвентарный номер, Дата принятия к учету","Год ввода","Срок полезного использования, мес.",null,"На начало 01.01.2018 г.",null,null,"За 1 квартал 2018 года",null,null,null,"На конец 31.03.2018 г.",null,null,"Амортизация (2-4 квартал 2018)","Амортизация (2018 год)","Остаточная стоимость на начало 2019 года","Амортизация на 2019 год",null,"Остаточная стоимость на начало 2020 года","Налоговая ставка (%)","Среднегодовая остаточная стоимость ОС"]
[null,null,"бух.учет","Максимальный срок по группе ","Стоимость","Накопленная амортизация (износ)","Остаточная стоимость","Увеличение стоимости","Начисление амортизации (износа)","Уменьшение стоимости","Списание амортизации (износа)","Стоимость","Накопленная амортизация (износ)","Остаточная стоимость",null,"Амортизация (2015 год)","Остаточная стоимость на начало 2016 года","бух.учет","Максимальный срок по группе",null,null,"облагаемых по ставке 2,2 %"," необлагаемых налогом (движимое имущество, введенное с 01.01.2013 года"]
["Первая группа (от 1 года до 2 лет включительно)"]
[null,null,null,24,null,null,null,null,null,null,null,null,null,null,{"$f":"IF(C8>0,IF(N8>L8/C8*9,(L8/C8*9),N8),0)","v":0},{"$f":"I8+O8","v":0},{"$f":"IF((N8-O8)>0,(N8-O8),0)","v":0},{"$f":"IF(C8>0,IF(Q8>L8/C8*12,(L8/C8*12),Q8),0)","v":0},{"$f":"IF(D8>0,IF(Q8>L8/D8*12,(L8/D8*12),Q8),0)","v":0},{"$f":"IF((Q8-R8)>0,(Q8-R8),0)","v":0},null,{"$f":"IF(U8=2.2,(T8+Q8)/2,0)","v":0},{"$f":"IF(U8=0,(T8+Q8)/2,0)","v":0}]
[null,null,null,{"$f":"$D$8","v":24},null,null,null,null,null,null,null,null,null,null,0,{"$f":"I9+O9","v":0},{"$f":"IF((N9-O9)>0,(N9-O9),0)","v":0},{"$f":"IF(C9>0,IF(Q9>L9/C9*12,(L9/C9*12),Q9),0)","v":0},{"$f":"IF(D9>0,IF(Q9>L9/D9*12,(L9/D9*12),Q9),0)","v":0},{"$f":"IF((Q9-R9)>0,(Q9-R9),0)","v":0},null,{"$f":"IF(U9=2.2,(T9+Q9)/2,0)","v":0},{"$f":"IF(U9=0,(T9+Q9)/2,0)","v":0}]
[null,null,null,{"$f":"$D$8","v":24},null,null,null,null,null,null,null,null,null,null,0,{"$f":"I10+O10","v":0},{"$f":"IF((N10-O10)>0,(N10-O10),0)","v":0},{"$f":"IF(C10>0,IF(Q10>L10/C10*12,(L10/C10*12),Q10),0)","v":0},{"$f":"IF(D10>0,IF(Q10>L10/D10*12,(L10/D10*12),Q10),0)","v":0},{"$f":"IF((Q10-R10)>0,(Q10-R10),0)","v":0},null,{"$f":"IF(U10=2.2,(T10+Q10)/2,0)","v":0},{"$f":"IF(U10=0,(T10+Q10)/2,0)","v":0}]
["Добавить"]
["Вторая группа (свыше 2 лет до 3 лет включительно)"]
[null,null,null,36,null,null,null,null,null,null,null,null,null,null,{"$f":"IF(C13>0,IF(N13>L13/C13*9,(L13/C13*9),N13),0)","v":0},{"$f":"I13+O13","v":0},{"$f":"IF((N13-O13)>0,(N13-O13),0)","v":0},{"$f":"IF(C13>0,IF(Q13>L13/C13*12,(L13/C13*12),Q13),0)","v":0},{"$f":"IF(D13>0,IF(Q13>L13/D13*12,(L13/D13*12),Q13),0)","v":0},{"$f":"IF((Q13-R13)>0,(Q13-R13),0)","v":0},null,{"$f":"IF(U13=2.2,(T13+Q13)/2,0)","v":0},{"$f":"IF(U13=0,(T13+Q13)/2,0)","v":0}]
[null,null,null,{"$f":"$D$13","v":36},null,null,null,null,null,null,null,null,null,null,{"$f":"IF(C14>0,IF(N14>L14/C14*9,(L14/C14*9),N14),0)","v":0},{"$f":"I14+O14","v":0},{"$f":"IF((N14-O14)>0,(N14-O14),0)","v":0},{"$f":"IF(C14>0,IF(Q14>L14/C14*12,(L14/C14*12),Q14),0)","v":0},{"$f":"IF(D14>0,IF(Q14>L14/D14*12,(L14/D14*12),Q14),0)","v":0},{"$f":"IF((Q14-R14)>0,(Q14-R14),0)","v":0},null,{"$f":"IF(U14=2.2,(T14+Q14)/2,0)","v":0},{"$f":"IF(U14=0,(T14+Q14)/2,0)","v":0}]
[null,null,null,{"$f":"$D$13","v":36},null,null,null,null,null,null,null,null,null,null,0,{"$f":"I15+O15","v":0},{"$f":"IF((N15-O15)>0,(N15-O15),0)","v":0},{"$f":"IF(C15>0,IF(Q15>L15/C15*12,(L15/C15*12),Q15),0)","v":0},{"$f":"IF(D15>0,IF(Q15>L15/D15*12,(L15/D15*12),Q15),0)","v":0},{"$f":"IF((Q15-R15)>0,(Q15-R15),0)","v":0},null,{"$f":"IF(U15=2.2,(T15+Q15)/2,0)","v":0},{"$f":"IF(U15=0,(T15+Q15)/2,0)","v":0}]
["Добавить"]
["Третья группа (свыше 3 лет до 5 лет включительно)"]
["Зеркальная камера",null,60,60,89980,32992.74,{"$f":"E18-F18","v":56987.26},null,4499.01,null,null,89980,{"$f":"F18+I18","v":37491.75},{"$f":"L18-M18","v":52488.25},{"$f":"IF(C18>0,IF(N18>L18/C18*9,(L18/C18*9),N18),0)","v":13497},{"$f":"I18+O18","v":17996.010000000002},{"$f":"IF((N18-O18)>0,(N18-O18),0)","v":38991.25},{"$f":"IF(C18>0,IF(Q18>L18/C18*12,(L18/C18*12),Q18),0)","v":17996},{"$f":"IF(D18>0,IF(Q18>L18/D18*12,(L18/D18*12),Q18),0)","v":17996},{"$f":"IF((Q18-R18)>0,(Q18-R18),0)","v":20995.25},null,{"$f":"IF(U18=2.2,(T18+Q18)/2,0)","v":0},{"$f":"IF(U18=0,(T18+Q18)/2,0)","v":29993.25}]
[null,null,null,{"$f":"$D$18","v":60},null,null,null,null,null,null,null,null,null,null,{"$f":"IF(C19>0,IF(N19>L19/C19*9,(L19/C19*9),N19),0)","v":0},{"$f":"I19+O19","v":0},{"$f":"IF((N19-O19)>0,(N19-O19),0)","v":0},{"$f":"IF(C19>0,IF(Q19>L19/C19*12,(L19/C19*12),Q19),0)","v":0},{"$f":"IF(D19>0,IF(Q19>L19/D19*12,(L19/D19*12),Q19),0)","v":0},{"$f":"IF((Q19-R19)>0,(Q19-R19),0)","v":0},null,{"$f":"IF(U19=2.2,(T19+Q19)/2,0)","v":0},{"$f":"IF(U19=0,(T19+Q19)/2,0)","v":0}]
[null,null,null,{"$f":"$D$18","v":60},null,null,null,null,null,null,null,null,null,null,0,{"$f":"I20+O20","v":0},{"$f":"IF((N20-O20)>0,(N20-O20),0)","v":0},{"$f":"IF(C20>0,IF(Q20>L20/C20*12,(L20/C20*12),Q20),0)","v":0},{"$f":"IF(D20>0,IF(Q20>L20/D20*12,(L20/D20*12),Q20),0)","v":0},{"$f":"IF((Q20-R20)>0,(Q20-R20),0)","v":0},null,{"$f":"IF(U20=2.2,(T20+Q20)/2,0)","v":0},{"$f":"IF(U20=0,(T20+Q20)/2,0)","v":0}]
["Добавить"]
["Четвертая группа (свыше 5 лет до 7 лет включительно)"]
["Подъемник 2-х стоечный электрогидравлический",null,null,84,162000,9969.24,{"$f":"E23-F23","v":152030.76},null,7476.93,null,null,162000,{"$f":"F23+I23","v":17446.169999999998},{"$f":"L23-M23","v":144553.83000000002},{"$f":"IF(C23>0,IF(N23>L23/C23*9,(L23/C23*9),N23),0)","v":0},{"$f":"I23+O23","v":7476.93},{"$f":"IF((N23-O23)>0,(N23-O23),0)","v":144553.83000000002},{"$f":"IF(C23>0,IF(Q23>L23/C23*12,(L23/C23*12),Q23),0)","v":0},{"$f":"IF(D23>0,IF(Q23>L23/D23*12,(L23/D23*12),Q23),0)","v":23142.857142857145},{"$f":"IF((Q23-R23)>0,(Q23-R23),0)","v":144553.83000000002},null,{"$f":"IF(U23=2.2,(T23+Q23)/2,0)","v":0},{"$f":"IF(U23=0,(T23+Q23)/2,0)","v":144553.83000000002}]
["Подъемник 2-х стоечный электрогидравлический",null,null,{"$f":"$D$23","v":84},162000,29907.72,132092.28,null,7476.93,null,null,162000,37384.65,124615.35,{"$f":"IF(C24>0,IF(N24>L24/C24*9,(L24/C24*9),N24),0)","v":0},{"$f":"I24+O24","v":7476.93},{"$f":"IF((N24-O24)>0,(N24-O24),0)","v":124615.35},{"$f":"IF(C24>0,IF(Q24>L24/C24*12,(L24/C24*12),Q24),0)","v":0},{"$f":"IF(D24>0,IF(Q24>L24/D24*12,(L24/D24*12),Q24),0)","v":23142.857142857145},{"$f":"IF((Q24-R24)>0,(Q24-R24),0)","v":124615.35},null,{"$f":"IF(U24=2.2,(T24+Q24)/2,0)","v":0},{"$f":"IF(U24=0,(T24+Q24)/2,0)","v":124615.35}]
["Планшет 12,9* Apple IPAD Pro Wi-Fi",null,null,{"$f":"$D$23","v":84},76990,47049.42,29940.58,null,6415.83,null,null,76990,{"$f":"F25+I25","v":53465.25},{"$f":"L25-M25","v":23524.75},0,{"$f":"I25+O25","v":6415.83},{"$f":"IF((N25-O25)>0,(N25-O25),0)","v":23524.75},{"$f":"IF(C25>0,IF(Q25>L25/C25*12,(L25/C25*12),Q25),0)","v":0},{"$f":"IF(D25>0,IF(Q25>L25/D25*12,(L25/D25*12),Q25),0)","v":10998.571428571428},{"$f":"IF((Q25-R25)>0,(Q25-R25),0)","v":23524.75},null,{"$f":"IF(U25=2.2,(T25+Q25)/2,0)","v":0},{"$f":"IF(U25=0,(T25+Q25)/2,0)","v":23524.75}]
["Добавить"]
["Пятая группа (свыше 7 лет до 10 лет включительно)"]
["Аппарат высокого давления 1,286-500 HD 10/25-4 SX",null,null,120,116394,28128.55,{"$f":"E28-F28","v":88265.45},null,2909.85,null,null,116394,{"$f":"F28+I28","v":31038.399999999998},{"$f":"L28-M28","v":85355.6},{"$f":"IF(C28>0,IF(N28>L28/C28*9,(L28/C28*9),N28),0)","v":0},{"$f":"I28+O28","v":2909.85},{"$f":"IF((N28-O28)>0,(N28-O28),0)","v":85355.6},{"$f":"IF(C28>0,IF(Q28>L28/C28*12,(L28/C28*12),Q28),0)","v":0},{"$f":"IF(D28>0,IF(Q28>L28/D28*12,(L28/D28*12),Q28),0)","v":11639.400000000001},{"$f":"IF((Q28-R28)>0,(Q28-R28),0)","v":85355.6},null,{"$f":"IF(U28=2.2,(T28+Q28)/2,0)","v":0},{"$f":"IF(U28=0,(T28+Q28)/2,0)","v":85355.6}]
[null,null,null,{"$f":"$D$28","v":120},null,null,null,null,null,null,null,null,null,null,0,{"$f":"I29+O29","v":0},{"$f":"IF((N29-O29)>0,(N29-O29),0)","v":0},{"$f":"IF(C29>0,IF(Q29>L29/C29*12,(L29/C29*12),Q29),0)","v":0},{"$f":"IF(D29>0,IF(Q29>L29/D29*12,(L29/D29*12),Q29),0)","v":0},{"$f":"IF((Q29-R29)>0,(Q29-R29),0)","v":0},null,{"$f":"IF(U29=2.2,(T29+Q29)/2,0)","v":0},{"$f":"IF(U29=0,(T29+Q29)/2,0)","v":0}]
[null,null,null,{"$f":"$D$28","v":120},null,null,null,null,null,null,null,null,null,null,0,{"$f":"I30+O30","v":0},{"$f":"IF((N30-O30)>0,(N30-O30),0)","v":0},{"$f":"IF(C30>0,IF(Q30>L30/C30*12,(L30/C30*12),Q30),0)","v":0},{"$f":"IF(D30>0,IF(Q30>L30/D30*12,(L30/D30*12),Q30),0)","v":0},{"$f":"IF((Q30-R30)>0,(Q30-R30),0)","v":0},null,{"$f":"IF(U30=2.2,(T30+Q30)/2,0)","v":0},{"$f":"IF(U30=0,(T30+Q30)/2,0)","v":0}]
["Добавить"]
["Шестая группа (свыше 10 лет до 15 лет включительно)"]
[" Возд. двухц(ВЛ)10кВ от ПС\"Караб.\"доТП13ф1003,1005","10 кВ",180,180,1398812.18,450884.42,{"$f":"E33-F33","v":947927.76},null,23313.54,null,null,{"$f":"E33","v":1398812.18},{"$f":"F33+I33","v":474197.95999999996},{"$f":"L33-M33","v":924614.22},{"$f":"IF(C33>0,IF(N33>L33/C33*9,(L33/C33*9),N33),0)","v":69940.608999999997},{"$f":"I33+O33","v":93254.149000000005},{"$f":"IF((N33-O33)>0,(N33-O33),0)","v":854673.61100000003},{"$f":"IF(C33>0,IF(Q33>L33/C33*12,(L33/C33*12),Q33),0)","v":93254.145333333319},{"$f":"IF(D33>0,IF(Q33>L33/D33*12,(L33/D33*12),Q33),0)","v":93254.145333333319},{"$f":"IF((Q33-R33)>0,(Q33-R33),0)","v":761419.46566666674},null,{"$f":"IF(U33=2.2,(T33+Q33)/2,0)","v":0},{"$f":"IF(U33=0,(T33+Q33)/2,0)","v":808046.53833333333}]
["Возд. одноц(ВЛ)10кВ от ТП 2 до ТП 62ф1003","10 кВ",180,{"$f":"$D$33","v":180},659289.64,263715.84000000003,395573.8,null,10988.16,null,null,{"$f":"E34","v":659289.64},{"$f":"F34+I34","v":274704},384585.64,{"$f":"IF(C34>0,IF(N34>L34/C34*9,(L34/C34*9),N34),0)","v":32964.482000000004},43952.642000000007,351621.158,43952.642666666667,43952.642666666667,307668.51533333334,null,0,329644.83666666667]
[" Возд. одноц(ВЛ)10кВ от ТП 55 до ТП 57ф1022","10 кВ",180,180,748971.92,270462.40000000002,478509.52,null,12482.88,null,null,748971.92,282945.28000000003,466026.64,37448.596000000005,49931.476000000002,428578.04399999999,49931.46133333334,49931.46133333334,378646.58266666665,null,0,403612.31333333335]
[" Возд. одноц(ВЛ)10кВ от ТП 55 до ТП3ф1022","10 кВ",180,180,558227.64,223290.72,334936.92000000004,null,9303.7800000000007,null,null,558227.64,232594.5,325633.14,27911.382000000001,37215.162000000004,297721.75800000003,37215.176000000007,37215.176000000007,260506.58200000002,null,0,279114.17000000004]
[" Возд. одноц(ВЛ)10кВ от ТП 55 до ТП54ф1022","10 кВ",180,180,400737.9,160295.04000000001,240442.86000000002,null,6678.96,null,null,400737.9,166974,233763.90000000002,20036.895,26715.855,213727.00500000003,26715.86,26715.86,187011.14500000002,null,0,200369.07500000001]
["Возд-каб. двухц(ВЛ)10кВ от ТП 1 до ТП 63ф1003,1005","10 кВ",180,180,2303696.7200000002,685117.11,1618579.6100000003,null,38394.959999999999,null,null,2303696.7200000002,723512.07,1580184.6500000004,115184.83600000001,153579.796,1464999.8140000002,153579.78133333335,153579.78133333335,1311420.0326666669,null,0,1388209.9233333336]
[" Возд-каб. двухц(ВЛ+КЛ)10кВотПС\"Караб\"доТП51","10 кВ",180,180,8415145.5199999996,2243950.15,6171195.3699999992,null,140252.43,null,null,8415145.5199999996,2384202.58,6030942.9399999995,420757.27599999995,561009.70600000001,5610185.6639999999,561009.70133333327,561009.70133333327,5049175.9626666661,null,0,5329680.8133333325]
["Воздушн. одноц.(ВЛ)10кВ от ТП8 до ТП83,84 ф1001","10 кВ",180,180,616520.09,164405.28,452114.80999999994,null,10275.33,null,null,616520.09,174680.61,441839.48,30826.004499999999,41101.334499999997,411013.4755,41101.33933333333,41101.33933333333,369912.13616666669,null,0,390462.80583333335]
["Воздушн. одноцеп. (ВЛ) 10кВ от ТП39 до ТП40 ф1004","10 кВ",180,180,700537.25,198485.37,502051.88,null,11675.61,null,null,700537.25,210160.97999999998,490376.27,35026.862500000003,46702.472500000003,455349.40750000003,46702.483333333337,46702.483333333337,408646.92416666669,null,0,431998.16583333339]
[" Воздушн. одноцеп. (ВЛ) 10кВ отТП38 доТП39 ф1004","10 кВ",180,180,1096068.19,310552.77,785515.41999999993,null,18267.810000000001,null,null,1096068.19,328820.58,767247.60999999987,54803.409499999994,73071.219499999992,712444.20049999992,73071.212666666659,73071.212666666659,639372.9878333332,null,0,675908.5941666665]
[" Воздушн. одноцеп. (ВЛ) 10кВ отТП40 доТП58/37 ф1004","10 кВ",180,180,537327.69999999995,152242.65,385085.04999999993,null,8955.4500000000007,null,null,537327.69999999995,161198.1,376129.6,26866.384999999998,35821.834999999999,349263.21499999997,35821.846666666665,35821.846666666665,313441.36833333329,null,0,331352.29166666663]
["Воздушн. одноцеп. (ВЛ) 10кВ отТП55 доТП56 ф1022","10 кВ",180,180,833308.07,236103.99,597204.07999999996,null,13888.47,null,null,833308.07,249992.46,583315.61,41665.4035,55553.873500000002,541650.20649999997,55553.871333333329,55553.871333333329,486096.33516666666,null,0,513873.27083333331]
[" Воздушн. одноцеп. (ВЛ) 10кВ отТП56 доТП82/20 ф1022","10 кВ",180,180,429493.27,121689.57,307803.7,null,7158.21,null,null,429493.27,128847.78000000001,300645.49,21474.663500000002,28632.873500000002,279170.82649999997,28632.884666666669,28632.884666666669,250537.94183333329,null,0,264854.38416666666]
["Воздушн. одноцеп.(ВЛ)10кВ от опоры №16доТП44 ф1001","10 кВ",180,180,187578.58,50020.800000000003,137557.77999999997,null,3126.3,null,null,187578.58,53147.100000000006,134431.47999999998,9378.9290000000001,12505.228999999999,125052.55099999998,12505.238666666668,12505.238666666668,112547.31233333331,null,0,118799.93166666664]
[" Воздушная двухц(ВЛ)10кВ от ТП1 до ТП61 ф1003,1005","10 кВ",180,180,641304.05000000005,256521.60000000001,384782.45000000007,null,10688.4,null,null,641304.05000000005,267210,374094.05000000005,{"$f":"IF(C47>0,IF(N47>L47/C47*9,(L47/C47*9),N47),0)","v":32065.202499999999},42753.602500000001,342028.84750000003,42753.603333333333,42753.603333333333,299275.2441666667,null,0,320652.0458333334]
[" Воздушная двухц(ВЛ)10кВ от ТП13 до ТП1 ф1003,1005","10 кВ",180,180,2130397.7200000002,636848.36,1493549.3600000003,null,35506.620000000003,null,null,2130397.7200000002,672354.98,1458042.7400000002,106519.886,142026.50599999999,1351522.8540000003,142026.51466666668,142026.51466666668,1209496.3393333335,null,0,1280509.5966666669]
[" Воздушная двухц(ВЛ)10кВ от ТП9-ТП8-ТП32-ТП18 ф1001,1005","10 кВ",180,180,4547113.62,1060993.08,3486120.54,null,75785.22,null,null,4547113.62,1136778.3,3410335.3200000003,227355.68100000001,303140.90100000001,3182979.6390000004,303140.90800000005,303140.90800000005,2879838.7310000006,null,0,3031409.1850000005]
["ВЛ 10кВ ТП №11-ТП №66 Ф 1001","10 кВ",180,180,2604937.89,390740.76,2214197.13,null,43415.64,null,null,2604937.89,434156.4,2170781.4900000002,130246.89450000001,173662.53450000001,2040534.5955000003,173662.52600000001,173662.52600000001,1866872.0695000002,null,0,1953703.3325000003]
["ВЛ 10кВ ТП №12-ТП №11 Ф 1001","10 кВ",180,180,1804578.12,300762.90000000002,1503815.2200000002,null,30076.29,null,null,1804578.12,330839.19,1473738.9300000002,90228.906000000017,120305.19600000003,1383510.0240000002,120305.20800000001,120305.20800000001,1263204.8160000001,null,0,1323357.4200000002]
["ВЛ 0,4 кВ и мачтовые подстанции №94 ул.Первомайская, №90 ул.Пионерская, №97 ВРУ 0,4 кВ","10 кВ",180,180,8559056.2200000007,427952.79,8131103.4300000006,null,142650.93,null,null,8559056.2200000007,570603.72,7988452.5000000009,427952.81099999999,570603.74099999992,7560499.6890000012,570603.74800000002,570603.74800000002,6989895.9410000015,null,0,7275197.8150000013]
["ВЛ 0,4 кВ от ТП №102 ул. Строителей, ул.Красноармейская","10 кВ",180,180,2063779.82,103188.96,1960590.86,null,34396.32,null,null,2063779.82,137585.28,1926194.54,103188.99100000001,137585.31100000002,1823005.5490000001,137585.32133333333,137585.32133333333,1685420.2276666667,null,0,1754212.8883333334]
["ВЛ 0,4 кВ от ТП №35 ул.1й Садовый пер., Баня, Детский Дом, ул.Гагарина","10 кВ",180,180,1747422.6,87371.1,1660051.5,null,29123.7,null,null,1747422.6,116494.8,1630927.8,87371.13,116494.83,1543556.67,116494.84,116494.84,1427061.8299999998,null,0,1485309.25]
["ВЛ 10 кВ и мачтовые подстанции №93 СНТ \"Заря\" и №92 ул.Красногорская","10 кВ",180,180,1460815.16,73040.759999999995,1387774.4,null,24346.92,null,null,1460815.16,97387.68,1363427.48,{"$f":"IF(C55>0,IF(N55>L55/C55*9,(L55/C55*9),N55),0)","v":73040.758000000002},97387.678,1290386.7220000001,97387.677333333326,97387.677333333326,1192999.0446666668,null,0,1241692.8833333333]
["ВЛ от ТП 24 до ул. Мира 30А","10 кВ",180,180,171464.46,28577.4,142887.06,null,2857.74,null,null,171464.46,31435.14,140029.32,8573.223,11430.963,131456.09700000001,11430.964,11430.964,120025.133,null,0,125740.61500000001]
["ВЛ от ТП 32 по ул. Красноармейская с подкл. В ТП 18","10 кВ",180,180,245516.82,40919.4,204597.42,null,4091.94,null,null,245516.82,45011.340000000004,200505.48,12275.841,16367.781000000001,188229.63900000002,16367.788,16367.788,171861.85100000002,null,0,180045.74500000002]
["Воздушная линия 0,4 кВ и мачтовые подстанции от ТП №11","10 кВ",180,180,5742091.2599999998,350905.61,5391185.6499999994,null,95701.53,null,null,5742091.2599999998,446607.14,5295484.12,287104.56299999997,382806.09299999999,5008379.557,382806.08399999997,382806.08399999997,4625573.4730000002,null,0,4816976.5150000006]
["Воздушная линия 0,4 кВ ул. Почтовая","10 кВ",180,180,788791.59,48203.98,740587.61,null,13146.54,null,null,788791.59,61350.520000000004,727441.07,39439.579499999993,52586.119499999993,688001.49049999996,52586.105999999992,52586.105999999992,635415.38449999993,null,0,661708.4375]
["Воздушная линия 0,4 кВ ул.Зеленая ии мачтовая подстанция № 100","10 кВ",180,180,1295023.1200000001,79140.27,1215882.8500000001,null,21583.71,null,null,1295023.1200000001,100723.98000000001,1194299.1400000001,{"$f":"IF(C60>0,IF(N60>L60/C60*9,(L60/C60*9),N60),0)","v":64751.15600000001},86334.866000000009,1129547.9840000002,86334.87466666667,86334.87466666667,1043213.1093333336,null,0,1086380.5466666669]
["Воздушная линия 0,4кВ и мачтовые трансформаторые подстанции от ТП 8","10 кВ",180,180,7584542.8899999997,463499.85,7121043.04,null,126409.05,null,null,7584542.8899999997,589908.9,6994633.9899999993,379227.14449999994,505636.19449999993,6615406.8454999998,505636.19266666658,505636.19266666658,6109770.6528333332,null,0,6362588.7491666665]
["Воздушная линия 10 кВ Ф1004","10 кВ",180,180,5287101.45,264355.11,5022746.34,null,88118.37,null,null,5287101.45,352473.48,4934627.9700000007,{"$f":"IF(C62>0,IF(N62>L62/C62*9,(L62/C62*9),N62),0)","v":264355.07250000001},352473.4425,4670272.8975000009,352473.43000000005,352473.43000000005,4317799.4675000012,null,0,4494036.182500001]
["Воздушная двухц(ВЛ)10кВ от ТП2 до ТП22 ф1003,1005","10 кВ",180,{"$f":"MAX(361,C63)","v":361},192147.14,76858.559999999998,115288.58000000002,null,3202.44,null,null,192147.14,{"$f":"F63+I63","v":80061},{"$f":"L63-M63","v":112086.14000000001},9607.357,12809.797,102478.78300000001,12809.809333333335,6387.1625484764554,89668.973666666672,null,0,96073.878333333341]
["ВЛ 10кВ энергетический комплекс \"Больница\" Ф 1001","10 кВ",180,{"$f":"$D$33","v":180},null,null,null,null,52517.32,null,null,4726559.22,{"$f":"F64+I64","v":52517.32},{"$f":"L64-M64","v":4674041.8999999994},236327.96100000001,288845.28100000002,4437713.9389999993,315103.94799999997,315103.94799999997,4122609.9909999995,null,0,4280161.9649999999]
["Добавить"]
["Седьмая группа (свыше 15 лет до 20 лет включительно)"]
[" Трансформаторная подстанция ТП 61 10/0,4-250кВА","10/0,4",240,240,1636018.1,490805.28,{"$f":"E67-F67","v":1145212.82},null,20450.22,null,null,{"$f":"E67","v":1636018.1},{"$f":"F67+I67","v":511255.5},{"$f":"L67-M67","v":1124762.6000000001},{"$f":"IF(C67>0,IF(N67>L67/C67*9,(L67/C67*9),N67),0)","v":61350.678749999999},{"$f":"I67+O67","v":81800.898749999993},{"$f":"IF((N67-O67)>0,(N67-O67),0)","v":1063411.9212500001},{"$f":"IF(C67>0,IF(Q67>L67/C67*12,(L67/C67*12),Q67),0)","v":81800.904999999999},{"$f":"IF(D67>0,IF(Q67>L67/D67*12,(L67/D67*12),Q67),0)","v":81800.904999999999},{"$f":"IF((Q67-R67)>0,(Q67-R67),0)","v":981611.0162500001},null,{"$f":"IF(U67=2.2,(T67+Q67)/2,0)","v":0},{"$f":"IF(U67=0,(T67+Q67)/2,0)","v":1022511.4687500001}]
[" Трансформаторная подстанция ТП 66 10/0,4-250кВА","10/0,4",240,{"$f":"$D$67","v":240},1653625.37,413406.6,1240218.77,null,20670.330000000002,null,null,1653625.37,434076.93,1219548.4400000002,{"$f":"IF(C68>0,IF(N68>L68/C68*9,(L68/C68*9),N68),0)","v":62010.951375000004},82681.281375000006,1157537.4886250002,82681.268500000006,82681.268500000006,1074856.2201250002,null,0,1116196.8543750001]
[" Мачтовая ТП 95 10/0,4-100кВА","10/0,4",240,{"$f":"$D$67","v":240},334555.90999999997,58547.16,276008.75,null,4181.9430000000002,null,null,334555.90999999997,62729.103000000003,271826.80699999997,12545.846625,16727.789625000001,259280.96037499997,16727.7955,16727.7955,242553.16487499996,null,0,250917.06262499996]
[" Мачтовая ТП 96 10/0,4-100кВА","10/0,4",240,{"$f":"$D$67","v":240},334555.90999999997,58547.16,276008.75,null,4181.9399999999996,null,null,334555.90999999997,62729.100000000006,271826.80999999994,12545.846625,16727.786625000001,259280.96337499993,16727.7955,16727.7955,242553.16787499993,null,0,250917.06562499993]
["АИИС КУЭ","0,4 кВ",192,{"$f":"$D$67","v":240},15315771.43,5212196.26,10103575.17,null,239308.92,null,null,15315771.43,5451505.1799999997,9864266.25,{"$f":"IF(C71>0,IF(N71>L71/C71*9,(L71/C71*9),N71),0)","v":717926.78578124999},957235.70578125003,9146339.4642187506,957235.71437499998,765788.57149999996,8189103.7498437501,null,0,8667721.6070312504]
["Мачтовая ТП 88 ул. Чулкова","10/0,4",240,{"$f":"$D$67","v":240},296331.11,13581.81,282749.3,null,3704.13,null,null,296331.11,17285.939999999999,279045.17,11112.416625,14816.546624999999,267932.75337499997,14816.555499999999,14816.555499999999,253116.19787499998,null,0,260524.47562499996]
["Добавить"]
["Восьмая группа (свыше 20 лет до 25 лет включительно)"]
[null,null,null,300,null,null,null,null,null,null,null,null,null,null,{"$f":"IF(C75>0,IF(N75>L75/C75*9,(L75/C75*9),N75),0)","v":0},{"$f":"I75+O75","v":0},{"$f":"IF((N75-O75)>0,(N75-O75),0)","v":0},{"$f":"IF(C75>0,IF(Q75>L75/C75*12,(L75/C75*12),Q75),0)","v":0},{"$f":"IF(D75>0,IF(Q75>L75/D75*12,(L75/D75*12),Q75),0)","v":0},{"$f":"IF((Q75-R75)>0,(Q75-R75),0)","v":0},null,{"$f":"IF(U75=2.2,(T75+Q75)/2,0)","v":0},{"$f":"IF(U75=0,(T75+Q75)/2,0)","v":0}]
[null,null,null,{"$f":"$D$75","v":300},null,null,null,null,null,null,null,null,null,null,{"$f":"IF(C76>0,IF(N76>L76/C76*9,(L76/C76*9),N76),0)","v":0},{"$f":"I76+O76","v":0},{"$f":"IF((N76-O76)>0,(N76-O76),0)","v":0},{"$f":"IF(C76>0,IF(Q76>L76/C76*12,(L76/C76*12),Q76),0)","v":0},{"$f":"IF(D76>0,IF(Q76>L76/D76*12,(L76/D76*12),Q76),0)","v":0},{"$f":"IF((Q76-R76)>0,(Q76-R76),0)","v":0},null,{"$f":"IF(U76=2.2,(T76+Q76)/2,0)","v":0},{"$f":"IF(U76=0,(T76+Q76)/2,0)","v":0}]
[null,null,null,{"$f":"$D$75","v":300},null,null,null,null,null,null,null,null,null,null,0,{"$f":"I77+O77","v":0},{"$f":"IF((N77-O77)>0,(N77-O77),0)","v":0},{"$f":"IF(C77>0,IF(Q77>L77/C77*12,(L77/C77*12),Q77),0)","v":0},{"$f":"IF(D77>0,IF(Q77>L77/D77*12,(L77/D77*12),Q77),0)","v":0},{"$f":"IF((Q77-R77)>0,(Q77-R77),0)","v":0},null,{"$f":"IF(U77=2.2,(T77+Q77)/2,0)","v":0},{"$f":"IF(U77=0,(T77+Q77)/2,0)","v":0}]
["Добавить"]
["Девятая группа (свыше 25 лет до 30 лет включительно)"]
[" Трансформаторная подстанция ТП 44 10/0,4-250кВА","10/0,4",360,360,298798.03000000003,39839.519999999997,{"$f":"E80-F80","v":258958.51000000004},null,2489.9699999999998,null,null,{"$f":"E80","v":298798.03000000003},{"$f":"F80+I80","v":42329.49},{"$f":"L80-M80","v":256468.54000000004},{"$f":"IF(C80>0,IF(N80>L80/C80*9,(L80/C80*9),N80),0)","v":7469.9507500000009},{"$f":"I80+O80","v":9959.9207500000011},{"$f":"IF((N80-O80)>0,(N80-O80),0)","v":248998.58925000005},{"$f":"IF(C80>0,IF(Q80>L80/C80*12,(L80/C80*12),Q80),0)","v":9959.9343333333345},{"$f":"IF(D80>0,IF(Q80>L80/D80*12,(L80/D80*12),Q80),0)","v":9959.9343333333345},{"$f":"IF((Q80-R80)>0,(Q80-R80),0)","v":239038.65491666671},null,{"$f":"IF(U80=2.2,(T80+Q80)/2,0)","v":0},{"$f":"IF(U80=0,(T80+Q80)/2,0)","v":244018.62208333338}]
[null,null,null,{"$f":"$D$80","v":360},null,null,null,null,null,null,null,null,null,null,{"$f":"IF(C81>0,IF(N81>L81/C81*9,(L81/C81*9),N81),0)","v":0},{"$f":"I81+O81","v":0},{"$f":"IF((N81-O81)>0,(N81-O81),0)","v":0},{"$f":"IF(C81>0,IF(Q81>L81/C81*12,(L81/C81*12),Q81),0)","v":0},{"$f":"IF(D81>0,IF(Q81>L81/D81*12,(L81/D81*12),Q81),0)","v":0},{"$f":"IF((Q81-R81)>0,(Q81-R81),0)","v":0},null,{"$f":"IF(U81=2.2,(T81+Q81)/2,0)","v":0},{"$f":"IF(U81=0,(T81+Q81)/2,0)","v":0}]
["Добавить"]
["Десятая группа (свыше 30 лет)"]
[" Трансформаторная подстанция ТП 38 10/0,4-250кВА","10/0,4",480,{"$f":"MAX(361,C84)","v":480},1200003.71,120000.48,{"$f":"E84-F84","v":1080003.23},null,7500.03,null,null,{"$f":"E84","v":1200003.71},{"$f":"F84+I84","v":127500.51},{"$f":"L84-M84","v":1072503.2},{"$f":"IF(C84>0,IF(N84>L84/C84*9,(L84/C84*9),N84),0)","v":22500.069562500001},{"$f":"I84+O84","v":30000.0995625},{"$f":"IF((N84-O84)>0,(N84-O84),0)","v":1050003.1304374998},{"$f":"IF(C84>0,IF(Q84>L84/C84*12,(L84/C84*12),Q84),0)","v":30000.09275},{"$f":"IF(D84>0,IF(Q84>L84/D84*12,(L84/D84*12),Q84),0)","v":30000.09275},{"$f":"IF((Q84-R84)>0,(Q84-R84),0)","v":1020003.0376874999},null,{"$f":"IF(U84=2.2,(T84+Q84)/2,0)","v":0},{"$f":"IF(U84=0,(T84+Q84)/2,0)","v":1035003.0840624999}]
[" Трансформаторная подстанция ТП 39 10/0,4-250кВА","10/0,4",480,480,1725143.97,172514.4,1552629.57,null,10782.15,null,null,1725143.97,183296.55,1541847.42,32346.449437499999,43128.599437500001,1509500.9705624999,43128.599249999999,43128.599249999999,1466372.3713125,null,0,1487936.6709375]
[" Трансформаторная подстанция ТП 45 10/0,4-250кВА","10/0,4",600,600,1714123.93,219811.08,1494312.8499999999,null,8570.61,null,null,1714123.93,228381.69,1485742.24,25711.858949999998,34282.468949999995,1460030.38105,34282.478599999995,34282.478599999995,1425747.9024499999,null,0,1442889.14175]
[" Трансформаторная подстанция ТП 51 Очистные сооружения","10/0,4",600,600,4153930.01,332314.56,3821615.4499999997,null,20769.66,null,null,4153930.01,353084.22,3800845.79,62308.950149999997,83078.610149999993,3738536.8398500001,83078.600200000001,83078.600200000001,3655458.2396499999,null,0,3696997.53975]
[" Трансформаторная подстанция ТП 54 10/0,4-250кВА","10/0,4",480,480,1459986.91,283383.48,1176603.43,null,9124.92,null,null,1459986.91,292508.39999999997,1167478.51,27374.754562499998,36499.674562499997,1140103.7554375001,36499.672749999998,36499.672749999998,1103604.0826875002,null,0,1121853.9190625001]
[" Трансформаторная подстанция ТП 55 10/0,4-400кВА","10/0,4",480,480,2112753.69,312237.2,1800516.49,null,13204.71,null,null,2112753.69,325441.91000000003,1787311.7799999998,39614.131687499997,52818.841687499997,1747697.6483124997,52818.842249999994,52818.842249999994,1694878.8060624998,null,0,1721288.2271874999]
[" Трансформаторная подстанция ТП 56 10/0,4-400кВА*2","10/0,4",600,600,3337073.68,266965.92,3070107.7600000002,null,16685.37,null,null,3337073.68,283651.28999999998,3053422.39,50056.105200000005,66741.475200000001,3003366.2848,66741.473599999998,66741.473599999998,2936624.8111999999,null,0,2969995.548]
[" Трансформаторная подстанция ТП 62 10/0,4-400кВА","10/0,4",600,{"$f":"MAX(361,C91)","v":600},4367990.75,522871.1,3845119.65,null,21839.94,null,null,4367990.75,544711.03999999992,3823279.71,{"$f":"IF(C91>0,IF(N91>L91/C91*9,(L91/C91*9),N91),0)","v":65519.861249999994},87359.80124999999,3757759.8487499999,87359.815000000002,87359.815000000002,3670400.0337499999,null,0,3714079.9412500001]
[" Трансформаторная подстанция ТП 63 10/0,4-400кВА*2","10/0,4",600,600,4241739.6500000004,339339.36,3902400.2900000005,null,21208.71,null,null,4241739.6500000004,360548.07,3881191.5800000005,63626.094750000004,84834.80475000001,3817565.4852500004,84834.793000000005,84834.793000000005,3732730.6922500003,null,0,3775148.0887500001]
[" Трансформаторная подстанция ТП 91 10/0,4-250кВА","10/0,4",480,480,1702885.57,170288.64000000001,1532596.9300000002,null,10643.04,null,null,1702885.57,180931.68000000002,1521953.8900000001,{"$f":"IF(C93>0,IF(N93>L93/C93*9,(L93/C93*9),N93),0)","v":31929.104437500002},42572.144437499999,1490024.7855625001,42572.13925,42572.13925,1447452.6463125001,null,0,1468738.7159375001]
[" Трансформаторная подстанция ТП 10 10/0,4-100кВА","10/0,4",600,600,1708942.34,68357.759999999995,1640584.58,null,8544.7199999999993,null,null,1708942.34,76902.48,1632039.86,25634.1351,34178.855100000001,1606405.7249,34178.846799999999,34178.846799999999,1572226.8781000001,null,0,1589316.3015000001]
[" Трансформаторная подстанция ТП 11 10/0,4-250кВА","10/0,4",600,{"$f":"MAX(361,C95)","v":600},1339231.8899999999,53569.2,1285662.69,null,6696.15,null,null,1339231.8899999999,60265.35,1278966.5399999998,{"$f":"IF(C95>0,IF(N95>L95/C95*9,(L95/C95*9),N95),0)","v":20088.478349999998},26784.628349999999,1258878.0616499998,26784.637799999997,26784.637799999997,1232093.4238499999,null,0,1245485.7427499997]
[" Трансформаторная подстанция ТП 37 10/0,4-250кВА*2","10/0,4",600,600,2315283.12,92611.44,2222671.6800000002,null,11576.43,null,null,2315283.12,104187.87,2211095.25,34729.246800000001,46305.676800000001,2176366.0032000002,46305.662400000001,46305.662400000001,2130060.3408000004,null,0,2153213.1720000003]
["Подстанция ТП-13","10/0,4",600,{"$f":"MAX(361,C97)","v":600},660254.31999999995,26410.080000000002,633844.24,null,3301.26,null,null,660254.31999999995,29711.340000000004,630542.98,9903.8147999999983,13205.074799999999,620639.16519999993,13205.086399999998,13205.086399999998,607434.0787999999,null,0,614036.62199999997]
["Подстанция ТП-2","10/0,4",600,{"$f":"MAX(361,C98)","v":600},875872.97,35034.959999999999,840838.01,null,4379.37,null,null,875872.97,39414.33,836458.64,{"$f":"IF(C98>0,IF(N98>L98/C98*9,(L98/C98*9),N98),0)","v":13138.09455},17517.464550000001,823320.54544999998,17517.4594,17517.4594,805803.08604999993,null,0,814561.81574999995]
["КТП 40 ул. 1-я Воронцова","10/0,4",480,{"$f":"MAX(361,C99)","v":480},2028474.33,46485.89,{"$f":"E99-F99","v":1981988.4400000002},null,12677.97,null,null,{"$f":"E99","v":2028474.33},{"$f":"F99+I99","v":59163.86},{"$f":"L99-M99","v":1969310.47},38033.8936875,50711.863687500001,1931276.5763125001,50711.858250000005,50711.858250000005,1880564.7180625,null,0,1905920.6471875]
["КТП 41 ул. Мира","10/0,4",480,480,null,null,null,null,24724.080000000002,null,null,5933777.6699999999,24724.080000000002,5909053.5899999999,111258.3313125,135982.41131250001,5797795.2586874999,148344.44175,148344.44175,5649450.8169374997,null,0,5723623.0378124993]
["Добавить"]
["Неамортизируемое имущество (Земельные участки)"]
[null,null,null,null,null,null,null,null,null,null,null,null,null,null,"х",null,{"$f":"G103","v":0},"х","х",{"$f":"Q103","v":0},null,{"$f":"IF(U103=2.2,(T103+Q103)/2,0)","v":0},{"$f":"IF(U103=0,(T103+Q103)/2,0)","v":0}]
[null,null,null,null,null,null,null,null,null,null,null,null,null,null,"х",null,{"$f":"G104","v":0},"х","х",{"$f":"Q104","v":0},null,{"$f":"IF(U104=2.2,(T104+Q104)/2,0)","v":0},{"$f":"IF(U104=0,(T104+Q104)/2,0)","v":0}]
[null,null,null,null,null,null,null,null,null,null,null,null,null,null,"х",null,{"$f":"G105","v":0},"х","х",{"$f":"Q105","v":0},null,{"$f":"IF(U105=2.2,(T105+Q105)/2,0)","v":0},{"$f":"IF(U105=0,(T105+Q105)/2,0)","v":0}]
[null,null,null,null,null,null,null,null,null,null,null,null,null,null,"х",null,{"$f":"G106","v":0},"х","х",{"$f":"Q106","v":0},null,{"$f":"IF(U106=2.2,(T106+Q106)/2,0)","v":0},{"$f":"IF(U106=0,(T106+Q106)/2,0)","v":0}]
["Добавить"]
["Итого","x","x","x",{"$f":"SUM(E7:E106)","v":121172509.3},19718263.609999999,101454245.69000003,0,1684375.6929999995,0,0,131832846.19,21402639.302999999,110430206.88700001,{"$f":"SUM(O8:O10)+SUM(O13:O15)+SUM(O18:O20)+SUM(O23:O25)+SUM(O28:O30)+SUM(O33:O64)+SUM(O67:O72)+SUM(O75:O77)+SUM(O80:O81)+SUM(O84:O100)+SUM(O103:O106)","v":5096150.7421187498},6780526.4351187497,105334056.14488125,6794867.6561583346,6665921.5522127636,98539188.48872292,"х",{"$f":"SUM(V8:V10)+SUM(V13:V15)+SUM(V18:V20)+SUM(V23:V25)+SUM(V28:V30)+SUM(V33:V64)+SUM(V67:V72)+SUM(V75:V77)+SUM(V80:V81)+SUM(V84:V100)+SUM(V103:V106)","v":0},{"$f":"SUM(W8:W10)+SUM(W13:W15)+SUM(W18:W20)+SUM(W23:W25)+SUM(W28:W30)+SUM(W33:W64)+SUM(W67:W72)+SUM(W75:W77)+SUM(W80:W81)+SUM(W84:W100)+SUM(W103:W106)","v":101936622.31680208}]
[]
["Руководитель организации",null,null,null,null,{"$f":"'Инф-я'!$C$17","v":"Окунев Василий Михайлович"}]
[]
["Примечание"]
["Основные средства, полностью самортизированные по бухгалтерскому учету на 01.01.2018 г., участвующие в передаче электрической энергии, указываются в листе \"Справка по ОС\""]

{"sheet":"Справка по ОС","index":9,"n_rows":23,"n_cols":20,"rows_kept":23,"cut":false,"hidden":false,"merged":[[6,18,6,19],[19,0,19,19],[20,0,20,10],[6,16,7,16],[6,17,7,17],[6,12,7,12],[6,13,7,13],[6,14,7,14],[6,15,7,15],[6,10,7,10],[6,11,7,11],[1,0,1,7],[3,0,3,7],[6,6,7,6],[6,7,6,8],[6,9,7,9],[22,0,22,1],[6,4,6,5],[6,0,7,0],[6,1,7,1],[6,2,6,3],[22,3,22,4]]}
[]
["Справка о наличии основных средств, полностью самортизированных по бухгалтерскому учету на 01.01.2018 г., участвующих в передаче электрической энергии "]
[]
[{"$f":"'Инф-я'!C9","v":"Общество с ограниченной ответственностью \"Энергетик\""}]
[]
[]
["Основное средство, Инвентарный номер","Амортизационная группа","Срок полезного использования, мес.",null,"Дата принятия объекта",null,"Первоначальная стоимость, тыс. руб. ","Амортизация  в месяц",null,"Остаточная стоимость на 01.01.2015","Амортизация  2015 год","Остаточная стоимость на 01.01.2016","Амортизация  2016 год","Остаточная стоимость на 01.01.2017","Амортизация  2017 год","Остаточная стоимость на 01.01.2018","Амортизация  2018 год","Остаточная стоимость на 01.01.2019","Амортизация  2019 год"]
[null,null,"бух.учет","Максимальный срок по группе ","Порядковый номер месяца","год",null,"бух.учет","Максимальный срок по группе ",null,null,null,null,null,null,null,null,null,"По данным организации","По данным экспертов"]
[1,{"$f":"+A9+1","v":2},3,4,5,6,7,8,9,10,11,12,13,14,15,16,null,null,11,12]
[null,null,null,null,null,null,null,{"$f":"IF(C10=0,0,G10/C10)","v":0},{"$f":"IF(D10=0,0,G10/D10)","v":0},{"$f":"IF(G10-((2015-F10)*12-(12-(13-E10))-1)*H10<0,0,G10-((2015-F10)*12-(12-(13-E10))-1)*H10)","v":0},{"$f":"IF($D10>0,IF(J10>$I10*12,($I10*12),J10),0)","v":0},{"$f":"IF((J10-K10)>0,(J10-K10),0)","v":0},{"$f":"IF($D10>0,IF(L10>$I10*12,($I10*12),L10),0)","v":0},{"$f":"IF((L10-M10)>0,(L10-M10),0)","v":0},{"$f":"IF($D10>0,IF(N10>$I10*12,($I10*12),N10),0)","v":0},{"$f":"IF((N10-O10)>0,(N10-O10),0)","v":0},{"$f":"IF($D10>0,IF(P10>$I10*12,($I10*12),P10),0)","v":0},{"$f":"IF((P10-Q10)>0,(P10-Q10),0)","v":0},{"$f":"IF($D10>0,IF(R10>$I10*12,($I10*12),R10),0)","v":0}]
[null,null,null,null,null,null,null,{"$f":"IF(C11=0,0,G11/C11)","v":0},{"$f":"IF(D11=0,0,G11/D11)","v":0},0,{"$f":"IF($D11>0,IF(J11>$I11*12,($I11*12),J11),0)","v":0},{"$f":"IF((J11-K11)>0,(J11-K11),0)","v":0},{"$f":"IF($D11>0,IF(L11>$I11*12,($I11*12),L11),0)","v":0},{"$f":"IF((L11-M11)>0,(L11-M11),0)","v":0},{"$f":"IF($D11>0,IF(N11>$I11*12,($I11*12),N11),0)","v":0},{"$f":"IF((N11-O11)>0,(N11-O11),0)","v":0},0,0,0]
[null,null,null,null,null,null,null,0,0,0,0,0,0,0,0,0,0,0,0]
[null,null,null,null,null,null,null,0,0,0,0,0,0,0,0,0,0,0,0]
[null,null,null,null,null,null,null,0,0,0,0,0,0,0,0,0,0,0,0]
[null,null,null,null,null,null,null,0,0,0,0,0,0,0,0,0,0,0,0]
[null,null,null,null,null,null,null,0,0,0,0,0,0,0,0,0,0,0,0]
[null,null,null,null,null,null,null,0,0,0,0,0,0,0,0,0,0,0,0]
[null,null,null,null,null,null,null,0,0,0,0,0,0,0,0,0,0,0,0]
[null,null,null,null,null,null,null,0,0,0,0,0,0,0,0,0,0,0,0]
["Добавить"]
["Всего по основным средствам, полностью самортизированным по бухгалтерскому учету, участвующим в передаче электрической энергии",null,null,null,null,null,null,null,null,null,null,"х","х","х","х","х","х","х",{"$f":"SUM(S10:S20)","v":0},{"$f":"SUM(T10:T20)","v":0}]
[]
["Руководитель организации",null,null,{"$f":"'Инф-я'!C17","v":"Окунев Василий Михайлович"}]

{"sheet":"Ввод выбытие ОС  ","index":10,"n_rows":32,"n_cols":7,"rows_kept":32,"cut":false,"hidden":false,"merged":[[1,0,1,6],[3,0,3,6],[19,1,19,3],[19,4,19,6],[26,0,26,6],[31,0,32,6],[17,7,17,13],[17,0,17,6],[13,0,13,6],[5,1,5,3],[5,4,5,6],[29,0,29,1],[19,0,20,0],[5,0,6,0]]}
[]
["Справка о вводе основных средств в 2018 году  (с 01.04.2018 г.), участвующих в передаче электрической энергии"]
[]
[{"$f":"'Инф-я'!C9","v":"Общество с ограниченной ответственностью \"Энергетик\""}]
[]
["Наименование вводимых  объектов основных фондов","По данным организации",null,null,"По данным экспертов"]
[null,"Стоимость объекта (тыс. руб.)","Норма амортизационных отчислений, %","Корректировка годовой суммы амортизационных отчислений по вводимым объектам (тыс. руб.)","Стоимость объекта (тыс. руб.)","Норма амортизационных отчислений, %","Корректировка годовой суммы амортизационных отчислений по вводимым объектам (тыс. руб.)"]
[1,2,3,4,5,6,7]
["Реконструкция ВЛ 10 кВ от ТП 10 до ТП 27 (фидер 1001)",2138.1489999999999,6.6699999999999995E-2,{"$f":"B9*C9","v":142.61453829999999},null,null,{"$f":"E9*F9","v":0}]
["Строительство ВЛ 10 кВ от ТП 12 до ТП 62 Ф1001, Фидер 1001",1783.8320000000001,6.6699999999999995E-2,{"$f":"B10*C10","v":118.98159440000001},null,null,{"$f":"E10*F10","v":0}]
["Реконструкция ВЛ 10 кВ от ПС \"Карабаново\" до ТП 12 (фидер 1001) ",3604.9380000000001,6.6699999999999995E-2,240.4493646,null,null,0]
["Установка КРУН (10кВ)на выходе с ПС \"Карабаново\"фидера 1003 2 ячейки",2341.6529999999998,3.3300000000000003E-2,77.977044899999996,null,null,0]
[null,null,null,0,null,null,0]
["Добавить"]
["Всего по вводимым объектам в 2018 году  (с 01.04.2018 г.), участвующим в передаче электрической энергии",{"$f":"SUM(B9:B13)","v":9868.5720000000001},"х",{"$f":"SUM(D9:D13)","v":580.02254219999998},{"$f":"SUM(E9:E13)","v":0},"х",{"$f":"SUM(G9:G13)","v":0}]
[]
[]
["Справка о выбытии не полностью самортизированных основных средств в 2018 году  (с 01.04.2018 г.), участвующих в передаче электрической энергии"]
[]
["Наименование выводимых объектов основных фондов","По данным организации",null,null,"По данным экспертов"]
[null,"Стоимость объекта (тыс. руб.)","Норма амортизационных отчислений","Корректировка годовой суммы амортизационных отчислений по выбывающим объектам* (тыс. руб.)","Стоимость объекта (тыс. руб.)","Норма амортизационных отчислений","Корректировка годовой суммы амортизационных отчислений по выбывающим объектам* (тыс. руб.)"]
[1,2,3,4,5,6,7]
[null,null,null,{"$f":"B23*C23","v":0},null,null,{"$f":"E23*F23","v":0}]
[null,null,null,{"$f":"B24*C24","v":0},null,null,{"$f":"E24*F24","v":0}]
[null,null,null,{"$f":"B25*C25","v":0},null,null,{"$f":"E25*F25","v":0}]
[null,null,null,0,null,null,0]
["Добавить"]
["Всего по выбывающим объектам в 2018 году  (с 01.04.2018 г.), участвующим в передаче электрической энергии",{"$f":"SUM(B23:B26)","v":0},"х",{"$f":"SUM(D23:D26)","v":0},{"$f":"SUM(E23:E26)","v":0},"х",{"$f":"SUM(G23:G26)","v":0}]
[]
["Руководитель организации",null,null,{"$f":"'Инф-я'!C17","v":"Окунев Василий Михайлович"}]
[]
["В справке о выбытии основных средств указывается информация о выбывающих объектах (продажа, ликвидация)"]

{"sheet":"Свод по амортизации","index":11,"n_rows":21,"n_cols":7,"rows_kept":21,"cut":false,"hidden":false,"merged":[[6,0,7,0],[2,0,2,6],[6,3,6,4],[20,3,20,5],[4,0,4,6],[6,1,6,2],[6,5,6,6]]}
[]
[]
["Сводный расчет амортизационных отчислений на восстановление основных производственных фондов,  участвующих в передаче электрической энергии"]
[]
[{"$f":"'Инф-я'!C9","v":"Общество с ограниченной ответственностью \"Энергетик\""}]
[null,null,null,null,null,null,"тыс. руб."]
["Наименование","2017 год",null,"2018 год",null,"2019 год"]
[null,"Утверждено","Факт","Утверждено","Ожидаемые","По данным организации","По данным экспертов"]
[1,2,3,4,5,6,7]
["Амортизационные отчисления на 2018 год по основным средствам по состоянию на 01.04.2018 г.","х","х","х","х",{"$f":"'Расчет аморт. max срок '!S108/1000","v":6665.9215522127633}]
["Корректировка годовой суммы амортизационных отчислений, в том числе:","х","х","х","х",{"$f":"F12-F13+F14","v":580.02254219999998},{"$f":"G12-G13+G14","v":0}]
["по вводимым объектам основных средств после 01.04.2018 г. (+)","х","х","х","х",{"$f":"'Ввод выбытие ОС  '!D15","v":580.02254219999998},{"$f":"'Ввод выбытие ОС  '!G15","v":0}]
["по выбывающим объектам основных средств  после 01.04.2018 г.(-)","х","х","х","х",{"$f":"'Ввод выбытие ОС  '!D28","v":0},{"$f":"'Ввод выбытие ОС  '!G28","v":0}]
["по объектам основных средств, полностью самортизированных по бухгалтерскому учету  ",null,null,null,null,{"$f":"'Справка по ОС'!S21","v":0},{"$f":"'Справка по ОС'!T21","v":0}]
["Годовая сумма амортизационных отчислений",4681.14131188181,4014.395,4803.3639014746677,6737.5,{"$f":"F10+F11","v":7245.9440944127637},{"$f":"G10+G11","v":0}]
["в т.ч. по уровням напряжения:                                                                                          ВН","х","х",null,"х"]
["СН1","х","х",null,"х"]
["СН2","х","х",null,"х"]
["НН","х","х",null,"х"]
[]
["Руководитель организации",null,null,{"$f":"'Инф-я'!C17","v":"Окунев Василий Михайлович"}]

{"sheet":"Страховые взносы","index":12,"n_rows":38,"n_cols":10,"rows_kept":38,"cut":false,"hidden":false,"merged":[[26,0,26,8],[23,4,23,6],[1,1,1,8],[3,1,3,8],[5,0,6,0],[5,1,6,1],[5,2,6,2],[5,3,5,4],[5,7,5,8],[5,5,5,6]]}
[]
[null,"Расчет расходов на страховые взносы"]
[]
[null,{"$f":"'Инф-я'!C9","v":"Общество с ограниченной ответственностью \"Энергетик\""}]
[null,null,null,null,null,null,null,"тыс. руб."]
["№ п/п","Наименование","Ед.изм.","2017 год",null,"2018 год",null,"2019 год",null,"2017 год"]
[null,null,null,"Утверждено","Факт","Утверждено","Ожидаемые","По данным организации","По данным экспертов","Факт по данным экспертов"]
[1,2,3,4,5,6,7,8,9,10]
["1.","Сумма выплат и иных вознаграждений, начисленных в пользу физических лиц, в соответствии со статьей 420 НК РФ","тыс. руб.","х","х",12302.096085019677,14270.79,{"$f":"H10+H11","v":13611.792475196595},{"$f":"I10+I11","v":3072.1796267415662},"х"]
["1.1.","Расходы из фонда оплаты труда","тыс. руб.","х","х",12064.662592782948,14033.4,{"$f":"'Подконтрольные расходы'!E17","v":13229.977281121946},{"$f":"'Подконтрольные расходы'!F17","v":2986.0039917137797},"х"]
["1.2.","Расходы по коллективным договорам","тыс. руб.","х","х",348.18438395065192,475.78,{"$f":"'Подконтрольные расходы'!E30","v":381.81519407464782},{"$f":"'Подконтрольные расходы'!F30","v":86.175635027786356},"х"]
["2.","Суммы, не подлежащие обложению страховыми взносами, в соответствии со статьей 422 НК РФ","тыс. руб.","х","х",110.7508917139242,140,{"$f":"F12*'Подконтрольные расходы'!E15","v":121.44821871070909},{"$f":"F12*'Подконтрольные расходы'!F15","v":27.410845699196241},"х"]
["3.","Тарифы страховых взносов:","%","х","х","х","х","х","х","х"]
["3.1.","на обязательное пенсионное страхование","%","х","х",0.22,0.22,0.22,0.22,"х"]
["3.2.","на обязательное медицинское страхование ","%","х","х",5.0999999999999997E-2,5.0999999999999997E-2,5.0999999999999997E-2,5.0999999999999997E-2,"х"]
["3.3.","на обязательное социальное страхование на случай временной нетрудоспособности и в связи с материнством","%","х","х",2.9000000000000001E-2,2.9000000000000001E-2,2.9000000000000001E-2,2.9000000000000001E-2,"х"]
["3.4.","на обязательное страхование от несчастных случаев","%","х","х",4.0000000000000001E-3,4.0000000000000001E-3,4.0000000000000001E-3,null,"х"]
["4.","Расходы на страховые взносы:","тыс. руб.",3542.8430697959334,3873.18,3706.1689387649494,{"$f":"G19+G20+G21+G22","v":4295.7601599999998},{"$f":"H19+H20+H21+H22","v":4101.06465397171},{"$f":"I19+I20+I21+I22","v":913.43063431271105}]
["4.1.","на обязательное пенсионное страхование","тыс. руб.","х",2802.9119999999998,2682.0959425272658,{"$f":"(G9-G12)*G14","v":3108.7738000000004},{"$f":"(H9-H12)*H14","v":2967.8757364268949},{"$f":"(I9-I12)*I14","v":669.84913182932144}]
["4.2.","на обязательное медицинское страхование ","тыс. руб.","х",649.76599999999996,621.75860485859334,{"$f":"(G9-G12)*G15","v":720.67029000000002},{"$f":"(H9-H12)*H15","v":688.00755708078009},{"$f":"(I9-I12)*I15","v":155.28320783316084}]
["4.3.","на обязательное социальное страхование на случай временной нетрудоспособности и в связи с материнством","тыс. руб.","х",369.47399999999999,353.54901060586684,{"$f":"(G9-G12)*G16","v":409.79291000000006},{"$f":"(H9-H12)*H16","v":391.21998343809071},{"$f":"(I9-I12)*I16","v":88.298294650228726}]
["4.4.","на обязательное страхование от несчастных случаев","тыс. руб.","х",51.024000000000001,48.765380773223015,{"$f":"(G9-G12)*G17","v":56.523160000000004},{"$f":"(H9-H12)*H17","v":53.961377025943541},{"$f":"(I9-I12)*I17","v":0}]
[]
[null,"Руководитель организации",null,null,{"$f":"'Инф-я'!C17","v":"Окунев Василий Михайлович"}]
[]
[]
[]
[]
[]
[]
["№ п./п.","Показатели","По расчету Общества"]
[1,2,3]
["1.","Расходы на оплату труда, включаемые в базу для начисления страховых взносов",{"$f":"H9","v":13611.792475196595}]
["2.","Выплаты работникам по коллективному договору - всего. в т. ч.",0]
["3.","суммы, не подлежащие обложению страховыми взносами в соответствии со ст. 9 закона от 24.07.2009 г. № 212-ФЗ",0]
["4.","Итого база страховых взносов  (п.1+п.2-п.3)",{"$f":"C33+C34","v":13611.792475196595}]
["5.","Отчисления во внебюджетные фонды ",{"$f":"C36*C38/100","v":4137.9849124597649}]
["6.","Процент отчислений (%)",30.4]

{"sheet":"Расходы рег. орг-ий","index":13,"n_rows":25,"n_cols":8,"rows_kept":25,"cut":false,"hidden":false,"merged":[[24,3,24,4],[1,0,1,6],[3,0,3,6],[6,0,7,0],[6,1,6,2],[6,5,6,6],[6,3,6,4],[12,0,12,7],[16,0,16,7],[21,0,21,7]]}
[]
["Расходы на оплату услуг организаций, осуществляющих регулируемые виды деятельности"]
[]
[{"$f":"'Инф-я'!C9","v":"Общество с ограниченной ответственностью \"Энергетик\""}]
[]
[null,null,null,null,null,"тыс. руб."]
["Наименование","2017 год",null,"2018 год",null,"2019 год",null,"2017 год"]
[null,"Утверждено","Факт","Утверждено","Ожидаемые","По данным организации","По данным экспертов","Факт по данным экспертов"]
[1,2,3,4,5,6,7,9]
["Тепловая энергия",169.39519711,{"$f":"SUM(C11:C12)","v":201.35599999999999},209.18947094000001,{"$f":"SUM(E11:E12)","v":221.49},243.65,0,0]
["договор  с ООО \"Теплосеть\" от_____№  __ ","х",201.35599999999999,"х",221.49,243.65]
["договор  с _____ от_____№  __ на_________","х",null,"х"]
["Добавить"]
["Водоснабжение и канализация",22.672671630839996,{"$f":"SUM(C15:C16)","v":20.416},27.284604640799998,{"$f":"SUM(E15:E16)","v":22.46},24.7,0,0]
["договор  с ООО \"ВодКанал\" от_____№  __ ","х",20.416,"х",22.46,24.7]
["договор  с _____ от_____№  __ на_________","х",null,"х"]
["Добавить"]
["Прочие услуги по регулируемым тарифам (вывоз ТБО)",13.520767571639997,{"$f":"SUM(C19:C21)","v":12.978999999999999},13.4722924128,{"$f":"SUM(E19:E21)","v":12.98},13,0,0]
["договор  с МПК \"Пионер\" от 30.12.2016г. № 87 на оказание услуг по вывозу отходов","х",12.978999999999999,"х",12.98,13]
["договор  с _____ от_____№  __ на_________","х",null,"х"]
["договор  с _____ от_____№  __ на_________","х",null,"х"]
["Добавить"]
["Итого",{"$f":"B10+B14+B18","v":205.58863631247999},234.75099999999998,249.94636799359998,256.93,281.35000000000002,{"$f":"G10+G14+G18","v":0},{"$f":"H10+H14+H18","v":0}]
[]
["Руководитель организации",null,null,{"$f":"'Инф-я'!C17","v":"Окунев Василий Михайлович"}]

{"sheet":"Аренда имущества","index":14,"n_rows":51,"n_cols":22,"rows_kept":51,"cut":false,"hidden":false,"merged":[[5,21,8,21],[14,0,14,21],[20,0,20,21],[42,0,42,21],[35,0,35,21],[50,3,50,5],[1,0,1,12],[3,0,3,12],[7,14,8,14],[7,15,7,20],[5,0,8,0],[5,1,7,2],[5,3,7,4],[5,5,5,20],[6,5,6,12],[7,5,8,5],[7,6,8,6],[7,7,7,12],[7,13,8,13],[6,13,6,20]]}
[]
["Расходы по аренде имущества в части амортизации и налогов, относимых к арендуемому имуществу"]
[]
[{"$f":"'Инф-я'!C9","v":"Общество с ограниченной ответственностью \"Энергетик\""}]
[null,null,null,null,null,null,null,null,null,null,null,null,"тыс. руб."]
["Наименование","2017 год",null,"2018 год",null,"2019 год",null,null,null,null,null,null,null,null,null,null,null,null,null,null,null,"2017 год Факт по данным экспертов"]
[null,null,null,null,null,"По данным организации",null,null,null,null,null,null,null,"По расчету экспертов"]
[null,null,null,null,null,"Сумма арендной платы для включения в тариф","Стоимость арендной платы по договору","Стоимость арендной платы в соответствии с требованиями п. 28 Основ ценообразования",null,null,null,null,null,"Сумма арендной платы для включения в тариф","Стоимость арендной платы по договору","Стоимость арендной платы расчитанной в соответствии с требованиями п. 28 Основ ценообразования"]
[null,"Утверждено","Факт","Утверждено","Ожидаемые",null,null,"Всего","амортизационные отчисления","налог на имущество","транспортный налог","плата за землю","иные обязательные платежи предусмотренные законодательством, связанные с арендуемым имуществом",null,null,"Всего","амортизационные отчисления","налог на имущество","транспортный налог","плата за землю","иные обязательные платежи предусмотренные законодательством, связанные с арендуемым имуществом"]
[1,2,3,4,5,6,7,8,9,10,11,12,13,14,15,16,17,18,19,20,21,22]
["Аренда объектов электросетевого хозяйства",{"$f":"SUM(B12:B14)","v":2976},{"$f":"SUM(C12:C14)","v":2976},2976,2976,2976,2976,2976,2976,0,0,0,0,{"$f":"SUM(N12:N14)","v":0},{"$f":"SUM(O12:O14)","v":0},0,0,0,0,0,0,{"$f":"SUM(V12:V14)","v":0}]
["договор  с ООО \"Техстройэнерго\" от 30.12.2016г № 13А-17",2976,2976,2976,2976,{"$f":"MIN(G12,H12)","v":2976},2976,{"$f":"I12+J12+K12+L12+M12","v":2976},2976,null,null,null,null,{"$f":"MIN(O12,P12)","v":0},null,{"$f":"Q12+R12+S12+T12+U12","v":0}]
["договор  с _____ от_____№  __ ",null,null,null,null,{"$f":"MIN(G13,H13)","v":0},null,{"$f":"I13+J13+K13+L13+M13","v":0},null,null,null,null,null,{"$f":"MIN(O13,P13)","v":0},null,{"$f":"Q13+R13+S13+T13+U13","v":0}]
["договор  с _____ от_____№  __ ",null,null,null,null,0,null,0,null,null,null,null,null,0,null,0]
["Добавить "]
["Аренда зданий, соружений, помещений, основных средств",{"$f":"SUM(B17:B20)","v":228.48},{"$f":"SUM(C17:C20)","v":228.48},228.48,228.48,228.48,228.48,228.48,228.48,0,0,0,0,{"$f":"SUM(N17:N20)","v":0},{"$f":"SUM(O17:O20)","v":0},0,0,0,0,0,0,{"$f":"SUM(V17:V20)","v":0}]
["договор  с ООО \"Техстройэнерго\" от 30.12.2016г № 12А-17",228.48,228.48,228.48,228.48,{"$f":"MIN(G17,H17)","v":228.48},228.48,{"$f":"I17+J17+K17+L17+M17","v":228.48},228.48,null,null,null,null,{"$f":"MIN(O17,P17)","v":0},null,{"$f":"Q17+R17+S17+T17+U17","v":0}]
["договор  с _____ от_____№  __ ",null,null,null,null,{"$f":"MIN(G18,H18)","v":0},null,{"$f":"I18+J18+K18+L18+M18","v":0},null,null,null,null,null,0,null,{"$f":"Q18+R18+S18+T18+U18","v":0}]
["договор  с _____ от_____№  __ ",null,null,null,null,0,null,0,null,null,null,null,null,0,null,0]
["договор  с _____ от_____№  __ ",null,null,null,null,0,null,0,null,null,null,null,null,0,null,0]
["Добавить"]
["Аренда транспортных средств",{"$f":"SUM(B23:B35)","v":1639.8},{"$f":"SUM(C23:C35)","v":1681.742},1639.8,1678.942,1681.74,1681.74,1681.74,1681.74,0,0,0,0,{"$f":"SUM(N23:N35)","v":0},{"$f":"SUM(O23:O35)","v":0},0,0,0,0,0,0,0]
["договор  с ООО \"Техстройэнерго\" от 30.12.2016г. № 11А-17 на аренду УАЗ-3909 (VIN XTT39090030476836)",59.3,59.3,59.3,59.3,{"$f":"MIN(G23,H23)","v":59.3},59.3,{"$f":"I23+J23+K23+L23+M23","v":59.3},59.3,null,null,null,null,{"$f":"MIN(O23,P23)","v":0},null,{"$f":"Q23+R23+S23+T23+U23","v":0}]
["договор  с ООО \"Техстройэнерго\" от 30.12.2016г. № 8А-17 на аренду ЗИЛ-130 Г (VIN отсутствует; год выпуска 1985г.; модель двигателя 508.400; двигатель № 292036)",234.5,240,234.5,240,240,240,240,240,null,null,null,null,0,null,0]
["договор  с ООО \"Техстройэнерго\" от 30.12.2016г. № 02А-17 на аренду ГАЗ-6612 (VIN XTH006612P0726008)",234.5,240,234.5,240,240,240,240,240,null,null,null,null,0,null,0]
["договор  с ООО \"Техстройэнерго\" от 30.12.2016г. № 6А-17 на аренду АПТ-17Э (VIN XTH330700R1536123)",234.5,240,234.5,240,240,240,240,240,null,null,null,null,0,null,0]
["договор  с ООО \"Техстройэнерго\" от 30.12.2016г. № 7А-17 на аренду ГАЗ-5312 (VIN XTH531200M1403186)",114.5,120,114.5,120,120,120,120,120,null,null,null,null,0,null,0]
["договор  с ООО \"Техстройэнерго\" от 30.12.2016г. № 9А-17 на аренду ВАЗ-2105 (VIN ХТА210540А2178050)",34,38.442,34,38.442,38.44,38.44,38.44,38.44,null,null,null,null,0,null,0]
["договор  с ООО \"Техстройэнерго\" от 30.12.2016г. № 5А-17 на аренду ВАЗ-11193 (VIN XTA11193070022812)",79.5,84,79.5,18.2,0,null,0,null,null,null,null,null,0,null,0]
["договор  с ООО \"Техстройэнерго\" от 30.12.2016г. № 4А-17 на аренду ЗИЛ-131 (VIN отсутствует; год выпуска 1993г.; модель двигателя отсутствует; двигатель № 146550)",414.5,420,414.5,420,420,420,420,420,null,null,null,null,0,null,0]
["договор  с ООО \"Техстройэнерго\" от 30.12.2016г. № 10А-17 на аренду ТА-18 (VIN X89483713FCAH3011)",234.5,240,234.5,240,240,240,240,240,null,null,null,null,0,null,0]
["договор  с ООО \"Техстройэнерго\" от 01.04.2018г. № 3А-18  на аренду LADA GRANDA (VIN XTA219010J0532195)",null,null,null,63,84,84,84,84,null,null,null,null,0,null,0]
["договор  с _____ от_____№  __ ",null,null,null,null,0,null,0,null,null,null,null,null,0,null,0]
["договор  с _____ от_____№  __ ",null,null,null,null,0,null,0,null,null,null,null,null,0,null,0]
["договор  с _____ от_____№  __ ",null,null,null,null,0,null,0,null,null,null,null,null,0,null,0]
["Добавить"]
["Лизинг",{"$f":"SUM(B38:B42)","v":0},{"$f":"SUM(C38:C42)","v":0},0,0,0,"х","х","х","х","х","х","х",{"$f":"SUM(N38:N42)","v":0},"х","х","х","х","х","х","х",{"$f":"SUM(V38:V42)","v":0}]
["объектов электросетевого хозяйства договор  с _____ от_____№  __ ",null,null,null,null,null,"х","х","х","х","х","х","х",null,"х","х","х","х","х","х","х"]
["иного имущества договор  с _____ от_____№  __ ",null,null,null,null,null,"х","х","х","х","х","х","х",null,"х","х","х","х","х","х","х"]
["договор  с _____ от_____№  __ ",null,null,null,null,null,"х","х","х","х","х","х","х",null,"х","х","х","х","х","х","х"]
["договор  с _____ от_____№  __ ",null,null,null,null,null,"х","х","х","х","х","х","х",null,"х","х","х","х","х","х","х"]
["договор  с _____ от_____№  __ ",null,null,null,null,null,"х","х","х","х","х","х","х",null,"х","х","х","х","х","х","х"]
["Добавить"]
["ИТОГО расходы по аренде имущества, всего в том числе",{"$f":"B11+B16+B22+B37","v":4844.28},{"$f":"C11+C16+C22+C37","v":4886.2219999999998},{"$f":"D11+D16+D22+D37","v":4844.28},{"$f":"E11+E16+E22+E37","v":4883.4220000000005},{"$f":"F11+F16+F22+F37","v":4886.22},{"$f":"G11+G16+G22","v":4886.22},{"$f":"H11+H16+H22","v":4886.22},4886.22,0,0,0,0,{"$f":"N11+N16+N22+N37","v":0},{"$f":"O11+O16+O22","v":0},{"$f":"P11+P16+P22","v":0},0,0,0,0,0,{"$f":"V11+V16+V22+V37","v":0}]
["в т.ч. по уровням напряжения:  ВН","х","х",null,"х",null,"х","х","х","х","х","х","х",null,"х","х","х","х","х","х","х"]
["СН1","х","х",null,"х",null,"х","х","х","х","х","х","х",null,"х","х","х","х","х","х","х"]
["СН2","х","х",null,"х",null,"х","х","х","х","х","х","х",null,"х","х","х","х","х","х","х"]
["НН","х","х",null,"х",null,"х","х","х","х","х","х","х",null,"х","х","х","х","х","х","х"]
["Для проверки прибыли на капитальные вложения (аренда и лизинг  объектов электросетевого хозяйства)",{"$f":"B11+B38","v":2976},{"$f":"C11+C38","v":2976},{"$f":"D11+D38","v":2976},{"$f":"E11+E38","v":2976},{"$f":"F11+F38","v":2976},"х","х","х","х","х","х","х",{"$f":"N11+N38","v":0},"х","х","х","х","х","х","х",{"$f":"V11+V38","v":0}]
[]
["Руководитель организации",null,null,{"$f":"'Инф-я'!$C$17","v":"Окунев Василий Михайлович"}]

{"sheet":"Плата за землю","index":15,"n_rows":19,"n_cols":8,"rows_kept":19,"cut":false,"hidden":false,"merged":[[1,0,1,6],[5,0,6,0],[5,3,5,4],[18,3,18,5],[18,0,18,1],[5,1,5,2],[3,0,3,6],[15,0,15,7],[5,5,5,6]]}
[]
["Плата за землю "]
[]
[{"$f":"'Инф-я'!C9","v":"Общество с ограниченной ответственностью \"Энергетик\""}]
[null,null,null,null,null,null,"тыс. руб."]
["Наименование","2017 год",null,"2018 год",null,"2019 год",null,"2017 год"]
[null,"Утверждено","Факт","Утверждено","Ожидаемые","По данным организации","По данным экспертов","Факт по данным экспертов"]
[1,2,3,4,5,6,7,9]
["Земельный налог"]
[]
["Арендная плата за землю",200.44376564561998,{"$f":"SUM(C12:C15)","v":335.09650999999997},369.59416970319995,{"$f":"SUM(E12:E15)","v":502.51673},{"$f":"SUM(F12:F15)","v":502.51673},{"$f":"SUM(G12:G15)","v":0},{"$f":"SUM(H12:H15)","v":0}]
["договор № 09/2017 от 22.03.17 на 2017г.","x",null,"x"]
["договор № 10/2017 от 22.03.17 на 2017г.","x",334.66699999999997,"x",502,502]
["договор № 09/2017 от 22.03.2017г.","x",0.18010999999999999,"x",0.26500000000000001,0.26500000000000001]
["договор № 23/2017 от 11.12.2017","x",0.24940000000000001,"x",0.25173000000000001,0.25173000000000001]
["Добавить"]
["Всего плата за землю",{"$f":"B9+B11","v":200.44376564561998},335.09650999999997,369.59416970319995,502.51673,502.51673,0,0]
[]
["Руководитель организации",null,null,{"$f":"'Инф-я'!$C$17","v":"Окунев Василий Михайлович"}]

{"sheet":"Транспортный налог","index":16,"n_rows":18,"n_cols":13,"rows_kept":18,"cut":false,"hidden":false,"merged":[[6,11,7,11],[13,0,13,11],[17,0,17,1],[17,3,17,6],[1,0,1,10],[5,0,7,0],[5,1,7,1],[5,2,7,2],[3,0,3,10],[5,3,6,4],[5,5,6,6],[5,7,5,10],[6,7,6,8],[6,9,6,10]]}
[]
["Расчет транспортного налога "]
[]
[{"$f":"'Инф-я'!C9","v":"Общество с ограниченной ответственностью \"Энергетик\""}]
[null,null,null,null,null,null,null,null,"тыс. руб."]
["Объект налогообложения (вид и марка транспортного средства)","Налоговая база, (л.с.)","Налоговая ставка, руб.","2017 год",null,"2018 год",null,"2019 год",null,null,null,"2017 год"]
[null,null,null,null,null,null,null,"По расчету организации",null,"По расчету экспертов",null,"Факт по данным экспертов"]
[null,null,null,"Утверждено","Факт","Утверждено","Ожидаемые","Коэф. использ.","Годовая сумма налога,  тыс.руб.","Коэф. использ.","Годовая сумма налога, тыс. руб."]
[1,2,3,4,5,6,7,8,9,10,11,12]
[null,null,null,"х",null,"х",null,null,{"$f":"B10*C10*H10/1000","v":0},null,{"$f":"B10*C10*J10/1000","v":0}]
[null,null,null,"х",null,"х",null,null,{"$f":"B11*C11*H11/1000","v":0},null,{"$f":"B11*C11*J11/1000","v":0}]
[null,null,null,"х",null,"х",null,null,0,null,0]
[null,null,null,"х",null,"х",null,null,0,null,0]
["Добавить"]
["Транспортный налог всего, в т.ч.","х","х",null,{"$f":"SUM(E10:E13)","v":0},null,{"$f":"SUM(G10:G13)","v":0},"х",{"$f":"SUM(I10:I13)","v":0},"х",{"$f":"SUM(K10:K13)","v":0},{"$f":"SUM(L10:L13)","v":0}]
[" относимый на услугу по передаче электрической энергии","х","х",0,0,0,0,"х",0,"х",null,null,"Условное форматирование: если в ячейке не указано значение -форматируется красным цветом"]
[]
["Руководитель организации",null,null,{"$f":"'Инф-я'!$C$17","v":"Окунев Василий Михайлович"}]

{"sheet":"Налог на имущество","index":17,"n_rows":21,"n_cols":9,"rows_kept":21,"cut":false,"hidden":false,"merged":[[1,0,1,6],[3,0,3,6],[20,0,20,1],[20,3,20,5],[5,0,6,0],[5,1,5,2],[5,5,5,6],[5,3,5,4]]}
[]
["Налог на имущество"]
[]
[{"$f":"'Инф-я'!C9","v":"Общество с ограниченной ответственностью \"Энергетик\""}]
[null,null,null,null,null,"тыс. руб."]
["Наименование","2017 год",null,"2018 год",null,"2019 год",null,"2017 год"]
[null,"Утверждено","Факт","Утверждено","Ожидаемые","По данным организации","По данным экспертов","Факт по данным экспертов"]
[1,2,3,4,5,6,7,8]
["Среднегодовая остаточная стоимость основных средств, всего, в том числе:","х",{"$f":"C10+C11+C12","v":0},"х",{"$f":"E10+E11+E12","v":0},{"$f":"F10+F12","v":101936.62231680208},{"$f":"G10+G12","v":0},{"$f":"H10+H11+H12","v":0}]
["-облагаемых по ставке 2,2 %","х",null,"х",null,{"$f":"'Расчет аморт. max срок '!V108/1000","v":0}]
["-облагаемых по льготной ставке ","х",null,"х",null,"х","х"]
["- необлагаемых (движимое имущество, введенное с 01.01.2013 года)","х",null,"х",null,{"$f":"'Расчет аморт. max срок '!W108/1000","v":101936.62231680208}]
["Льготная ставка налога ","х",1.6E-2,"х",1.9E-2,"х","х",1.6E-2]
["Налог на имущество",null,{"$f":"C10*2.2%+C11*C13","v":0},null,{"$f":"E10*2.2%+E11*E13","v":0},{"$f":"F10*2.2%","v":0},{"$f":"G10*2.2%","v":0},{"$f":"H10*2.2%+H11*H13","v":0}]
["Налог на имущество, относимый на услугу по передаче электрической энергии",0,0,0,0,0,null,null,"Условное форматирование: если в ячейке не указано значение -форматируется красным цветом"]
["в  т.ч. по уровням напряжения:                   ВН","x","x",null,"x"]
["СН1","x","x",null,"x"]
["СН11","x","x",null,"x"]
["НН","x","x",null,"x"]
[]
["Руководитель организации",null,null,{"$f":"'Инф-я'!$C$17","v":"Окунев Василий Михайлович"}]

{"sheet":"Налог прим при УСНО","index":18,"n_rows":18,"n_cols":8,"rows_kept":18,"cut":false,"hidden":false,"merged":[[1,1,1,6],[3,1,3,6],[5,1,6,1],[5,2,5,3],[5,5,5,6],[17,0,17,6],[15,0,15,1],[15,3,15,4],[9,0,9,1],[5,0,6,0],[10,0,10,1],[11,0,11,1],[12,0,12,1],[13,0,13,1]]}
[]
[null,"Налог организаций, применяющих УСНО от деятельности по передаче и технологического присоединения "]
[]
[null,{"$f":"'Инф-я'!C9","v":"Общество с ограниченной ответственностью \"Энергетик\""}]
[null,null,null,null,null,"тыс. руб."]
["№ п/п","Наименование","2017 год",null,"2018 год","2019 год",null,"2017 год"]
[null,null,"Утверждено","Факт","Утверждено","По данным организации","По данным экспертов","Факт по данным экспертов"]
[1,2,3,4,5,6,7,8]
[1,"Налог организаций, применяющих УСНО всего по декларации","х",1318.8040000000001,"х",1318.8,{"$f":"#REF!+#REF!+#REF!","v":{"$error":"#REF!"}},{"$f":"#REF!+#REF!+#REF!","v":{"$error":"#REF!"}}]
["Налог организаций, применяющих УСНО от деятельности по передаче и технологического присоединения ",null,1038.2619999999999,{"$f":"D9","v":1318.8040000000001},991.89499999999998,{"$f":"D10","v":1318.8040000000001},{"$f":"#REF!+#REF!","v":{"$error":"#REF!"}},{"$f":"#REF!+#REF!","v":{"$error":"#REF!"}}]
["в  т.ч. по уровням напряжения:          ВН",null,"х","х"]
["СН1","СН1","х","х"]
["СН11","СН11","х","х"]
["НН","НН","х","х"]
[]
["Руководитель организации",null,null,{"$f":"'Инф-я'!$C$17","v":"Окунев Василий Михайлович"}]
[]
["Постановлением Правительства РФ от 11 июня 2014 года № 542 внесены изменения в п. 20 Основ ценообразования в области регулируемых цен (тарифов) в электроэнергетике, утвержденных постановлением Правительства РФ от 29 декабря 2011 г. № 1178 в части определения налога на прибыль:\n«В необходимую валовую выручку включается величина налога на прибыль организаций по регулируемому виду деятельности, сформированная по данным бухгалтерского учета за последний истекший период.\nПри установлении тарифов на услуги по передаче электрической энергии учитывается величина налога на прибыль организаций, которая относится по данным раздельного учета к деятельности по оказанию услуг по передаче электрической энергии и осуществлению технологического присоединения к электрическим сетям»."]

{"sheet":"Негативное воздействие на ОС","index":19,"n_rows":60,"n_cols":10,"rows_kept":60,"cut":false,"hidden":false,"merged":[[30,1,30,2],[30,4,30,6],[3,1,3,7],[1,1,1,7],[5,1,6,1],[5,2,5,3],[5,6,5,7],[5,4,5,5],[27,0,27,1],[28,0,28,1],[5,0,6,0]]}
[]
[null,"Расчет платы за негативное воздействие на окружающую среду"]
[]
[null,{"$f":"'Инф-я'!C9","v":"Общество с ограниченной ответственностью \"Энергетик\""}]
[null,null,null,null,null,null,"тыс. руб."]
["№ п./п.","Наименование","2017 год",null,"2018 год",null,"2019 год",null,"2017 год"]
[null,null,"Утверждено","Факт","Утверждено","Ожидаемые","По данным организации","По данным экспертов","Факт по данным экспертов"]
[1,2,3,4,5,6,7,8,9]
["1.","Плата за выбросы загрязняющих веществ в атмосферный воздух стационарными объектами, исчисленная без учета корректировки, в том числе:","x",{"$f":"SUM(D10:D12)","v":0},"x","x",{"$f":"SUM(G10:G12)","v":0},{"$f":"SUM(H10:H12)","v":0},0]
["1.1.","плата за выбросы в пределах предельно-допустимых выбросов (ПДВ) ","x",null,"x","x"]
["1.2.","плата за выбросы в пределах лимитов на выбросы загрязняющих веществ (временно согласованные выбросы ВСВ)","x",null,"x","x"]
["1.3.","плата за выбросы, превышающие установленные разрешениями на выброс загрязняющих веществ в атмосферный воздух ","x",null,"x","x"]
["2.","Плата за сбросы загрязняющих веществ в водные объекты  ","x",{"$f":"SUM(D14:D16)","v":0},"x","x",{"$f":"SUM(G14:G16)","v":0},{"$f":"SUM(H14:H16)","v":0},0]
["2.1.","плата за сбросы в пределах нормативов допустимых сбросов (НДС)","x",null,"x","x"]
["2.2.","плата за сбросы в пределах лимитов на сбросы загрязняющих веществ (временно согласованный сбор ВСС)","x",null,"x","x"]
["2.3.","плата за сбросы, превышающие установленные разрешениями  на сброс загрязняющих веществ (сверх лимита на сбросы)","x",null,"x","x"]
["3.","Плата за размещение отходов производства и потребления, исчисленная без учета корректировки, в том числе:","x",{"$f":"SUM(D18:D19)","v":0.34327999999999997},"x","x",{"$f":"SUM(G18:G19)","v":0.53352999999999995},{"$f":"SUM(H18:H19)","v":0},0]
["3.1.","плата за размещение отходов в пределах установленного лимита на их размещение  ","x",null,"x","x"]
["3.2.","плата за размещение отходов сверх установленного лимита на их размещение","x",0.34327999999999997,"x","x",0.53352999999999995]
["4.","Сумма средств на выполнение мероприятий по снижению негативного воздействия на окружающую среду, всего (п.4.1.+п.4.2.+п.4.3.), в том числе","x",{"$f":"D21+D23+D25","v":0},"x","x",{"$f":"G21+G23+G25","v":0},{"$f":"H21+H23+H25","v":0},0]
["4.1.","платы за выбросы","x",null,"x","x"]
["4.1.1.","средства, уменьшающие плату за выбросы в части предельно допустимых выбросов","x",{"$f":"IF(D9=0,0,D21*((D10+D11)/D9))","v":0},"x","x",{"$f":"IF(G9=0,0,G21*((G10+G11)/G9))","v":0},{"$f":"IF(H9=0,0,H21*((H10+H11)/H9))","v":0},0]
["4.2.","платы за сбросы","x",null,"x","x"]
["4.2.1.","средства, уменьшающие плату за сбросы в части нормативов сбросов","x",{"$f":"IF(D13=0,0,D23*((D14+D15)/D13))","v":0},"x","x",{"$f":"IF(G13=0,0,G23*((G14+G15)/G13))","v":0},{"$f":"IF(H13=0,0,H23*((H14+H15)/H13))","v":0},0]
["4.3.","платы за размещение отходов","x",null,"x","x"]
["4.3.1.","средства, уменьшающие плату за размещение отходов в части лимита","x",{"$f":"IF(D17=0,0,D25*(D18/D17))","v":0},"x","x",{"$f":"IF(G17=0,0,G25*(G18/G17))","v":0},{"$f":"IF(H17=0,0,H25*(H18/H17))","v":0},0]
["5.","Сумма платы, подлежащей внесению в бюджет, всего (п.1+п.2+п.3-п.4), в том числе","x",{"$f":"D9+D13+D17-D20","v":0.34327999999999997},"x","x",{"$f":"G9+G13+G17-G20","v":0.53352999999999995},{"$f":"H9+H13+H17-H20","v":0},0]
["Плата за негативное воздействие на окружающую среду в пределах лимитов",null,null,{"$f":"D10+D11-D22+D14+D15-D24+D18-D26","v":0},null,null,{"$f":"G10+G11-G22+G14+G15-G24+G18-G26","v":0},{"$f":"H10+H11-H22+H14+H15-H24+H18-H26","v":0},{"$f":"I10+I11-I22+I14+I15-I24+I18-I26","v":0}]
["Плата за негативное воздействие на окружающую среду, относимая на услугу по передаче электрической энергии",null,0,0.53352999999999995,0,0.53332999999999997,0.53332999999999997,null,null,"Условное форматирование: если в ячейке не указано значение -форматируется красным цветом"]
[]
[null,"Руководитель организации",null,null,{"$f":"'Инф-я'!$C$17","v":"Окунев Василий Михайлович"}]
[]
[]
[]
[null,"Плата вносится раздельно по четырем компонентам окружающей среды: плата за выбросы, плата за выбросы ПНГ, плата за сбросы в водные объекты и плата за размещение отходов. Каждая по своему КБК (коду бюджетной классификации)"]
[null,"1. Плата за выбросы загрязняющих веществ в атмосферный воздух стационарными объектами, исчисленная без учета корректировки, в том числе:"]
[null,"1.1. плата за выбросы в пределах предельно-допустимых выбросов (ПДВ) "]
[null,"1.2. плата за выбросы в пределах лимитов на выбросы загрязняющих веществ (временно согласованные выбросы ВСВ)"]
[null,"1.3. плата за выбросы, превышающие установленные разрешениями на выброс загрязняющих веществ в атмосферный воздух "]
[null,"2. Плата за выбросы загрязняющих веществ при сжигании и (или) рассеивании попутного нефтяного газа"]
[null,"2.1. плата за выбросы ПНГ в пределах ПДВ"]
[null,"2.2. плата за выбросы ПНГ в пределах лимитов  на выбросы загрязняющих веществ (ВСВ)"]
[null,"2.3. плата за выбросы ПНГ сверх лимита на выбросы"]
[null,"3. Плата за сбросы загрязняющих веществ в водные объекты  "]
[null,"3.1. плата за сбросы в пределах НДС"]
[null,"3.2. плата за сбросы в пределах лимитов на сбросы загрязняющих веществ (ВСС)"]
[null,"3.3. плата за сбросы, превышающие установленные разрешениями  на сброс загрязняющих веществ (сверх лимита на сбросы)"]
[null,"4. Плата за размещение отходов производства и потребления, исчисленная без учета корректировки, в том числе:"]
[null,"4.1. плата за размещение отходов в пределах установленного лимита на их размещение  "]
[null,"4.2. плата за размещение отходов сверх установленного лимита на их размещение"]
[null,"5. Сумма средств на выполнение мероприятий по снижению негативного воздействия на окружающую среду, всего    "]
[null,"5.1. платы за выбросы "]
[null,"5.2. платы за выбросы ПНГ"]
[null,"5.3. платы за сбросы"]
[null,"5.4. платы за размещение отходов"]
[null,"Сумма платы, подлежащей внесению в бюджет, всего (п.1+п.2+п.3+п.4-п.5)"]
[]
[null,"НК, Статья 270. Расходы, не учитываемые в целях налогообложения"]
[null,"4) в виде суммы налога, а также суммы платежей за выбросы загрязняющих веществ в атмосферный воздух, сбросы загрязняющих веществ в составе сточных вод в водные объекты, "]
[null,"осуществляемые с превышением нормативов допустимых сбросов, за размещение отходов производства и потребления с превышением установленных лимитов на их размещение;"]

{"sheet":"Услуги ФСК","index":20,"n_rows":33,"n_cols":16,"rows_kept":33,"cut":false,"hidden":false,"merged":[[20,0,20,14],[5,15,6,15],[18,0,18,1],[18,3,18,4],[1,0,1,14],[4,0,6,0],[4,9,4,14],[5,9,5,11],[5,2,5,4],[4,1,4,4],[4,5,4,8],[5,6,5,8],[2,0,2,14],[5,12,5,14]]}
[]
["Оплата услуг ПАО \"ФСК ЕЭС\""]
[{"$f":"'Инф-я'!C9","v":"Общество с ограниченной ответственностью \"Энергетик\""}]
[null,null,null,null,null,null,null,null,null,null,null,"тыс. руб."]
["Показатели","2017 год",null,null,null,"2018 год",null,null,null,"2019 год",null,null,null,null,null,"2017 год"]
[null,"Утверждено","Факт",null,null,"Утверждено","Ожидаемые",null,null,"По данным организации",null,null,"По данным экспертов",null,null,"Факт по данным экспертов"]
[null,"год","1 полугодие","2 полугодие","год","год","1 полугодие","2 полугодие","год","1 полугодие","2 полугодие","год","1 полугодие","2 полугодие","год"]
[1,2,3,4,5,6,7,8,9,10,11,12,13,14,15,16]
["Расходы на содержание сетей, тыс. руб.","х",{"$f":"O26","v":0},{"$f":"P26","v":0},{"$f":"D9+C9","v":0},"х",{"$f":"G10*G11*6/1000","v":0},{"$f":"H10*H11*6/1000","v":0},{"$f":"H9+G9","v":0},{"$f":"J10*J11*6/1000","v":0},{"$f":"K10*K11*6/1000","v":0},{"$f":"K9+J9","v":0},{"$f":"M10*M11*6/1000","v":0},{"$f":"N10*N11*6/1000","v":0},{"$f":"M9+N9","v":0},"х"]
["Заявленная мощность в точках присоединения к сетям ПАО \"ФСК ЕЭС\", МВт","х",{"$f":"B24","v":0},{"$f":"H24","v":0},"х","х",null,null,"х",null,null,"х",null,null,"х","х"]
["Ставка тарифа услуги по передаче электрической энергии на содержание объектов электросетевого хозяйства, входящих в ЕНЭС, руб. МВт/мес.","х",{"$f":"B25","v":0},{"$f":"H25","v":0},"х","х",null,null,"х",null,null,"х",null,null,"х","х"]
["Расходы на компенсацию потерь, тыс. руб.","х",{"$f":"C13*C16","v":{"$error":"#DIV/0!"}},{"$f":"D13*D16","v":{"$error":"#DIV/0!"}},{"$f":"D12+C12","v":{"$error":"#DIV/0!"}},"х",{"$f":"G13*G16","v":0},{"$f":"H13*H16","v":0},{"$f":"G12+H12","v":0},{"$f":"J13*J16","v":0},{"$f":"K13*K16","v":0},{"$f":"J12+K12","v":0},{"$f":"M13*M16","v":0},{"$f":"N13*N16","v":0},{"$f":"M12+N12","v":0},"х"]
["Объем технологических потерь электрической энергии при ее передаче по ЕНЭС, млн. кВт.ч","х",{"$f":"C14*C15%","v":0},{"$f":"D14*D15%","v":0},{"$f":"E14*E15%","v":0},"х",{"$f":"G14*G15%","v":0},0,0,{"$f":"J14*J15%","v":0},0,0,0,0,0,"х"]
["Объем отпуска электроэнергии из сети ПАО \"ФСК ЕЭС\" в сеть организации, млн. кВт.ч","х",{"$f":"O28/1000","v":0},{"$f":"P28/1000","v":0},{"$f":"D14+C14","v":0},"х",null,null,{"$f":"H14+G14","v":0},null,null,{"$f":"K14+J14","v":0},null,null,{"$f":"N14+M14","v":0},"х"]
["Норматив технологических потерь электрической энергии при ее передаче по ЕНЭС, применяемый к отпуску электроэнергии из сети ПАО \"ФСК ЕЭС\" класса 220 кВ и ниже, %","х",{"$f":"B29","v":0},{"$f":"B29","v":0},{"$f":"B29","v":0},"х",4.6500000000000004,4.6500000000000004,4.6500000000000004,4.6500000000000004,4.6500000000000004,4.6500000000000004,4.6500000000000004,4.6500000000000004,4.6500000000000004,"х"]
["Ставка тарифа на оплату нормативных технологических потерь электрической энергии в ЕНЭС, руб./МВт.ч","х",{"$f":"O31","v":{"$error":"#DIV/0!"}},{"$f":"P31","v":{"$error":"#DIV/0!"}},"х","х",null,null,"х",null,null,"х",null,null,"х","х"]
["ИТОГО оплата услуг ПАО \"ФСК ЕЭС\"",null,{"$f":"C9+C12","v":{"$error":"#DIV/0!"}},{"$error":"#DIV/0!"},{"$f":"IFERROR(E9+E12,0)","v":0},null,{"$f":"G9+G12","v":0},0,0,{"$f":"J9+J12","v":0},0,0,0,0,0]
[]
["Руководитель организации",null,null,{"$f":"'Инф-я'!$C$17","v":"Окунев Василий Михайлович"}]
[]
["Факт по данным организации за 2017 год"]
[]
[null,"янв","фев","мар","апр","май","июн","июль","авг","сент","окт","ноя","дек","Итого","1 полуг","2 полуг"]
["Заявленная мощность в точках присоединения к сетям ПАО \"ФСК ЕЭС\", МВт",null,null,null,null,null,null,null,null,null,null,null,null,"х","х","х"]
["Ставка тарифа услуги по передаче электрической энергии на содержание объектов электросетевого хозяйства, входящих в ЕНЭС, руб. МВт/мес.",null,{"$f":"B25","v":0},{"$f":"C25","v":0},0,0,0,null,{"$f":"H25","v":0},{"$f":"I25","v":0},0,0,0,"х","х","х"]
["Стоимость услуги по передаче электрической энергии на содержание объектов элкутросетевого хозяйства, тыс. руб.",{"$f":"B24*B25/1000","v":0},{"$f":"C24*C25/1000","v":0},0,0,0,0,0,0,0,0,0,0,{"$f":"SUM(B26:M26)","v":0},{"$f":"SUM(B26:G26)","v":0},{"$f":"SUM(H26:M26)","v":0}]
[null,"янв","фев","мар","апр","май","июн","июль","авг","сент","окт","ноя","дек","Итого","1 полуг","2 полуг"]
["Отпуск электрической энергии из сетей ПАО \"ФСК ЕЭС\" напряжением 220 кВ и ниже, МВт.ч",null,null,null,null,null,null,null,null,null,null,null,null,{"$f":"SUM(B28:M28)","v":0},{"$f":"SUM(B28:G28)","v":0},{"$f":"SUM(H28:M28)","v":0}]
["Норматив технологических потерь электрической энергии при ее передаче по ЕНЭС, применяемый к отпуску электроэнергии из сети ПАО \"ФСК ЕЭС\" класса 220 кВ и ниже, %",null,{"$f":"B29","v":0},{"$f":"C29","v":0},0,0,0,0,0,0,0,0,0,"х","х","х"]
["Объем технологических потерь электрической энергии при ее передаче по ЕНЭС, МВт.ч",{"$f":"ROUND(B28*B29/100,3)","v":0},{"$f":"ROUND(C28*C29/100,3)","v":0},0,0,0,0,0,0,0,0,0,0,{"$f":"SUM(B30:M30)","v":0},{"$f":"SUM(B30:G30)","v":0},{"$f":"SUM(H30:M30)","v":0}]
["Ставка тарифа на оплату нормативных технологических потерь электрической энергии в ЕНЭС, руб./МВт.ч",null,null,null,null,null,null,null,null,null,null,null,null,{"$f":"N32/N30*1000","v":{"$error":"#DIV/0!"}},{"$f":"O32/O30*1000","v":{"$error":"#DIV/0!"}},{"$f":"P32/P30*1000","v":{"$error":"#DIV/0!"}}]
["Расходы на компенсацию потерь, тыс. руб.",{"$f":"B30*B31/1000","v":0},{"$f":"C30*C31/1000","v":0},0,0,0,0,0,0,0,0,0,0,{"$f":"SUM(B32:M32)","v":0},{"$f":"SUM(B32:G32)","v":0},{"$f":"SUM(H32:M32)","v":0}]
["Итого расходы на услуги ФСК, тыс. руб.",{"$f":"B26+B32","v":0},{"$f":"C26+C32","v":0},0,0,0,0,0,0,0,0,0,0,0,0,0]

{"sheet":"Прочие НР","index":21,"n_rows":17,"n_cols":8,"rows_kept":17,"cut":false,"hidden":false,"merged":[[16,0,16,1],[16,3,16,5],[1,0,1,6],[4,0,5,0],[4,1,4,2],[4,5,4,6],[4,3,4,4],[2,0,2,6],[13,0,13,7]]}
[]
["Прочие обоснованные неподконтрольные расходы"]
[{"$f":"'Инф-я'!C9","v":"Общество с ограниченной ответственностью \"Энергетик\""}]
[null,null,null,null,null,"тыс. руб."]
["Наименование","2017 год",null,"2018 год",null,"2019 год",null,"2017 год"]
[null,"Утверждено","Факт","Утверждено","Ожидаемые","По данным организации","По данным экспертов","Факт по данным экспертов"]
[1,2,3,4,5,6,7,9]
["Экспертиза НВВ по договору с ТОРИ-АУДИТ",190.41,388.43599999999998,198.02600000000001,205.3,210]
["Договор с ООО \"Владимирэнерго\" на инженерно-консалтинговые услуги№112/16-Э от 01.12.2016г.",null,1600]
["Договор с ООО \"Анит-Аудиторские услуги\" №А 18/10-2016 от 18.10.2016г.",null,40]
["Договор с ООО \"Анит-Аудиторские услуги\" №А 20/07-2017 от 20.07.2017г.",null,40,null,80,80]
["Договор с ООО \"Техкадастр\" на проведение кадастровых работ  №01-17 от 22.02.2017",null,92,null,null,200]
["Договор с ООО \"Техкадастр\" на проведение кадастровых работ  №07-17 от 05.04.2017",null,115]
["Добавить"]
["ИТОГО прочие обоснованные неподконтрольные расходы",{"$f":"SUM(B8:B13)","v":190.41},2275.4359999999997,198.02600000000001,285.3,490,0,0]
[]
["Руководитель организации",null,null,{"$f":"'Инф-я'!$C$17","v":"Окунев Василий Михайлович"}]

{"sheet":" КВЛ","index":22,"n_rows":31,"n_cols":7,"rows_kept":31,"cut":false,"hidden":false,"merged":[[20,0,20,6],[5,1,5,2],[30,0,30,1],[30,3,30,5],[1,0,1,6],[5,0,6,0],[5,3,5,4],[5,5,5,6],[3,0,3,6]]}
[]
["Расходы на капитальные вложения"]
[]
[{"$f":"'Инф-я'!C9","v":"Общество с ограниченной ответственностью \"Энергетик\""}]
[null,null,null,null,null,"тыс. руб."]
["Наименование капитальных вложений","2017 год",null,"2018 год",null,"2019 год"]
[null,"Утверждено","Факт","Утверждено","Ожидаемые","По данным организации","По данным экспертов"]
[1,2,3,4,5,6,7]
["Реконструкция ВЛ 10 кВ от ТП 27 до ТП 9 (фидер 1001)",1016.5,1187.713]
["Строительство ВЛ 10 кВ от ТП 27 до ТП 28 (фидер 1001)",1005,1153.674]
["Строительство ВЛ 10 кВ от ТП 45 до ТП 28 (фидер 1001)",2220.5,2385.1709999999998]
["Строительство ВЛ 10 кВ от ТП 9 до ТП 62 Ф1001, Фидер 1001",null,null,1386.94893,1554.5119999999999]
["Строительство ВЛ 0,4 кВ от ТП 45, Технологическое присоединение абонентов в районе ул.Чистопольная, Луговая, Сосновая, Дружбы, Тихая, Фидер 1001",null,null,4104.9122600000001,4600.8450000000003]
["Установка КРУН (10кВ)на выходе с ПС \"Карабаново\"фидера 1001 1 ячейка",null,null,901.25,1010.134]
["Установка КРУН (10кВ)на выходе с ПС \"Карабаново\"фидера 1022 2 ячейки",null,null,1999.23,2240.77]
["Реконструкция ВЛ 10 кВ от ТП 10 до ТП 27 (фидер 1001)",null,null,null,null,2138.1489999999999]
["Строительство ВЛ 10 кВ от ТП 12 до ТП 62 Ф1001, Фидер 1001",null,null,null,null,1783.8320000000001]
["Реконструкция ВЛ 10 кВ от ПС \"Карабаново\" до ТП 12 (фидер 1001) ",null,null,null,null,3604.9380000000001]
["Установка КРУН (10кВ)на выходе с ПС \"Карабаново\"фидера 1003 2 ячейки",null,null,null,null,2341.6529999999998]
["Введите название"]
["Добавить"]
["ИТОГО капитальных вложений",{"$f":"SUM(B9:B20)","v":4242},{"$f":"SUM(C9:C20)","v":4726.5579999999991},{"$f":"SUM(D9:D20)","v":8392.3411899999992},9406.2610000000004,9868.5720000000001,0]
[" - амортизация",2891,{"$f":"'Свод по амортизации'!C15","v":4014.395},4681.2632088137834,{"$f":"'Свод по амортизации'!E15","v":6737.5},{"$f":"'Свод по амортизации'!F15","v":7245.9440944127637},{"$f":"'Свод по амортизации'!G15","v":0}]
[" - прочие средства "]
[" - прибыль",{"$f":"IF((B22-B23-B24)<=0,0,(B22-B23-B24))","v":1351},712.1629999999991,{"$f":"IF((D22-D23-D24)<=0,0,(D22-D23-D24))","v":3711.0779811862158},2668.7610000000004,{"$f":"IF((F22-F23-F24)<=0,0,(F22-F23-F24))","v":2622.6279055872365},0]
["в  т.ч. по уровням напряжения:                                     ВН","х","х",null,"х",null,"х"]
["СН1","х","х",null,"х",null,"х"]
["СН11","х","х",null,"х",null,"х"]
["НН","х","х",null,"х",null,"х"]
[]
["Руководитель организации",null,null,{"$f":"'Инф-я'!$C$17","v":"Окунев Василий Михайлович"}]

{"sheet":"Выпадающий доход","index":23,"n_rows":24,"n_cols":5,"rows_kept":24,"cut":false,"hidden":false,"merged":[[21,0,21,4],[4,3,4,4],[23,0,23,1],[23,2,23,3],[1,0,1,4],[4,0,5,0],[2,0,2,4]]}
[]
["Расходы, связанные с компенсацией выпадающих доходов по льготному технологическому присоединению"]
[{"$f":"'Инф-я'!C9","v":"Общество с ограниченной ответственностью \"Энергетик\""}]
[null,null,null,"тыс. руб."]
["Наименование","2017 год","2018 год","2019 год"]
[null,"Утверждено","Утверждено","По данным организации","По данным экспертов"]
[1,2,3,4,5]
["   выпадающие доходы сетевой организации от присоединения энергопринимающих устройств максимальной мощностью, не превышающей 15 кВт включительно, исходя из стоимости мероприятий по технологическому присоединению в размере не более 550 рублей;",{"$f":"SUM(B9:B13)","v":0},0,0,0]
["             за 2015 год",{"$f":"'Расчет выпадающих до 15 кВт'!C42","v":0},"х","х","х"]
["             за 2016 год","х",null,"х","х"]
["             за 2017 год",{"$f":"'Расчет выпадающих до 15 кВт'!C43","v":0},"х",{"$f":"'Расчет выпадающих до 15 кВт'!C45","v":0}]
["             за 2018 год","х",null,"х","х"]
["             за 2019 год","х","х",{"$f":"'Расчет выпадающих до 15 кВт'!C46","v":0}]
["   выпадающие доходы сетевой организации от присоединения энергопринимающих устройств максимальной мощностью не более, чем 150 кВт на покрытие расходов на строительство объектов электросетевого хозяйства ",{"$f":"SUM(B15:B18)","v":0},{"$f":"SUM(C15:C18)","v":0},{"$f":"SUM(D15:D18)","v":0},{"$f":"SUM(E15:E18)","v":0}]
["             за 2016 год","х",null,"х","х"]
["             за 2017 год",{"$f":"'Расчет выпадающих до 150 кВт'!C42","v":0},"х",{"$f":"'Расчет выпадающих до 150 кВт'!C44","v":0}]
["             за 2018 год","х",null,"х","х"]
["             за 2019 год","х","х",{"$f":"'Расчет выпадающих до 150 кВт'!C45","v":0}]
["   выпадающие доходы сетевой организации от выплаты процентов по кредитным договорам, связанным с рассрочкой по оплате субъектами малого и среднего предпринимательства технологического присоединения энергопринимающих устройств максимальной мощностью свыше 15 кВт и до 150 кВт включительно",null,null,{"$f":"'СВОД по % по рассрочке'!J18","v":0}]
["Итого расходы, связанные с компенсацией выпадающих доходов по льготному технологическому присоединению",{"$f":"B8+B19+B14","v":0},{"$f":"C8+C19+C14","v":0},0,0]
[]
[]
[]
["Руководитель организации",null,{"$f":"'Инф-я'!$C$17","v":"Окунев Василий Михайлович"}]

{"sheet":"Расчет выпадающих до 15 кВт","index":24,"n_rows":49,"n_cols":11,"rows_kept":49,"cut":false,"hidden":false,"merged":[[32,5,32,7],[33,5,33,7],[34,5,34,7],[3,0,3,10],[8,0,10,0],[8,1,10,1],[8,2,9,4],[8,5,9,7],[8,8,9,10],[4,0,4,10],[6,0,6,9],[30,1,30,7],[32,2,32,4],[33,2,33,4],[34,2,34,4],[48,1,48,2],[48,3,48,5],[35,2,35,4],[35,5,35,7],[45,2,45,4],[41,2,41,4],[42,2,42,4],[43,6,43,7],[40,2,40,4],[43,2,43,4],[46,2,46,4],[38,1,38,7],[36,2,36,4],[36,5,36,7],[44,2,44,4]]}
[null,null,null,null,null,null,"Приложение 1"]
[null,null,null,null,null,null,"к Методическим указаниям, "]
[null,null,null,null,null,null,"утвержденным приказом ФСТ от 11.09.2014 г. №215-э/1"]
[]
["Расчет размера расходов, связанных с осуществлением технологического присоединения энергопринимающих устройств максимальной мощностью, не превышающей 15 кВт включительно, не включаемых в состав платы за технологическое присоединение за 2017 год и плановый период 2019 года"]
[]
[{"$f":"'Инф-я'!$C$9","v":"Общество с ограниченной ответственностью \"Энергетик\""}]
[]
["№ п./п.","Показатели","Фактические данные за 2017 год",null,null,"Расчетные (фактические) данные за 2017 год",null,null,"Плановые показатели на 2019 год"]
[]
[null,null,"ставка платы (руб./кВт, руб./км)","мощность, длина линий, (кВт., км)","Сумма (в соответствии с актами приемки выполненных работ) тыс. руб. ","стандартизированная тарифная ставка (руб./кВт, руб./км)","мощность, длина линий, (кВт., км)","Сумма,   тыс. руб. ","стандартизированная тарифная ставка (руб./присоединение, руб./кВт, руб./км)","Среднее кол-во присоединений","Сумма,   тыс. руб. "]
[1,2,3,4,5,6,7,8,9,10,11]
["1.","Расходы на выполнение организационно-технических мероприятий, связанные с осуществлением технологического присоединения [п. 1.1 + п. 1.2 + п. 1.3 + п. 1.4]:",{"$f":"SUM(C14:C17)","v":0},null,{"$f":"SUM(E14:E17)","v":0},{"$f":"SUM(F14:F17)","v":0},{"$f":"D13","v":0},0,null,{"$f":"F37","v":0},{"$f":"I13*J13/1000","v":0}]
["1.1.","подготовка и выдача сетевой организацией технических условий (ТУ) Заявителю, на уровне напряжения i и (или) диапазоне мощности j",{"$f":"IF(D14=0,0,E14/D14*1000)","v":0},{"$f":"D13","v":0},null,null,{"$f":"G13","v":0},{"$f":"F14*G14/1000","v":0},"х","х","х"]
["1.2.","проверка сетевой организацией выполнения Заявителем ТУ, на уровне напряжения i и (или) диапазоне мощности j",{"$f":"IF(D15=0,0,E15/D15*1000)","v":0},{"$f":"D13","v":0},null,null,{"$f":"G13","v":0},{"$f":"F15*G15/1000","v":0},"х","х","х"]
["1.3.","участие в осмотре должностным лицом органа федерального, государственного энергетического надзора при участии сетевой организации и собственника присоединяемых Устройств Заявителя, на уровне напряжения i и (или) диапазоне мощности j",0,{"$f":"D13","v":0},null,null,{"$f":"G13","v":0},0,"х","х","х"]
["1.4.","Осуществление сетевой организацией фактического присоединения объектов Заявителя к электрическим сетям и включение коммутационного аппарата (фиксация коммутационного аппарата в положение \"включено\"), на уровне напряжения i и (или) диапазоне мощности j",0,{"$f":"D13","v":0},null,null,{"$f":"G13","v":0},0,"х","х","х"]
["2.","Расходы по мероприятиям \"последней мили\", связанные с осуществлением технологического присоединения [п. 2.1 + п. 2.2 + п. 2.3 + п. 2.4 + 2.5]:","х","х",{"$f":"SUM(E19:E24)","v":0},{"$f":"C18","v":"х"},"х",{"$f":"SUM(H19:H24)","v":0},{"$f":"F18","v":"х"},"х",{"$f":"SUM(K19:K24)","v":0}]
["2.1.","строительство воздушных линий, на уровне напряжения i и (или) диапазоне мощности j",0,null,null,null,null,0,null,null,{"$f":"I19*J19/1000","v":0}]
["2.2.","строительство кабельных линий, на уровне напряжения i и (или) диапазоне мощности j",0,null,null,null,null,0,null,null,0]
["2.3.","строительством пунктов секционирования, на уровне напряжения i и (или) диапазоне мощности j",0,null,null,null,null,0,null,null,0]
["2.4.","строительство комплектных трансформаторных подстанций (КТП) на уровне напряжения i и (или) диапазоне мощности j",0,null,null,null,null,0,null,null,0]
["2.5.","строительство  распределительных трансформаторных подстанций (РТП) с уровнем напряжения до 35 кВ, на уровне напряжения i и (или) диапазоне мощности j",{"$f":"IF(D23=0,0,E23/D23*1000)","v":0},null,null,null,null,{"$f":"F23*G23/1000","v":0},null,null,{"$f":"I23*J23/1000","v":0}]
["2.6.","строительство центров питания, подстанций уровнем напряжения 35 кВ и выше (ПС), на уровне напряжения i и (или) диапазоне мощности j",0,null,null,null,null,0,null,null,0]
["3.","Суммарный размер платы за технологическое присоединение [п. 3.1 * п. 3.2 / 1000]:","х","х",{"$f":"E26*E27/1000","v":0},"х","х",{"$f":"H26*H27/1000","v":0},"х","х",{"$f":"K26*K27/1000","v":0}]
["3.1.","Размер платы за технологическое присоединение (руб. без НДС)","х","х",466.1,"х","х",466.1,"х","х",466.1]
["3.2.","Плановое количество договоров на осуществление технологическое присоединение к электрическим сетям (плановое количество членов объединений (организаций), указанных в п. 16 Методических указаний по определению размера платы за технологическое присоединение к электрическим сетям, утвержденных приказом ФАС России от 29 августа 2017 года, N 1135/17) (шт.)","х","х",{"$f":"C36","v":0},"х","х",{"$f":"C36","v":0},"х","х",{"$f":"C37","v":0}]
["4.","Размер расходов, связанных с осуществлением технологического присоединения к электрическим сетям, не включаемых в состав платы за технологическое присоединение (п. 1 + п. 2 - п. 3)","х","х",{"$f":"E13+E18-E25","v":0},"х","х",{"$f":"H13+H18-H25","v":0},"х","х",{"$f":"K13+K18-K25","v":0}]
[]
[]
[null,"Фактические средние данные по выполненым договорам технологического присоединения за 3 предыдущих года "]
[]
[null,"Год","Количество заявителей технологического присоединения, ед. (для расчета Доходов)",null,null,"Количество  технологических присоединений, ед. (для расчета Расходов)"]
[null,"Факт 2015 г."]
[null,"Факт 2016 г."]
[null,"Факт 2017 г."]
[null,"План 2019 г. (расчет плановых значений исходя из данных за 3 предыдущих периода)",{"$f":"ROUND((C34+C35+C36)/3,0)","v":0},null,null,{"$f":"ROUND((F34+F35+F36)/3,0)","v":0}]
[]
[null,"Сводный расчет выпадающих  доходов от льготного ТП, подлежащих учету в 2019 году, тыс. руб."]
[]
[null,"Выпадающие доходы, учтенные при тарифном регулировании на 2017 год  всего в т.ч.",{"$f":"C42+C43","v":0}]
[null,"фактические по итогам 2015 года"]
[null,"планового периода 2017 года"]
[null,"Выпадающие доходы по итогам 2017 года за минусом плановых показателей 2017 года, подлежащие учету в 2019 году, тыс. руб.",{"$f":"MIN(E28,H28)-C43","v":0},null,null,null,"ИПЦ, %"]
[null,"Выпадающие доходы по итогам 2017 года c учетом ИПЦ, подлежащие учету в 2019 году, тыс. руб.",{"$f":"C44*(1+H45)*(1+H46)","v":0},null,null,null,"2019 г. к 2018 г."]
[null,"Плановые выпадающие доходы на 2019 год",{"$f":"K28","v":0},null,null,null,"2018 г. к 2017 г."]
[null,"Итого выпадающие доходы от льготного ТП подлежащие учету в 2019 году, тыс. руб.",{"$f":"C46+C45","v":0}]
[]
[null,"Руководитель организации",null,{"$f":"'Инф-я'!$C$17","v":"Окунев Василий Михайлович"}]

{"sheet":"Расчет выпадающих до 150 кВт","index":25,"n_rows":48,"n_cols":11,"rows_kept":48,"cut":false,"hidden":false,"merged":[[39,2,39,4],[40,2,40,4],[44,2,44,4],[37,1,37,7],[41,2,41,4],[29,1,29,7],[3,0,3,10],[4,0,4,10],[8,0,10,0],[8,1,10,1],[8,2,9,4],[8,5,9,7],[8,8,9,10],[6,1,6,10],[40,6,40,7],[42,2,42,4],[43,2,43,4],[45,2,45,4],[47,1,47,2],[47,3,47,5]]}
[null,null,null,null,null,null,"Приложение 3"]
[null,null,null,null,null,null,"к Методическим указаниям, "]
[null,null,null,null,null,null,"утвержденным приказом ФСТ от 11.09.2014 г. №215-э/1"]
[]
["Расчет размера расходов, связанных с осуществлением технологического присоединения к электрическим сетям энергопринимающих устройств максимальной мощностью до 150 кВт включительно, не включаемых в состав платы за технологическое присоединение за 2017 год и плановый период 2019 года"]
[]
[null,{"$f":"'Инф-я'!$C$9","v":"Общество с ограниченной ответственностью \"Энергетик\""}]
[]
["№ п./п.","Показатели","Фактические данные за 2017 год",null,null,"Расчетные (фактические) данные за 2017 год",null,null,"Плановые показатели на 2019 год"]
[]
[null,null,"ставка платы (руб./кВт, руб./км)","мощность, длина линий, (кВт., км)","Сумма (в соответствии с актами приемки выполненных работ) тыс. руб. ","стандартизированная тарифная ставка (руб./кВт, руб./км)","мощность, длина линий, (кВт., км)","Сумма,  тыс. руб. ","стандартизированная тарифная ставка (руб./кВт, руб./км)","мощность, длина линий, (кВт, км, шт)","Сумма,  тыс. руб. "]
[1,2,3,4,5,6,7,8,9,10,11]
["1.","Расходы по мероприятиям \"последней мили\", связанные с осуществлением технологического присоединения к электрическим сетям [п.1.1 + п.1.2 + п.1.3 + п.1.4+ п.1.5+ п.1.6]:","х","х",{"$f":"SUM(E14:E19)","v":0},"х","х",{"$f":"SUM(H14:H19)","v":0},"х","х",{"$f":"SUM(K14:K19)","v":0}]
["1.1.","строительство воздушных линий, на уровне напряжения i и (или) диапазоне мощности j",{"$f":"IF(D14=0,0,E14/D14*1000)","v":0},null,null,null,{"$f":"D14","v":0},{"$f":"F14*G14/1000","v":0},null,{"$f":"C36","v":0},{"$f":"I14*J14/1000","v":0}]
["1.2.","строительство кабельных линий, на уровне напряжения i и (или) диапазоне мощности j",{"$f":"IF(D15=0,0,E15/D15*1000)","v":0},null,null,null,{"$f":"D15","v":0},{"$f":"F15*G15/1000","v":0},null,{"$f":"D36","v":0},{"$f":"I15*J15/1000","v":0}]
["1.3.","строительством пунктов секционирования, на уровне напряжения i и (или) диапазоне мощности j",0,null,null,null,0,{"$f":"F16*G16/1000","v":0},null,{"$f":"E36","v":0},0]
["1.4.","строительство комплектных трансформаторных подстанций (КТП) с уровнем напряжения до 35 кВ, на уровне напряжения i и (или) диапазоне мощности j",0,null,null,null,0,0,null,{"$f":"F36","v":0},0]
["1.5.","строительство распределительных трансформаторных подстанций (РТП) с уровнем напряжения до 35 кВ, на уровне напряжения i и (или) диапазоне мощности j",{"$f":"IF(D18=0,0,E18/D18*1000)","v":0},null,null,null,{"$f":"D18","v":0},{"$f":"F18*G18/1000","v":0},null,{"$f":"G36","v":0},{"$f":"I18*J18/1000","v":0}]
["1.6.","строительство центров питания, подстанций уровнем напряжения 35 кВ и выше (ПС), на уровне напряжения i и (или) диапазоне мощности j",{"$f":"IF(D19=0,0,E19/D19*1000)","v":0},null,null,null,0,0,null,{"$f":"H36","v":0},0]
["2.","Суммарный размер платы за технологическое присоединение в части мероприятий \"последней мили\" [n.2.1 + п.2.2 + п.2.3 + п.2.4 + п.2.5+ п.2.6]:","х","х",{"$f":"SUM(E21:E26)","v":0},{"$f":"C20","v":"х"},"х",{"$f":"SUM(H21:H26)","v":0},{"$f":"F20","v":"х"},"х",{"$f":"SUM(K21:K26)","v":0}]
["2.1.","строительство воздушных линий, на уровне напряжения i и (или) диапазоне мощности j",{"$f":"IF(D21=0,0,E21/D21*1000)","v":0},null,null,null,null,0,null,null,{"$f":"I21*J21/1000","v":0}]
["2.2.","строительство кабельных линий, на уровне напряжения i и (или) диапазоне мощности j",0,null,null,null,null,0,null,null,0]
["2.3.","строительством пунктов секционирования, на уровне напряжения i и (или) диапазоне мощности j",0,null,null,null,null,0,null,null,0]
["2.4.","строительство комплектных трансформаторных подстанций (КТП) с уровнем напряжения до 35 кВ, на уровне напряжения i и (или) диапазоне мощности j",0,null,null,null,null,0,null,null,0]
["2.5.","строительство распределительных трансформаторных подстанций (РТП) с уровнем напряжения до 35 кВ, на уровне напряжения i и (или) диапазоне мощности j",{"$f":"IF(D25=0,0,E25/D25*1000)","v":0},null,null,null,null,{"$f":"F25*G25/1000","v":0},null,null,{"$f":"I25*J25/1000","v":0}]
["2.6.","строительство центров питания, подстанций уровнем напряжения 35 кВ и выше (ПС), на уровне напряжения i и (или) диапазоне мощности j",0,null,null,null,null,0,null,null,0]
["3.","Размер расходов по мероприятиям \"последней мили\", связанных с осуществлением технологического присоединения к электрическим сетям, не включаемых в плату за технологическое присоединение [п.1 - п.2]","х","х",{"$f":"E13-E20","v":0},"х","х",{"$f":"H13-H20","v":0},"х","х",{"$f":"K13-K20","v":0}]
[]
[]
[null,"Фактические средние данные по выполненым договорам технологического присоединения за 3 предыдущих года "]
[]
[null,"Год","строительство ВЛ, км","строительство КЛ, км","строительством пунктов секционирования, шт","строительство КТП с уровнем напряжения до 35 кВ, кВт","строительство РТП с уровнем напряжения до 35 кВ, кВт","строительство ПС, кВт"]
[null,"Факт 2015 г."]
[null,"Факт 2016 г."]
[null,"Факт 2017 г."]
[null,"План 2019 г. (расчет плановых значений исходя из данных за 3 предыдущих периода)",{"$f":"(C33+C34+C35)/3","v":0},{"$f":"(D33+D34+D35)/3","v":0},0,0,{"$f":"(G33+G34+G35)/3","v":0},{"$f":"(H33+H34+H35)/3","v":0}]
[]
[null,"Сводный расчет выпадающих  доходов от льготного ТП, подлежащих учету в 2019 году, тыс. руб."]
[]
[null,"Выпадающие доходы планового периода 2017 года, учтенные при тарифном регулировании на 2017 год ,всего в т.ч.",{"$f":"C41+C42","v":0}]
[null,"фактические по итогам 2015 года",null,null,null,null,"ИПЦ, %"]
[null,"планового периода 2017 года",null,null,null,null,"2019 г. к 2018 г.",{"$f":"'Расчет выпадающих до 15 кВт'!H45","v":0}]
[null,"Выпадающие доходы по итогам 2017 года за минусом плановых показателей 2017 года, подлежащие учету в 2019 году, тыс. руб.",{"$f":"MIN(E27,H27)-C42","v":0},null,null,null,"2018 г. к 2017 г.",{"$f":"'Расчет выпадающих до 15 кВт'!H46","v":0}]
[null,"Выпадающие доходы по итогам 2017 года c учетом ИПЦ, подлежащие учету в 2019 году, тыс. руб.",{"$f":"C43*(1+H42)*(1+H43)","v":0}]
[null,"Плановые выпадающие доходы на 2019 год",{"$f":"K27","v":0}]
[null,"Итого выпадающие доходы от льготного ТП, подлежащие учету в 2019 году, тыс. руб.",{"$f":"C44+C45","v":0}]
[]
[null,"Руководитель организации",null,{"$f":"'Инф-я'!$C$17","v":"Окунев Василий Михайлович"}]

{"sheet":"СВОД по % по рассрочке","index":26,"n_rows":45,"n_cols":20,"rows_kept":45,"cut":false,"hidden":false,"merged":[[1,1,1,9],[9,1,9,4],[10,1,10,4],[11,1,11,4],[17,0,17,7],[5,7,7,7],[5,1,7,4],[5,5,7,5],[5,6,7,6],[5,8,7,8],[5,9,7,9],[15,1,15,4],[16,0,16,9],[14,1,14,4],[8,1,8,4],[3,0,3,9],[5,0,7,0],[31,0,31,16],[35,0,36,0],[35,10,35,14],[35,15,35,19],[12,1,12,4],[35,1,36,4],[35,5,35,9],[27,5,29,9],[13,1,13,4],[43,0,43,9],[44,0,44,9],[37,1,37,4],[38,1,38,4],[33,1,33,16],[40,1,40,2],[40,3,40,4]]}
[]
[null," Выпадающие доходы сетевой организации от выплаты процентов по кредитным договорам, связанным с рассрочкой по оплате субъектами малого и среднего предпринимательства технологического присоединения энергопринимающих устройств максимальной мощностью свыше 15 кВт и до 150 кВт включительно в 2019 году"]
[]
[{"$f":"'Инф-я'!$C$9","v":"Общество с ограниченной ответственностью \"Энергетик\""}]
[]
["N п/п","Информация о договоре технологического присоединения (Контрагент (наименование), № договора ТП, Дата заключения договора)",null,null,null,"Ставка рефинансирования Центрального банка Российской Федерации ","Год закрытия","Квартал закрытия","Сумма договора,тыс. руб. с НДС","Размера расходов, связанных с предоставлением беспроцентной рассрочки в 2019 году, тыс. руб. "]
[]
[]
[1,2,null,null,null,3,4,5,6,7]
[1,{"$f":"Заявитель1!A4","v":0},null,null,null,{"$f":"Заявитель1!B31","v":0},{"$f":"Заявитель1!B34","v":0},{"$f":"Заявитель1!B32","v":0},{"$f":"Заявитель1!B33","v":0},{"$f":"Заявитель1!G36","v":0}]
[2,{"$f":"Заявитель2!A4","v":0},null,null,null,{"$f":"Заявитель2!B31","v":0},{"$f":"Заявитель2!B34","v":0},{"$f":"Заявитель2!B32","v":0},{"$f":"Заявитель2!B33","v":0},{"$f":"Заявитель2!G36","v":0}]
[3,{"$f":"Заявитель3!A4","v":0},null,null,null,{"$f":"Заявитель3!B31","v":0},{"$f":"Заявитель3!B34","v":0},{"$f":"Заявитель3!B32","v":0},{"$f":"Заявитель3!B33","v":0},{"$f":"Заявитель3!G36","v":0}]
[4,{"$f":"Заявитель4!A4","v":0},null,null,null,{"$f":"Заявитель4!B31","v":0},{"$f":"Заявитель4!B34","v":0},{"$f":"Заявитель4!B32","v":0},{"$f":"Заявитель4!B33","v":0},{"$f":"Заявитель4!G36","v":0}]
[]
[]
[]
["Добавить"]
["ИТОГО",null,null,null,null,null,null,null,{"$f":"SUM(I10:I17)","v":0},{"$f":"SUM(J10:J17)","v":0}]
[]
[null,"Свод по кварталам ","Сумма по договорам"]
[null,1,{"$f":"SUMIF(H$6:H$22,B21,I$6:I$22)","v":0}]
[null,2,{"$f":"SUMIF(H$6:H$22,B22,I$6:I$22)","v":0}]
[null,3,{"$f":"SUMIF(H$6:H$22,B23,I$6:I$22)","v":0}]
[null,4,{"$f":"SUMIF(H$6:H$22,B24,I$6:I$22)","v":0}]
[null,"ГОД",{"$f":"SUM(C21:C24)","v":0}]
[null,null,{"$f":"C25-I18","v":0}]
[]
[null,null,null,null,null,"Приложение 2 к Методическим указаниям,  утвержденным приказом ФСТ от 11.09.2014 г. №215-э/1"]
[]
[]
[]
["Таблица 1. Расчет суммарного размера платы за технологическое присоединение, подлежащего беспроцентной рассрочке"]
[]
[null,{"$f":"'Инф-я'!C9","v":"Общество с ограниченной ответственностью \"Энергетик\""}]
[null,null,null,null,null,null,null,null,null,null,null,null,null,null,null,null,"тыс. руб. с НДС"]
["N п/п","Показатель",null,null,null,"Фактические данные за предыдущий период регулирования",null,null,null,null,"Ожидаемые данные за текущий период регулирования",null,null,null,null,"Плановые показатели на следующий период регулирования"]
[null,null,null,null,null,"1 кв.","2 кв.","3 кв.","4 кв.","всего за год","1 кв.","2 кв.","3 кв.","4 кв.","всего за год","1 кв.","2 кв.","3 кв.","4 кв.","всего за год"]
[1,"Суммарный размер платы за технологическое присоединение, тыс. руб., в т.ч.:",null,null,null,null,null,null,null,{"$f":"SUM(F38:I38)","v":0},null,null,null,null,{"$f":"SUM(K38:N38)","v":0},{"$f":"C21","v":0},{"$f":"C22","v":0},{"$f":"C23","v":0},{"$f":"C24","v":0},{"$f":"SUM(P38:S38)","v":0}]
[2,"Суммарный размер платы за технологическое присоединение, подлежащий беспроцентной рассрочке",null,null,null,null,null,null,null,{"$f":"SUM(F39:I39)","v":0},null,null,null,null,{"$f":"SUM(K39:N39)","v":0},{"$f":"P38*0.95","v":0},{"$f":"Q38*0.95","v":0},0,0,0]
[]
[null,"Руководитель организации",null,{"$f":"'Инф-я'!$C$17","v":"Окунев Василий Михайлович"}]
[]
["Примечание:"]
["1) Суммарный размер платы за технологическое присоединение (п. 1) за каждый квартал следующего расчетного периода регулирования представляет собой прогнозную величину платы за технологическое присоединение для заявителей, обращающихся за беспроцентной рассрочкой, определенную на основе фактических данных о заявителях, обратившихся за рассрочкой за последний год, но не ниже документально подтвержденных данных о заявителях, обратившихся за рассрочкой на следующий период регулирования."]
["2) Суммарный размер платы за технологическое присоединение, подлежащий беспроцентной рассрочке (п. 2), за каждый квартал определяется как суммарный размер платы за технологическое присоединение (п. 1) за каждый квартал, умноженный на 0,95."]

{"sheet":"Заявитель1","index":27,"n_rows":53,"n_cols":10,"rows_kept":53,"cut":false,"hidden":false,"merged":[[0,2,0,7],[48,0,48,6],[49,0,49,6],[50,0,50,6],[51,0,51,6],[42,0,42,6],[43,0,43,6],[44,0,44,6],[45,0,45,6],[46,0,46,6],[35,0,35,5],[2,0,2,6],[6,0,7,0],[6,1,7,1],[6,2,6,6],[4,1,4,6],[6,7,7,7],[37,0,37,6],[3,0,3,6],[52,0,52,6]]}
[null,null,"Приложение 2 к Методическим указаниям,  утвержденным приказом ФСТ от 11.09.2014 г. №215-э/1"]
[]
[" Расчет размера расходов, связанных с предоставлением беспроцентной рассрочки (для конкретного заявителя)\n"]
[]
[null,"(Контрагент (наименование), № договора ТП, Дата заключения договора)"]
[]
["N п/п","Квартал, на который рассчитывается размер расходов, связанных с предоставлением беспроцентной рассрочки","Расходы, связанные с предоставлением беспроцентной рассрочки, тыс. руб. (с учетом НДС)",null,null,null,null,"Номер квартала i"]
[null,null,"в отношении суммарного размера платы за технологическое присоединение в 1 квартале","в отношении суммарного размера платы за технологическое присоединение во 2 квартале","в отношении суммарного размера платы за технологическое присоединение в 3 квартале","в отношении суммарного размера платы за технологическое присоединение в 4 квартале","всего в год",null,null,"  "]
[1,{"$f":"CONCATENATE(\"1 год (\",$B$34,\"г.):\")","v":"1 год (г.):"},{"$f":"SUM(C10:C13)","v":0},{"$f":"SUM(D10:D13)","v":0},{"$f":"SUM(E10:E13)","v":0},{"$f":"SUM(F10:F13)","v":0},{"$f":"SUM(C9:F9)","v":0}]
["1.1.","1 квартал",{"$f":"IF($H10>=$B$32,Заявитель1!$B$33*0.95*((12+$B$32-$H10)/12)*($B$31/4),0)","v":0},null,null,null,0,1]
["1.2.","2 квартал",null,{"$f":"IF($H11>=$B$32,Заявитель1!$B$33*0.95*((12+$B$32-$H11)/12)*($B$31/4),0)","v":0},null,null,0,2]
["1.3.","3 квартал",null,null,{"$f":"IF($H12>=$B$32,Заявитель1!$B$33*0.95*((12+$B$32-$H12)/12)*($B$31/4),0)","v":0},null,0,3]
["1.4.","4 квартал",null,null,null,{"$f":"IF($H13>=$B$32,Заявитель1!$B$33*0.95*((12+$B$32-$H13)/12)*($B$31/4),0)","v":0},0,4]
[2,{"$f":"CONCATENATE(\"1 год (\",$B$34+1,\"г.):\")","v":"1 год (1г.):"},{"$f":"SUM(C15:C18)","v":0},{"$f":"SUM(D15:D18)","v":0},{"$f":"SUM(E15:E18)","v":0},{"$f":"SUM(F15:F18)","v":0},0]
["2.1.","5 квартал",{"$f":"Заявитель1!$B$33*0.95*((12+$B$32-$H15)/12)*($B$31/4)","v":0},null,null,null,0,5]
["2.2.","6 квартал",null,{"$f":"Заявитель1!$B$33*0.95*((12+$B$32-$H16)/12)*($B$31/4)","v":0},null,null,0,6]
["2.3.","7 квартал",null,null,{"$f":"Заявитель1!$B$33*0.95*((12+$B$32-$H17)/12)*($B$31/4)","v":0},null,0,7]
["2.4.","8 квартал",null,null,null,{"$f":"Заявитель1!$B$33*0.95*((12+$B$32-$H18)/12)*($B$31/4)","v":0},0,8]
[3,{"$f":"CONCATENATE(\"1 год (\",$B$34+2,\"г.):\")","v":"1 год (2г.):"},{"$f":"SUM(C20:C23)","v":0},{"$f":"SUM(D20:D23)","v":0},{"$f":"SUM(E20:E23)","v":0},{"$f":"SUM(F20:F23)","v":0},0]
["3.1.","9 квартал",{"$f":"Заявитель1!$B$33*0.95*((12+$B$32-$H20)/12)*($B$31/4)","v":0},null,null,null,0,9]
["3.2.","10 квартал",null,{"$f":"Заявитель1!$B$33*0.95*((12+$B$32-$H21)/12)*($B$31/4)","v":0},null,null,0,10]
["3.3.","11 квартал",null,null,{"$f":"Заявитель1!$B$33*0.95*((12+$B$32-$H22)/12)*($B$31/4)","v":0},null,0,11]
["3.4.","12 квартал",null,null,null,{"$f":"Заявитель1!$B$33*0.95*((12+$B$32-$H23)/12)*($B$31/4)","v":0},0,12]
[4,{"$f":"CONCATENATE(\"1 год (\",$B$34+3,\"г.):\")","v":"1 год (3г.):"},{"$f":"SUM(C25:C27)","v":0},{"$f":"SUM(D25:D27)","v":0},{"$f":"SUM(E25:E27)","v":0},{"$f":"SUM(F25:F27)","v":0},0]
["4.1.","13 квартал",{"$f":"Заявитель1!$B$33*0.95*((12+$B$32-$H25)/12)*($B$31/4)","v":0},null,null,null,0,13]
["4.2.","14 квартал",null,{"$f":"IF((Заявитель1!$B$33*0.95*((12+$B$32-$H26)/12)*($B$31/4))<0,0,Заявитель1!$B$33*0.95*((12+$B$32-$H26)/12)*($B$31/4))","v":0},null,null,0,14]
["4.3.","15 квартал",null,null,{"$f":"IF((Заявитель1!$B$33*0.95*((12+$B$32-$H27)/12)*($B$31/4))<0,0,Заявитель1!$B$33*0.95*((12+$B$32-$H27)/12)*($B$31/4))","v":0},null,0,15]
[5,"Итого",{"$f":"C9+C14+C19+C24","v":0},{"$f":"D9+D14+D19+D24","v":0},{"$f":"E9+E14+E19+E24","v":0},{"$f":"F9+F14+F19+F24","v":0},{"$f":"G9+G14+G19+G24","v":0}]
[]
[]
[]
["k"]
[]
["Год закрытия договора"]
[]
["Размера расходов, связанных с предоставлением беспроцентной рассрочки в 2019 году",null,null,null,null,null,{"$f":"IF(B34<2015,0,IF(B34=2015,G24,IF(B34=2016,G19,IF(B34=2017,G14))))","v":0},"тыс. руб. "]
[]
["Размер расходов, связанных с предоставлением беспроцентной рассрочки, в i-м квартале в течение трехлетнего периода предоставления беспроцентной рассрочки рассчитывается по формуле (1):"]
[]
[null,null,null,", (1)"]
[]
["где:"]
["       - суммарный размер платы за технологическое присоединение, начисляемый заявителям, которым предоставляется рассрочка, в квартале k периода регулирования (тыс. руб.);"]
["k - номер квартала по порядку в периоде регулирования, в который начисляется размер платы за технологическое присоединение (равен от 1 до 4);"]
["i - номер квартала по порядку, начиная с момента начисления размера платы за технологическое присоединение с условием предоставления беспроцентной рассрочки в квартале k, с учетом квартала, в котором произведены начисления, в течение трехлетнего периода предоставления беспроцентной рассрочки (равен от k до 12 + k - 1);"]
["          - ставка рефинансирования Центрального банка Российской Федерации на дату представления сетевой организацией заявки на установление размера платы за технологическое присоединение в регулирующий орган."]
["В случае отклонения фактического значения процентной ставки по кредитам, связанным с рассрочкой по оплате технологического присоединения, от ставки рефинансирования Центрального банка Российской Федерации, при расчете фактического размера расходов, связанных с предоставлением беспроцентной рассрочки, применяется величина процентной ставки в соответствии с пунктом 87 Основ ценообразования."]
[]
["Примечание: "]
["1) Периодом предоставления беспроцентной рассрочки считается 3 года."]
["2) Размер расходов, связанных с предоставлением беспроцентной рассрочки, в каждый квартал периода регулирования в течение трехлетнего периода предоставления беспроцентной рассрочки в отношении планируемого к получению (фактически полученного) от заявителей суммарного размера платы за технологическое присоединение, определяется в соответствии с формулой (1) Методических указаний по определению выпадающих доходов, связанных с осуществлением технологического присоединения к электрическим сетям."]
["3) При расчете планируемых значений показателей при заполнении таблиц 1 и 2 применяется планируемая к получению величина суммарного размера платы за технологическое присоединение, подлежащего беспроцентной рассрочке."]
["4) При расчете фактических значений показателей при заполнении таблиц 1 и 2 применяется суммарная плата за технологическое присоединение, начисленная с беспроцентной рассрочкой в соответствии с заключенными договорами об осуществлении технологического присоединения к электрическим сетям."]

{"sheet":"Заявитель2","index":28,"n_rows":53,"n_cols":10,"rows_kept":53,"cut":false,"hidden":false,"merged":[[0,2,0,7],[2,0,2,6],[3,0,3,6],[6,0,7,0],[6,1,7,1],[6,2,6,6],[6,7,7,7],[4,1,4,6],[52,0,52,6],[35,0,35,5],[37,0,37,6],[42,0,42,6],[43,0,43,6],[44,0,44,6],[45,0,45,6],[46,0,46,6],[48,0,48,6],[49,0,49,6],[50,0,50,6],[51,0,51,6]]}
[null,null,"Приложение 2 к Методическим указаниям,  утвержденным приказом ФСТ от 11.09.2014 г. №215-э/1"]
[]
[" Расчет размера расходов, связанных с предоставлением беспроцентной рассрочки (для конкретного заявителя)\n"]
[]
[null,"(Контрагент (наименование), № договора ТП, Дата заключения договора)"]
[]
["N п/п","Квартал, на который рассчитывается размер расходов, связанных с предоставлением беспроцентной рассрочки","Расходы, связанные с предоставлением беспроцентной рассрочки, тыс. руб. (с учетом НДС)",null,null,null,null,"Номер квартала i"]
[null,null,"в отношении суммарного размера платы за технологическое присоединение в 1 квартале","в отношении суммарного размера платы за технологическое присоединение во 2 квартале","в отношении суммарного размера платы за технологическое присоединение в 3 квартале","в отношении суммарного размера платы за технологическое присоединение в 4 квартале","всего в год",null,null,"  "]
[1,{"$f":"CONCATENATE(\"1 год (\",$B$34,\"г.):\")","v":"1 год (г.):"},{"$f":"SUM(C10:C13)","v":0},{"$f":"SUM(D10:D13)","v":0},{"$f":"SUM(E10:E13)","v":0},{"$f":"SUM(F10:F13)","v":0},{"$f":"SUM(C9:F9)","v":0}]
["1.1.","1 квартал",{"$f":"IF($H10>=$B$32,Заявитель2!$B$33*0.95*((12+$B$32-$H10)/12)*($B$31/4),0)","v":0},null,null,null,0,1]
["1.2.","2 квартал",null,{"$f":"IF($H11>=$B$32,Заявитель2!$B$33*0.95*((12+$B$32-$H11)/12)*($B$31/4),0)","v":0},null,null,0,2]
["1.3.","3 квартал",null,null,{"$f":"IF($H12>=$B$32,Заявитель2!$B$33*0.95*((12+$B$32-$H12)/12)*($B$31/4),0)","v":0},null,0,3]
["1.4.","4 квартал",null,null,null,{"$f":"IF($H13>=$B$32,Заявитель2!$B$33*0.95*((12+$B$32-$H13)/12)*($B$31/4),0)","v":0},0,4]
[2,{"$f":"CONCATENATE(\"1 год (\",$B$34+1,\"г.):\")","v":"1 год (1г.):"},{"$f":"SUM(C15:C18)","v":0},{"$f":"SUM(D15:D18)","v":0},{"$f":"SUM(E15:E18)","v":0},{"$f":"SUM(F15:F18)","v":0},0]
["2.1.","5 квартал",{"$f":"Заявитель2!$B$33*0.95*((12+$B$32-$H15)/12)*($B$31/4)","v":0},null,null,null,0,5]
["2.2.","6 квартал",null,{"$f":"Заявитель2!$B$33*0.95*((12+$B$32-$H16)/12)*($B$31/4)","v":0},null,null,0,6]
["2.3.","7 квартал",null,null,{"$f":"Заявитель2!$B$33*0.95*((12+$B$32-$H17)/12)*($B$31/4)","v":0},null,0,7]
["2.4.","8 квартал",null,null,null,{"$f":"Заявитель2!$B$33*0.95*((12+$B$32-$H18)/12)*($B$31/4)","v":0},0,8]
[3,{"$f":"CONCATENATE(\"1 год (\",$B$34+2,\"г.):\")","v":"1 год (2г.):"},{"$f":"SUM(C20:C23)","v":0},{"$f":"SUM(D20:D23)","v":0},{"$f":"SUM(E20:E23)","v":0},{"$f":"SUM(F20:F23)","v":0},0]
["3.1.","9 квартал",{"$f":"Заявитель2!$B$33*0.95*((12+$B$32-$H20)/12)*($B$31/4)","v":0},null,null,null,0,9]
["3.2.","10 квартал",null,{"$f":"Заявитель2!$B$33*0.95*((12+$B$32-$H21)/12)*($B$31/4)","v":0},null,null,0,10]
["3.3.","11 квартал",null,null,{"$f":"Заявитель2!$B$33*0.95*((12+$B$32-$H22)/12)*($B$31/4)","v":0},null,0,11]
["3.4.","12 квартал",null,null,null,{"$f":"Заявитель2!$B$33*0.95*((12+$B$32-$H23)/12)*($B$31/4)","v":0},0,12]
[4,{"$f":"CONCATENATE(\"1 год (\",$B$34+3,\"г.):\")","v":"1 год (3г.):"},{"$f":"SUM(C25:C27)","v":0},{"$f":"SUM(D25:D27)","v":0},{"$f":"SUM(E25:E27)","v":0},{"$f":"SUM(F25:F27)","v":0},0]
["4.1.","13 квартал",{"$f":"Заявитель2!$B$33*0.95*((12+$B$32-$H25)/12)*($B$31/4)","v":0},null,null,null,0,13]
["4.2.","14 квартал",null,{"$f":"IF((Заявитель2!$B$33*0.95*((12+$B$32-$H26)/12)*($B$31/4))<0,0,Заявитель2!$B$33*0.95*((12+$B$32-$H26)/12)*($B$31/4))","v":0},null,null,0,14]
["4.3.","15 квартал",null,null,{"$f":"IF((Заявитель2!$B$33*0.95*((12+$B$32-$H27)/12)*($B$31/4))<0,0,Заявитель2!$B$33*0.95*((12+$B$32-$H27)/12)*($B$31/4))","v":0},null,0,15]
[5,"Итого",{"$f":"C9+C14+C19+C24","v":0},{"$f":"D9+D14+D19+D24","v":0},{"$f":"E9+E14+E19+E24","v":0},{"$f":"F9+F14+F19+F24","v":0},{"$f":"G9+G14+G19+G24","v":0}]
[]
[]
[]
["k"]
[]
["Год закрытия договора"]
[]
["Размера расходов, связанных с предоставлением беспроцентной рассрочки в 2019 году",null,null,null,null,null,{"$f":"IF(B34<2015,0,IF(B34=2015,G24,IF(B34=2016,G19,IF(B34=2017,G14))))","v":0},"тыс. руб. "]
[]
["Размер расходов, связанных с предоставлением беспроцентной рассрочки, в i-м квартале в течение трехлетнего периода предоставления беспроцентной рассрочки рассчитывается по формуле (1):"]
[]
[null,null,null,", (1)"]
[]
["где:"]
["       - суммарный размер платы за технологическое присоединение, начисляемый заявителям, которым предоставляется рассрочка, в квартале k периода регулирования (тыс. руб.);"]
["k - номер квартала по порядку в периоде регулирования, в который начисляется размер платы за технологическое присоединение (равен от 1 до 4);"]
["i - номер квартала по порядку, начиная с момента начисления размера платы за технологическое присоединение с условием предоставления беспроцентной рассрочки в квартале k, с учетом квартала, в котором произведены начисления, в течение трехлетнего периода предоставления беспроцентной рассрочки (равен от k до 12 + k - 1);"]
["          - ставка рефинансирования Центрального банка Российской Федерации на дату представления сетевой организацией заявки на установление размера платы за технологическое присоединение в регулирующий орган."]
["В случае отклонения фактического значения процентной ставки по кредитам, связанным с рассрочкой по оплате технологического присоединения, от ставки рефинансирования Центрального банка Российской Федерации, при расчете фактического размера расходов, связанных с предоставлением беспроцентной рассрочки, применяется величина процентной ставки в соответствии с пунктом 87 Основ ценообразования."]
[]
["Примечание: "]
["1) Периодом предоставления беспроцентной рассрочки считается 3 года."]
["2) Размер расходов, связанных с предоставлением беспроцентной рассрочки, в каждый квартал периода регулирования в течение трехлетнего периода предоставления беспроцентной рассрочки в отношении планируемого к получению (фактически полученного) от заявителей суммарного размера платы за технологическое присоединение, определяется в соответствии с формулой (1) Методических указаний по определению выпадающих доходов, связанных с осуществлением технологического присоединения к электрическим сетям."]
["3) При расчете планируемых значений показателей при заполнении таблиц 1 и 2 применяется планируемая к получению величина суммарного размера платы за технологическое присоединение, подлежащего беспроцентной рассрочке."]
["4) При расчете фактических значений показателей при заполнении таблиц 1 и 2 применяется суммарная плата за технологическое присоединение, начисленная с беспроцентной рассрочкой в соответствии с заключенными договорами об осуществлении технологического присоединения к электрическим сетям."]

{"sheet":"Заявитель3","index":29,"n_rows":53,"n_cols":10,"rows_kept":53,"cut":false,"hidden":false,"merged":[[0,2,0,7],[2,0,2,6],[3,0,3,6],[6,0,7,0],[6,1,7,1],[6,2,6,6],[6,7,7,7],[4,1,4,6],[52,0,52,6],[35,0,35,5],[37,0,37,6],[42,0,42,6],[43,0,43,6],[44,0,44,6],[45,0,45,6],[46,0,46,6],[48,0,48,6],[49,0,49,6],[50,0,50,6],[51,0,51,6]]}
[null,null,"Приложение 2 к Методическим указаниям,  утвержденным приказом ФСТ от 11.09.2014 г. №215-э/1"]
[]
[" Расчет размера расходов, связанных с предоставлением беспроцентной рассрочки (для конкретного заявителя)\n"]
[]
[null,"(Контрагент (наименование), № договора ТП, Дата заключения договора)"]
[]
["N п/п","Квартал, на который рассчитывается размер расходов, связанных с предоставлением беспроцентной рассрочки","Расходы, связанные с предоставлением беспроцентной рассрочки, тыс. руб. (с учетом НДС)",null,null,null,null,"Номер квартала i"]
[null,null,"в отношении суммарного размера платы за технологическое присоединение в 1 квартале","в отношении суммарного размера платы за технологическое присоединение во 2 квартале","в отношении суммарного размера платы за технологическое присоединение в 3 квартале","в отношении суммарного размера платы за технологическое присоединение в 4 квартале","всего в год",null,null,"  "]
[1,{"$f":"CONCATENATE(\"1 год (\",$B$34,\"г.):\")","v":"1 год (г.):"},{"$f":"SUM(C10:C13)","v":0},{"$f":"SUM(D10:D13)","v":0},{"$f":"SUM(E10:E13)","v":0},{"$f":"SUM(F10:F13)","v":0},{"$f":"SUM(C9:F9)","v":0}]
["1.1.","1 квартал",{"$f":"IF($H10>=$B$32,Заявитель3!$B$33*0.95*((12+$B$32-$H10)/12)*($B$31/4),0)","v":0},null,null,null,0,1]
["1.2.","2 квартал",null,{"$f":"IF($H11>=$B$32,Заявитель3!$B$33*0.95*((12+$B$32-$H11)/12)*($B$31/4),0)","v":0},null,null,0,2]
["1.3.","3 квартал",null,null,{"$f":"IF($H12>=$B$32,Заявитель3!$B$33*0.95*((12+$B$32-$H12)/12)*($B$31/4),0)","v":0},null,0,3]
["1.4.","4 квартал",null,null,null,{"$f":"IF($H13>=$B$32,Заявитель3!$B$33*0.95*((12+$B$32-$H13)/12)*($B$31/4),0)","v":0},0,4]
[2,{"$f":"CONCATENATE(\"1 год (\",$B$34+1,\"г.):\")","v":"1 год (1г.):"},{"$f":"SUM(C15:C18)","v":0},{"$f":"SUM(D15:D18)","v":0},{"$f":"SUM(E15:E18)","v":0},{"$f":"SUM(F15:F18)","v":0},0]
["2.1.","5 квартал",{"$f":"Заявитель3!$B$33*0.95*((12+$B$32-$H15)/12)*($B$31/4)","v":0},null,null,null,0,5]
["2.2.","6 квартал",null,{"$f":"Заявитель3!$B$33*0.95*((12+$B$32-$H16)/12)*($B$31/4)","v":0},null,null,0,6]
["2.3.","7 квартал",null,null,{"$f":"Заявитель3!$B$33*0.95*((12+$B$32-$H17)/12)*($B$31/4)","v":0},null,0,7]
["2.4.","8 квартал",null,null,null,{"$f":"Заявитель3!$B$33*0.95*((12+$B$32-$H18)/12)*($B$31/4)","v":0},0,8]
[3,{"$f":"CONCATENATE(\"1 год (\",$B$34+2,\"г.):\")","v":"1 год (2г.):"},{"$f":"SUM(C20:C23)","v":0},{"$f":"SUM(D20:D23)","v":0},{"$f":"SUM(E20:E23)","v":0},{"$f":"SUM(F20:F23)","v":0},0]
["3.1.","9 квартал",{"$f":"Заявитель3!$B$33*0.95*((12+$B$32-$H20)/12)*($B$31/4)","v":0},null,null,null,0,9]
["3.2.","10 квартал",null,{"$f":"Заявитель3!$B$33*0.95*((12+$B$32-$H21)/12)*($B$31/4)","v":0},null,null,0,10]
["3.3.","11 квартал",null,null,{"$f":"Заявитель3!$B$33*0.95*((12+$B$32-$H22)/12)*($B$31/4)","v":0},null,0,11]
["3.4.","12 квартал",null,null,null,{"$f":"Заявитель3!$B$33*0.95*((12+$B$32-$H23)/12)*($B$31/4)","v":0},0,12]
[4,{"$f":"CONCATENATE(\"1 год (\",$B$34+3,\"г.):\")","v":"1 год (3г.):"},{"$f":"SUM(C25:C27)","v":0},{"$f":"SUM(D25:D27)","v":0},{"$f":"SUM(E25:E27)","v":0},{"$f":"SUM(F25:F27)","v":0},0]
["4.1.","13 квартал",{"$f":"Заявитель3!$B$33*0.95*((12+$B$32-$H25)/12)*($B$31/4)","v":0},null,null,null,0,13]
["4.2.","14 квартал",null,{"$f":"IF((Заявитель3!$B$33*0.95*((12+$B$32-$H26)/12)*($B$31/4))<0,0,Заявитель3!$B$33*0.95*((12+$B$32-$H26)/12)*($B$31/4))","v":0},null,null,0,14]
["4.3.","15 квартал",null,null,{"$f":"IF((Заявитель3!$B$33*0.95*((12+$B$32-$H27)/12)*($B$31/4))<0,0,Заявитель3!$B$33*0.95*((12+$B$32-$H27)/12)*($B$31/4))","v":0},null,0,15]
[5,"Итого",{"$f":"C9+C14+C19+C24","v":0},{"$f":"D9+D14+D19+D24","v":0},{"$f":"E9+E14+E19+E24","v":0},{"$f":"F9+F14+F19+F24","v":0},{"$f":"G9+G14+G19+G24","v":0}]
[]
[]
[]
["k"]
[]
["Год закрытия договора"]
[]
["Размера расходов, связанных с предоставлением беспроцентной рассрочки в 2019 году",null,null,null,null,null,{"$f":"IF(B34<2015,0,IF(B34=2015,G24,IF(B34=2016,G19,IF(B34=2017,G14))))","v":0},"тыс. руб. "]
[]
["Размер расходов, связанных с предоставлением беспроцентной рассрочки, в i-м квартале в течение трехлетнего периода предоставления беспроцентной рассрочки рассчитывается по формуле (1):"]
[]
[null,null,null,", (1)"]
[]
["где:"]
["       - суммарный размер платы за технологическое присоединение, начисляемый заявителям, которым предоставляется рассрочка, в квартале k периода регулирования (тыс. руб.);"]
["k - номер квартала по порядку в периоде регулирования, в который начисляется размер платы за технологическое присоединение (равен от 1 до 4);"]
["i - номер квартала по порядку, начиная с момента начисления размера платы за технологическое присоединение с условием предоставления беспроцентной рассрочки в квартале k, с учетом квартала, в котором произведены начисления, в течение трехлетнего периода предоставления беспроцентной рассрочки (равен от k до 12 + k - 1);"]
["          - ставка рефинансирования Центрального банка Российской Федерации на дату представления сетевой организацией заявки на установление размера платы за технологическое присоединение в регулирующий орган."]
["В случае отклонения фактического значения процентной ставки по кредитам, связанным с рассрочкой по оплате технологического присоединения, от ставки рефинансирования Центрального банка Российской Федерации, при расчете фактического размера расходов, связанных с предоставлением беспроцентной рассрочки, применяется величина процентной ставки в соответствии с пунктом 87 Основ ценообразования."]
[]
["Примечание: "]
["1) Периодом предоставления беспроцентной рассрочки считается 3 года."]
["2) Размер расходов, связанных с предоставлением беспроцентной рассрочки, в каждый квартал периода регулирования в течение трехлетнего периода предоставления беспроцентной рассрочки в отношении планируемого к получению (фактически полученного) от заявителей суммарного размера платы за технологическое присоединение, определяется в соответствии с формулой (1) Методических указаний по определению выпадающих доходов, связанных с осуществлением технологического присоединения к электрическим сетям."]
["3) При расчете планируемых значений показателей при заполнении таблиц 1 и 2 применяется планируемая к получению величина суммарного размера платы за технологическое присоединение, подлежащего беспроцентной рассрочке."]
["4) При расчете фактических значений показателей при заполнении таблиц 1 и 2 применяется суммарная плата за технологическое присоединение, начисленная с беспроцентной рассрочкой в соответствии с заключенными договорами об осуществлении технологического присоединения к электрическим сетям."]

{"sheet":"Заявитель4","index":30,"n_rows":53,"n_cols":10,"rows_kept":53,"cut":false,"hidden":false,"merged":[[0,2,0,7],[2,0,2,6],[3,0,3,6],[6,0,7,0],[6,1,7,1],[6,2,6,6],[6,7,7,7],[4,1,4,6],[52,0,52,6],[35,0,35,5],[37,0,37,6],[42,0,42,6],[43,0,43,6],[44,0,44,6],[45,0,45,6],[46,0,46,6],[48,0,48,6],[49,0,49,6],[50,0,50,6],[51,0,51,6]]}
[null,null,"Приложение 2 к Методическим указаниям,  утвержденным приказом ФСТ от 11.09.2014 г. №215-э/1"]
[]
[" Расчет размера расходов, связанных с предоставлением беспроцентной рассрочки (для конкретного заявителя)\n"]
[]
[null,"(Контрагент (наименование), № договора ТП, Дата заключения договора)"]
[]
["N п/п","Квартал, на который рассчитывается размер расходов, связанных с предоставлением беспроцентной рассрочки","Расходы, связанные с предоставлением беспроцентной рассрочки, тыс. руб. (с учетом НДС)",null,null,null,null,"Номер квартала i"]
[null,null,"в отношении суммарного размера платы за технологическое присоединение в 1 квартале","в отношении суммарного размера платы за технологическое присоединение во 2 квартале","в отношении суммарного размера платы за технологическое присоединение в 3 квартале","в отношении суммарного размера платы за технологическое присоединение в 4 квартале","всего в год",null,null,"  "]
[1,{"$f":"CONCATENATE(\"1 год (\",$B$34,\"г.):\")","v":"1 год (г.):"},{"$f":"SUM(C10:C13)","v":0},{"$f":"SUM(D10:D13)","v":0},{"$f":"SUM(E10:E13)","v":0},{"$f":"SUM(F10:F13)","v":0},{"$f":"SUM(C9:F9)","v":0}]
["1.1.","1 квартал",{"$f":"IF($H10>=$B$32,Заявитель4!$B$33*0.95*((12+$B$32-$H10)/12)*($B$31/4),0)","v":0},null,null,null,0,1]
["1.2.","2 квартал",null,{"$f":"IF($H11>=$B$32,Заявитель4!$B$33*0.95*((12+$B$32-$H11)/12)*($B$31/4),0)","v":0},null,null,0,2]
["1.3.","3 квартал",null,null,{"$f":"IF($H12>=$B$32,Заявитель4!$B$33*0.95*((12+$B$32-$H12)/12)*($B$31/4),0)","v":0},null,0,3]
["1.4.","4 квартал",null,null,null,{"$f":"IF($H13>=$B$32,Заявитель4!$B$33*0.95*((12+$B$32-$H13)/12)*($B$31/4),0)","v":0},0,4]
[2,{"$f":"CONCATENATE(\"1 год (\",$B$34+1,\"г.):\")","v":"1 год (1г.):"},{"$f":"SUM(C15:C18)","v":0},{"$f":"SUM(D15:D18)","v":0},{"$f":"SUM(E15:E18)","v":0},{"$f":"SUM(F15:F18)","v":0},0]
["2.1.","5 квартал",{"$f":"Заявитель4!$B$33*0.95*((12+$B$32-$H15)/12)*($B$31/4)","v":0},null,null,null,0,5]
["2.2.","6 квартал",null,{"$f":"Заявитель4!$B$33*0.95*((12+$B$32-$H16)/12)*($B$31/4)","v":0},null,null,0,6]
["2.3.","7 квартал",null,null,{"$f":"Заявитель4!$B$33*0.95*((12+$B$32-$H17)/12)*($B$31/4)","v":0},null,0,7]
["2.4.","8 квартал",null,null,null,{"$f":"Заявитель4!$B$33*0.95*((12+$B$32-$H18)/12)*($B$31/4)","v":0},0,8]
[3,{"$f":"CONCATENATE(\"1 год (\",$B$34+2,\"г.):\")","v":"1 год (2г.):"},{"$f":"SUM(C20:C23)","v":0},{"$f":"SUM(D20:D23)","v":0},{"$f":"SUM(E20:E23)","v":0},{"$f":"SUM(F20:F23)","v":0},0]
["3.1.","9 квартал",{"$f":"Заявитель4!$B$33*0.95*((12+$B$32-$H20)/12)*($B$31/4)","v":0},null,null,null,0,9]
["3.2.","10 квартал",null,{"$f":"Заявитель4!$B$33*0.95*((12+$B$32-$H21)/12)*($B$31/4)","v":0},null,null,0,10]
["3.3.","11 квартал",null,null,{"$f":"Заявитель4!$B$33*0.95*((12+$B$32-$H22)/12)*($B$31/4)","v":0},null,0,11]
["3.4.","12 квартал",null,null,null,{"$f":"Заявитель4!$B$33*0.95*((12+$B$32-$H23)/12)*($B$31/4)","v":0},0,12]
[4,{"$f":"CONCATENATE(\"1 год (\",$B$34+3,\"г.):\")","v":"1 год (3г.):"},{"$f":"SUM(C25:C27)","v":0},{"$f":"SUM(D25:D27)","v":0},{"$f":"SUM(E25:E27)","v":0},{"$f":"SUM(F25:F27)","v":0},0]
["4.1.","13 квартал",{"$f":"Заявитель4!$B$33*0.95*((12+$B$32-$H25)/12)*($B$31/4)","v":0},null,null,null,0,13]
["4.2.","14 квартал",null,{"$f":"IF((Заявитель4!$B$33*0.95*((12+$B$32-$H26)/12)*($B$31/4))<0,0,Заявитель4!$B$33*0.95*((12+$B$32-$H26)/12)*($B$31/4))","v":0},null,null,0,14]
["4.3.","15 квартал",null,null,{"$f":"IF((Заявитель4!$B$33*0.95*((12+$B$32-$H27)/12)*($B$31/4))<0,0,Заявитель4!$B$33*0.95*((12+$B$32-$H27)/12)*($B$31/4))","v":0},null,0,15]
[5,"Итого",{"$f":"C9+C14+C19+C24","v":0},{"$f":"D9+D14+D19+D24","v":0},{"$f":"E9+E14+E19+E24","v":0},{"$f":"F9+F14+F19+F24","v":0},{"$f":"G9+G14+G19+G24","v":0}]
[]
[]
[]
["k"]
[]
["Год закрытия договора"]
[]
["Размера расходов, связанных с предоставлением беспроцентной рассрочки в 2019 году",null,null,null,null,null,{"$f":"IF(B34<2015,0,IF(B34=2015,G24,IF(B34=2016,G19,IF(B34=2017,G14))))","v":0},"тыс. руб. "]
[]
["Размер расходов, связанных с предоставлением беспроцентной рассрочки, в i-м квартале в течение трехлетнего периода предоставления беспроцентной рассрочки рассчитывается по формуле (1):"]
[]
[null,null,null,", (1)"]
[]
["где:"]
["       - суммарный размер платы за технологическое присоединение, начисляемый заявителям, которым предоставляется рассрочка, в квартале k периода регулирования (тыс. руб.);"]
["k - номер квартала по порядку в периоде регулирования, в который начисляется размер платы за технологическое присоединение (равен от 1 до 4);"]
["i - номер квартала по порядку, начиная с момента начисления размера платы за технологическое присоединение с условием предоставления беспроцентной рассрочки в квартале k, с учетом квартала, в котором произведены начисления, в течение трехлетнего периода предоставления беспроцентной рассрочки (равен от k до 12 + k - 1);"]
["          - ставка рефинансирования Центрального банка Российской Федерации на дату представления сетевой организацией заявки на установление размера платы за технологическое присоединение в регулирующий орган."]
["В случае отклонения фактического значения процентной ставки по кредитам, связанным с рассрочкой по оплате технологического присоединения, от ставки рефинансирования Центрального банка Российской Федерации, при расчете фактического размера расходов, связанных с предоставлением беспроцентной рассрочки, применяется величина процентной ставки в соответствии с пунктом 87 Основ ценообразования."]
[]
["Примечание: "]
["1) Периодом предоставления беспроцентной рассрочки считается 3 года."]
["2) Размер расходов, связанных с предоставлением беспроцентной рассрочки, в каждый квартал периода регулирования в течение трехлетнего периода предоставления беспроцентной рассрочки в отношении планируемого к получению (фактически полученного) от заявителей суммарного размера платы за технологическое присоединение, определяется в соответствии с формулой (1) Методических указаний по определению выпадающих доходов, связанных с осуществлением технологического присоединения к электрическим сетям."]
["3) При расчете планируемых значений показателей при заполнении таблиц 1 и 2 применяется планируемая к получению величина суммарного размера платы за технологическое присоединение, подлежащего беспроцентной рассрочке."]
["4) При расчете фактических значений показателей при заполнении таблиц 1 и 2 применяется суммарная плата за технологическое присоединение, начисленная с беспроцентной рассрочкой в соответствии с заключенными договорами об осуществлении технологического присоединения к электрическим сетям."]

{"sheet":"Возврат заемных средств","index":31,"n_rows":16,"n_cols":7,"rows_kept":16,"cut":false,"hidden":false,"merged":[[15,0,15,1],[15,3,15,5],[1,0,1,6],[2,0,2,6],[4,0,5,0],[4,1,4,2],[4,3,4,4],[4,5,4,6]]}
[]
["Расходы на возврат и обслуживание долгосрочных заемных средств, направляемых на финансирование капитальных вложений "]
[{"$f":"'Инф-я'!C9","v":"Общество с ограниченной ответственностью \"Энергетик\""}]
[null,null,null,null,null,"тыс. руб."]
["Показатели","2017 год",null,"2018 год",null,"2019 год"]
[null,"Утверждено","Факт","Утверждено","Ожидаемые","По данным организации","По данным экспертов"]
[1,2,3,4,5,6,7]
["Расходы по возврату заемных средств, направляемых на финансирование капитальных вложений ",506.68,6402.0410000000002,null,2450.8110000000001,2175.4639999999999]
["Расходы на обслуживание долгосрочных заемных средств, направляемых на финансирование капитальных вложений ",184.93819999999999,5615.1989999999996,null,1190.4069999999999,1256.5920000000001]
["Итого расходы на возврат и обслуживание долгосрочных заемных средств, направляемых на финансирование капитальных вложений ",{"$f":"B9+B8","v":691.6182},12017.24,0,3641.2179999999998,3432.056,0]
["в  т.ч. по уровням напряжения:                         ВН","х","х",null,"х"]
["СН1","х","х",null,"х"]
["СН11","х","х",null,"х"]
["НН","х","х",null,"х"]
[]
["Руководитель организации",null,null,{"$f":"'Инф-я'!$C$17","v":"Окунев Василий Михайлович"}]

{"sheet":"Корр. ПР","index":32,"n_rows":20,"n_cols":5,"rows_kept":20,"cut":false,"hidden":false,"merged":[[17,0,17,1],[3,0,3,4],[1,0,1,4],[5,3,6,4],[5,0,7,0],[5,1,7,1],[5,2,7,2]]}
[]
["Корректировка подконтрольных расходов по результатам 2017 года"]
[]
[{"$f":"'Инф-я'!C9","v":"Общество с ограниченной ответственностью \"Энергетик\""}]
[]
["№ п.п.","Наименование","Ед.изм.","2017 год"]
[]
[null,null,null,"По расчету организации","По расчету экспертов"]
[1,2,3,4,5]
["1.","Величина подконтрольных расходов, утвержденных на 2016 год ","тыс.руб.",30260.186278415811]
["2.","Величина подконтрольных расходов, утвержденных на 2017 год ","тыс.руб.",{"$f":"' НВВ содержание'!C9","v":31416.515021127096},{"$f":"D11","v":31416.515021127096}]
["3.","Фактический индекс потребительских цен 2017 года (ИПЦ)","%",4.2000000000000003E-2]
["4.","Индекс эффективности подконтрольных расходов (Хэф)","%",{"$f":"'Подконтрольные расходы'!E10","v":0.01},{"$f":"D13","v":0.01}]
["5.","Индекс изменения количества активов (ИКА ф) ((стр.5.1.- стр. 5.2.)/стр.5.2*100)","%",{"$f":"IF(D16=0,0,(D15-D16)/D16)","v":9.0779484869697544E-2},{"$f":"IF(E16=0,0,(E15-E16)/E16)","v":-1}]
["5.1.","фактический объем условных единиц 2017 года","усл.ед.",{"$f":"'УЕ ТП 2016-2019'!L59","v":983.2319},{"$f":"'УЕ ТП 2016-2019'!N59","v":0}]
["5.2.","фактический объем условных единиц 2016 года ","усл.ед.",{"$f":"'УЕ ТП 2016-2019'!H59","v":901.40300000000002},{"$f":"D16","v":901.40300000000002}]
["6.","Коэффициент эластичности подконтрольных расходов по количеству активов (К эл)","знач.",0.75,0.75]
["Итого корректировка подконтрольных расходов",null,"тыс.руб.",{"$f":"D10*(1+D12)*(1+D17*D14)*(1-D13)-D11","v":1924.603824412261},{"$f":"E10*(1+E12)*(1+E17*E14)*(1-E13)-E11","v":-31416.515021127096}]
[]
[null,"Руководитель организации",null,{"$f":"'Инф-я'!$C$17","v":"Окунев Василий Михайлович"}]

{"sheet":"Корр. ПО","index":33,"n_rows":52,"n_cols":10,"rows_kept":52,"cut":false,"hidden":false,"merged":[[47,5,47,6],[51,3,51,4],[51,5,51,6],[50,3,50,4],[50,5,50,6],[48,3,48,4],[48,5,48,6],[49,3,49,4],[49,5,49,6],[46,0,47,1],[1,0,1,9],[5,1,5,2],[5,3,6,3],[5,6,5,7],[47,3,47,4],[46,2,47,2],[5,0,6,0],[3,0,3,9],[41,0,41,3],[41,5,41,7],[5,8,5,9],[5,4,5,5],[46,3,46,6],[24,0,24,9],[8,0,8,9]]}
[]
["Корректировка НВВ с учетом изменения полезного отпуска и цен на электрическую энергию за 2017 год                       "]
[]
[{"$f":"'Инф-я'!C9","v":"Общество с ограниченной ответственностью \"Энергетик\""}]
[]
["Месяц  (Период)","Вход электрической энергии в сеть организации",null,"Норматив потерь","Объем потерь 2017 года",null,"Цена покупки потерь электрической энергии",null,"Величина корректировки"]
[null,"План","Факт",null,"Согласовано регулирующим органом","Факт","Учтенная при установлении тарифа","Фактическая цена","По данным организации","По данным экспертов"]
["Ед.изм.","тыс.кВт.ч.","тыс.кВт.ч.","%","тыс.кВт.ч.","тыс.кВт.ч.","руб/тыс.кВт.ч","руб/тыс.кВт.ч","тыс. руб.","тыс. руб."]
["По данным организации"]
["Январь","х",2617.6019999999999,"х","х",366.49099999999999,"х",2222.2939999999999,"х","х"]
["Февраль","х",2234.0039999999999,"х","х",290.858,"х",2759.8429999999998,"х","х"]
["Март","х",2300.7620000000002,"х","х",318.43799999999999,"х",2374.3134,"х","х"]
["Апрель","х",2164.9360000000001,"х","х",306.608,"х",2645.5835999999999,"х","х"]
["Май","х",1945.1279999999999,"х","х",136.73400000000001,"х",2506.6032,"х","х"]
["Июнь","х",1749.1179999999999,"х","х",115.331,"х",2418.0205999999998,"х","х"]
["1 полугодие",14624.1,{"$f":"C10+C11+C12+C13+C14+C15","v":13011.550000000001},"х",2120.6999999999998,{"$f":"F10+F11+F12+F13+F14+F15","v":1534.4599999999998},2482.89,"х","х"]
["Июль","х",1716.616,"х","х",176.38800000000001,"х",2774.4632000000001,"х","х"]
["Август","х",1732.848,"х","х",201.655,"х",2782.4164000000001,"х","х"]
["Сентябрь","х",1851.02,"х","х",185.566,"х",2838.5372000000002,"х","х"]
["Октябрь","х",2278.7220000000002,"х","х",265.80599999999998,"х",2828.35,"х","х"]
["Ноябрь","х",2297.2759999999998,"х","х",262.14699999999999,"х",2766.67,"х","х"]
["Декабрь","х",2418.08,"х","х",305.678,"х",2574.6,"х","х"]
["2 полугодие",12187.8,{"$f":"C17+C18+C19+C20+C21+C22","v":12294.562},"х",1767.4,{"$f":"F17+F18+F19+F20+F21+F22","v":1397.2399999999998},2903.36,"х","х","х"]
["ВСЕГО:",{"$f":"B16+B23","v":26811.9},{"$f":"C16+C23","v":25306.112000000001},{"$f":"E24/B24","v":0.14501396767853078},{"$f":"E16+E23","v":3888.1},{"$f":"F16+F23","v":2931.7},{"$f":"IF(E24=0,0,(E16*G16+E23*G23)/E24)","v":2674.0215753195648},{"$f":"IF(F24=0,0,(F10*H10+F11*H11+F12*H12+F13*H13+F14*H14+F15*H15+F17*H17+F18*H18+F19*H19+F20*H20+F21*H21+F22*H22)/F24)","v":2608.4810505243381},{"$f":"IFERROR((C24-B24)*D24*H24+B24*(H24-G24)*D24,0)/1000","v":-824.41679927142923},"х"]
["По данным экспертов"]
["Январь","х",null,"х","х",null,"х",null,"х","х"]
["Февраль","х",null,"х","х",null,"х",null,"х","х"]
["Март","х",null,"х","х",null,"х",null,"х","х"]
["Апрель","х",null,"х","х",null,"х",null,"х","х"]
["Май","х",null,"х","х",null,"х",null,"х","х"]
["Июнь","х",null,"х","х",null,"х",null,"х","х"]
["1 полугодие",null,{"$f":"C26+C27+C28+C29+C30+C31","v":0},"х",null,{"$f":"F26+F27+F28+F29+F30+F31","v":0},null,"х","х","х"]
["Июль","х",null,"х","х",null,"х",null,"х","х"]
["Август","х",null,"х","х",null,"х",null,"х","х"]
["Сентябрь","х",null,"х","х",null,"х",null,"х","х"]
["Октябрь","х",null,"х","х",null,"х",null,"х","х"]
["Ноябрь","х",null,"х","х",null,"х",null,"х","х"]
["Декабрь","х",null,"х","х",null,"х",null,"х","х"]
["2 полугодие",null,{"$f":"C33+C34+C35+C36+C37+C38","v":0},"х",null,{"$f":"F33+F34+F35+F36+F37+F38","v":0},null,"х","х","х"]
["ВСЕГО:",{"$f":"B32+B39","v":0},{"$f":"C32+C39","v":0},{"$f":"E40/B40","v":{"$error":"#DIV/0!"}},{"$f":"E32+E39","v":0},{"$f":"F32+F39","v":0},{"$f":"IF(E40=0,0,(E32*G32+E39*G39)/E40)","v":0},{"$f":"IF(F40=0,0,(F26*H26+F27*H27+F28*H28+F29*H29+F30*H30+F31*H31+F33*H33+F34*H34+F35*H35+F36*H36+F37*H37+F38*H38)/F40)","v":0},"х",{"$f":"IFERROR((C40-B40)*D40*H40+B40*(H40-G40)*D40,0)/1000","v":0}]
[]
["Руководитель организации",null,null,null,null,{"$f":"'Инф-я'!$C$17","v":"Окунев Василий Михайлович"}]
[]
[]
["Справочная информация:"]
[]
["Наименование энергосбытовой организации - Гарантирующего поставщика ",null,"Ед.изм.","Цена (тариф) покупки потерь электрической энергии, учтенная при расчете тарифа на компенсацию потерь на 2017 год"]
[null,null,null,"с 01.01.2017 г.",null,"с 01.07.2017 г."]
["ОАО \"Владимирэнергосбыт\"",null,"руб./МВт.ч."]
["ОАО \"Владимирские коммунальные сети\"",null,"руб./МВт.ч."]
["ООО \"Русэнергосбыт\"",null,"руб./МВт.ч."]
["ОАО \"Оборонэнергосбыт\"",null,"руб./МВт.ч."]

{"sheet":"Корр.НВВ","index":34,"n_rows":47,"n_cols":13,"rows_kept":47,"cut":false,"hidden":false,"merged":[[0,0,0,11],[1,0,1,11],[4,6,4,8],[4,9,4,11],[5,6,5,7],[5,8,6,8],[5,9,5,10],[5,11,6,11],[15,10,16,10],[15,11,15,12],[48,1,48,6],[10,1,10,2],[10,3,10,4],[14,1,14,7],[14,8,16,8],[14,9,14,12],[15,1,16,1],[15,2,15,3],[15,4,16,4],[15,7,16,7],[15,9,16,9]]}
["Корректировка необходимой валовой выручки по доходам от осуществления регулируемой деятельности за 2017 год"]
[{"$f":"'Инф-я'!C9","v":"Общество с ограниченной ответственностью \"Энергетик\""}]
[]
[null,null,"тыс. руб."]
[null,"Наименование показателя","Расчет Общества","Расчет Экспертов",null,null,"1 полугодие 2017 г.",null,null,"2 полугодие  2017 г."]
[null,"НВВ сод 2017",{"$f":"' НВВ содержание'!C48","v":50944.322108646455},{"$f":"C6","v":50944.322108646455},null,null,"Двухставочный тариф",null,"Одноставочный тариф","Двухставочный тариф",null,"Одноставоч-ный тариф"]
[null,"НВВ факт 2017",{"$f":"E32+M32","v":50019.302535019997},{"$f":"E47+M47","v":0},null,null,"ставка за содержание электрических сетей","ставка на оплату технологического расхода (потерь)",null,"ставка за содержание электрических сетей","ставка на оплату технологического расхода (потерь)"]
[null,"∆ НВВ сод за 2017 год",{"$f":"C6-C7","v":925.01957362645771},{"$f":"D6-D7","v":50944.322108646455},null,null," руб./кВт мес.","руб./ кВт ч","руб./ кВт ч"," руб./кВт мес.","руб./ кВт ч","руб./ кВт ч"]
[null,null,null,null,null,null,null,0.44474999999999998,2.4828899999999998,null,0.45988000000000001,2.9033600000000002]
[]
[null,"Руководитель организации",null,{"$f":"'Инф-я'!C17","v":"Окунев Василий Михайлович"}]
[]
[]
[null,"Расчет доходов, полученных согласно актам оказания услуг Владимирэнерго"]
[null,"1. Доходы по двухставочному тарифу",null,null,null,null,null,null,"1. Итого доходы по двухставочному тарифу, тыс. руб.","2. Доходы по одноставочному тарифу"]
[null,null,"1.1. Доходы на содержание сетей",null,"Доходы на содержание сетей, тыс. руб.","1.2. Доходы на компенсацию потерь",null,"Доходы на компенсацию нормативных потерь, тыс. руб.",null,"полезный отпуск, тыс кВт ч","одноставочный инд тариф, руб./тыс. кВт ч","Итого доходы по одноставочному тарифу, тыс. руб."]
[null,null,"договорная мощность, МВт","ставка на содержание сетей, руб./МВт мес.",null,"полезный отпуск, тыс кВт ч","инд тариф на потери, руб./ тыс.кВт ч",null,null,null,null,"Всего:","в том числе, доходы на содержание сетей"]
[null,"январь",null,{"$f":"$G$9*1000","v":0},{"$f":"C18*D18/1000","v":0},null,{"$f":"$H$9*1000","v":444.75},{"$f":"F18*$G$18/1000","v":0},{"$f":"E18+H18","v":0},2251.11,{"$f":"$I$9*1000","v":2482.89},{"$f":"J18*K18/1000","v":5589.2585079},{"$f":"J18*(K18-G18)/1000","v":4588.0773354000003}]
[null,"февраль",null,0,{"$f":"C19*D19/1000","v":0},null,444.75,{"$f":"F19*$G$18/1000","v":0},0,1943.146,2482.89,{"$f":"J19*K19/1000","v":4824.6177719399993},{"$f":"J19*(K19-G19)/1000","v":3960.4035884399996}]
[null,"март",null,0,0,null,444.75,0,0,1982.3240000000001,2482.89,4921.8924363599999,4040.2538373599996]
[null,"апрель",null,0,0,null,444.75,0,0,1858.328,2482.89,4614.0240079199993,3787.5326299199996]
[null,"май",null,0,0,null,444.75,0,0,1808.394,2482.89,4490.0433786599997,3685.7601471599996]
[null,"июнь",null,0,0,null,444.75,0,0,1633.787,2482.89,4056.5134044299998,3329.8866361800001]
[null,"Итого 1 пол.","х","х",{"$f":"SUM(E18:E23)","v":0},{"$f":"SUM(F18:F23)","v":0},"х",{"$f":"SUM(H18:H23)","v":0},0,{"$f":"SUM(J18:J23)","v":11477.089},"х",{"$f":"SUM(L18:L23)","v":28496.349507209998},{"$f":"SUM(M18:M23)","v":23391.914174459998}]
[null,"июль",null,{"$f":"$J$9*1000","v":0},{"$f":"C25*D25/1000","v":0},null,{"$f":"$K$9*1000","v":459.88},{"$f":"F25*$G$25/1000","v":0},0,1540.2280000000001,{"$f":"$L$9*1000","v":2903.36},{"$f":"J25*K25/1000","v":4471.8363660800005},{"$f":"J25*(K25-G25)/1000","v":3763.51631344}]
[null,"август",null,0,0,null,459.88,0,0,1531.193,2903.36,4445.6045084800007,3741.4394716400002]
[null,"сентябрь",null,0,0,null,459.88,0,0,1665.454,2903.36,4835.4125254399996,4069.5035399200001]
[null,"октябрь",null,0,0,null,459.88,0,0,2012.9159999999999,2903.36,5844.2197977600008,4918.5199876800007]
[null,"ноябрь",null,0,0,null,459.88,0,0,2035.1289999999999,2903.36,5908.7121334399999,4972.7970089199998]
[null,"декабрь",null,0,0,null,459.88,0,0,2112.402,2903.36,6133.0634707200006,5161.6120389600001]
[null,"Итого 2 пол.","х","х",{"$f":"SUM(E25:E30)","v":0},{"$f":"SUM(F25:F30)","v":0},"х",{"$f":"SUM(H25:H30)","v":0},0,{"$f":"SUM(J25:J30)","v":10897.322},"х",{"$f":"SUM(L25:L30)","v":31638.848801920001},{"$f":"SUM(M25:M30)","v":26627.388360559999}]
[null,"Всего за 2017 г.","х","х",{"$f":"E24+E31","v":0},{"$f":"F24+F31","v":0},"х",{"$f":"H24+H31","v":0},{"$f":"I24+I31","v":0},{"$f":"J24+J31","v":22374.411},"х","х",{"$f":"M24+M31","v":50019.302535019997}]
[null,"январь",null,{"$f":"$G$9*1000","v":0},{"$f":"C33*D33/1000","v":0},null,{"$f":"$H$9*1000","v":444.75},{"$f":"F33*$G$33/1000","v":0},{"$f":"E33+H33","v":0},null,{"$f":"$I$9*1000","v":2482.89},{"$f":"J33*K33/1000","v":0},{"$f":"J33*(K33-G33)/1000","v":0}]
[null,"февраль",null,0,0,null,444.75,{"$f":"F34*$G$33/1000","v":0},0,null,2482.89,0,0]
[null,"март",null,0,0,null,444.75,0,0,null,2482.89,0,0]
[null,"апрель",null,0,0,null,444.75,0,0,null,2482.89,0,0]
[null,"май",null,0,0,null,444.75,0,0,null,2482.89,0,0]
[null,"июнь",null,0,0,null,444.75,0,0,null,2482.89,0,0]
[null,"Итого 1 пол.",{"$f":"SUM(C33:C38)","v":0},"х",{"$f":"SUM(E33:E38)","v":0},{"$f":"SUM(F33:F38)","v":0},"х",{"$f":"SUM(H33:H38)","v":0},0,{"$f":"SUM(J33:J38)","v":0},"х",{"$f":"SUM(L33:L38)","v":0},{"$f":"SUM(M33:M38)","v":0}]
[null,"июль",null,{"$f":"$J$9*1000","v":0},{"$f":"C40*D40/1000","v":0},null,{"$f":"$K$9*1000","v":459.88},{"$f":"F40*$G$40/1000","v":0},0,null,{"$f":"$L$9*1000","v":2903.36},{"$f":"J40*K40/1000","v":0},{"$f":"J40*(K40-G40)/1000","v":0}]
[null,"август",null,0,0,null,459.88,{"$f":"F41*$G$40/1000","v":0},0,null,2903.36,0,{"$f":"J41*(K41-G41)/1000","v":0}]
[null,"сентябрь",null,0,0,null,459.88,0,0,null,2903.36,0,0]
[null,"октябрь",null,0,0,null,459.88,0,0,null,2903.36,0,0]
[null,"ноябрь",null,0,0,null,459.88,0,0,null,2903.36,0,0]
[null,"декабрь",null,0,0,null,459.88,0,0,null,2903.36,0,0]
[null,"Итого 2 пол.",{"$f":"SUM(C40:C45)","v":0},"х",{"$f":"SUM(E40:E45)","v":0},{"$f":"SUM(F40:F45)","v":0},"х",{"$f":"SUM(H40:H45)","v":0},0,{"$f":"SUM(J40:J45)","v":0},"х",{"$f":"SUM(L40:L45)","v":0},{"$f":"SUM(M40:M45)","v":0}]
[null,"Всего за 2017 г.","х","х",{"$f":"E39+E46","v":0},{"$f":"F39+F46","v":0},"х",{"$f":"H39+H46","v":0},"х",{"$f":"J39+J46","v":0},"х","х",{"$f":"M39+M46","v":0}]

{"sheet":"Корр. НР","index":35,"n_rows":21,"n_cols":7,"rows_kept":21,"cut":false,"hidden":false,"merged":[[20,0,20,1],[20,2,20,4],[1,0,1,5],[5,0,6,0],[5,1,6,1],[5,3,5,4],[5,5,5,6],[5,2,6,2],[3,0,3,5],[18,0,18,1]]}
[]
["Корректировка неподконтрольных расходов по результатам 2017 года"]
[]
[{"$f":"'Инф-я'!C9","v":"Общество с ограниченной ответственностью \"Энергетик\""}]
[]
["№ п/п","Наименование показателей","2017 год утверждено","По данным организации",null,"По данным экспертов"]
[null,null,null,"Факт  2017 год","Величина корректировки НР","Факт  2017 год","Величина корректировки НР"]
[1,2,3,4,5,6,7]
["1.","Страховые взносы во внебюджетные фонды",{"$f":"'Страховые взносы'!D18","v":3542.8430697959334},{"$f":"'Страховые взносы'!E18","v":3873.18},{"$f":"D9-C9","v":330.33693020406645},{"$f":"'Страховые взносы'!J18","v":0},{"$f":"F9-C9","v":-3542.8430697959334}]
["2.","Расходы на оплату услуг организаций, осуществляющих регулируемые виды деятельности",{"$f":"'Расходы рег. орг-ий'!B23","v":205.58863631247999},{"$f":"'Расходы рег. орг-ий'!C23","v":234.75099999999998},29.162363687519985,{"$f":"'Расходы рег. орг-ий'!H23","v":0},-205.58863631247999]
["3.","Плата за землю",{"$f":"'Плата за землю'!B17","v":200.44376564561998},{"$f":"'Плата за землю'!C17","v":335.09650999999997},134.65274435437999,{"$f":"'Плата за землю'!H17","v":0},-200.44376564561998]
["4.","Транспортный налог",{"$f":"'Транспортный налог'!D16","v":0},{"$f":"'Транспортный налог'!E16","v":0},0,{"$f":"'Транспортный налог'!L16","v":0},0]
["5.","Налог на имущество",{"$f":"'Налог на имущество'!B15","v":0},{"$f":"'Налог на имущество'!C15","v":0},0,{"$f":"'Налог на имущество'!H15","v":0},0]
["6.","Плата за негативное воздействие на окружающую среду",{"$f":"'Негативное воздействие на ОС'!C29","v":0},{"$f":"'Негативное воздействие на ОС'!D29","v":0.53352999999999995},0.53352999999999995,{"$f":"'Негативное воздействие на ОС'!I29","v":0},0]
["7.","Налог на прибыль",{"$f":"'Налог прим при УСНО'!C10","v":1038.2619999999999},{"$f":"'Налог прим при УСНО'!D10","v":1318.8040000000001},280.54200000000014,{"$f":"'Налог прим при УСНО'!H10","v":{"$error":"#REF!"}},{"$error":"#REF!"}]
["8.","Плата за аренду имущества",{"$f":"'Аренда имущества'!B44","v":4844.28},{"$f":"'Аренда имущества'!C44","v":4886.2219999999998},41.942000000000007,{"$f":"'Аренда имущества'!V44","v":0},-4844.28]
["9.","Оплата услуг ПАО \"ФСК ЕЭС\"",{"$f":"'Услуги ФСК'!B17","v":0},{"$f":"'Услуги ФСК'!E17","v":0},0,{"$f":"'Услуги ФСК'!P17","v":0},0]
["10.","Прочие обоснованные неподконтрольные расходы",{"$f":"'Прочие НР'!B15","v":190.41},{"$f":"'Прочие НР'!C15","v":2275.4359999999997},2085.0259999999998,{"$f":"'Прочие НР'!H15","v":0},-190.41]
["Итого корректировка неподконтрольных расходов по результатам 2017 года",null,{"$f":"SUM(C9:C18)","v":10021.827471754033},{"$f":"SUM(D9:D18)","v":12924.023039999998},{"$f":"SUM(E9:E18)","v":2902.1955682459666},{"$f":"SUM(F9:F18)","v":{"$error":"#REF!"}},{"$f":"SUM(G9:G18)","v":{"$error":"#REF!"}}]
[]
["Руководитель организации",null,{"$f":"'Инф-я'!$C$17","v":"Окунев Василий Михайлович"}]

{"sheet":"Корр. ИП","index":36,"n_rows":17,"n_cols":5,"rows_kept":17,"cut":false,"hidden":false,"merged":[[1,0,1,4],[3,0,3,4],[16,0,16,1],[16,2,16,4]]}
[]
["Корректировка НВВ в связи с изменением (неисполнением) инвестиционной программы по результатам 2017 года"]
[]
[{"$f":"'Инф-я'!C9","v":"Общество с ограниченной ответственностью \"Энергетик\""}]
[]
["№ п/п","Наименование показателей","Обозначение в методических указаниях","По данным организации","По данным экспертов"]
[1,2,3,4,5]
["1.","Расчетная величина собственных средств регулируемой организации для финансирования инвестиционной программы, учтенная при установлении тарифов в 2017 году, которая не может принимать отрицательные значения, всего, в том числе:",null,{"$f":"IF((D9+D10)>=D11,D11,(D9+D10))","v":4242},{"$f":"IF((E9+E10)>=E11,E11,(E9+E10))","v":0}]
[null,"-амортизация",null,{"$f":"' КВЛ'!B23","v":2891}]
[null,"- капитальные вложения из прибыли",null,{"$f":"' КВЛ'!B25","v":1351}]
["2.","Плановый размер финансирования инвестиционной программы, представляющей собой совокупность инвестиционных проектов, утвержденной (скорректированной) в установленном порядке на 2017  год до его начала, за счет собственных средств (выручки от реализации товаров (услуг) по регулируемым ценам (тарифам)) без НДС",null,{"$f":"' КВЛ'!B22-' КВЛ'!B24","v":4242}]
["3.","Объем фактического финансирования инвестиционной программы, представляющей собой совокупность инвестиционных проектов, утвержденной (скорректированной) в установленном порядке на 2017 год до его начала, за счет собственных средств (выручки от реализации товаров (услуг) по регулируемым ценам (тарифам)) без НДС в 2017 году",null,{"$f":"' КВЛ'!C22-' КВЛ'!C24","v":4726.5579999999991}]
["4.","Учтенная при расчете тарифов на 2018 год корректировка необходимой валовой выручки на 2017-ой год долгосрочного периода регулирования, осуществленная в связи с изменением (неисполнением) инвестиционной программы за истекший период 2017-го года по результатам 9 месяцев",null,915.18582387262302]
[null,"Итого корректировка НВВ в связи с изменением (неисполнением) инвестиционной программы по результатам 2017 года",null,{"$f":"IF(D11=0,0,D8*(D12/D11-1)-D13)","v":-430.62782387262382},{"$f":"IF(E11=0,0,E8*(E12/E11-1))","v":0}]
[]
[]
["Руководитель организации",null,{"$f":"'Инф-я'!$C$17","v":"Окунев Василий Михайлович"}]

{"sheet":"Корр. КНК","index":37,"n_rows":30,"n_cols":8,"rows_kept":30,"cut":false,"hidden":false,"merged":[[29,0,29,7],[1,0,1,4],[3,0,3,4],[14,1,14,2],[16,0,16,6],[18,0,19,0],[18,1,19,1],[18,6,18,7],[26,0,26,1],[26,2,26,4],[18,2,19,2],[18,3,19,3],[18,4,18,5]]}
[]
["Корректировка НВВ с учетом надежности и качества оказываемых услуг по результатам 2017 года"]
[]
[{"$f":"'Инф-я'!C9","v":"Общество с ограниченной ответственностью \"Энергетик\""}]
[]
["№ п/п","Наименование показателей","Обзнач. в МУ","По данным организации","По данным экспертов"]
[1,2,3,4,5]
["1.","Оценка достижения показателя уровня надежности   оказываемых услуг",null,{"$f":"(IF(AND(D22=0,E22=0),0,IF(AND(68<F22,F22<132),0,IF(F22>=132,-1,IF(F22<=68,1)))))","v":1},{"$f":"(IF(AND(G22=0,D22=0),0,IF(AND(68<H22,H22<132),0,IF(H22>=132,-1,IF(H22<=68,1)))))","v":1}]
["2.","Оценка достижения показателя уровня качества осуществляемого технологического присоединения к сети",null,{"$f":"(IF(AND(D23=0,E23=0),0,IF(AND(68<F23,F23<132),0,IF(F23>=132,-1,IF(F23<=68,1)))))","v":0},{"$f":"(IF(AND(G23=0,D23=0),0,IF(AND(68<H23,H23<132),0,IF(H23>=132,-1,IF(H23<=68,1)))))","v":1}]
["3.","Оценка достижения показателя уровня качества обслуживания потребителей услуг ",null,{"$f":"(IF(AND(68<F24,F24<132),0,IF(F24>=132,-1,IF(F24<=68,1))))","v":0},{"$f":"(IF(AND(68<H24,H24<132),0,IF(H24>=132,-1,IF(H24<=68,1))))","v":1}]
["4.","Обобщенный показатель уровня надежности и качества оказываемых услуг ","                           ",{"$f":"D8*0.65+D9*0.25+D10*0.1","v":0.65},{"$f":"E8*0.65+E9*0.25+E10*0.1","v":1}]
["5.","Максимальный процент корректировки, %",null,0.02,0.02]
["6.","Коэффициент, корректирующий НВВ с учетом надежности и качества оказываемых услуг",null,{"$f":"D11*D12","v":1.3000000000000001E-2},{"$f":"E11*E12","v":0.02}]
["7.","Утвержденная НВВ на содержание электрических сетей (тыс. руб.)",null,{"$f":"' НВВ содержание'!C48","v":50944.322108646455},{"$f":"' НВВ содержание'!C48","v":50944.322108646455}]
["8.","Величина корректировки НВВ с учетом надежности и качества оказываемых услуг",null,{"$f":"D13*D14","v":662.27618741240394},{"$f":"E13*E14","v":1018.8864421729292}]
[]
["Показатели уровня надежности и уровня качества оказываемых услуг"]
[]
["№ п/п","Наименование показателей","Обозначение в Методических  указаниях","Утверждено на 2017 год","По данным организации",null,"По данным экспертов"]
[null,null,null,null,"Факт","% отклонения","Факт","% отклонения"]
[1,2,3,4,5,6,7,8]
["1.","Показатель средней продолжительности прекращений передачи электрической энергии",null,0.98270000000000002,{"$f":"'Форма 1.2'!E8","v":3.3029827315541604E-3},{"$f":"IF(D22=0,0,E22/D22*100)","v":0.33611302854931929},null,{"$f":"IF(D22=0,0,G22/D22*100)","v":0}]
["2.","Показатель уровня качества осуществляемого технологического присоединения к сети",null,0.99450000000000005,{"$f":"'форма 3 '!D37","v":1},{"$f":"IF(D23=0,0,E23/D23*100)","v":100.55304172951232},null,{"$f":"IF(D23=0,0,G23/D23*100)","v":0}]
["3.","Показатель уровня качества обслуживания потребителей услуг ",null,0.89749999999999996,{"$f":"'форма 2.4'!C14","v":0.88555555555555565},{"$f":"IF(D24=0,0,E24/D24*100)","v":98.669142680284764},null,{"$f":"IF(D24=0,0,G24/D24*100)","v":0}]
[]
[]
["Руководитель организации",null,{"$f":"'Инф-я'!$C$17","v":"Окунев Василий Михайлович"}]
[]
[]
["Приказ Министерства энергетики РФ от 14 октября 2013 г. N 718 \"Об утверждении Методических указаний по расчету уровня надежности и качества поставляемых товаров и оказываемых услуг для организации по управлению единой национальной (общероссийской) электрической сетью и территориальных сетевых организаций\" (с изменениями и дополнениями) Методические указания по расчету уровня надежности и качества поставляемых товаров и оказываемых услуг для организации по управлению единой национальной (общероссийской) электрической сетью и территориальных сетевых организаций 4. Порядок определения плановых и фактических значений показателей надежности и качества услуг   4.3. Коэффициенты допустимого отклонения на первый долгосрочный период регулирования устанавливаются равными: для организации по управлению единой национальной (общероссийской) электрической сетью для показателя уровня надежности оказания услуг - 25% на первые три расчетных периода регулирования и 20% на следующие расчетные периоды регулирования первого долгосрочного периода регулирования, а для показателя уровня качества оказания услуг - 15%; для территориальных сетевых организаций, в отношении которых переход к регулированию цен (тарифов) на услуги по передаче электрической энергии в форме долгосрочных тарифов на основе долгосрочных параметров регулирования деятельности осуществлен до 1 июля 2010 г., - 30% на первые три расчетных периода регулирования и 25% на следующие расчетные периоды регулирования первого долгосрочного периода регулирования; для остальных территориальных сетевых организаций - 35% на первые три расчетных периода регулирования и 30% на следующие расчетные периоды регулирования первого долгосрочного периода регулирования. В последующие долгосрочные периоды регулирования коэффициенты снижаются в случае достижения показателей на 1% в год - до 15% для организации по управлению единой национальной (общероссийской) электрической сетью и до 25% для территориальных сетевых организаций."]

{"sheet":" НВВ содержание","index":38,"n_rows":50,"n_cols":11,"rows_kept":50,"cut":false,"hidden":false,"merged":[[5,7,5,8],[5,1,6,1],[4,0,4,10],[5,9,5,10],[5,2,5,3],[49,0,49,1],[49,2,49,4],[5,5,5,6],[3,0,3,6],[1,0,1,6],[5,0,6,0]]}
[]
["Расчет необходимой валовой выручки  на содержание электрических сетей на 2019 год"]
[]
[{"$f":"'Инф-я'!C9","v":"Общество с ограниченной ответственностью \"Энергетик\""}]
[]
["№","Наименование","2017 год",null,"2018 год","2019 год",null,"Темп роста планируемых затрат по расчету организации, %",null,"Темп роста затрат организации по расчету экспертов, %"]
[null,null,"Утверждено","Факт","Утверждено","По данным организации","По данным экспертов","к факту 2017 года","к утвержденным 2018 года","к факту 2017 года","к утвержденным 2018 года"]
["1","2","3","4","5","7","8","9","10","11","12"]
["1.","Подконтрольные расходы",{"$f":"C10+C11+C12+C13+C22","v":31416.515021127096},{"$f":"D10+D11+D12+D13+D22","v":39640.300000000003},{"$f":"'Подконтрольные расходы'!D32","v":33163.380247170775},{"$f":"'Подконтрольные расходы'!E32","v":36366.600711878782},{"$f":"'Подконтрольные расходы'!F32","v":8207.9366111747659},{"$f":"IF(D9=0,IF(F9=0,0,100),F9/D9*100)","v":91.741487102465868},{"$f":"IF(E9=0,IF(F9=0,0,100),F9/E9*100)","v":109.65890823201376},{"$f":"IF(D9=0,IF(G9=0,0,100),G9/D9*100)","v":20.706040598014557},{"$f":"IF(E9=0,IF(G9=0,0,100),G9/E9*100)","v":24.749999999999996}]
["1.1.","Расходы на оплату труда",11429.162249024097,12973.5,{"$f":"'Подконтрольные расходы'!D17","v":12064.662592782948},{"$f":"'Подконтрольные расходы'!E17","v":13229.977281121946},{"$f":"'Подконтрольные расходы'!F17","v":2986.0039917137797},{"$f":"IF(D10=0,IF(F10=0,0,100),F10/D10*100)","v":101.97693206244998},{"$f":"IF(E10=0,IF(F10=0,0,100),F10/E10*100)","v":109.65890823201376},{"$f":"IF(D10=0,IF(G10=0,0,100),G10/D10*100)","v":23.016179070518977},{"$f":"IF(E10=0,IF(G10=0,0,100),G10/E10*100)","v":24.75}]
["1.2","Материалы",4134.9222437999279,9170,{"$f":"'Подконтрольные расходы'!D18","v":4364.838002286544},{"$f":"'Подконтрольные расходы'!E18","v":4786.4336994034638},{"$f":"'Подконтрольные расходы'!F18","v":1080.2974055659197},52.19665975358194,109.65890823201376,11.780778686651251,24.75]
["1.3","Ремонт основных фондов",14635.539711906726,15807,{"$f":"'Подконтрольные расходы'!D19","v":15449.325562116981},{"$f":"'Подконтрольные расходы'!E19","v":16941.561740626905},{"$f":"'Подконтрольные расходы'!F19","v":3823.7080766239528},107.17759056510978,109.65890823201376,24.189966955297987,24.75]
["1.4","Другие обоснованные подконтрольные расходы, в том числе:",{"$f":"SUM(C14:C21)","v":887.04687868614087},{"$f":"SUM(D14:D21)","v":1257.3},{"$f":"'Подконтрольные расходы'!D20","v":936.36970603364762},{"$f":"'Подконтрольные расходы'!E20","v":1026.8127966518148},{"$f":"'Подконтрольные расходы'!F20","v":231.75150224332779},81.668082132491435,109.65890823201376,18.432474528221409,24.75]
["1.4.1","Работы и услуги производственного характера",0,126.5,{"$f":"'Подконтрольные расходы'!D21","v":0},{"$f":"'Подконтрольные расходы'!E21","v":0},{"$f":"'Подконтрольные расходы'!F21","v":0},0,0,0,0]
["1.4.2","Работы и услуги непроизводственного характера",553.25657889385661,759.9,{"$f":"'Подконтрольные расходы'!D22","v":584.01952882957153},{"$f":"'Подконтрольные расходы'!E22","v":640.42943917625905},{"$f":"'Подконтрольные расходы'!F22","v":144.54483338531895},84.278120696967889,109.65890823201376,19.021559861207916,24.75]
["1.4.3","Обеспечение нормальных условий труда и техники безопасности",76.525838241451467,233.9,{"$f":"'Подконтрольные расходы'!D23","v":80.780935461112435},{"$f":"'Подконтрольные расходы'!E23","v":88.583491886263545},{"$f":"'Подконтрольные расходы'!F23","v":19.993281526625328},37.87237789066419,109.65890823201376,8.5477903063810707,24.75]
["1.4.4.","Расходы на командировки",0,null,{"$f":"'Подконтрольные расходы'!D24","v":0},{"$f":"'Подконтрольные расходы'!E24","v":0},{"$f":"'Подконтрольные расходы'!F24","v":0},0,0,0,0]
["1.4.5","Расходы на обучение персонала",99.258511147095945,17.600000000000001,{"$f":"'Подконтрольные расходы'!D25","v":104.77762239782277},{"$f":"'Подконтрольные расходы'!E25","v":114.89799679291437},{"$f":"'Подконтрольные расходы'!F25","v":25.932461543461134},652.82952723246797,109.65890823201376,147.34353149693823,24.75]
["1.4.6","Расходы на страхование",0,null,{"$f":"'Подконтрольные расходы'!D26","v":0},{"$f":"'Подконтрольные расходы'!E26","v":0},{"$f":"'Подконтрольные расходы'!F26","v":0},0,0,0,0]
["1.4.7","Расходы на услуги банков",158.00595040373682,119.4,{"$f":"'Подконтрольные расходы'!D27","v":166.79161934514087},{"$f":"'Подконтрольные расходы'!E27","v":182.90186879637776},{"$f":"'Подконтрольные расходы'!F27","v":41.280925787922364},153.18414472058436,109.65890823201376,34.573639688377192,24.75]
["1.4.8","Прочие обоснованные подконтрольные расходы",0,null,{"$f":"'Подконтрольные расходы'!D28","v":0},{"$f":"'Подконтрольные расходы'!E28","v":0},{"$f":"'Подконтрольные расходы'!F28","v":0},0,0,0,0]
["1.5","Расходы из прибыли, в том числе:",{"$f":"SUM(C23:C24)","v":329.843937710202},{"$f":"SUM(D23:D24)","v":432.5},{"$f":"'Подконтрольные расходы'!D29","v":348.18438395065192},{"$f":"'Подконтрольные расходы'!E29","v":381.81519407464782},{"$f":"'Подконтрольные расходы'!F29","v":86.175635027786356},88.280969728242269,109.65890823201376,19.925002318563319,24.750000000000004]
["1.5.1","Расходы по коллективным договорам",329.843937710202,432.5,{"$f":"'Подконтрольные расходы'!D30","v":348.18438395065192},{"$f":"'Подконтрольные расходы'!E30","v":381.81519407464782},{"$f":"'Подконтрольные расходы'!F30","v":86.175635027786356},88.280969728242269,109.65890823201376,19.925002318563319,24.750000000000004]
["1.5.2","Прочие обоснованные расходы из прибыли",null,null,{"$f":"'Подконтрольные расходы'!D31","v":0},{"$f":"'Подконтрольные расходы'!E31","v":0},{"$f":"'Подконтрольные расходы'!F31","v":0},0,0,0,0]
["2.","Неподконтрольные расходы",{"$f":"C26+C27+C28+C29+C35+C36+C37+C38+C39+C40","v":16745.586983635843},{"$f":"D26+D27+D28+D29+D35+D36+D37+D38+D40","v":29667.821040000003},18874.352359122633,{"$f":"F26+F27+F28+F29+F35+F36+F37+F38+F39+F40","v":24881.116713971711},{"$error":"#REF!"},{"$f":"IF(D25=0,IF(F25=0,0,100),F25/D25*100)","v":83.86566940802777},{"$f":"IF(E25=0,IF(F25=0,0,100),F25/E25*100)","v":131.82500909466066},{"$f":"IF(D25=0,IF(G25=0,0,100),G25/D25*100)","v":{"$error":"#REF!"}},{"$f":"IF(E25=0,IF(G25=0,0,100),G25/E25*100)","v":{"$error":"#REF!"}}]
["2.1.","Амортизация основных средств",{"$f":"'Свод по амортизации'!B15","v":4681.14131188181},{"$f":"'Свод по амортизации'!C15","v":4014.395},{"$f":"'Свод по амортизации'!D15","v":4803.3639014746677},{"$f":"'Свод по амортизации'!F15","v":7245.9440944127637},{"$f":"'Свод по амортизации'!G15","v":0},{"$f":"IF(D26=0,IF(F26=0,0,100),F26/D26*100)","v":180.49903147081349},{"$f":"IF(E26=0,IF(F26=0,0,100),F26/E26*100)","v":150.85145000544736},0,0]
["2.2.","Расходы на страховые взносы",{"$f":"'Страховые взносы'!D18","v":3542.8430697959334},{"$f":"'Страховые взносы'!E18","v":3873.18},{"$f":"'Страховые взносы'!F18","v":3706.1689387649494},{"$f":"'Страховые взносы'!H18","v":4101.06465397171},{"$f":"'Страховые взносы'!I18","v":913.43063431271105},{"$f":"IF(D27=0,IF(F27=0,0,100),F27/D27*100)","v":105.88365771721713},{"$f":"IF(E27=0,IF(F27=0,0,100),F27/E27*100)","v":110.65509213776845},23.583480094204532,24.646222269001701]
["2.3.","Расходы на оплату услуг организаций, осуществляющие регулируемые виды деятельности",{"$f":"'Расходы рег. орг-ий'!B23","v":205.58863631247999},{"$f":"'Расходы рег. орг-ий'!C23","v":234.75099999999998},{"$f":"'Расходы рег. орг-ий'!D23","v":249.94636799359998},{"$f":"'Расходы рег. орг-ий'!F23","v":281.35000000000002},{"$f":"'Расходы рег. орг-ий'!G23","v":0},119.85039467350514,112.56414816445908,0,0]
["2.4.","Налоги и сборы, в том числе:",{"$f":"C30+C31+C32+C33+C34","v":1238.70576564562},1654.4340400000001,1361.4891697031999,1821.8540600000001,{"$error":"#REF!"},110.11947384738288,133.81333473237677,{"$error":"#REF!"},{"$error":"#REF!"}]
["2.4.1.","Плата за землю",{"$f":"'Плата за землю'!B17","v":200.44376564561998},{"$f":"'Плата за землю'!C17","v":335.09650999999997},{"$f":"'Плата за землю'!D17","v":369.59416970319995},{"$f":"'Плата за землю'!F17","v":502.51673},{"$f":"'Плата за землю'!G17","v":0},149.9617916044545,135.96446350967673,0,0]
["2.4.2.","Транспортный налог",{"$f":"'Транспортный налог'!D16","v":0},{"$f":"'Транспортный налог'!E16","v":0},{"$f":"'Транспортный налог'!F16","v":0},{"$f":"'Транспортный налог'!I16","v":0},{"$f":"'Транспортный налог'!K16","v":0},0,0,0,0]
["2.4.3.","Налог на имущество",{"$f":"'Налог на имущество'!B15","v":0},{"$f":"'Налог на имущество'!C15","v":0},{"$f":"'Налог на имущество'!D15","v":0},{"$f":"'Налог на имущество'!F15","v":0},{"$f":"'Налог на имущество'!G15","v":0},0,0,0,0]
["2.4.4.","Плата за негативное воздействие на окружающую среду",{"$f":"'Негативное воздействие на ОС'!C29","v":0},{"$f":"'Негативное воздействие на ОС'!D29","v":0.53352999999999995},{"$f":"'Негативное воздействие на ОС'!E29","v":0},{"$f":"'Негативное воздействие на ОС'!G29","v":0.53332999999999997},{"$f":"'Негативное воздействие на ОС'!H29","v":0},99.962513823027763,100,0,0]
["2.4.5.","Налог на прибыль",{"$f":"'Налог прим при УСНО'!C10","v":1038.2619999999999},{"$f":"'Налог прим при УСНО'!D10","v":1318.8040000000001},{"$f":"'Налог прим при УСНО'!E10","v":991.89499999999998},{"$f":"'Налог прим при УСНО'!F10","v":1318.8040000000001},{"$f":"'Налог прим при УСНО'!G10","v":{"$error":"#REF!"}},100,132.95802479093049,{"$error":"#REF!"},{"$error":"#REF!"}]
["2.5.","Плата за аренду имущества",{"$f":"'Аренда имущества'!B44","v":4844.28},{"$f":"'Аренда имущества'!C44","v":4886.2219999999998},{"$f":"'Аренда имущества'!D44","v":4844.28},{"$f":"'Аренда имущества'!F44","v":4886.22},{"$f":"'Аренда имущества'!N44","v":0},99.999959068581006,100.86576333325077,0,0]
["2.6.","Оплата услуг ОАО \"ФСК ЕЭС\"",{"$f":"'Услуги ФСК'!B17","v":0},{"$f":"'Услуги ФСК'!E17","v":0},{"$f":"'Услуги ФСК'!F17","v":0},{"$f":"'Услуги ФСК'!L17","v":0},{"$f":"'Услуги ФСК'!O17","v":0},0,0,0,0]
["2.7.","Прочие обоснованные неподконтрольные расходы",{"$f":"'Прочие НР'!B15","v":190.41},{"$f":"'Прочие НР'!C15","v":2275.4359999999997},{"$f":"'Прочие НР'!D15","v":198.02600000000001},{"$f":"'Прочие НР'!F15","v":490},{"$f":"'Прочие НР'!G15","v":0},21.53433451874718,247.44225505741667,0,0]
["2.8.","Капитальные вложения производственного характера из прибыли",{"$f":"' КВЛ'!B25","v":1351},{"$f":"' КВЛ'!C25","v":712.1629999999991},{"$f":"' КВЛ'!D25","v":3711.0779811862158},{"$f":"' КВЛ'!F25","v":2622.6279055872365},{"$f":"' КВЛ'!G25","v":0},{"$f":"IF(D38=0,IF(F38=0,0,100),F38/D38*100)","v":368.26230871124164},{"$f":"IF(E38=0,IF(F38=0,0,100),F38/E38*100)","v":70.670245111608637},0,0]
["2.9.","Расходы, связанные с компенсацией выпадающих доходов от льготного технологического присоединения",{"$f":"'Выпадающий доход'!B20","v":0},"х",{"$f":"'Выпадающий доход'!C20","v":0},{"$f":"'Выпадающий доход'!D20","v":0},{"$f":"'Выпадающий доход'!E20","v":0},"х",0,"х",0]
["2.10.","Расходы на возврат и обслуживание долгосрочных заемных средств, направляемых на финансирование капитальных вложений ",{"$f":"'Возврат заемных средств'!B10","v":691.6182},{"$f":"'Возврат заемных средств'!C10","v":12017.24},{"$f":"'Возврат заемных средств'!D10","v":0},{"$f":"'Возврат заемных средств'!F10","v":3432.056},{"$f":"'Возврат заемных средств'!G10","v":0},{"$f":"IF(D40=0,IF(F40=0,0,100),F40/D40*100)","v":28.559436276549359},100,{"$f":"IF(D40=0,IF(G40=0,0,100),G40/D40*100)","v":0},0]
["3.","Корректировка необходимой валовой выручки ",{"$f":"SUM(C42:C47)","v":2782.2201038835146},"x",{"$f":"SUM(E42:E47)","v":1627.6189281672864},{"$f":"SUM(F42:F47)","v":5159.0505305530369},{"$f":"SUM(G42:G47)","v":{"$error":"#REF!"}},"x",316.96918985589423,"х",{"$error":"#REF!"}]
["3.1.","Корректировка подконтрольных расходов",0,"x",126.32045284326887,{"$f":"'Корр. ПР'!D18","v":1924.603824412261},{"$f":"'Корр. ПР'!E18","v":-31416.515021127096},"x","х","х",{"$f":"IF(E42=0,IF(G42=0,0,100),G42/E42*100)","v":-24870.489547806555}]
["3.2.","Корректировка неподконтрольных расходов",156.89661865273303,"x",834.85385400773635,{"$f":"'Корр. НР'!E19","v":2902.1955682459666},{"$f":"'Корр. НР'!G19","v":{"$error":"#REF!"}},"x",347.62917537170199,"х",{"$error":"#REF!"}]
["3.3.","Корректировка НВВ с учетом изменения полезного отпуска и цен на электрическую энергию ",1126.813508395046,"x",-126.05409722329316,{"$f":"'Корр. ПО'!I24","v":-824.41679927142923},{"$f":"'Корр. ПО'!J40","v":0},"x",654.01824885632345,"х",0]
["3.4.","Корректировка необходимой валовой выручки по доходам от осуществления регулируемой деятельности","x","x","x",{"$f":"Корр.НВВ!C8","v":925.01957362645771},{"$f":"Корр.НВВ!D8","v":50944.322108646455},"x","x","х","х"]
["3.5.","Корректировка НВВ в связи с изменением (неисполнением) инвестиционной программы ",915.18582387262325,"x",175.3,{"$f":"'Корр. ИП'!D14","v":-430.62782387262382},{"$f":"'Корр. ИП'!E14","v":0},"x",-245.65192462785154,"х",0]
["3.6.","Корректировка НВВ с учетом надежности и качества оказываемых услуг ",583.3241529631124,"x",617.19871853957443,{"$f":"'Корр. КНК'!D15","v":662.27618741240394},{"$f":"'Корр. КНК'!E15","v":1018.8864421729292},"x",107.30355840327934,"х",165.08239754350669]
["4.","ИТОГО необходимая валовая выручка на содержание электрических сетей",{"$f":"C41+C25+C9","v":50944.322108646455},{"$f":"D25+D9","v":69308.121039999998},53665.351534460693,{"$f":"F41+F25+F9","v":66406.767956403521},{"$error":"#REF!"},{"$f":"IF(D48=0,IF(F48=0,0,100),F48/D48*100)","v":95.813833876809312},{"$f":"IF(E48=0,IF(F48=0,0,100),F48/E48*100)","v":123.7423515501637},{"$f":"IF(D48=0,IF(G48=0,0,100),G48/D48*100)","v":{"$error":"#REF!"}},{"$error":"#REF!"}]
[]
["Руководитель организации",null,{"$f":"'Инф-я'!$C$17","v":"Окунев Василий Михайлович"}]

{"sheet":"НВВ по данным предпр.","index":39,"n_rows":71,"n_cols":7,"rows_kept":71,"cut":false,"hidden":false,"merged":[[70,0,70,1],[70,2,70,4],[61,0,61,6],[65,0,65,6],[7,0,7,6],[15,0,15,6],[22,0,22,6],[56,0,56,6],[28,0,28,6],[30,0,30,6],[48,0,48,6],[1,0,1,6],[2,0,2,6],[4,0,5,0],[4,1,5,1],[4,2,5,2],[4,3,4,4],[4,6,5,6],[4,5,5,5]]}
[]
["Расчет необходимой валовой выручки (НВВ) на оказание услуги по передаче электрической энергии на 2019 год долгосрочного периода регулирования 2015 - 2019 годы"]
[{"$f":"'Инф-я'!C9","v":"Общество с ограниченной ответственностью \"Энергетик\""}]
[]
["№ п.п.","Наименование","Ед.изм.","2017 год",null,"2018 год утверждено","2019 год"]
[null,null,null,"Утверждено","Факт"]
[1,2,3,4,5,6,7]
["Долгосрочные параметры регулирования"]
[1,"Базовый уровень подконтрольных расходов (ПР)","тыс.руб.",31416.52,"х","х","х"]
[2,"Индекс эффективности подконтрольных расходов (Хэф)","%",{"$f":"'Подконтрольные расходы'!D10","v":0.01},{"$f":"'Подконтрольные расходы'!D10","v":0.01},{"$f":"'Подконтрольные расходы'!E10","v":0.01},{"$f":"'Подконтрольные расходы'!F10","v":0.01}]
[3,"Коэффициент эластичности подконтрольных расходов по количеству активов (К эл)","знач.",0.75,0.75,0.75,0.75]
[5,"Уровень надежности и качества оказываемых услуг","х","х","х","х","х"]
["5.1.","Показатель средней продолжительности прекращения передачи электрическолй энергии (Пп)","знач.",{"$f":"'Корр. КНК'!D22","v":0.98270000000000002},{"$f":"'Корр. КНК'!E22","v":3.3029827315541604E-3},0.96789999999999998,0.95340000000000003]
["5.2.","Показатель уровня качества осуществляемого технологического присоединения (Птпр)","знач.",{"$f":"'Корр. КНК'!D23","v":0.99450000000000005},{"$f":"'Корр. КНК'!E23","v":1},0.97960000000000003,0.96489999999999998]
["5.3.","Показатель уровня качества оказываемых услуг территориальных сетевых организаций (Птсо)","знач.",{"$f":"'Корр. КНК'!D24","v":0.89749999999999996},{"$f":"'Корр. КНК'!E24","v":0.88555555555555565},0.89749999999999996,0.89749999999999996]
["Планируемые значения параметров расчета тарифов"]
[1,"Индекс потребительских цен (ИПЦ)","%","х","х",{"$f":"'Подконтрольные расходы'!D12","v":3.6999999999999998E-2},{"$f":"'Подконтрольные расходы'!E12","v":0.04}]
[2,"Количество активов (УЕ)","усл.ед.",{"$f":"'УЕ ТП 2016-2019'!J59","v":901.40300000000002},{"$f":"'УЕ ТП 2016-2019'!L59","v":983.2319},{"$f":"'УЕ ТП 2016-2019'!P59","v":938.20299999999997},{"$f":"'УЕ ТП 2016-2019'!R59","v":1019.593}]
[3,"Величина неподконтрольных расходов (НР)","тыс.руб.",{"$f":"D47","v":16745.586983635843},{"$f":"E47","v":29667.821040000003},{"$f":"F47","v":18874.352359122633},{"$f":"G47","v":24881.116713971711}]
[4,"Величина мощности","МВт",{"$f":"'Баланс мощности'!C9","v":4.47},{"$f":"'Баланс мощности'!H9","v":4.47},{"$f":"D20","v":4.47},{"$f":"'Баланс мощности'!M9","v":4.4700000000000006}]
[5,"Величина полезного отпуска электрической энергии","млн.кВт.ч.",{"$f":"'Баланс энергии'!C22","v":22.923806620844701},{"$f":"'Баланс энергии'!R22","v":22.374441579315778},{"$f":"'Баланс энергии'!AG22","v":22.476101949965798},{"$f":"'Баланс энергии'!AV22","v":22.47610024518}]
[6,"Прогнозная цена (тариф) покупки потерь электрической энергии","руб./МВт.ч.",{"$f":"D64","v":2674.0215753195648},{"$f":"E64","v":2608.4810505243381},{"$f":"F64","v":2931.1760855327248},{"$f":"G64","v":2931.1728828374294}]
["Расчетные показатели"]
[1,"Доля подконтрольных расходов на МВт.ч.","руб.МВт.ч.",{"$f":"IF(D21=0,0,D30/D21/10)","v":137.04754860634685},{"$f":"IF(E21=0,0,E30/E21/10)","v":177.16777359326713},{"$f":"IF(F21=0,0,F30/F21/10)","v":147.54951868876552},{"$f":"IF(G21=0,0,G30/G21/10)","v":161.80120356812165}]
[2,"Проверка прибыли на капитальные вложения (не более 12 % от НВВ на содержание сетей)","%","х","х","х",{"$f":"IF(G26=0,0,G44/G26)","v":4.6237802514184925E-2}]
[3,"НВВ для расчета КВЛ ","тыс.руб.","х","х","х",{"$f":"G61-' КВЛ'!F25/0.8-'Услуги ФСК'!L17-'Аренда имущества'!F49-'Возврат заемных средств'!F10","v":56720.427074419495}]
[4,"Индекс изменения количества активов (ИКА)","%","х","х","х",{"$f":"'Подконтрольные расходы'!E14","v":8.6750948355526464E-2}]
[5,"Общий коэффициент индексации подконтрольных расходов ПР= ИПЦ*(1+(Кэл*ИКА))*(1-Хэф)","знач.","х","х","х",{"$f":"'Подконтрольные расходы'!E15","v":1.0965890823201376}]
["Подконтрольные расходы организации (ПР)"]
[null,"Итого ПР с учетом индексации:","тыс.руб.",{"$f":"' НВВ содержание'!C9","v":31416.515021127096},{"$f":"' НВВ содержание'!D9","v":39640.300000000003},{"$f":"' НВВ содержание'!E9","v":33163.380247170775},{"$f":"' НВВ содержание'!F9","v":36366.600711878782}]
["Неподконтрольные расходы организации (НР)"]
[1,"Амортизация основных средств","тыс.руб.",{"$f":"'Свод по амортизации'!B15","v":4681.14131188181},{"$f":"'Свод по амортизации'!C15","v":4014.395},{"$f":"'Свод по амортизации'!D15","v":4803.3639014746677},{"$f":"'Свод по амортизации'!F15","v":7245.9440944127637}]
[2,"Страховые взносы","тыс.руб.",{"$f":"'Страховые взносы'!D18","v":3542.8430697959334},{"$f":"'Страховые взносы'!E18","v":3873.18},{"$f":"'Страховые взносы'!F18","v":3706.1689387649494},{"$f":"'Страховые взносы'!H18","v":4101.06465397171}]
[3,"Расходы на оплату услуг организаций, осуществляющие регулируемые виды деятельности","тыс.руб.",{"$f":"'Расходы рег. орг-ий'!B23","v":205.58863631247999},{"$f":"'Расходы рег. орг-ий'!C23","v":234.75099999999998},{"$f":"'Расходы рег. орг-ий'!D23","v":249.94636799359998},{"$f":"'Расходы рег. орг-ий'!F23","v":281.35000000000002}]
[4,"Налоги и сборы, в том числе:","тыс.руб.",{"$f":"SUM(D36:D40)","v":1238.70576564562},{"$f":"SUM(E36:E40)","v":1654.4340400000001},1361.4891697031999,1821.8540600000001]
["4.1","Плата за землю","тыс.руб.",{"$f":"'Плата за землю'!B17","v":200.44376564561998},{"$f":"'Плата за землю'!C17","v":335.09650999999997},{"$f":"'Плата за землю'!D17","v":369.59416970319995},{"$f":"'Плата за землю'!F17","v":502.51673}]
["4.2","Транспортный налог","тыс.руб.",{"$f":"'Транспортный налог'!D16","v":0},{"$f":"'Транспортный налог'!E16","v":0},{"$f":"'Транспортный налог'!F16","v":0},{"$f":"'Транспортный налог'!I16","v":0}]
["4.3","Налог на имущество","тыс.руб.",{"$f":"'Налог на имущество'!B15","v":0},{"$f":"'Налог на имущество'!C15","v":0},{"$f":"'Налог на имущество'!D15","v":0},{"$f":"'Налог на имущество'!F15","v":0}]
["4.4","Плата за негативное воздействие на окружающую среду","тыс.руб.",{"$f":"'Негативное воздействие на ОС'!C29","v":0},{"$f":"'Негативное воздействие на ОС'!D29","v":0.53352999999999995},{"$f":"'Негативное воздействие на ОС'!E29","v":0},{"$f":"'Негативное воздействие на ОС'!G29","v":0.53332999999999997}]
["4.5","Налог на прибыль","тыс.руб.",{"$f":"'Налог прим при УСНО'!C10","v":1038.2619999999999},{"$f":"'Налог прим при УСНО'!D10","v":1318.8040000000001},{"$f":"'Налог прим при УСНО'!E10","v":991.89499999999998},{"$f":"'Налог прим при УСНО'!F10","v":1318.8040000000001}]
["5","Плата за аренду имущества","тыс.руб.",{"$f":"'Аренда имущества'!B44","v":4844.28},{"$f":"'Аренда имущества'!C44","v":4886.2219999999998},{"$f":"'Аренда имущества'!D44","v":4844.28},{"$f":"'Аренда имущества'!F44","v":4886.22}]
["6","Оплата услуг ОАО \"ФСК ЕЭС\"","тыс.руб.",{"$f":"'Услуги ФСК'!B17","v":0},{"$f":"'Услуги ФСК'!E17","v":0},{"$f":"'Услуги ФСК'!F17","v":0},{"$f":"'Услуги ФСК'!L17","v":0}]
["7","Прочие обоснованные неподконтрольные расходы","тыс.руб.",{"$f":"'Прочие НР'!B15","v":190.41},{"$f":"'Прочие НР'!C15","v":2275.4359999999997},{"$f":"'Прочие НР'!D15","v":198.02600000000001},{"$f":"'Прочие НР'!F15","v":490}]
["8","Капитальные вложения производственного характера из прибыли","тыс.руб.",{"$f":"' КВЛ'!B25","v":1351},{"$f":"' КВЛ'!C25","v":712.1629999999991},{"$f":"' КВЛ'!D25","v":3711.0779811862158},{"$f":"' КВЛ'!F25","v":2622.6279055872365}]
["9","Расходы, связанные с компенсацией выпадающих доходов от льготного технологического присоединения","тыс.руб.",{"$f":"'Выпадающий доход'!B20","v":0},"х",{"$f":"'Выпадающий доход'!C20","v":0},{"$f":"'Выпадающий доход'!D20","v":0}]
["10",{"$f":"' НВВ содержание'!B40","v":"Расходы на возврат и обслуживание долгосрочных заемных средств, направляемых на финансирование капитальных вложений "},"тыс.руб.",{"$f":"'Возврат заемных средств'!B10","v":691.6182},{"$f":"'Возврат заемных средств'!C10","v":12017.24},{"$f":"'Возврат заемных средств'!D10","v":0},{"$f":"'Возврат заемных средств'!F10","v":3432.056}]
[null,"Итого НР:","тыс.руб.",{"$f":"SUM(D32:D35,D41:D46)","v":16745.586983635843},{"$f":"SUM(E32:E35,E41:E46)","v":29667.821040000003},18874.352359122633,{"$f":"SUM(G32:G35,G41:G46)","v":24881.116713971711}]
[]
["Корректировка необходимой валовой выручки "]
["1","Корректировка подконтрольных расходов","тыс.руб.",{"$f":"' НВВ содержание'!C42","v":0},{"$f":"' НВВ содержание'!D42","v":"x"},{"$f":"' НВВ содержание'!E42","v":126.32045284326887},{"$f":"' НВВ содержание'!F42","v":1924.603824412261}]
["2","Корректировка неподконтрольных расходов","тыс.руб.",{"$f":"' НВВ содержание'!C43","v":156.89661865273303},{"$f":"' НВВ содержание'!D43","v":"x"},{"$f":"' НВВ содержание'!E43","v":834.85385400773635},{"$f":"' НВВ содержание'!F43","v":2902.1955682459666}]
["3","Корректировка НВВ с учетом изменения полезного отпуска и цен на электрическую энергию ","тыс.руб.",{"$f":"' НВВ содержание'!C44","v":1126.813508395046},{"$f":"' НВВ содержание'!D44","v":"x"},{"$f":"' НВВ содержание'!E44","v":-126.05409722329316},{"$f":"' НВВ содержание'!F44","v":-824.41679927142923}]
["4","Корректировка необходимой валовой выручки по доходам от осуществления регулируемой деятельности","тыс.руб.",{"$f":"' НВВ содержание'!C45","v":"x"},{"$f":"' НВВ содержание'!D45","v":"x"},{"$f":"' НВВ содержание'!E45","v":"x"},{"$f":"' НВВ содержание'!F45","v":925.01957362645771}]
["5","Корректировка НВВ в связи с изменением (неисполнением) инвестиционной программы ","тыс.руб.",{"$f":"' НВВ содержание'!C46","v":915.18582387262325},{"$f":"' НВВ содержание'!D46","v":"x"},{"$f":"' НВВ содержание'!E46","v":175.3},{"$f":"' НВВ содержание'!F46","v":-430.62782387262382}]
["6","Корректировка НВВ с учетом надежности и качества оказываемых услуг ","тыс.руб.",{"$f":"' НВВ содержание'!C47","v":583.3241529631124},{"$f":"' НВВ содержание'!D47","v":"x"},{"$f":"' НВВ содержание'!E47","v":617.19871853957443},{"$f":"' НВВ содержание'!F47","v":662.27618741240394}]
[null,"Итого корректировка НВВ","тыс.руб.",{"$f":"SUM(D50:D55)","v":2782.2201038835146},"х",{"$f":"SUM(F50:F55)","v":1627.6189281672864},{"$f":"SUM(G50:G55)","v":5159.0505305530369}]
["Расходы организации на содержание сетей "]
[1,"Подконтрольные расходы","тыс.руб.",{"$f":"D30","v":31416.515021127096},{"$f":"E30","v":39640.300000000003},{"$f":"F30","v":33163.380247170775},{"$f":"G30","v":36366.600711878782}]
[2,"Неподконтрольные расходы","тыс.руб.",{"$f":"D47","v":16745.586983635843},{"$f":"E47","v":29667.821040000003},{"$f":"F47","v":18874.352359122633},{"$f":"G47","v":24881.116713971711}]
[3,"Корректировка необходимой валовой выручки ","тыс.руб.",{"$f":"D56","v":2782.2201038835146},{"$f":"E56","v":"х"},{"$f":"F56","v":1627.6189281672864},{"$f":"G56","v":5159.0505305530369}]
[null,"Итого расходы на содержание электрических сетей:","тыс.руб.",{"$f":"D58+D59+D60","v":50944.322108646455},{"$f":"E58+E59","v":69308.121039999998},{"$f":"F58+F59+F60","v":53665.351534460693},{"$f":"G58+G59+G60","v":66406.767956403535}]
["Расходы организации на компенсацию потерь"]
[1,"Величина технологического расхода (потерь) электрической энергии","млн.кВт.ч.",{"$f":"'Баланс энергии'!C19","v":3.8880933791552996},{"$f":"'Баланс энергии'!R19","v":2.9316584206842231},{"$f":"'Баланс энергии'!AG19","v":3.6704980500341997},{"$f":"'Баланс энергии'!AV19","v":3.6704997548200002}]
[2,"Прогнозная цена (тариф) покупки потерь электрической энергии","руб./МВт.ч.",{"$f":"'Корр. ПО'!G24","v":2674.0215753195648},{"$f":"'Корр. ПО'!H24","v":2608.4810505243381},{"$f":"'НВВ на потери'!F12","v":2931.1760855327248},{"$f":"'НВВ на потери'!I12","v":2931.1728828374294}]
[null,"Итого расходы на компенсацию потерь:","тыс.руб.",{"$f":"D63*D64","v":10396.845582718424},{"$f":"E63*E64","v":7647.1754369649043},{"$f":"F63*F64","v":10758.876106254746},{"$f":"G63*G64","v":10758.869347789818}]
["Необходимая валовая выручка (НВВ) организации на оказание услуги по передаче электрической энергии"]
[1,"Расходы на содержание электрических сетей","тыс.руб.",{"$f":"D61","v":50944.322108646455},{"$f":"E61","v":69308.121039999998},{"$f":"F61","v":53665.351534460693},{"$f":"G61","v":66406.767956403535}]
[2,"Расходы на компенсацию потерь","тыс.руб.",{"$f":"D65","v":10396.845582718424},7647.1754369649043,10758.876106254746,10758.869347789818]
[null,"Необходимая валовая выручка (НВВ) организации на оказание услуги по передаче электрической энергии","тыс.руб.",{"$f":"D67+D68","v":61341.167691364877},76955.296476964897,64424.227640715442,{"$f":"G67+G68","v":77165.637304193355}]
[]
["Руководитель организации",null,{"$f":"'Инф-я'!$C$17","v":"Окунев Василий Михайлович"}]

{"sheet":"НВВ по данным экспертов","index":40,"n_rows":71,"n_cols":7,"rows_kept":71,"cut":false,"hidden":false,"merged":[[30,0,30,6],[48,0,48,6],[22,0,22,6],[28,0,28,6],[7,0,7,6],[15,0,15,6],[65,0,65,6],[56,0,56,6],[61,0,61,6],[70,1,70,2],[70,3,70,5],[1,0,1,6],[2,0,2,6],[4,0,5,0],[4,1,5,1],[4,2,5,2],[4,6,5,6],[4,3,4,4],[4,5,5,5]]}
[]
["Экспертиза необходимой валовой выручки (НВВ) на оказание услуги по передаче электрической энергии на 2019 год долгосрочного периода регулирования 2015 - 2019 годы"]
[{"$f":"'Инф-я'!C9","v":"Общество с ограниченной ответственностью \"Энергетик\""}]
[]
["№ п.п.","Наименование","Ед.изм.","2017 год",null,"2018 год утверждено","2019 год"]
[null,null,null,"Утверждено","Факт"]
[1,2,3,4,5,6,7]
["Долгосрочные параметры регулирования"]
[1,"Базовый уровень подконтрольных расходов (ПР)","тыс.руб.",null,"х","х","х"]
[2,"Индекс эффективности подконтрольных расходов (Хэф)","%",{"$f":"'Подконтрольные расходы'!D10","v":0.01},{"$f":"'Подконтрольные расходы'!D10","v":0.01},{"$f":"'Подконтрольные расходы'!E10","v":0.01},{"$f":"'Подконтрольные расходы'!F10","v":0.01}]
[3,"Коэффициент эластичности подконтрольных расходов по количеству активов (К эл)","знач.",0.75,0.75,{"$f":"'Подконтрольные расходы'!E11","v":0.75},{"$f":"'Подконтрольные расходы'!F11","v":0.75}]
[5,"Уровень надежности и качества оказываемых услуг","х","х","х","х","х"]
["5.1.","Показатель средней продолжительности прекращения передачи электрическолй энергии (Пп)","знач.",{"$f":"'Корр. КНК'!D22","v":0.98270000000000002},{"$f":"'Корр. КНК'!G22","v":0}]
["5.2.","Показатель уровня качества осуществляемого технологического присоединения (Птпр)","знач.",{"$f":"'Корр. КНК'!D23","v":0.99450000000000005},{"$f":"'Корр. КНК'!G23","v":0}]
["5.3.","Показатель уровня качества оказываемых услуг территориальных сетевых организаций (Птсо)","знач.",{"$f":"'Корр. КНК'!D24","v":0.89749999999999996},{"$f":"'Корр. КНК'!G24","v":0}]
["Планируемые значения параметров расчета тарифов"]
[1,"Индекс потребительских цен (ИПЦ)","%","х",{"$f":"'НВВ по данным предпр.'!E17","v":"х"},{"$f":"'НВВ по данным предпр.'!F17","v":3.6999999999999998E-2},{"$f":"'Подконтрольные расходы'!F12","v":0}]
[2,"Количество активов (УЕ)","усл.ед.",{"$f":"'УЕ ТП 2016-2019'!J59","v":901.40300000000002},{"$f":"'УЕ ТП 2016-2019'!L59","v":983.2319},{"$f":"'УЕ ТП 2016-2019'!P59","v":938.20299999999997},{"$f":"'УЕ ТП 2016-2019'!T59","v":0}]
[3,"Величина неподконтрольных расходов (НР)","тыс.руб.",{"$f":"D47","v":16745.586983635843},29667.821040000003,18874.352359122633,{"$f":"G47","v":{"$error":"#REF!"}}]
[4,"Величина мощности","МВт",{"$f":"'НВВ по данным предпр.'!D20","v":4.47},{"$f":"'НВВ по данным предпр.'!E20","v":4.47},{"$f":"D20","v":4.47},{"$f":"'Баланс мощности'!R9","v":0}]
[5,"Величина полезного отпуска электрической энергии","млн.кВт.ч.",{"$f":"'НВВ по данным предпр.'!D21","v":22.923806620844701},{"$f":"'НВВ по данным предпр.'!E21","v":22.374441579315778},{"$f":"'НВВ по данным предпр.'!F21","v":22.476101949965798},{"$f":"'Баланс энергии'!BK22","v":0}]
[6,"Прогнозная цена (тариф) покупки потерь электрической энергии","руб./МВт.ч.",{"$f":"'НВВ по данным предпр.'!D22","v":2674.0215753195648},{"$f":"'НВВ по данным предпр.'!E22","v":2608.4810505243381},{"$f":"'НВВ по данным предпр.'!F22","v":2931.1760855327248},{"$f":"'НВВ на потери'!L12","v":0}]
["Расчетные показатели"]
[1,"Доля подконтрольных расходов на МВт.ч.","руб.МВт.ч.",{"$f":"IF(D21=0,0,D30/D21/10)","v":137.04754860634685},{"$f":"IF(E21=0,0,E30/E21/10)","v":177.16777359326713},{"$f":"IF(F21=0,0,F30/F21/10)","v":147.54951868876552},{"$f":"IF(G21=0,0,G30/G21/10)","v":0}]
[2,"Проверка прибыли на капитальные вложения (не более 12 % от НВВ на содержание сетей)","%","х","х","х",{"$f":"IF(G26=0,0,(G44+'Возврат заемных средств'!G8)/G26)","v":{"$error":"#REF!"}}]
[3,"НВВ для расчета КВЛ ","тыс.руб.","х","х","х",{"$f":"G61-G44/0.8-G42-'Аренда имущества'!N49-'Возврат заемных средств'!G8","v":{"$error":"#REF!"}}]
[4,"Индекс изменения количества активов (ИКА)","%","х","х","х",{"$f":"'Подконтрольные расходы'!F14","v":-1}]
[5,"Общий коэффициент индексации подконтрольных расходов ПР= ИПЦ*(1+(Кэл*ИКА))*(1-Хэф)","знач.","х","х","х",{"$f":"'Подконтрольные расходы'!F15","v":0.2475}]
["Подконтрольные расходы организации (ПР)"]
[null,"Итого ПР с учетом индексации:","тыс.руб.",{"$f":"' НВВ содержание'!C9","v":31416.515021127096},{"$f":"' НВВ содержание'!D9","v":39640.300000000003},{"$f":"' НВВ содержание'!E9","v":33163.380247170775},{"$f":"' НВВ содержание'!G9","v":8207.9366111747659}]
["Неподконтрольные расходы организации (НР)"]
[1,"Амортизация основных средств","тыс.руб.",{"$f":"'Свод по амортизации'!B15","v":4681.14131188181},{"$f":"'Свод по амортизации'!C15","v":4014.395},{"$f":"'Свод по амортизации'!D15","v":4803.3639014746677},{"$f":"'Свод по амортизации'!G15","v":0}]
[2,"Страховые взносы","тыс.руб.",{"$f":"'Страховые взносы'!D18","v":3542.8430697959334},{"$f":"'Страховые взносы'!E18","v":3873.18},{"$f":"'Страховые взносы'!F18","v":3706.1689387649494},{"$f":"'Страховые взносы'!I18","v":913.43063431271105}]
[3,"Расходы на оплату услуг организаций, осуществляющие регулируемые виды деятельности","тыс.руб.",{"$f":"'Расходы рег. орг-ий'!B23","v":205.58863631247999},{"$f":"'Расходы рег. орг-ий'!C23","v":234.75099999999998},{"$f":"'Расходы рег. орг-ий'!D23","v":249.94636799359998},{"$f":"'Расходы рег. орг-ий'!G23","v":0}]
[4,"Налоги и сборы, в том числе:","тыс.руб.",{"$f":"SUM(D36:D40)","v":1238.70576564562},1654.4340400000001,1361.4891697031999,{"$error":"#REF!"}]
["4.1","Плата за землю","тыс.руб.",{"$f":"'Плата за землю'!B17","v":200.44376564561998},{"$f":"'Плата за землю'!C17","v":335.09650999999997},{"$f":"'Плата за землю'!D17","v":369.59416970319995},{"$f":"'Плата за землю'!G17","v":0}]
["4.2","Транспортный налог","тыс.руб.",{"$f":"'Транспортный налог'!D16","v":0},{"$f":"'Транспортный налог'!E16","v":0},{"$f":"'Транспортный налог'!F16","v":0},{"$f":"'Транспортный налог'!K16","v":0}]
["4.3","Налог на имущество","тыс.руб.",{"$f":"'Налог на имущество'!B15","v":0},{"$f":"'Налог на имущество'!C15","v":0},{"$f":"'Налог на имущество'!D15","v":0},{"$f":"'Налог на имущество'!G15","v":0}]
["4.4","Плата за негативное воздействие на окружающую среду","тыс.руб.",{"$f":"'Негативное воздействие на ОС'!C29","v":0},{"$f":"'Негативное воздействие на ОС'!D29","v":0.53352999999999995},{"$f":"'Негативное воздействие на ОС'!E29","v":0},{"$f":"'Негативное воздействие на ОС'!H29","v":0}]
["4.5","Налог на прибыль","тыс.руб.",{"$f":"'Налог прим при УСНО'!C10","v":1038.2619999999999},{"$f":"'Налог прим при УСНО'!D10","v":1318.8040000000001},{"$f":"'Налог прим при УСНО'!E10","v":991.89499999999998},{"$f":"'Налог прим при УСНО'!G10","v":{"$error":"#REF!"}}]
["5","Плата за аренду имущества","тыс.руб.",{"$f":"'Аренда имущества'!B44","v":4844.28},{"$f":"'Аренда имущества'!C44","v":4886.2219999999998},{"$f":"'Аренда имущества'!D44","v":4844.28},{"$f":"'Аренда имущества'!N44","v":0}]
["6","Оплата услуг ОАО \"ФСК ЕЭС\"","тыс.руб.",{"$f":"'Услуги ФСК'!B17","v":0},{"$f":"'Услуги ФСК'!E17","v":0},{"$f":"'Услуги ФСК'!F17","v":0},{"$f":"'Услуги ФСК'!O17","v":0}]
["7","Прочие обоснованные неподконтрольные расходы","тыс.руб.",{"$f":"'Прочие НР'!B15","v":190.41},{"$f":"'Прочие НР'!C15","v":2275.4359999999997},{"$f":"'Прочие НР'!D15","v":198.02600000000001},{"$f":"'Прочие НР'!G15","v":0}]
["8","Капитальные вложения производственного характера из прибыли","тыс.руб.",{"$f":"' КВЛ'!B25","v":1351},{"$f":"' КВЛ'!C25","v":712.1629999999991},{"$f":"' КВЛ'!D25","v":3711.0779811862158},{"$f":"' НВВ содержание'!G38","v":0}]
["9","Расходы, связанные с компенсацией выпадающих доходов от льготного технологического присоединения","тыс.руб.",{"$f":"'Выпадающий доход'!B20","v":0},"х",{"$f":"'Выпадающий доход'!C20","v":0},{"$f":"'Выпадающий доход'!E20","v":0}]
["10",{"$f":"'НВВ по данным предпр.'!B46","v":"Расходы на возврат и обслуживание долгосрочных заемных средств, направляемых на финансирование капитальных вложений "},"тыс.руб.",{"$f":"'Возврат заемных средств'!B10","v":691.6182},{"$f":"'Возврат заемных средств'!C10","v":12017.24},{"$f":"'Возврат заемных средств'!D10","v":0},{"$f":"'Возврат заемных средств'!G10","v":0}]
[null,"Итого НР:","тыс.руб.",{"$f":"SUM(D32:D35,D41:D46)","v":16745.586983635843},29667.821040000003,18874.352359122633,{"$error":"#REF!"}]
[]
["Корректировка необходимой валовой выручки "]
["1","Корректировка подконтрольных расходов","тыс.руб.",{"$f":"' НВВ содержание'!C42","v":0},{"$f":"' НВВ содержание'!D42","v":"x"},{"$f":"' НВВ содержание'!E42","v":126.32045284326887},{"$f":"' НВВ содержание'!G42","v":-31416.515021127096}]
["2","Корректировка неподконтрольных расходов","тыс.руб.",{"$f":"' НВВ содержание'!C43","v":156.89661865273303},{"$f":"' НВВ содержание'!D43","v":"x"},{"$f":"' НВВ содержание'!E43","v":834.85385400773635},{"$f":"' НВВ содержание'!G43","v":{"$error":"#REF!"}}]
["3","Корректировка НВВ с учетом изменения полезного отпуска и цен на электрическую энергию ","тыс.руб.",{"$f":"' НВВ содержание'!C44","v":1126.813508395046},{"$f":"' НВВ содержание'!D44","v":"x"},{"$f":"' НВВ содержание'!E44","v":-126.05409722329316},{"$f":"' НВВ содержание'!G44","v":0}]
["4","Корректировка необходимой валовой выручки по доходам от осуществления регулируемой деятельности","тыс.руб.",{"$f":"' НВВ содержание'!C45","v":"x"},{"$f":"' НВВ содержание'!D45","v":"x"},{"$f":"' НВВ содержание'!E45","v":"x"},{"$f":"' НВВ содержание'!G45","v":50944.322108646455}]
["5","Корректировка НВВ в связи с изменением (неисполнением) инвестиционной программы ","тыс.руб.",{"$f":"' НВВ содержание'!C46","v":915.18582387262325},{"$f":"' НВВ содержание'!D46","v":"x"},{"$f":"' НВВ содержание'!E46","v":175.3},{"$f":"' НВВ содержание'!G46","v":0}]
["6","Корректировка НВВ с учетом надежности и качества оказываемых услуг ","тыс.руб.",{"$f":"' НВВ содержание'!C47","v":583.3241529631124},{"$f":"' НВВ содержание'!D47","v":"x"},{"$f":"' НВВ содержание'!E47","v":617.19871853957443},{"$f":"' НВВ содержание'!G47","v":1018.8864421729292}]
[null,"Итого корректировка НВВ","тыс.руб.",{"$f":"SUM(D50:D55)","v":2782.2201038835146},"х",{"$f":"SUM(F50:F55)","v":1627.6189281672864},{"$f":"SUM(G50:G55)","v":{"$error":"#REF!"}}]
["Расходы организации на содержание сетей на долгосрочный период регулирования"]
[1,"Подконтрольные расходы","тыс.руб.",{"$f":"D30","v":31416.515021127096},{"$f":"E30","v":39640.300000000003},{"$f":"F30","v":33163.380247170775},{"$f":"G30","v":8207.9366111747659}]
[2,"Неподконтрольные расходы","тыс.руб.",{"$f":"D47","v":16745.586983635843},{"$f":"E47","v":29667.821040000003},{"$f":"F47","v":18874.352359122633},{"$f":"G47","v":{"$error":"#REF!"}}]
[3,"Корректировка необходимой валовой выручки ","тыс.руб.",{"$f":"D56","v":2782.2201038835146},{"$f":"E56","v":"х"},1627.6189281672864,{"$error":"#REF!"}]
[null,"Итого расходы на содержание электрических сетей:","тыс.руб.",{"$f":"D58+D59+D60","v":50944.322108646455},{"$f":"E58+E59","v":69308.121039999998},{"$f":"F58+F59+F60","v":53665.351534460693},{"$error":"#REF!"}]
["Расходы организации на компенсацию потерь на долгосрочный период регулирования"]
[1,"Величина технологического расхода (потерь) электрической энергии","млн.кВт.ч.",{"$f":"'Баланс энергии'!C19","v":3.8880933791552996},{"$f":"'Баланс энергии'!R19","v":2.9316584206842231},{"$f":"'Баланс энергии'!AG19","v":3.6704980500341997},{"$f":"'Баланс энергии'!BK19","v":0}]
[2,"Прогнозная цена (тариф) покупки потерь электрической энергии","руб./МВт.ч.",{"$f":"'Корр. ПО'!G40","v":0},{"$f":"'Корр. ПО'!H40","v":0},{"$f":"'НВВ на потери'!F12","v":2931.1760855327248},{"$f":"'НВВ на потери'!L12","v":0}]
[null,"Итого расходы на компенсацию потерь:","тыс.руб.",{"$f":"D63*D64","v":0},{"$f":"E63*E64","v":0},{"$f":"F63*F64","v":10758.876106254746},{"$f":"G63*G64","v":0}]
["Необходимая валовая выручка (НВВ) организации на оказание услуги по передаче электрической энергии"]
[1,"Расходы на содержание электрических сетей","тыс.руб.",{"$f":"D61","v":50944.322108646455},{"$f":"E61","v":69308.121039999998},{"$f":"F61","v":53665.351534460693},{"$f":"G61","v":{"$error":"#REF!"}}]
[2,"Расходы на компенсацию потерь","тыс.руб.",{"$f":"D65","v":0},0,10758.876106254746,0]
[null,"Необходимая валовая выручка (НВВ) организации на оказание услуги по передаче электрической энергии","тыс.руб.",{"$f":"D67+D68","v":50944.322108646455},69308.121039999998,64424.227640715442,{"$error":"#REF!"}]
[]
[null,"Руководитель организации",null,{"$f":"'Инф-я'!$C$17","v":"Окунев Василий Михайлович"}]

{"sheet":"НВВ на потери","index":41,"n_rows":17,"n_cols":12,"rows_kept":17,"cut":false,"hidden":false,"merged":[[7,9,7,11],[14,0,14,1],[14,2,14,4],[4,0,4,10],[6,0,8,0],[6,1,8,1],[6,2,8,2],[6,6,6,11],[7,6,7,8],[6,3,7,5]]}
[]
[]
["Расходы организации на компенсацию потерь на 2019 год долгосрочного периода регулирования 2015 - 2019 годы"]
[]
[{"$f":"'Инф-я'!C9","v":"Общество с ограниченной ответственностью \"Энергетик\""}]
[]
["№ п/п","Показатели","Ед.измер.","2018 год утверждено",null,null,"2019 год"]
[null,null,null,null,null,null,"По данным организации ",null,null,"По данным экспертов"]
[null,null,null,"1-е полугодие","2-е полугодие","Год","1-е полугодие","2-е полугодие","Год","1-е полугодие","2-е полугодие","Год"]
[1,2,3,4,5,6,7,8,9,7,8,9]
[1,"Величина технологического расхода (потерь) электрической энергии","млн.кВт.ч.",2.0019999999999998,1.6684999999999999,{"$f":"D11+E11","v":3.6704999999999997},{"$f":"'Баланс энергии'!AL19","v":2.0020416035499999},{"$f":"'Баланс энергии'!AQ19","v":1.6684556812699998},{"$f":"'Баланс энергии'!AV19","v":3.6704997548200002},{"$f":"'Баланс энергии'!BA19","v":0},{"$f":"'Баланс энергии'!BF19","v":0},{"$f":"'Баланс энергии'!BK19","v":0}]
[2,"Прогнозная цена (тариф) покупки потерь электрической энергии","руб./МВт.ч.",2952.0818623626033,2906.0916592735598,{"$f":"IF(F11=0,0,F13/F11)","v":2931.1760855327248},2952.08,2906.09,{"$f":"IF(I11=0,0,I13/I11)","v":2931.1728828374294},null,null,{"$f":"IF(L11=0,0,L13/L11)","v":0}]
[null,"Итого расходы на компенсацию потерь:","тыс.руб.",{"$f":"D11*D12","v":5910.0678884499312},{"$f":"E11*E12","v":4848.8139334979342},{"$f":"D13+E13","v":10758.881821947865},{"$f":"G11*G12","v":5910.1869770078838},{"$f":"H11*H12","v":4848.682370781934},{"$f":"G13+H13","v":10758.869347789818},{"$f":"J11*J12","v":0},{"$f":"K11*K12","v":0},{"$f":"J13+K13","v":0}]
[]
["Руководитель организации",null,{"$f":"'Инф-я'!$C$17","v":"Окунев Василий Михайлович"}]
[]
["Справочная информация: расшифровка прогнозной цены покупки потерь электрической энергии у энергосбытовой организации"]

{"sheet":"Тарифы","index":42,"n_rows":19,"n_cols":9,"rows_kept":19,"cut":false,"hidden":false,"merged":[[3,0,3,8],[1,0,1,5],[5,6,5,8],[18,0,18,1],[18,2,18,4],[5,0,6,0],[5,1,6,1],[5,2,6,2],[5,3,5,5]]}
[]
["Расчет индивидуальных тарифов на 2019 год долгосрочного периода регулирования 2015 - 2019 годы"]
[]
[{"$f":"'Инф-я'!C9","v":"Общество с ограниченной ответственностью \"Энергетик\""}]
[]
["№ п./п.","Показатели","Ед. изм.","По расчету организации",null,null,"По расчету экспертов"]
[null,null,null,2019,"1 полугодие","2 полугодие",2019,"1 полугодие","2 полугодие"]
[1,2,3,4,5,6,7,8,9]
[1,"Необходимая валовая выручка на передачу электрической энергии, всего, в том числе:","тыс. руб.",{"$f":"D10+D11","v":77165.637304193355},42441.122376021951,34724.514928171404,{"$error":"#REF!"},0,{"$error":"#REF!"}]
["1.1.","Необходимая валовая выручка на содержание электрических сетей","тыс. руб.",{"$f":"'НВВ по данным предпр.'!G67","v":66406.767956403535},{"$f":"D10*0.55","v":36523.722376021949},{"$f":"D10-E10","v":29883.045580381586},{"$f":"'НВВ по данным экспертов'!G67","v":{"$error":"#REF!"}},null,{"$f":"G10-H10","v":{"$error":"#REF!"}}]
["1.2.","Необходимая валовая выручка на оплату технологического расхода (потерь) электрической энергии","тыс. руб.",{"$f":"'НВВ по данным предпр.'!G68","v":10758.869347789818},5917.4,{"$f":"D11-E11","v":4841.4693477898181},{"$f":"'НВВ по данным экспертов'!G68","v":0},null,{"$f":"G11-H11","v":0}]
[2,"Договорная мощность ","МВт",4.47,{"$f":"D12","v":4.47},{"$f":"D12","v":4.47},null,{"$f":"G12","v":0},{"$f":"G12","v":0}]
[3,"Полезный отпуск электрической энергии за исключением перетока в сети филиала «Владимирэнерго» ОАО «МРСК Центра и Приволжья»","млн. кВт ч.",{"$f":"('Баланс энергии'!AV22-'Баланс энергии'!AV24)","v":22.47610024518},{"$f":"('Баланс энергии'!AL22-'Баланс энергии'!AL24)","v":12.25945839645},{"$f":"('Баланс энергии'!AQ22-'Баланс энергии'!AQ24)","v":10.216644318729999},{"$f":"('Баланс энергии'!BK22-'Баланс энергии'!BK24)*1000","v":0},{"$f":"('Баланс энергии'!BA22-'Баланс энергии'!BA24)*1000","v":0},{"$f":"('Баланс энергии'!BF22-'Баланс энергии'!BF24)*1000","v":0}]
[4,"Двухставочный тариф"]
["4.1.","ставка на содержание электрических сетей","руб./кВт мес",{"$f":"IF(D12=0,0,D10/D12/12)","v":1238.0083511633768},{"$f":"IF(E12=0,0,E10/E12/6)","v":1361.8091862797148},{"$f":"IF(F12=0,0,F10/F12/6)","v":1114.207516047039},{"$f":"IF(G12=0,0,G10/G12/12)","v":0},{"$f":"IF(H12=0,0,H10/H12/6)","v":0},{"$f":"IF(I12=0,0,I10/I12/6)","v":0}]
["4.2.","ставка на оплату технологического расхода (потерь)","руб./кВт ч.",{"$f":"IF(D13=0,0,D11/D13/1000)","v":0.47868043078767891},{"$f":"IF(E13=0,0,E11/E13/1000)","v":0.48268037694989158},0.47388058121139004,{"$f":"IF(G13=0,0,G11/G13/1000)","v":0},{"$f":"IF(H13=0,0,H11/H13/1000)","v":0},0]
[5,"Одноставочный тариф","руб./кВт ч.",{"$f":"IF(D13=0,0,D9/D13/1000)","v":3.433230696714904},{"$f":"IF(E13=0,0,E9/E13/1000)","v":3.4619084304989953},3.398818031132937,{"$f":"IF(G13=0,0,G9/G13/1000)","v":0},{"$f":"IF(H13=0,0,H9/H13/1000)","v":0},0]
[]
["Руководитель организации",null,{"$f":"'Инф-я'!$C$17","v":"Окунев Василий Михайлович"}]

{"sheet":"Форма 1.1","index":43,"n_rows":27,"n_cols":4,"rows_kept":27,"cut":false,"hidden":false,"merged":[[1,0,1,3],[5,0,5,3],[26,0,29,3],[3,1,3,3],[21,0,21,1],[21,2,21,4]]}
[]
["Форма 1.1 - Журнал учета текущей информации о прекращении передачи электрической энергии для потребителей услуг за 2017 год   "]
[]
[null,{"$f":"'Инф-я'!C9","v":"Общество с ограниченной ответственностью \"Энергетик\""}]
[]
["(наименование территориальной сетевой организации)"]
["№","Период","Продолжительность прекращения,\nчас.","Количество точек присоединения потребителей услуг к электрической сети электросетевой организации, шт."]
[1,2,3,4]
[1,"январь",null,2542]
[2,"февраль",null,2543]
[3,"март",null,2543]
[4,"апрель",null,2547]
[5,"май",5.42,2548]
[6,"июнь",1.1659999999999999,2547]
[7,"июль",null,2544]
[8,"август",null,2544]
[9,"сентябрь",null,2541]
[10,"октябрь",null,2542]
[11,"ноябрь",1,2543]
[12,"декабрь",0.83,2544]
[]
["Руководитель организации",null,{"$f":"'Инф-я'!$C$17","v":"Окунев Василий Михайлович"}]
[]
[]
[]
[]
["Согласно п. 14 Постановления Правительства от 31.12.2009 г.  № 1220 организации предоставляют регулирующим органам до 1 апреля года, следующего за отчетным, отчетные данные, используемые при расчете фактических значений показателей надежности и качества"]

{"sheet":"Форма 1.2","index":44,"n_rows":10,"n_cols":6,"rows_kept":10,"cut":false,"hidden":false,"merged":[[9,1,9,2],[9,3,9,5],[1,0,1,4],[2,0,2,4],[3,0,3,4],[5,0,5,2],[6,0,6,2],[7,0,7,2]]}
[]
["Форма 1.2 - Расчет фактического показателя средней продолжительности прекращений передачи электрической энергии за 2017 год"]
[{"$f":"'Инф-я'!C9","v":"Общество с ограниченной ответственностью \"Энергетик\""}]
["(наименование территориальной сетевой организации)"]
[]
["Максимальное за расчетный период",null,null,"Максимальное за расчетный период регулирования число точек присоединения  потребителей услуг к э. сети ТСО, шт.",{"$f":"MAX('Форма 1.1'!D9:D20)","v":2548}," "]
["Суммарная продолжительность прекращений передачи электрической энергии, час. (Тпр)",null,null,"гр. 3 формы 1.1",{"$f":"SUM('Форма 1.1'!C9:C20)","v":8.4160000000000004}]
["Показатель средней продолжительности прекращений передачи электрической энергии (Пп)",null,null,"Пп = Тпр/Nтп",{"$f":"IF(E6=0,0,E7/E6)","v":3.3029827315541604E-3}]
[]
[null,"Руководитель организации",null,{"$f":"'Инф-я'!$C$17","v":"Окунев Василий Михайлович"}]

{"sheet":"Форма 2.1","index":45,"n_rows":33,"n_cols":8,"rows_kept":33,"cut":false,"hidden":false,"merged":[[32,2,32,4],[35,2,35,4],[35,5,35,7],[37,5,37,7],[25,5,25,6],[26,5,26,6],[27,5,27,6],[28,5,28,6],[29,5,29,6],[30,5,30,6],[24,5,24,6],[13,5,13,6],[14,5,14,6],[15,5,15,6],[16,5,16,6],[17,5,17,6],[18,5,18,6],[19,5,19,6],[20,5,20,6],[21,5,21,6],[22,5,22,6],[23,5,23,6],[32,0,32,1],[12,5,12,6],[0,0,0,7],[1,0,1,7],[2,0,2,7],[5,0,6,0],[5,1,6,1],[5,2,5,3],[5,4,6,4],[5,5,6,6],[5,7,6,7],[7,5,7,6],[8,5,8,6],[9,5,9,6],[10,5,10,6],[11,5,11,6]]}
["Форма 2.1 - Расчет значения индикатора информативности за 2017 год"]
[{"$f":"'Инф-я'!C9","v":"Общество с ограниченной ответственностью \"Энергетик\""}]
["(наименование территориальной сетевой организации)"]
[]
[]
["Наименование параметра (критерия), характеризующего индикатор","Ед.изм-ния","Значение",null,"Ф / П * 100, %","Зависи-мость",null,"Оценочный балл "]
[null,null,"факти-ческое\n(Ф)","плановое\n(П)"]
[1,null,2,3,4,5,null,6]
["1. Возможность личного приема заявителей и потребителей услуг уполномоченными должностными лицами территориальной сетевой организации - всего,",null,"-","-","-","-",null,{"$f":"(H11+H12)/2","v":2}]
["в том числе, по критериям:"]
["1.1. Количество структурных подразделений по работе с заявителями и потребителями услуг в процентном отношении к общему количеству структурных подразделений","%",0.33,0.33,{"$f":"(IF(AND(D11=0,C11=0),1,IF(AND(D11=0,C11>0),1.2,C11/D11)))","v":1},"прямая",null,{"$f":"IF(E11<80%,3,IF(E11>120%,1,2))","v":2}]
["1.2. Количество утвержденных территориальной сетевой организацией в установленном порядке организационно-распорядительных документов по вопросам работы с заявителями и потребителями услуг - всего, шт.","шт.",10,10,{"$f":"(IF(AND(D12=0,C12=0),1,IF(AND(D12=0,C12>0),1.2,C12/D12)))","v":1},"прямая",null,{"$f":"IF(E12<80%,3,IF(E12>120%,1,2))","v":2}]
["в том числе:"]
["а) регламенты оказания услуг и рассмотрения обращений заявителей и потребителей услуг, шт.","шт.",0,0,{"$f":"(IF(AND(D14=0,C14=0),1,IF(AND(D14=0,C14>0),1.2,C14/D14)))","v":1},"прямая",null,"-"]
["б) наличие положения о деятельности структурного подразделения по работе \nс заявителями и потребителями услуг ‎(наличие - 1, отсутствие - ‎‎0), шт.‎","шт.",0,0,{"$f":"(IF(AND(D15=0,C15=0),1,IF(AND(D15=0,C15>0),1.2,C15/D15)))","v":1},"прямая",null,"-"]
["в) должностные инструкции сотрудников, обслуживающих заявителей и потребителей услуг, шт.","шт.",8,8,{"$f":"(IF(AND(D16=0,C16=0),1,IF(AND(D16=0,C16>0),1.2,C16/D16)))","v":1},"прямая",null,"-"]
["г) утвержденные территориальной сетевой организацией в установленном порядке формы отчетности о работе с заявителями и потребителями услуг, шт.","шт.",2,2,{"$f":"(IF(AND(D17=0,C17=0),1,IF(AND(D17=0,C17>0),1.2,C17/D17)))","v":1},"прямая",null,"-"]
["2. Наличие телефонной связи для обращений потребителей услуг к уполномоченным должностным лицам территориальной сетевой организации,",null,"-","-","-","-",null,{"$f":"(H20+H21+H22)/3","v":2.3333333333333335}]
["в том числе по критериям:"]
["2.1. Наличие единого телефонного номера для приема обращений потребителей услуг (наличие - 1, отсутствие - 0)","(наличие - 1, отсутствие - 0)",1,1,{"$f":"(IF(AND(D20=0,C20=0),1,IF(AND(D20=0,C20>0),1.2,C20/D20)))","v":1},"прямая",null,{"$f":"IF(E20<80%,3,IF(E20>120%,1,2))","v":2}]
["2.2. Наличие информационно-справочной системы для автоматизации обработки обращений потребителей услуг, поступивших по телефону (наличие - 1, отсутствие - 0)","(наличие - 1, отсутствие - 0)",0,1,{"$f":"(IF(AND(D21=0,C21=0),1,IF(AND(D21=0,C21>0),1.2,C21/D21)))","v":0},"прямая",null,{"$f":"IF(E21<80%,3,IF(E21>120%,1,2))","v":3}]
["2.3. Наличие системы автоинформирования потребителей услуг по телефону, предназначенной для доведения до них типовой информации (наличие - 1, отсутствие - 0)","(наличие - 1, отсутствие - 0)",0,0,{"$f":"(IF(AND(D22=0,C22=0),1,IF(AND(D22=0,C22>0),1.2,C22/D22)))","v":1},"прямая",null,{"$f":"IF(E22<80%,3,IF(E22>120%,1,2))","v":2}]
["3. Наличие в сети Интернет сайта территориальной сетевой организации с возможностью обмена информацией с потребителями услуг посредством электронной почты (наличие - 1, отсутствие - 0)","(наличие - 1, отсутствие - 0)",1,1,{"$f":"(IF(AND(D23=0,C23=0),1,IF(AND(D23=0,C23>0),1.2,C23/D23)))","v":1},"прямая",null,{"$f":"IF(E23<80%,3,IF(E23>120%,1,2))","v":2}]
["4. Проведение мероприятий по доведению до сведения потребителей услуг необходимой информации, в том числе путем ее размещения в сети Интернет, на бумажных носителях или иными доступными способами (проведение - 1, отсутствие - 0)","(наличие - 1, отсутствие - 0)",1,1,{"$f":"(IF(AND(D24=0,C24=0),1,IF(AND(D24=0,C24>0),1.2,C24/D24)))","v":1},"прямая",null,{"$f":"IF(E24<80%,3,IF(E24>120%,1,2))","v":2}]
["5. Простота и доступность схемы обжалования потребителями услуг действий должностных лиц территориальной сетевой организации, по критерию",null,"-","-","-","-",null,{"$f":"H26","v":2}]
["5.1. Общее количество обращений потребителей услуг о проведении консультаций по порядку обжалования действий (бездействия) территориальной сетевой организации в ходе исполнения своих функций в процентах от общего количества поступивших обращений","%",0,0,{"$f":"(IF(AND(D26=0,C26=0),1,IF(AND(D26=0,C26>0),1.2,C26/D26)))","v":1},"обратная",null,{"$f":"IF(E26<80%,1,IF(E26>120%,3,2))","v":2}]
["6. Степень полноты, актуальности и достоверности предоставляемой потребителям услуг информации о деятельности территориальной сетевой организации - всего,",null,"-","-","-","-",null,{"$f":"(H29+H30)/2","v":2}]
["в том числе по критериям:"]
["6.1. Общее количество обращений потребителей услуг о проведении консультаций по вопросам деятельности территориальной сетевой организации в процентах от общего количества поступивших обращений","%",0,0,{"$f":"(IF(AND(D29=0,C29=0),1,IF(AND(D29=0,C29>0),1.2,C29/D29)))","v":1},"обратная",null,{"$f":"IF(E29<80%,1,IF(E29>120%,3,2))","v":2}]
["6.2. Количество обращений потребителей услуг с указанием на отсутствие необходимой информации, которая должна быть раскрыта территориальной сетевой организацией в соответствии с нормативными правовыми актами, в процентах от общего количества поступивших обращений","%",0,0,{"$f":"(IF(AND(D30=0,C30=0),1,IF(AND(D30=0,C30>0),1.2,C30/D30)))","v":1},"обратная",null,{"$f":"IF(E30<80%,1,IF(E30>120%,3,2))","v":2}]
["7. Итого по индикатору \nинформативности (Ин)","-","-","-","-","-",null,{"$f":"(H9+H18+H23+H24+H25+H27)/6","v":2.0555555555555558}]
[]
["Руководитель организации",null,{"$f":"'Инф-я'!$C$17","v":"Окунев Василий Михайлович"}]

{"sheet":"Форма 2.2","index":46,"n_rows":28,"n_cols":8,"rows_kept":28,"cut":false,"hidden":false,"merged":[[8,0,8,1],[28,3,28,5],[28,6,28,7],[30,6,30,7],[30,8,30,10],[27,1,27,2],[27,3,27,5],[2,0,2,7],[3,0,3,7],[4,1,4,7],[6,0,7,1],[6,2,7,2],[6,3,6,4],[6,5,7,5],[6,6,7,6],[6,7,7,7]]}
[]
[]
["Форма 2.2 - Расчет значения индикатора исполнительности за 2017 год"]
[{"$f":"'Инф-я'!C9","v":"Общество с ограниченной ответственностью \"Энергетик\""}]
[null,"(наименование территориальной сетевой организации)"]
[]
["Наименование параметра (показателя), характеризующего индикатор",null,"Ед.изм-ния","Значение",null,"Ф / П * 100, %","Зависи-мость","Оценочный балл "]
[null,null,null,"факти-ческое\n(Ф)","плановое\n(П)"]
[1,null,null,2,3,4,5,6]
[null,"1. Соблюдение сроков по процедурам взаимодействия с потребителями услуг (заявителями) - всего",null,"-","-","-","-",{"$f":"(H12+H16)/2","v":0.5}]
[null,"в том числе, по критериям:"]
[null,"1.1. Среднее время, затраченное территориальной сетевой организацией на направление проекта договора оказания услуг по передаче электрической энергии потребителю услуг (заявителю), дней\n","дней",3,3,{"$f":"(IF(AND(E12=0,D12=0),1,IF(AND(E12=0,D12>0),1.2,D12/E12)))","v":1},"обратная",{"$f":"IF(F12<80%,0.25,IF(F12>120%,0.75,0.5))","v":0.5}]
[null,"1.2. Среднее время, необходимое для оборудования точки поставки приборами учета с момента подачи заявления потребителем услуг:","дней","-","-","-","обратная","-"]
[null,"а) для физических лиц, включая индивидуальных предпринимателей, и юридических лиц - субъектов малого и среднего предпринимательства, дней",null,3,3,null,"-","-"]
[null,"б) для остальных потребителей услуг, дней",null,null,null,null,"-","-"]
[null,"1.3. Количество случаев отказа от заключения и случаев расторжения потребителем услуг договоров оказания услуг по передаче электрической энергии, процентов от общего количества заключенных территориальной сетевой организацией договоров с потребителями услуг (заявителями), кроме физических лиц",null,1E-3,1E-3,{"$f":"(IF(AND(E16=0,D16=0),1,IF(AND(E16=0,D16>0),1.2,D16/E16)))","v":1},"обратная",{"$f":"IF(F16<80%,0.25,IF(F16>120%,0.75,0.5))","v":0.5}]
[null,"2. Соблюдение требований нормативных правовых актов Российской Федерации по поддержанию качества электрической энергии, по критерию",null,"-","-","-","-",{"$f":"(H18)","v":0.5}]
[null,"2.1. Количество обращений потребителей услуг с указанием на ненадлежащее качество электрической энергии, процентов от общего количества поступивших обращений\n","дней",1E-3,1E-3,{"$f":"(IF(AND(E18=0,D18=0),1,IF(AND(E18=0,D18>0),1.2,D18/E18)))","v":1},"обратная",{"$f":"IF(F18<80%,0.25,IF(F18>120%,0.75,0.5))","v":0.5}]
[null,"3. Наличие взаимодействия с потребителями услуг при выводе оборудования в ремонт и (или) из эксплуатации",null,"-","-","-","-",{"$f":"(H21+H22)/2","v":0.5}]
[null,"в том числе, по критериям:"]
[null,"3.1.  Наличие (отсутствие) установленной процедуры согласования с потребителями услуг графиков вывода электросетевого оборудования в ремонт и (или) из эксплуатации\n(наличие - 1, отсутствие - 0)","%",0.01,0.01,{"$f":"(IF(AND(E21=0,D21=0),1,IF(AND(E21=0,D21>0),1.2,D21/E21)))","v":1},"обратная",{"$f":"IF(F21<80%,0.25,IF(F21>120%,0.75,0.5))","v":0.5}]
[null,"3.2. Количество обращений потребителей услуг с указанием на несогласие введения предлагаемых территориальной сетевой организацией графиков вывода электросетевого оборудования в ремонт и (или) из эксплуатации, процентов от общего количества поступивших обращений, кроме физических лиц",null,0.02,0,{"$f":"(IF(AND(E22=0,D22=0),1,IF(AND(E22=0,D22>0),1.2,D22/E22)))","v":1.2},"обратная",{"$f":"IF(F22<80%,0.25,IF(F22>120%,0.75,0.5))","v":0.5}]
[null,"4. Соблюдение требований нормативных правовых актов по защите персональных данных потребителей услуг (заявителей), по критерию",null,"-","-","-","-",{"$f":"H24","v":0.1}]
[null,"4.1. Количество установленных вступившим в законную силу решением антимонопольного органа и (или) суда нарушений территориальной сетевой организацией требований в части государственного регулирования цен (тарифов), в процентах от общего количества поступивших заявок на технологическое присоединение","%",0,1E-4,{"$f":"(IF(AND(E24=0,D24=0),1,IF(AND(E24=0,D24>0),1.2,D24/E24)))","v":0},"обратная",{"$f":"IF(F24<80%,0.1,IF(F24>120%,0.3,0.2))","v":0.1}]
[null,"5. Итого по индикатору \nисполнительности (Ис)","-","-","-","-","-",{"$f":"(H10+H17+H19+H23)/4","v":0.4}]
[]
[]
[null,"Руководитель организации",null,{"$f":"'Инф-я'!$C$17","v":"Окунев Василий Михайлович"}]

{"sheet":"форма 2.3","index":47,"n_rows":36,"n_cols":8,"rows_kept":36,"cut":false,"hidden":false,"merged":[[33,2,33,4],[33,5,33,7],[35,5,35,7],[2,0,2,7],[3,0,3,7],[4,0,4,7],[6,0,7,0],[6,1,7,1],[6,2,6,3],[6,4,7,4],[6,5,7,5],[6,7,7,7],[35,0,35,1],[35,2,35,4]]}
[]
[]
["Форма 2.3 - Расчет значения индикатора результативности обратной связи за 2017 год"]
[{"$f":"'Инф-я'!C9","v":"Общество с ограниченной ответственностью \"Энергетик\""}]
["(наименование территориальной сетевой организации)"]
[]
["Наименование параметра (показателя), характеризующего индикатор","Ед.изм-ния","Значение",null,"Ф / П * 100, %","Зависи-мость",null,"Оценочный балл "]
[null,null,"факти-ческое\n(Ф)","плановое\n(П)"]
[null,null,2,3,4,5,null,6]
["1. Наличие структурного подразделения территориальной сетевой организации по рассмотрению, обработке и принятию мер по обращениям потребителей услуг (наличие - 1, отсутствие - 0)","(наличие - 1, отсутствие - 0)",1,1,{"$f":"(IF(AND(D10=0,C10=0),1,IF(AND(D10=0,C10>0),1.2,C10/D10)))","v":1},"прямая",null,{"$f":"IF(E10<80%,3,IF(E10>120%,1,2))","v":2}]
["2. Степень удовлетворения обращений потребителей услуг",null,"-","-","-","-",null,{"$f":"(H13+H14+H15+H16+H17+H18)/6","v":2}]
["в том числе по критериям:"]
["2.1. Общее количество обращений потребителей услуг с указанием на ненадлежащее качество услуг по передаче электрической энергии и обслуживание, в процентах от общего количества поступивших обращений","%",0,0,{"$f":"(IF(AND(D13=0,C13=0),1,IF(AND(D13=0,C13>0),1.2,C13/D13)))","v":1},"обратная",null,{"$f":"IF(E13<80%,1,IF(E13>120%,3,2))","v":2}]
["2.2. Количество принятых мер по результатам рассмотрения обращений потребителей услуг с указанием на ненадлежащее качество услуг по передаче электрической энергии и обслуживание, в процентах от общего количества поступивших обращений","%",0,0,1,"прямая",null,{"$f":"IF(E14<80%,3,IF(E14>120%,1,2))","v":2}]
["2.3. Количество обращений, связанных с неудовлетворенностью принятыми мерами, указанными в п. 2.2 настоящей формы, поступивших от потребителей услуг в течение 30 рабочих дней после завершения мероприятий, указанных в п. 2.2 настоящей формы, в процентах от общего количества поступивших обращений","%",0,0,1,"обратная",null,{"$f":"IF(E15<80%,1,IF(E15>120%,3,2))","v":2}]
["2.4. Количество обращений потребителей услуг с указанием на ненадлежащее качество услуг, оказываемых территориальной сетевой организацией, поступивших в соответствующий контролирующий орган исполнительной власти, в процентах от общего количества поступивших обращений","%",0,0,1,"обратная",null,{"$f":"IF(E16<80%,1,IF(E16>120%,3,2))","v":2}]
["2.5. Количество отзывов и предложений по вопросам деятельности территориальной сетевой организации, поступивших через обратную связь, в процентах от общего количества поступивших обращений","%",0,0,1,"прямая",null,{"$f":"IF(E17<80%,3,IF(E17>120%,1,2))","v":2}]
["2.6. Количество реализованных изменений в деятельности организации, направленных на повышение качества обслуживания потребителей услуг, шт.","шт.",0,0,1,"прямая",null,{"$f":"IF(E18<80%,3,IF(E18>120%,1,2))","v":2}]
["3. Оперативность реагирования на обращения потребителей услуг - всего,",null,"-","-","-","-",null,{"$f":"(H21+H22)/2","v":2}]
["в том числе по критериям:"]
["3.1. Средняя продолжительность времени принятия мер по результатам обращения потребителя услуг, дней","дней",0,0,{"$f":"(IF(AND(D21=0,C21=0),1,IF(AND(D21=0,C21>0),1.2,C21/D21)))","v":1},"обратная",null,{"$f":"IF(E21<80%,1,IF(E21>120%,3,2))","v":2}]
["3.2. Взаимодействие территориальной сетевой организации с потребителями услуг с целью получения информации о качестве обслуживания, реализованное посредством:",null,"-","-","-","-",null,{"$f":"(H23+H24+H25)/3","v":2}]
["а) письменных опросов, шт. на 1000 потребителей услуг","шт. на 1000 потребителей услуг",0,0,1,"прямая",null,{"$f":"IF(E23<80%,3,IF(E23>120%,1,2))","v":2}]
["б) электронной связи через сеть Интернет, шт. на 1000 потребителей услуг","шт. на 1000 потребителей услуг",0,0,1,"прямая",null,{"$f":"IF(E24<80%,3,IF(E24>120%,1,2))","v":2}]
["в) системы автоинформирования,шт. на 1000 потребителей услуг","шт. на 1000 потребителей услуг",0,0,1,"прямая",null,{"$f":"IF(E25<80%,3,IF(E25>120%,1,2))","v":2}]
["4. Индивидуальность подхода к потребителям услуг льготных категорий, по критерию",null,"-","-","-","-",null,{"$f":"H27","v":2}]
["4.1. Количество обращений потребителей услуг льготных категорий с указанием на неудовлетворительность качества их обслуживания, шт. на 1000 потребителей услуг","шт. на 1000 потребителей услуг",0,0,1,"обратная",null,{"$f":"IF(E27<80%,1,IF(E27>120%,3,2))","v":2}]
["5. Оперативность возмещения убытков потребителям услуг при несоблюдении территориальной сетевой организацией обязательств, предусмотренных нормативными правовыми актами и договорами",null,"-","-","-","-",null,{"$f":"(H30+H31)/2","v":2}]
["в том числе по критериям:"]
["5.1. Средняя продолжительность времени на принятие территориальной сетевой организацией мер по возмещению потребителю услуг убытков, месяцев","месяцев",0,0,{"$f":"(IF(AND(D30=0,C30=0),1,IF(AND(D30=0,C30>0),1.2,C30/D30)))","v":1},"обратная",null,{"$f":"IF(E30<80%,1,IF(E30>120%,3,2))","v":2}]
["5.2. Доля потребителей услуг, получивших возмещение убытков, возникших в результате неисполнения (ненадлежащего исполнения) территориальной сетевой организацией своих обязательств, от числа потребителей, в пользу которых было вынесено судебное решение, или возмещение было произведено во внесудебном порядке, %","%",0,0,1,"прямая",null,{"$f":"IF(E31<80%,3,IF(E31>120%,1,2))","v":2}]
["6. Итого по индикатору результативности обратной связи (Рс)","-","-","-","-","-",null,{"$f":"(H10+H11+H19+H26+H28)/5","v":2}]
[]
[]
[]
["Руководитель организации",null,{"$f":"'Инф-я'!$C$17","v":"Окунев Василий Михайлович"}]

{"sheet":"форма 2.4","index":48,"n_rows":16,"n_cols":3,"rows_kept":16,"cut":false,"hidden":false,"merged":[[15,1,15,2],[18,1,18,2],[3,0,3,2],[1,0,2,2],[4,0,4,2],[5,0,5,2],[7,1,9,1],[8,0,9,0],[14,0,14,2]]}
[]
["Форма 2.4 - Расчет фактического значения показателя уровня качества оказываемых услуг территориальной (прочей) сетевой организацией за 2017 год"]
[]
[{"$f":"'Инф-я'!C9","v":"Общество с ограниченной ответственностью \"Энергетик\""}]
[]
["(наименование территориальной сетевой организации)"]
[]
[null,"Ед.изм-ния"]
["Предлагаемые плановые значения параметров (критериев), характеризующих индикаторы качества **",null,"2016"]
[null,null,"(год)"]
["Ин (индикатор информативности) ",null,{"$f":"'Форма 2.1'!H31","v":2.0555555555555558}]
["Ис ( индикатор исполнительности)",null,{"$f":"ROUND('Форма 2.2'!H25,3)","v":0.4}]
["Рс (индикатор результативности обратной связи)",null,{"$f":"'форма 2.3'!H32","v":2}]
["Фактическое значение показателя уровня качества оказываемых услуг территориальной сетевой организации",null,{"$f":"0.1*C11+0.7*C12+0.2*C13","v":0.88555555555555565}]
[]
["Руководитель организации",{"$f":"'Инф-я'!$C$17","v":"Окунев Василий Михайлович"}]

{"sheet":"форма 3 ","index":49,"n_rows":39,"n_cols":4,"rows_kept":39,"cut":false,"hidden":false,"merged":[[20,1,20,2],[21,0,21,2],[22,0,22,2],[26,0,26,3],[36,0,36,2],[28,1,28,2],[29,1,29,2],[30,1,30,2],[31,0,31,2],[32,0,32,2],[35,0,35,3],[38,0,38,1],[38,2,38,4],[9,1,9,2],[0,0,1,3],[4,0,4,3],[6,0,6,3],[7,1,7,2],[8,1,8,2],[27,1,27,2],[10,1,10,2],[11,0,11,2],[12,0,12,2],[16,0,16,3],[17,1,17,2],[18,1,18,2],[19,1,19,2]]}
["Формы, используемые для расчета значений показателей уровня качества оказываемых услуг"]
[]
[]
[]
[{"$f":"'Инф-я'!C9","v":"Общество с ограниченной ответственностью \"Энергетик\""}]
[null,null,null,"Форма 3.1"]
["Отчетные данные для расчета значения показателя качества рассмотрения заявок на технологическое присоединение к сети за 2017 год"]
["№ п/п","Наименование",null,"Значение"]
[1,2,null,3]
[1,"Число заявок на технологическое присоединение к сети, поданных в соответствии с требованиями нормативных правовых актов, по которым сетевой организацией в соответствующий расчетный период направлен проект договора об осуществлении технологического присоединения заявителей к сети, шт. (Nзаяв_тпр)",null,"18"]
[2,"Число заявок на технологическое присоединение к сети, поданных в соответствии с требованиями нормативных правовых актов, по которым сетевой организацией в соответствующий расчетный период направлен проект договора об осуществлении технологического присоединения заявителей к сети с нарушением установленных сроков его направления, шт. (Nнсзаяв_тпр)"]
["max (1, Nзаяв_тпр - Nнсзаяв_тпр)",null,null,{"$f":"MAX(1,D10-D11)","v":18}]
["Пзаяв_тпр",null,null,{"$f":"IF(D10=\"\",1,IF(D10=\"0\",1,D10/D12))","v":1}]
[]
[]
[null,null,null,"Форма 3.2"]
["Отчетные данные для расчета значения показателя качества исполнения договоров об осуществлении технологического присоединения заявителей к сети за 2017 год"]
["№ п/п","Наименование",null,"Значение"]
[1,2,null,3]
[1,"Число договоров об осуществлении технологического присоединения заявителей к сети, исполненных в соответствующем расчетном периоде, по которым имеется подписанный сторонами акт о технологическом присоединении, шт. (Nсд_тпр)",null,"18"]
[2,"Число договоров об осуществлении технологического присоединения заявителей к сети, исполненных в соответствующем расчетном периоде, по которым имеется подписанный сторонами акт о технологическом присоединении, по которым произошло нарушение установленных сроков технологического присоединения, шт. (Nнссд_тпр)"]
["max (1, Nсд_тпр - Nнссд_тпр)",null,null,{"$f":"MAX(1,D20-D21)","v":18}]
["Пнс_тпр",null,null,{"$f":"IF(D20=\"\",1,IF(D20=\"0\",1,D20/D22))","v":1}]
[]
[]
[null,null,null,"Форма 3.3"]
["Отчетные данные для расчета значения показателя соблюдения антимонопольного законодательства при технологическом присоединении заявителей к электрическим сетям сетевой организации за 2017 год"]
["№ п/п","Наименование",null,"Значение"]
[1,2,null,3]
[1,"Число вступивших в законную силу решений антимонопольного органа и (или) суда об установлении нарушений сетевой организацией требований антимонопольного законодательства Российской Федерации в части оказания услуг по технологическому присоединению в соответствующем расчетном периоде, шт. (Nн_тпр)"]
[2,"Общее число заявок на технологическое присоединение к сети, поданных заявителями в соответствующий расчетный период, в десятках шт. без округления (Nочз_тпр)",null,"2"]
["max (1, Nочз_тпр - Nн_тпр)",null,null,{"$f":"MAX(1,D31-D30)","v":2}]
["Пнпа_тпр",null,null,{"$f":"IF(D31=\"\",1,IF(D31=\"0\",1,D31/D32))","v":1}]
[]
[]
["Показатель уровня качества осуществляемого технологического присоединения к сети за 2017 год, Птпр"]
["Птпр",null,null,{"$f":"0.4*D13+0.4*D23+0.2*D33","v":1}]
[]
["Руководитель организации",null,{"$f":"'Инф-я'!$C$17","v":"Окунев Василий Михайлович"}]

{"sheet":"НВВ для шаблона ЕИАС","index":50,"n_rows":86,"n_cols":71,"rows_kept":86,"cut":false,"hidden":true,"merged":[[84,1,84,2],[85,1,85,2],[78,1,78,2],[79,1,79,2],[80,1,80,2],[81,1,81,2],[82,1,82,2],[83,1,83,2],[72,1,72,2],[73,1,73,2],[74,1,74,2],[75,1,75,2],[76,1,76,2],[77,1,77,2],[66,1,66,2],[67,1,67,2],[68,1,68,2],[69,1,69,2],[70,1,70,2],[71,1,71,2],[60,1,60,2],[61,1,61,2],[62,1,62,2],[63,1,63,2],[64,1,64,2],[65,1,65,2],[54,1,54,2],[55,1,55,2],[56,1,56,2],[57,1,57,2],[58,1,58,2],[59,1,59,2],[48,1,48,2],[49,1,49,2],[50,1,50,2],[51,1,51,2],[52,1,52,2],[53,1,53,2],[17,3,17,5],[17,6,17,8],[44,3,44,5],[46,1,46,2],[47,1,47,2],[2,50,3,50],[2,51,3,51],[2,52,3,52],[6,0,11,0],[14,3,14,5],[15,0,15,2],[2,44,3,44],[2,45,3,45],[2,46,3,46],[2,47,3,47],[2,48,3,48],[2,49,3,49],[2,38,3,38],[2,39,3,39],[2,40,3,40],[2,41,3,41],[2,42,3,42],[2,43,3,43],[2,36,3,36],[16,0,16,8],[1,68,3,68],[1,0,4,0],[1,1,4,1],[1,12,1,32],[1,33,1,52],[1,53,3,53],[2,9,3,9],[2,10,3,10],[2,11,3,11],[2,12,3,12],[2,21,3,21],[2,22,3,22],[2,23,3,23],[2,24,3,24],[2,13,3,13],[2,14,3,14],[2,15,3,15],[2,16,3,16],[2,17,3,17],[2,18,3,18],[2,31,3,31],[2,32,3,32],[2,33,3,33],[2,2,3,2],[2,3,3,3],[2,4,3,4],[2,5,3,5],[2,6,3,6],[2,7,3,7],[2,8,3,8],[1,61,3,61],[1,62,3,62],[1,54,3,54],[1,55,2,56],[1,57,3,57],[1,58,3,58],[1,59,3,59],[1,60,3,60],[2,19,3,19],[2,20,3,20],[1,2,1,11],[2,37,3,37],[2,34,2,35],[1,69,3,69],[2,25,3,25],[2,26,3,26],[2,27,3,27],[2,28,3,28],[2,29,3,29],[2,30,3,30],[1,70,3,70],[1,63,3,63],[1,64,2,65],[1,66,3,66],[1,67,3,67]]}
[" "]
["Наименование организации","Период","Расчет коэффициента индексации",null,null,null,null,null,null,null,null,null,"Расчет подконтрольных расходов",null,null,null,null,null,null,null,null,null,null,null,null,null,null,null,null,null,null,null,null,"Расчет неподконтрольных расходов",null,null,null,null,null,null,null,null,null,null,null,null,null,null,null,null,null,null,null,"Расходы, связанные с компенсацией незапланированных расходов или полученного избытка","Итого НВВ на содержание сетей","в том числе",null,"Доля стороннего отпуска в сеть от организаций, занимающихся несколькими видами деятельности (без собственных нужд)","Отношение НВВ на содержание сетей текущего года к предыдущему года","Поступление в сеть электроэнергии","Объем технологического расхода (потерь)","Тариф на покупку потерь ","Норматив техноло-гического расхода (потерь) электро-энергии ","Итого расходов на оплату потерь","в том числе",null,"Прирост расходов на оплату потерь текущего года к предыдущему году","Поступление в сеть мощности","Уровень надежности реализуемых товаров (услуг) \n(П п)","Уровень качества реализуемых товаров (услуг) \n(П тсо)","Уровень качества реализуемых товаров (услуг)\n(П тпр)"]
[null,null,"Инфляция","Индекс эффективности операционных расходов","Количество активов, всего","ВН","СН1","СН2","НН","Индекс изменения количества активов","Коэффициент эластичности затрат по росту активов","Итого коэффициент индексации","Материальные затраты","Сырье, материалы, запасные части, инструмент, топливо","Работы и услуги производственного характера (в т.ч. услуги сторонних организаций по содержанию сетей и распределительных устройств)","Расходы на оплату труда","Прочие расходы, всего, в том числе:","Ремонт основных фондов","Оплата работ и услуг сторонних организаций","услуги связи","Расходы на услуги вневедомственной охраны и коммунального хозяйства","Расходы на юридические и информационные услуги","Расходы на аудиторские и консультационные услуги","Транспортные услуги","Прочие услуги сторонних организаций","Расходы на командировки и представительские","Расходы на подготовку кадров","Расходы на обеспечение нормальных условий труда и мер по технике безопасности","Расходы на страхование","Другие прочие расходы","Электроэнергия на хоз. нужды","Подконтрольные расходы из прибыли","ИТОГО подконтрольные расходы","Оплата услуг ОАО \"ФСК ЕЭС\"","в том числе",null,"Теплоэнергия","Аренда, всего","в том числе аренда объектов электро-\nсетевого комплекса","Налоги (без учета налога на прибыль), всего, в том числе:","плата за землю","Налог на имущество","Прочие налоги и сборы","Отчисления на социальные нужды (ЕСН)","Прочие неподконтрольные расходы","Налог на прибыль, в том числе:","налог на прибыль на капитальные вложения ","Выпадающие доходы по п.87 Основ ценообразования","Амортизация ОС","Прибыль на капитальные вложения","Возврат заемных средств, направляемый на финансирование капитальных вложений","Проверка прибыли на капитальные вложения (не более 12% от НВВ на содержание сетей)","ИТОГО неподконтрольных расходов"]
[null,null,null,null,null,null,null,null,null,null,null,null,null,null,null,null,null,null,null,null,null,null,null,null,null,null,null,null,null,null,null,null,null,null,"Оплата услуг ОАО \"ФСК ЕЭС\"\n1 полугодие","Оплата услуг ОАО \"ФСК ЕЭС\"\n2 полугодие",null,null,null,null,null,null,null,null,null,null,null,null,null,null,null,null,null,null,null,"НВВ на 1 полугодие","НВВ на 2 полугодие",null,null,null,null,null,null,null,"расходы на 1 полугодие","расходы на 2 полугодие"]
[null,null,"%","%","у.е.","у.е.","у.е.","у.е.","у.е.","%",null,null,"тыс.руб","тыс.руб","тыс.руб","тыс.руб","тыс.руб","тыс.руб","тыс.руб","тыс.руб","тыс.руб","тыс.руб","тыс.руб","тыс.руб","тыс.руб","тыс.руб","тыс.руб","тыс.руб","тыс.руб","тыс.руб","тыс.руб","тыс.руб","тыс.руб","тыс.руб","тыс.руб","тыс.руб","тыс.руб","тыс.руб","тыс.руб","тыс.руб","тыс.руб","тыс.руб","тыс.руб","тыс.руб","тыс.руб","тыс.руб","тыс.руб","тыс.руб","тыс.руб","тыс.руб","тыс.руб","%","тыс.руб","тыс.руб","тыс.руб","тыс.руб","тыс.руб","%","%","млн.кВтч","млн.кВтч","руб./МВтч","%","тыс.руб","тыс.руб","тыс.руб","%","МВт"]
["А","Б","0.1","0.2","0.3","0.3.1","0.3.2","0.3.3","0.3.4","0.4","0.5","0.6","1.1","1.1.1","1.1.2","1.2","1.3","1.3.1","1.3.2","1.3.2.1","1.3.2.2","1.3.2.3","1.3.2.4","1.3.2.5","1.3.2.6","1.3.3","1.3.4","1.3.5","1.3.6","1.3.7","1.4","1.5","1.6","2.1","2.1.1","2.1.2","2.2","2.3","2.3.1","2.4","2.4.1","2.4.2","2.4.3","2.5","2.6","2.7","2.7.1","2.8","2.9","2.10","2.11","2.12","2.13","3","4","4.1","4.2","5","6","7","8","9","10","11","11.1","11.2","12","13","14","15.1","15.2"]
[{"$f":"'Инф-я'!C10","v":"ООО \"Энергетик\""},"2014",null,null,{"$f":"SUM(F7:I7)","v":0},null,null,null,null,null,null,null,{"$f":"SUM(N7:O7)","v":0},null,null,null,{"$f":"R7+S7+Z7+AA7+AB7+AC7+AD7+AE7+AF7","v":0},null,{"$f":"SUM(T7:Y7)","v":0},null,null,null,null,null,null,null,null,null,null,null,null,null,{"$f":"M7+P7+Q7","v":0},{"$f":"AI7+AJ7","v":0},null,null,null,null,null,{"$f":"SUM(AO7:AQ7)","v":0},null,null,null,null,null,null,null,null,null,null,null,null,{"$f":"AH7+AK7+AL7+AN7+AS7+AT7+AV7+AR7+AW7+AX7+AY7","v":0},null,{"$f":"SUM(BA7,BB7,AG7)","v":0},null,null,{"$f":"nerr((BD7+BE7)/BC7)","v":{"$error":"#NAME?"}},null,null,null,null,{"$f":"IF(BH7=0,0,BI7/BH7)","v":0},{"$f":"BI7*BJ7","v":0},null,{"$f":"BL7-BM7","v":0}]
[null,"2015",null,null,0,null,null,null,null,{"$f":"IF(E7=0,0,(E8-E7)/E7)","v":0},null,null,0,null,null,null,0,null,0,null,null,null,null,null,null,null,null,null,null,null,null,null,0,0,null,null,null,null,null,0,null,null,null,null,null,null,null,null,null,null,null,{"$f":"nerr((AX8+AY8)/(BC8-AH8-AU8-AX8-AY8-AM8))","v":{"$error":"#NAME?"}},0,null,0,null,null,{"$f":"nerr((BD8+BE8)/BC8)","v":{"$error":"#NAME?"}},{"$f":"nerr((BC8-BC7)/BC7)","v":{"$error":"#NAME?"}},null,null,null,0,0,null,0,{"$f":"nerr((BL8-BL7)/BL7)","v":{"$error":"#NAME?"}}]
[null,"2016",null,null,0,null,null,null,null,{"$f":"IF(E8=0,0,(E9-E8)/E8*K9)","v":0},0.75,{"$f":"(1+C9)*(1-D9)*(1+J9)","v":1},0,{"$f":"N8*$L9","v":0},{"$f":"O8*L9","v":0},{"$f":"P8*$L9","v":0},0,{"$f":"R8*$L9","v":0},0,{"$f":"T8*$L9","v":0},{"$f":"U8*L9","v":0},{"$f":"V8*L9","v":0},{"$f":"W8*$L9","v":0},{"$f":"X8*$L9","v":0},0,0,0,0,0,0,0,0,0,0,null,null,null,null,null,0,null,null,null,null,null,null,null,null,null,null,null,{"$f":"nerr((AX9+AY9)/(BC9-AH9-AU9-AX9-AY9-AM9))","v":{"$error":"#NAME?"}},0,null,0,null,null,{"$f":"nerr((BD9+BE9)/BC9)","v":{"$error":"#NAME?"}},{"$f":"nerr((BC9-BC8)/BC8)","v":{"$error":"#NAME?"}},null,null,null,0,0,null,0,{"$f":"nerr((BL9-BL8)/BL8)","v":{"$error":"#NAME?"}}]
[null,"2017 план",4.7E-2,{"$f":"'Подконтрольные расходы'!$D$10","v":0.01},901.40300000000002,{"$f":"'УЕ ТП 2016-2019'!J55","v":0},{"$f":"'УЕ ТП 2016-2019'!J56","v":0},{"$f":"'УЕ ТП 2016-2019'!J57","v":577.17599999999993},{"$f":"'УЕ ТП 2016-2019'!J58","v":324.22700000000003},{"$f":"IF(E9=0,0,(E10-E9)/E9*K10)","v":0},0.75,{"$f":"(1+C10)*(1-D10)*(1+J10)","v":1.03653},0,{"$f":"N9*$L10","v":0},{"$f":"O9*L10","v":0},{"$f":"P9*$L10","v":0},0,{"$f":"R9*$L10","v":0},0,{"$f":"T9*$L10","v":0},{"$f":"U9*L10","v":0},{"$f":"V9*L10","v":0},{"$f":"W9*$L10","v":0},{"$f":"X9*$L10","v":0},{"$f":"Y9*$L10","v":0},{"$f":"Z9*$L10","v":0},{"$f":"AA9*$L10","v":0},{"$f":"AB9*$L10","v":0},{"$f":"AC9*$L10","v":0},{"$f":"AD9*$L10","v":0},{"$f":"AE9*$L10","v":0},{"$f":"AF9*$L10","v":0},0,0,null,null,null,null,null,0,null,null,null,null,null,null,null,null,null,null,null,{"$f":"nerr((AX10+AY10)/(BC10-AH10-AU10-AX10-AY10-AM10))","v":{"$error":"#NAME?"}},0,null,0,null,null,{"$f":"nerr((BD10+BE10)/BC10)","v":{"$error":"#NAME?"}},{"$f":"nerr((BC10-BC9)/BC9)","v":{"$error":"#NAME?"}},null,null,null,0,0,null,0,{"$f":"nerr((BL10-BL9)/BL9)","v":{"$error":"#NAME?"}}]
[null,"2018 план",3.6999999999999998E-2,{"$f":"'Подконтрольные расходы'!$D$10","v":0.01},938.20299999999997,{"$f":"'УЕ ТП 2016-2019'!P55","v":0},{"$f":"'УЕ ТП 2016-2019'!P56","v":0},{"$f":"'УЕ ТП 2016-2019'!P57","v":613.97599999999989},{"$f":"'УЕ ТП 2016-2019'!P58","v":324.22700000000003},{"$f":"IF(E10=0,0,(E11-E10)/E10*K11)","v":3.0618935148873441E-2},0.75,{"$f":"(1+C11)*(1-D11)*(1+J11)","v":1.058064317391888},0,0,0,0,0,0,0,0,0,0,0,0,0,0,0,0,0,0,0,0,0,0,null,null,null,null,null,0,null,null,null,null,null,null,null,null,null,null,null,{"$f":"nerr((AX11+AY11)/(BC11-AH11-AU11-AX11-AY11-AM11))","v":{"$error":"#NAME?"}},0,null,0,null,null,{"$f":"nerr((BD11+BE11)/BC11)","v":{"$error":"#NAME?"}},{"$f":"nerr((BC11-BC10)/BC10)","v":{"$error":"#NAME?"}},null,null,null,0,0,null,0,{"$f":"nerr((BL11-BL10)/BL10)","v":{"$error":"#NAME?"}}]
[null,"2019 план",0.04,{"$f":"'Подконтрольные расходы'!$D$10","v":0.01},1019.593,{"$f":"'УЕ ТП 2016-2019'!R55","v":0},{"$f":"'УЕ ТП 2016-2019'!R56","v":0},{"$f":"'УЕ ТП 2016-2019'!R57","v":671.82499999999993},{"$f":"'УЕ ТП 2016-2019'!R58","v":347.76800000000003},{"$f":"IF(E11=0,0,(E12-E11)/E11*K12)","v":6.5063211266644855E-2},0.75,{"$f":"(1+C12)*(1-D12)*(1+J12)","v":1.0965890823201376},{"$f":"SUM(N12:O12)","v":0},0,0,0,0,0,0,0,0,0,0,0,0,0,0,0,0,0,0,0,0,0,{"$f":"'Услуги ФСК'!J17","v":0},{"$f":"'Услуги ФСК'!K17","v":0},{"$f":"'Расходы рег. орг-ий'!F23","v":281.35000000000002},{"$f":"'Аренда имущества'!F44","v":4886.22},{"$f":"'Аренда имущества'!F49","v":2976},503.05005999999997,{"$f":"'Плата за землю'!F17","v":502.51673},{"$f":"'Налог на имущество'!F15","v":0},{"$f":"' НВВ содержание'!F31+' НВВ содержание'!F33","v":0.53332999999999997},{"$f":"' НВВ содержание'!F27","v":4101.06465397171},{"$f":"' НВВ содержание'!F37","v":490},{"$f":"' НВВ содержание'!F34","v":1318.8040000000001},{"$f":"AX12/0.8*0.2","v":655.65697639680911},{"$f":"' НВВ содержание'!F39","v":0},{"$f":"' НВВ содержание'!F26","v":7245.9440944127637},{"$f":"' НВВ содержание'!F38","v":2622.6279055872365},{"$f":"' НВВ содержание'!F40","v":3432.056},{"$f":"((AX12+AY12)/(BC12-AH12-AU12-AX12-AY12-AM12))","v":0.29747153177695923},24881.116713971711,{"$f":"' НВВ содержание'!F41","v":5159.0505305530369},30040.167244524746,{"$f":"BC12*E16","v":0},{"$f":"BC12-BD12","v":30040.167244524746},{"$f":"((BD12+BE12)/BC12)","v":1},{"$f":"nerr((BC12-BC11)/BC11)","v":{"$error":"#NAME?"}},{"$f":"'Баланс энергии'!AV9","v":26.146599999999999},{"$f":"'НВВ на потери'!I11","v":3.6704997548200002},{"$f":"'НВВ на потери'!I12","v":2931.1728828374294},0.14038153162629177,10758.869347789818,{"$f":"'НВВ на потери'!G13","v":5910.1869770078838},4848.682370781934,{"$f":"nerr((BL12-BL11)/BL11)","v":{"$error":"#NAME?"}},{"$f":"'Баланс мощности'!M9","v":4.4700000000000006},{"$f":"'НВВ по данным предпр.'!G13","v":0.95340000000000003},{"$f":"'НВВ по данным предпр.'!G14","v":0.96489999999999998},{"$f":"'НВВ по данным предпр.'!G15","v":0.89749999999999996}]
[]
[]
[null,null,null,"разбивка на полугодия"]
[null,null,null,"2019 год"]
["Затраты сетевых организаций в 2019 году МИНИМУМ"]
[null,null,null,"2019 год",null,null,"ПРОВЕРКА"]
[null,null,null,"1 полугодие","2 полугодие","год","1 полугодие","2 полугодие","год"]
["1","Покупная энергия на компенсацию потерь без учета потерь ФСК","тыс.руб",{"$f":"'НВВ на потери'!G13","v":5910.1869770078838},{"$f":"'НВВ на потери'!H13","v":4848.682370781934},{"$f":"'НВВ на потери'!I13","v":10758.869347789818},{"$f":"D20-BM12","v":0},{"$f":"E20-BN12","v":0},{"$f":"F20-BL12","v":0}]
["1.1","объем потерь в сетях ","млн.кВт.ч",{"$f":"'НВВ на потери'!G11","v":2.0020416035499999},{"$f":"'НВВ на потери'!H11","v":1.6684556812699998},{"$f":"'НВВ на потери'!I11","v":3.6704997548200002},null,null,{"$f":"BI12-F21","v":0}]
["23","Неподконтрольные расходы (за исключением платы ФСК, амортизации ОС и прибыли на капитальные вложения)","тыс.руб",{"$f":"D63-D74-D76-D64","v":0},{"$f":"E63-E74-E76-E64","v":0},{"$f":"E22+D22","v":0},null,null,{"$f":"F22-BA12-AH12-AW12-AX12","v":-34749.688713971715}]
["24","Операционные (подконтрольные ) расходы","тыс.руб",{"$f":"D47","v":0},{"$f":"E47","v":0},{"$f":"E23+D23","v":0},null,null,{"$f":"F23-AG12","v":0}]
[null,"в том числе:"]
["24.1","Затраты на оплату труда","тыс.руб",{"$f":"D48","v":0},{"$f":"E48","v":0},0,null,null,{"$f":"F25-P12","v":0}]
[null,"в том числе:",null,null,null,null,null,null,null,null,null,null,null,null,null,null,null,null," "]
["24.1.1","на ремонтную программу","тыс.руб"]
["24.2","Ремонтная программа без учета оплаты труда и ЕСН","тыс.руб",{"$f":"D50","v":0},{"$f":"E50","v":0},0,null,null,{"$f":"F28-R12","v":0}]
["25","Амортизация ОС","тыс.руб",{"$f":"D64","v":0},{"$f":"E64","v":0},0,null,null,{"$f":"F29-AW12","v":-7245.9440944127637}]
["26","Прибыль на капитальные вложения","тыс.руб",{"$f":"D76","v":0},{"$f":"E76","v":0},0,null,null,{"$f":"F30-AX12","v":-2622.6279055872365}]
["27","Выпадающие доходы (за исключением выпадающих доходов по п.87 Основ ценообразования)","тыс.руб",{"$f":"D79","v":0},{"$f":"E79","v":0},0,null,null,{"$f":"F31-BB12","v":-5159.0505305530369}]
[]
["28","Товарная продукция","тыс.руб",{"$f":"D20+D22+D23+D29+D30+D31","v":5910.1869770078838},{"$f":"E20+E22+E23+E29+E30+E31","v":4848.682370781934},10758.869347789818,null,null,{"$f":"F33-BC12-BL12","v":-30040.167244524746}]
[null,"в том числе:"]
["28.1","расходы на реализацию инвестиционной программы (с налогами)","тыс.руб",{"$f":"D37+D38","v":0},{"$f":"E37+E38","v":0},3941.4319055872365]
[null,"    в том числе:"]
["28.1.1","инвестиционная программа","тыс.руб",{"$f":"D76","v":0},{"$f":"E76","v":0},2622.6279055872365]
["28.1.2","налог на прибыль","тыс.руб",{"$f":"D72","v":0},{"$f":"E72","v":0},1318.8040000000001]
["29","Полезный отпуск потребителям","млн.кВт.ч",{"$f":"'Баланс энергии'!BA22-'Баланс энергии'!BA24","v":0},{"$f":"'Баланс энергии'!BF22-'Баланс энергии'!BF24","v":0},0]
["29.1","справочно: генераторное напряжение","млн.кВт.ч"]
["30","Средний тариф с учетом ГН","коп/кВт.ч"]
["31","Объем условных единиц","у.е.",{"$f":"E12","v":1019.593},{"$f":"D42","v":1019.593},{"$f":"E42","v":1019.593},null,null,{"$f":"E12-E42","v":0}]
["32","Стоимость обслуживания у.е.","тыс.руб"]
[]
[null,null,null,"2019 год"]
[null,null,null,"1 полугодие","2 полугодие","год"]
["1.","Подконтрольные расходы",null,{"$f":"F47*$E$16","v":0},{"$f":"F47*$F$16","v":0},{"$f":"' НВВ содержание'!F9","v":36366.600711878782}]
["1.1.","Расходы на оплату труда",null,0,0,{"$f":"' НВВ содержание'!F10","v":13229.977281121946}]
["1.2","Материалы",null,0,0,{"$f":"' НВВ содержание'!F11","v":4786.4336994034638}]
["1.3","Ремонт основных фондов",null,0,0,{"$f":"' НВВ содержание'!F12","v":16941.561740626905}]
["1.4","Другие обоснованные подконтрольные расходы, в том числе:",null,0,0,{"$f":"' НВВ содержание'!F13","v":1026.8127966518148}]
["1.4.1","Работы и услуги производственного характера",null,0,0,{"$f":"' НВВ содержание'!F14","v":0}]
["1.4.2","Работы и услуги непроизводственного характера",null,0,0,{"$f":"' НВВ содержание'!F15","v":640.42943917625905}]
["1.4.3","Обеспечение нормальных условий труда и техники безопасности",null,0,0,{"$f":"' НВВ содержание'!F16","v":88.583491886263545}]
["1.4.4.","Расходы на командировки",null,0,0,{"$f":"' НВВ содержание'!F17","v":0}]
["1.4.5","Расходы на обучение персонала",null,0,0,{"$f":"' НВВ содержание'!F18","v":114.89799679291437}]
["1.4.6","Расходы на страхование",null,0,0,{"$f":"' НВВ содержание'!F19","v":0}]
["1.4.7","Расходы на услуги банков",null,0,0,{"$f":"' НВВ содержание'!F20","v":182.90186879637776}]
["1.4.8","Прочие обоснованные подконтрольные расходы",null,0,0,{"$f":"' НВВ содержание'!F21","v":0}]
["1.5","Расходы из прибыли, в том числе:",null,0,0,{"$f":"' НВВ содержание'!F22","v":381.81519407464782}]
["1.5.1","Расходы по коллективным договорам",null,0,0,{"$f":"' НВВ содержание'!F23","v":381.81519407464782}]
["1.5.2","Прочие обоснованные расходы из прибыли",null,0,0,{"$f":"' НВВ содержание'!F24","v":0}]
["2.","Неподконтрольные расходы",null,0,0,{"$f":"' НВВ содержание'!F25","v":24881.116713971711}]
["2.1.","Амортизация основных средств",null,0,0,{"$f":"' НВВ содержание'!F26","v":7245.9440944127637}]
["2.2.","Страховые взносы",null,0,0,{"$f":"' НВВ содержание'!F27","v":4101.06465397171}]
["2.3.","Расходы на оплату услуг организаций, осуществляющие регулируемые виды деятельности",null,0,0,{"$f":"' НВВ содержание'!F28","v":281.35000000000002}]
["2.4.","Налоги и сборы, в том числе:",null,0,0,{"$f":"' НВВ содержание'!F29","v":1821.8540600000001}]
["2.4.1.","Плата за землю",null,0,0,{"$f":"' НВВ содержание'!F30","v":502.51673}]
["2.4.2.","Транспортный налог",null,0,0,{"$f":"' НВВ содержание'!F31","v":0}]
["2.4.3.","Налог на имущество",null,0,0,{"$f":"' НВВ содержание'!F32","v":0}]
["2.4.4.","Плата за негативное воздействие на окружающую среду",null,0,0,{"$f":"' НВВ содержание'!F33","v":0.53332999999999997}]
["2.4.5.","Налог на прибыль",null,0,0,{"$f":"' НВВ содержание'!F34","v":1318.8040000000001}]
["2.5.","Плата за аренду имущества",null,0,0,{"$f":"' НВВ содержание'!F35","v":4886.22}]
["2.6.","Оплата услуг ОАО \"ФСК ЕЭС\"",null,0,0,{"$f":"' НВВ содержание'!F36","v":0}]
["2.7.","Прочие обоснованные неподконтрольные расходы",null,0,0,{"$f":"' НВВ содержание'!F37","v":490}]
["2.8.","Капитальные вложения производственного характера из прибыли",null,0,0,{"$f":"' НВВ содержание'!F38","v":2622.6279055872365}]
["2.9.","Расходы, связанные с компенсацией выпадающих доходов от льготного технологического присоединения",null,0,0,{"$f":"' НВВ содержание'!F39","v":0}]
["2.10.","Расходы на возврат и обслуживание долгосрочных заемных средств, направляемых для финансирования капитальных вложений ",null,0,0,{"$f":"' НВВ содержание'!F40","v":3432.056}]
["3.","Корректировка необходимой валовой выручки ",null,0,0,{"$f":"' НВВ содержание'!F41","v":5159.0505305530369}]
["3.1.","Корректировка подконтрольных расходов",null,0,0,{"$f":"' НВВ содержание'!F42","v":1924.603824412261}]
["3.2.","Корректировка неподконтрольных расходов",null,0,0,{"$f":"' НВВ содержание'!F43","v":2902.1955682459666}]
["3.3.","Корректировка НВВ с учетом изменения полезного отпуска и цен на электрическую энергию ",null,0,0,{"$f":"' НВВ содержание'!F44","v":-824.41679927142923}]
["3.4.","Корректировка необходимой валовой выручки по доходам от осуществления регулируемой деятельности",null,0,0,{"$f":"' НВВ содержание'!F45","v":925.01957362645771}]
["3.5.","Корректировка НВВ в связи с изменением (неисполнением) инвестиционной программы ",null,0,0,{"$f":"' НВВ содержание'!F46","v":-430.62782387262382}]
["3.6.","Корректировка НВВ с учетом надежности и качества оказываемых услуг ",null,0,0,{"$f":"' НВВ содержание'!F47","v":662.27618741240394}]
["4.","ИТОГО необходимая валовая выручка на содержание электрических сетей",null,0,0,{"$f":"' НВВ содержание'!F48","v":66406.767956403521}]

{"sheet":"МУ","index":51,"n_rows":91,"n_cols":2,"rows_kept":91,"cut":false,"hidden":true,"merged":[[0,0,0,1]]}
["Приказ Федеральной службы по тарифам от 17 февраля 2012 г. N 98-э \"Об утверждении Методических указаний по расчету тарифов на услуги по передаче электрической энергии, устанавливаемых с применением метода долгосрочной индексации необходимой валовой выручки\""]
[]
[null,", (2),"]
[]
[null,"где:"]
[null,"i - год долгосрочного периода регулирования (i>1);"]
[null," - подконтрольные расходы, учтенные соответственно в базовом и в i-1 году долгосрочного периода регулирования (тыс. руб.);"]
[null,"Уровень подконтрольных расходов на первый (базовый) год долгосрочного периода регулирования (базовый уровень подконтрольных расходов) устанавливается регулирующими органами в соответствии с пунктом 12 Методических указаний методом экономически обоснованных расходов. При установлении базового уровня подконтрольных расходов учитываются результаты анализа обоснованности расходов регулируемой организации, понесенных в предыдущем периоде регулирования, и результаты проведения контрольных мероприятий;"]
[null," - индекс потребительских цен, определенный на i-й год долгосрочного периода регулирования;"]
[null," - коэффициент эластичности подконтрольных расходов по количеству активов, необходимых для осуществления регулируемой деятельности, в отношении регулируемых организаций, осуществляющих передачу электрической энергии, равный 0,75;"]
[null," - количество условных единиц соответственно в i-том и (i-1)-ом году долгосрочного периода регулирования;"]
[null," - индекс эффективности подконтрольных расходов, устанавливаемый регулирующими органами в соответствии с методическими указаниями по определению базового уровня операционных, подконтрольных расходов территориальных сетевых организаций, необходимых для осуществления регулируемой деятельности, и индекса эффективности операционных, подконтрольных расходов с применением метода сравнения аналогов;"]
[null," - неподконтрольные расходы, определяемые методом экономически обоснованных расходов, соответственно для базового и i-го года долгосрочного периода регулирования, включающие в себя:"]
[null,"- расходы на финансирование капитальных вложений из прибыли (в соответствии с пунктом 32 Основ ценообразования) (тыс. руб.). Указанные расходы с учетом возврата заемных средств, направляемых на финансирование капитальных вложений, не могут превышать 12% от необходимой валовой выручки регулируемой организации, определенной в соответствии с настоящими Методическими указаниями без учета расходов на оплату технологического расхода (потерь) электрической энергии, расходов на финансирование капитальных вложений из прибыли и налога на прибыль на капитальные вложения, расходов на оплату услуг по передаче электрической энергии по единой национальной (общероссийской) электрической сети, оказываемых ОАО \"Федеральная сетевая компания Единой энергетической системы\", расходов на оплату услуг по передаче электрической энергии по сетям территориальных сетевых организаций, возврата заемных средств, направляемых на финансирование капитальных вложений, расходов, связанных с арендой объектов электросетевого хозяйства, используемого для осуществления регулируемой деятельности, в том числе по договорам финансовой аренды (лизинга);"]
[null,"- оплату налогов на прибыль, имущество и иных налогов (в соответствии с пунктами 20 и 28 Основ ценообразования) (тыс. руб.);"]
[null,"- амортизацию основных средств (в соответствии с пунктом 27 Основ ценообразования) (тыс. руб.);"]
[null,"- расходы на возврат и обслуживание долгосрочных заемных средств, в том числе направляемых на финансирование капитальных вложений в соответствии с пунктом 32 Основ ценообразования;"]
[null,"- расходы, связанные с компенсацией выпадающих доходов, предусмотренных пунктом 87 Основ ценообразования (тыс. руб.);"]
[null,"- расходы на оплату продукции (услуг) организаций, осуществляющих регулируемые виды деятельности, рассчитанные исходя из размера тарифов, установленных в отношении товаров и услуг указанных организаций (тыс. руб.);"]
[null,"- прочие расходы, учитываемые при установлении тарифов на i-й год долгосрочного периода регулирования (тыс. руб.);"]
[null," - результаты деятельности регулируемой организации до перехода к регулированию тарифов на услуги по передаче электрической энергии в форме установления долгосрочных параметров регулирования деятельности такой организации, учитываемые в базовом году долгосрочного периода регулирования в соответствии с пунктами 7 и 32 Основ ценообразования (тыс. руб.)."]
[null," соответствует величине , определенной для первого года долгосрочного периода регулирования;"]
[]
[null," - расходы i-го года долгосрочного периода регулирования, связанные с компенсацией незапланированных расходов (со знаком \"плюс\") или полученного избытка (со знаком \"минус\"), выявленных в том числе по итогам последнего истекшего года долгосрочного периода регулирования, за который известны фактические значения параметров расчета тарифов, связанных с необходимостью корректировки валовой выручки регулируемых организаций, указанной в пункте 9, а также расходы в соответствии с пунктом 10 Методических указаний (тыс.руб.) и корректировка необходимой валовой выручки в соответствии с пунктом 32 Основ ценообразования."]
[null,"Величина , определяется в соответствии с формулой (3)."]
[]
[null," - понижающий (повышающий) коэффициент, корректирующий необходимую валовую выручку сетевой организации с учетом надежности и качества производимых (реализуемых) товаров (услуг) в году i, определяемый в процентах в соответствии с Методическими указаниями по расчету и применению понижающих (повышающих) коэффициентов, позволяющих обеспечить соответствие уровня тарифов, установленных для организаций, осуществляющих регулируемую деятельность, уровню надежности и качества поставляемых товаров и оказываемых услуг, утвержденными приказом ФСТ России от 26 декабря 2010 г. N 254-э/1 (зарегистрирован Минюстом России 13 ноября 2010 г., регистрационный N 18951)."]
[null,"ГАРАНТ:"]
[null,"По-видимому, в тексте предыдущего абзаца допущена опечатка. Дату названного приказа следует читать как \"26 октября 2010 г.\""]
[]
[null,", (3),"]
[]
[null,"где:"]
[null," - расходы i-го года долгосрочного периода регулирования, связанные с компенсацией незапланированных расходов (со знаком \"плюс\") или полученного избытка (со знаком \"минус\"), выявленных по итогам последнего истекшего года долгосрочного периода регулирования, за который известны фактические значения параметров расчета тарифов, связанных с необходимостью корректировки валовой выручки регулируемых организаций, указанной в пункте 9 Методических указаний, а также расходы в соответствии с пунктом 10 Методических указаний (тыс.руб.). Указанные расходы определяются следующим образом:"]
[]
[null,", (4),"]
[]
[null,"где:"]
[null," - корректировка подконтрольных расходов в связи с изменением планируемых параметров расчета тарифов. Не определяется для случаев, если год (i-2) является первым годом долгосрочного периода регулирования;"]
[null," - корректировка неподконтрольных расходов исходя из фактических значений указанного параметра;"]
[null," - корректировка необходимой валовой выручки по доходам от осуществления регулируемой деятельности;"]
[null," - корректировка необходимой валовой выручки регулируемой организации с учетом изменения полезного отпуска и цен на электрическую энергию."]
[]
[null," (5),"]
[]
[null," (6),"]
[]
[null," (7)."]
[null,",(7.1)"]
[]
[null,"где:"]
[null," - необходимая валовая выручка в части содержания электрических сетей, установленная на год i-2;"]
[null," - фактический объем выручки за услуги по передаче электрической энергии за год i-2 в части содержания электрических сетей (с учетом фактически недополученной выручки по зависящим от сетевой организации причинам), определяемый исходя из установленных на год i-2 тарифов на услуги по передаче электрической энергии без учета ставки, используемой для целей определения расходов на оплату нормативных потерь электрической энергии при ее передаче по электрическим сетям, и фактических объемов оказанных услуг;"]
[]
[null,"Корректировка с учетом изменения полезного отпуска и цен на электрическую энергию рассчитывается по следующей формуле:"]
[]
[null," (8),"]
[]
[null,"где:"]
[null," - фактическое количество условных единиц, относящихся к регулируемой организации соответственно в (i-2)-ом и (i-3)-ем году долгосрочного периода регулирования;"]
[null," - индекс эффективности подконтрольных расходов, установленный в процентах;"]
[null," - фактические значения индекса потребительских цен в году i-2;"]
[null," - индекс изменения количества активов, установленный в процентах на год i при расчете долгосрочных тарифов;"]
[null," - фактическая и плановая величина неподконтрольных расходов (за исключением расходов на финансирование капитальных вложений);"]
[null," - прогнозный объем отпуска электрической энергии в сеть территориальной сетевой организации, определенный регулирующими органами на (i-2)-той году долгосрочного периода регулирования;"]
[null," - фактический объем отпуска электрической энергии в сеть территориальной сетевой организации, определяемый регулирующими органами в (i-2)-том году долгосрочного периода регулирования;"]
[null," - уровень технологического расхода (потерь) электрической энергии, указанная# в пункте 6 Методических указаний;"]
[null," - прогнозная цена покупки потерь электрической энергии в сетях (с учетом мощности) в году i-2, учтенная при установлении тарифа на услуги по передаче электрической энергии по электрическим сетям, принадлежащим на праве собственности или ином законном основании территориальным сетевым организациям;"]
[null," - фактическая цена покупки потерь электрической энергии в сетях (с учетом мощности) в году i-2."]
[null,"Указанные расходы определяются в том числе с учетом проведения соответствующих контрольных мероприятий."]
[null," - корректировка необходимой валовой выручки на i-тый год долгосрочного периода регулирования, осуществляемая в связи с изменением (неисполнением) инвестиционной программы на (i-1)-й год."]
[null,"Величина"]
[null," определяется по формуле (9):"]
[]
[null," (9),"]
[]
[null,"где:"]
[null," - расчетная величина собственных средств регулируемой организации для финансирования инвестиционной программы, учтенная при установлении тарифов в году i-2, которая не может принимать отрицательные значения;"]
[null," - плановый размер размер финансирования инвестиционной программы, представляющей собой совокупность инвестиционных проектов, утвержденной (скорректированной) в установленном порядке на год (i-2) до его начала, за счет собственных средств (выручки от реализации товаров (услуг) по регулируемым ценам (тарифам)) без НДС;"]
[null,"- объем фактического финансирования инвестиционной программы, представляющей собой совокупность инвестиционных проектов, утвержденной (скорректированной) в установленном порядке на год (i-2) до его начала, за счет собственных средств (выручки от реализации товаров (услуг) по регулируемым ценам (тарифам)) без НДС в году (i-2) долгосрочного периода регулирования."]
[null,"При j=1 используется фактический процент исполнения инвестиционной программы за 9 месяцев (i-2) года. Указанная корректировка осуществляется при отклонении исполнения инвестиционной программы более чем на 10%;"]
[null," - учтенная при расчете тарифов на (i-1) год корректировка необходимой валовой выручки на (i-2)-ой год долгосрочного периода регулирования, осуществленная в связи с изменением (неисполнением) инвестиционной программы за истекший период на (i-2)-го года по результатам 9 месяцев."]
[null,"Абзацы 58 - 63 утратили силу с 9 января 2018 г. - Приказ ФАС России от 24 августа 2017 г. N 1108/17"]
[null,"Информация об изменениях:"]
[null," - коэффициент корректировки необходимой валовой выручки с учетом надежности и качества оказываемых услуг в году i, осуществляемой в соответствии с Основами ценообразования, и определяемый в процентах;"]
[null," - учитываемая в году i величина распределяемых в целях сглаживания изменения тарифов исключаемых необоснованных доходов и расходов, выявленных в том числе по результатам проверки хозяйственной деятельности регулируемой организации, учитываемых экономически обоснованных расходов, не учтенных при установлении регулируемых цен (тарифов) на тот период регулирования, в котором они понесены, или доходов, недополученных при осуществлении регулируемой деятельности в этот период регулирования, а также результаты деятельности регулируемой организации за предыдущие годы до начала долгосрочного периода регулирования методом долгосрочной индексации необходимой валовой выручки или до изменения метода регулирования согласно абзацу второму пункта 39 Основ ценообразования."]
[null,"Распределение в целях сглаживания изменения тарифов исключаемых необоснованных доходов и расходов, выявленных в том числе по результатам проверки хозяйственной деятельности регулируемой организации, учитываемых экономически обоснованных расходов, не учтенных при установлении регулируемых цен (тарифов) на тот период регулирования, в котором они понесены, или доходов, недополученных при осуществлении регулируемой деятельности в этот период регулирования, осуществляется на период не более 5 лет."]
[null,"Распределяемые в целях сглаживания изменения тарифов исключаемые необоснованные доходы и расходы, выявленные в том числе по результатам проверки хозяйственной деятельности регулируемой организации, учитываемые экономически обоснованные расходы, не учтенные при установлении регулируемых цен (тарифов) на тот период регулирования, в котором они понесены, или доходы, недополученные при осуществлении регулируемой деятельности в этот период регулирования, включаются в необходимую валовую выручку регулируемой организации с учетом параметров прогноза социально-экономического развития Российской Федерации."]
[null," может включать в себя в том числе величину перераспределения необходимой валовой выручки, осуществлявшегося в целях сглаживания роста тарифов при применении метода доходности инвестированного капитала до перехода к регулированию методом долгосрочной индексации необходимой валовой выручки."]
[null," может принимать как положительные, так и отрицательные значения."]
[null," не определяется для территориальных сетевых организаций, необходимая валовая выручка которых с учетом расходов на оплату потерь и оплату услуг других территориальных сетевых организаций за 3 последних периода регулирования не превысила 10 процентов суммарной необходимой валовой выручки территориальных сетевых организаций, учтенной при установлении единых (котловых) тарифов на услуги по передаче электрической энергии, за исключением результатов деятельности регулируемой организации за предыдущие годы до начала долгосрочного периода регулирования методом долгосрочной индексации необходимой валовой выручки или до изменения метода регулирования согласно абзацу второму пункта 39 Основ ценообразования."]

{"sheet":"Выбор оценочного балла","index":52,"n_rows":8,"n_cols":3,"rows_kept":8,"cut":false,"hidden":true,"merged":[[1,0,1,2],[3,0,3,1],[3,2,4,2],[6,0,6,1]]}
[]
["Выбор оценочного балла"]
[]
["Принимаемое значение (Ф / П * 100, % )                             (гр.4 форм 2.1-2.3) ",null,"Оценочный балл                                                           (гр.6 форм 2.1 - 2.3)"]
["прямая зависимость                     (гр.5 форм 2.1 - 2.3)","обратная  зависимость                   (гр.5 форм 2.1 - 2.3)"]
["гр.4 форм 2.1-2.3 < 80%","гр.4 форм 2.1-2.3 > 120 %","3 балла - для всех пунктов форм 2.1 - 2.3                                                                                    кроме:                                                                 0,75 баллов -  для п. 2, 5, 6 формы 2.2                 0,3 балла - для п. 3,4,7 формы 2.2"]
["80 % ≤ гр.4 форм 2.1-2.3 ≤ 120 %",null,"2 балла - для всех пунктов форм 2.1 - 2.3                                                                               кроме:                                                                 0,5 баллов -  для п. 2, 5, 6 формы 2.2                    0,2 балла - для п. 3,4,7 формы 2.2"]
["гр.4 форм 2.1-2.3 > 120 %","гр.4 форм 2.1-2.3 < 80%","1 балл - для всех пунктов форм 2.1 - 2.3                                                                               кроме:                                                                 0,25 баллов -  для п. 2, 5, 6 формы 2.2                 0,1 балла - для п. 3,4,7 формы 2.2"]